{"text_format":"1","workbook":"xlsx","n_sheets":13,"sheets":["Info","Round-Robin","Multi-Teams","Info Multi-Teams Aux","KO-Single","KO-Full","KO-Consolation","KO-Double","Table Round-Robin","Table Multi-Teams","Table KO-Rounds","Localisation","Loc_Aux"],"not_rendered":{"charts":0,"images":10,"macros":1,"external_links":0,"defined_names":181,"comments":8,"pivot_tables":0},"unopened":[],"bounds":{"document_bytes":16777216,"sheet_cells":100000,"rows_first":2000,"rows_last":500,"rows_between":2000,"halvings":0,"cell_chars":16384,"cell_head_chars":4096},"cells_cut":0,"cells_raw":0,"read":"whole","date_system":"1900"}

{"sheet":"Info","index":0,"n_rows":249,"n_cols":12,"rows_kept":249,"cut":false,"hidden":false,"merged":[[238,6,238,11],[232,6,232,11],[227,6,227,11],[221,6,221,11],[215,6,215,11],[230,6,230,11],[219,6,219,11],[220,6,220,11],[216,6,216,11],[93,6,93,11],[200,8,200,11],[203,6,203,11],[236,6,236,11],[237,6,237,11],[233,6,233,11],[234,6,234,11],[235,6,235,11],[209,6,209,11],[210,6,210,11],[213,6,213,11],[205,6,205,11],[206,6,206,11],[207,6,207,11],[208,6,208,11],[211,6,211,11],[204,6,204,11],[201,8,201,11],[202,8,202,11],[231,6,231,11],[222,6,222,11],[225,6,225,11],[226,6,226,11],[228,6,228,11],[5,6,5,11],[62,6,62,11],[116,6,116,11],[117,6,117,11],[118,6,118,11],[10,6,10,11],[100,6,100,11],[103,6,103,11],[112,6,112,11],[113,6,113,11],[99,6,99,11],[69,6,69,11],[70,6,70,11],[24,6,24,11],[26,6,26,11],[71,6,71,11],[76,6,76,11],[18,6,18,11],[11,6,11,11],[14,6,14,11],[15,6,15,11],[16,6,16,11],[17,6,17,11],[29,6,29,11],[43,6,43,11],[53,6,53,11],[45,6,45,11],[77,6,77,11],[104,7,104,11],[80,7,80,11],[68,6,68,11],[63,6,63,11],[64,6,64,11],[65,6,65,11],[66,6,66,11],[67,6,67,11],[82,6,82,11],[95,6,95,11],[96,7,96,11],[97,7,97,11],[98,7,98,11],[101,7,101,11],[72,7,72,11],[73,7,73,11],[74,7,74,11],[94,6,94,11],[91,6,91,11],[92,6,92,11],[119,7,119,11],[120,7,120,11],[121,7,121,11],[158,6,158,11],[161,7,161,11],[160,7,160,11],[13,6,13,11],[19,7,19,11],[20,7,20,11],[21,7,21,11],[30,6,30,11],[40,6,40,11],[34,6,34,7],[36,6,36,7],[38,6,38,7],[22,6,22,11],[25,6,25,8],[31,6,31,11],[32,6,32,11],[59,6,59,11],[60,8,60,10],[114,6,114,11],[115,6,115,11],[83,7,83,11],[175,6,175,11],[141,7,141,11],[124,7,124,11],[156,7,156,11],[164,7,164,11],[134,6,134,11],[135,6,135,11],[173,6,173,11],[137,6,137,11],[138,6,138,11],[7,6,7,11],[8,6,8,11],[245,6,245,11],[247,6,247,11],[192,7,192,11],[217,7,217,11],[218,7,218,11],[223,7,223,11],[224,7,224,11],[229,7,229,11],[34,8,34,11],[36,8,36,11],[38,8,38,11],[44,6,44,11],[46,6,46,11],[48,6,48,11],[47,6,47,11],[49,6,49,11],[199,6,199,11],[191,6,191,11],[132,6,132,11],[75,7,75,11],[78,7,78,11],[79,7,79,11],[177,6,177,11],[188,7,188,11],[189,7,189,11],[186,6,186,11],[248,6,248,7],[246,6,246,11],[50,6,50,11],[54,6,54,11],[55,6,55,11],[56,6,56,11],[57,6,57,11],[58,6,58,11],[123,6,123,11],[140,6,140,11],[163,6,163,11],[176,6,176,11],[155,6,155,11],[133,6,133,11],[136,6,136,11],[150,6,150,11],[151,6,151,11],[152,6,152,11],[153,6,153,11],[174,6,174,11]]}
[]
[null,null,null,null,null,{"$f":"VLOOKUP(\"txt_0000\",tbl_i18n[],Lang_Ind,FALSE)","v":"Spielsysteme für Turniere"}]
[]
[]
[null,null,null,null,null,{"$f":"VLOOKUP(\"txt_0100\",tbl_i18n[],Lang_Ind,FALSE)","v":"Grundsätzliche Informationen"}]
[]
[]
[null,null,null,null,null,null,{"$f":"VLOOKUP(\"txt_0901\",tbl_i18n[],Lang_Ind,FALSE)","v":"Wichtig für alle Nutzer, die zu faul zum Lesen sind (wie ich):"}]
[null,null,null,"\n",null,null,{"$f":"VLOOKUP(\"txt_0902\",tbl_i18n[],Lang_Ind,FALSE)","v":"Insbesondere bei Problemen rate ich dringend, erst einmal die Kapitel „1.3 Kompatibilität“ und „1.4 Makros (VBA) und Sicherheitsabfragen“ zu lesen."}]
[]
[]
[null,null,null,null,null,1,{"$f":"VLOOKUP(\"txt_1000\",tbl_i18n[],Lang_Ind,FALSE)","v":"Einleitung"}]
[]
[null,null,null,null,null,"1.1",{"$f":"VLOOKUP(\"txt_1100\",tbl_i18n[],Lang_Ind,FALSE)","v":"Vorwort"}]
[null,null,null,"\n",null,null,{"$f":"VLOOKUP(\"txt_1101\",tbl_i18n[],Lang_Ind,FALSE)","v":"Diese Datei spiegelt mein Wissen und meine Erfahrungen wider, die ich während der langjährigen Organisation der DMMs und vielen Besuchen bei anderen Turnieren gesammelt habe."}]
[null,null,null,null,null,null,{"$f":"VLOOKUP(\"txt_1102\",tbl_i18n[],Lang_Ind,FALSE)","v":"Das Ziel dieser Datei ist es, Menschen zu unterstützen, die Spiele oder Turniere organisieren möchten."}]
[null,null,null,null,null,null,{"$f":"VLOOKUP(\"txt_1103\",tbl_i18n[],Lang_Ind,FALSE)","v":"Der Schwerpunkt liegt dabei klar auf dem Spielplan."}]
[null,null,null,null,null,null,{"$f":"VLOOKUP(\"txt_1104\",tbl_i18n[],Lang_Ind,FALSE)","v":"Diese Datei ist kein Turnierplaner, sie stellt nur die optimale Team-Paarungen für Gruppen- und K.O.-Runden dar."}]
[null,null,null,null,null,null,{"$f":"VLOOKUP(\"txt_1105\",tbl_i18n[],Lang_Ind,FALSE)","v":"Eine Turnierplanung (speziell für Mölkky) basiert im Wesentlichen auf 3 Kriterien:"}]
[null,null,null,null,null,null,"▪",{"$f":"VLOOKUP(\"txt_1106a\",tbl_i18n[],Lang_Ind,FALSE)","v":"Anzahl der Teams"}]
[null,null,null,null,null,null,"▪",{"$f":"VLOOKUP(\"txt_1106b\",tbl_i18n[],Lang_Ind,FALSE)","v":"Anzahl der zur Verfügung stehenden Spielfelder"}]
[null,null,null,null,null,null,"▪",{"$f":"VLOOKUP(\"txt_1106c\",tbl_i18n[],Lang_Ind,FALSE)","v":"der zur Verfügung stehende Zeitrahmen"}]
[null,null,null,"\n",null,null,{"$f":"VLOOKUP(\"txt_1107\",tbl_i18n[],Lang_Ind,FALSE)","v":"Hieraus ergeben sich dann die Möglichkeiten für mögliche Gruppengrößen (und die Anzahl der Runden) und/oder Anzahl der K.O.-Runden."}]
[]
[null,null,null,null,null,null,{"$f":"VLOOKUP(\"txt_1108\",tbl_i18n[],Lang_Ind,FALSE)","v":"Falls Euch Fehler auffallen oder Verbesserungen und Erweiterungen einfallen, teilt mir diese bitte einfach per E-Mail mit:"}]
[null,null,null,null,null,null,"walter_aust@t-online.de"]
[null,null,null,null,null,null,{"$f":"VLOOKUP(\"txt_1109\",tbl_i18n[],Lang_Ind,FALSE)","v":"Das gilt auch, wenn Ihr Probleme beim Einfügen einer weiteren Sprache habt."}]
[]
[]
[null,null,null,null,null,"1.2",{"$f":"VLOOKUP(\"txt_1200\",tbl_i18n[],Lang_Ind,FALSE)","v":"Benutzung"}]
[null,null,null,null,null,null,{"$f":"VLOOKUP(\"txt_1201\",tbl_i18n[],Lang_Ind,FALSE)","v":"Alle Arbeitsblätter sind ohne Passwort geschützt, um ein unabsichtliches Ändern zu vermeiden."}]
[null,null,null,"\n",null,null,{"$f":"VLOOKUP(\"txt_1202\",tbl_i18n[],Lang_Ind,FALSE)","v":"Im Prinzip sollten alle Dropdown- und Checkbox-Steuerelemente (Kombinationsfelder und Kontrollkästchen) funktionsfähig sein (siehe auch Kapitel „1.3 Kompatibilität“)."}]
[null,null,null,"\n",null,null,{"$f":"VLOOKUP(\"txt_1203\",tbl_i18n[],Lang_Ind,FALSE)","v":"Darüber hinaus können die folgenden formatierten Zellen entweder durch manuelle Eingaben oder durch teilweise vorhandene Spinbuttons (Drehfelder) verändert werden."}]
[]
[null,null,null,null,null,null,2,null,{"$f":"VLOOKUP(\"txt_1204a\",tbl_i18n[],Lang_Ind,FALSE)","v":"Anzahl der Teams (Round-Robin)  ODER  Spielergebnisse in den KO-Runden"}]
[]
[null,null,null,null,null,null,2,null,{"$f":"VLOOKUP(\"txt_1204b\",tbl_i18n[],Lang_Ind,FALSE)","v":"Hervorheben eines Teams (Round-Robin, Multi-Teams)"}]
[]
[null,null,null,null,null,null,2,null,{"$f":"VLOOKUP(\"txt_1204c\",tbl_i18n[],Lang_Ind,FALSE)","v":"Hervorheben eines zweiten Teams (Round-Robin, Multi-Teams)"}]
[]
[null,null,null,null,null,null,{"$f":"VLOOKUP(\"txt_1205\",tbl_i18n[],Lang_Ind,FALSE)","v":"Alle anderen Zellen sind Festwerte oder werden berechnet."}]
[]
[]
[null,null,null,null,null,"1.3",{"$f":"VLOOKUP(\"txt_1300\",tbl_i18n[],Lang_Ind,FALSE)","v":"Kompatibilität"}]
[null,null,null,null,null,null,{"$f":"VLOOKUP(\"txt_1301\",tbl_i18n[],Lang_Ind,FALSE)","v":"Diese Datei wurde mit Microsoft® Excel® 2016 mit Microsoft® Windows 10 als Betriebssystem erstellt."}]
[null,null,null,null,null,null,{"$f":"VLOOKUP(\"txt_1302\",tbl_i18n[],Lang_Ind,FALSE)","v":"Theoretisch sollte die Datei auch mit dem Betriebssystem „macOS“ kompatibel sein."}]
[null,null,null,null,null,null,{"$f":"VLOOKUP(\"txt_1303\",tbl_i18n[],Lang_Ind,FALSE)","v":"Leider ist eine Kompatibilität zwischen den unterschiedlichen Anbietern von Office-Paketen nur eingeschränkt vorhanden."}]
[null,null,null,null,null,null,{"$f":"VLOOKUP(\"txt_1304\",tbl_i18n[],Lang_Ind,FALSE)","v":"Bei Makros (VBA) ist aber eine Kompatibilität de facto nicht vorhanden."}]
[null,null,null,null,null,null,{"$f":"VLOOKUP(\"txt_1305\",tbl_i18n[],Lang_Ind,FALSE)","v":"Bei den Blättern für „Round-Robin“ und „Multi-Teams“ konnten Makros noch durch einige Tricks vermieden werden."}]
[null,null,null,null,null,null,{"$f":"VLOOKUP(\"txt_1306\",tbl_i18n[],Lang_Ind,FALSE)","v":"Bei den KO-Runden und beim Erzeugen externe Tabellen sind sie leider unumgänglich."}]
[null,null,null,"\n",null,null,{"$f":"VLOOKUP(\"txt_1307\",tbl_i18n[],Lang_Ind,FALSE)","v":"Weiterhin wurde aus Kompatibilitätsgründen auf ActiveX-Steuerelemente verzichtet, auch wenn sie manchmal komfortabler wären."}]
[]
[]
[null,null,null,null,null,"1.4",{"$f":"VLOOKUP(\"txt_1400\",tbl_i18n[],Lang_Ind,FALSE)","v":"Makros (VBA) und Sicherheitsabfragen"}]
[null,null,null,null,null,null,{"$f":"VLOOKUP(\"txt_1401\",tbl_i18n[],Lang_Ind,FALSE)","v":"Bei den für Makros generell empfohlenen Sicherheitseinstellungen sollte eine Warnmeldung (siehe unten) erscheinen."}]
[null,null,null,null,null,null,{"$f":"VLOOKUP(\"txt_1402\",tbl_i18n[],Lang_Ind,FALSE)","v":"Wie diese Meldung bei Nicht-Microsoft-Produkten aussieht, ist mir nicht bekannt."}]
[]
[null,null,null,"\n\n",null,null,{"$f":"VLOOKUP(\"txt_1404\",tbl_i18n[],Lang_Ind,FALSE)","v":"Wenn Sie eine Datei öffnen, die Makros enthält, wird die gelbe Statusleiste mit einem Schildsymbol und der Schaltfläche Inhalt aktivieren angezeigt. Wenn Sie wissen, dass die Makros aus einer zuverlässigen Quelle stammen, befolgen Sie die nachstehenden Anweisungen:"}]
[null,null,null,null,null,null,{"$f":"VLOOKUP(\"txt_1405\",tbl_i18n[],Lang_Ind,FALSE)","v":"Klicken Sie auf der Statusleiste auf „Inhalt aktivieren“."}]
[]
[{"$f":"VLOOKUP(\"txt_1407\",tbl_i18n[],Lang_Ind,FALSE)","v":"Inhalt aktivieren"},null,null,"\n",null,null,null,null,{"$f":"VLOOKUP(\"txt_1406\",tbl_i18n[],Lang_Ind,FALSE)","v":"SICHERHEITSWARNUNG   Makros wurde deaktiviert."}]
[]
[]
[null,null,null,null,null,2,{"$f":"VLOOKUP(\"txt_2000\",tbl_i18n[],Lang_Ind,FALSE)","v":"Blätter in dieser Arbeitsmappe"}]
[]
[{"$f":"CELL(\"filename\",$A$1)","v":"E:\\Tournament_Database\\Tournament_Systems\\[Systems_of_Tournament-Rounds__V01.00.xlsm]Info"},{"$f":"MID(A66,FIND(\"]\",A66)+1,255)","v":"Info"}," ",null,null,"2.1",{"$f":"B66","v":"Info"}]
[null,null,null,null,null,null,{"$f":"VLOOKUP(\"txt_2101\",tbl_i18n[],Lang_Ind,FALSE)","v":"dieses Blatt"}]
[]
[{"$f":"CELL(\"filename\",'Round-Robin'!A1)","v":"E:\\Tournament_Database\\Tournament_Systems\\[Systems_of_Tournament-Rounds__V01.00.xlsm]Round-Robin"},{"$f":"MID(A69,FIND(\"]\",A69)+1,255)","v":"Round-Robin"}," ",null,null,"2.2",{"$f":"HYPERLINK(\"#'\"&B69&\"'!V4\",B69)","v":"Round-Robin"}]
[null,null,null,null,null,null,{"$f":"CHAR(34)&VLOOKUP(\"txt_2201\",tbl_i18n[],Lang_Ind,FALSE)&CHAR(34)","v":"\"Gruppenphase: Darstellung des Round-Robin-Systems\""}]
[null,null,null,null,null,null,{"$f":"VLOOKUP(\"txt_2202\",tbl_i18n[],Lang_Ind,FALSE)","v":"Die Tabelle zeigt ein reines Round-Robin-System (jeder gegen jeden)."}]
[null,null,null,null,null,null,{"$f":"VLOOKUP(\"txt_2204\",tbl_i18n[],Lang_Ind,FALSE)","v":"Ein perfekter Spielplan hätte folgende Eigenschaften:"}]
[null,null,null,null,null,null,"▪",{"$f":"VLOOKUP(\"txt_2259\",tbl_i18n[],Lang_Ind,FALSE)","v":"Jedes Team spielt genau einmal gegen ein anderes."}]
[null,null,null,null,null,null,"▪",{"$f":"VLOOKUP(\"txt_2263\",tbl_i18n[],Lang_Ind,FALSE)","v":"Kein Team spielt zwei Spiele hintereinander auf demselben Spielfeld."}]
[null,null,null,null,null,null,"▪",{"$f":"VLOOKUP(\"txt_2271\",tbl_i18n[],Lang_Ind,FALSE)","v":"Jedes Team zweimal auf jedem Spielfeld."}]
[null,null,null,null,null,null,"▪",{"$f":"VLOOKUP(\"txt_2266\",tbl_i18n[],Lang_Ind,FALSE)","v":"Jedes Team beginnt genau einmal den ersten Satz auf jedem Spielfeld."}]
[null,null,null,null,null,null,{"$f":"VLOOKUP(\"txt_2205\",tbl_i18n[],Lang_Ind,FALSE)","v":"In der Realität ist dies nicht immer möglich, siehe auch „Eigenschaften“ neben dem Spielplan."}]
[null,null,null,null,null,null,{"$f":"VLOOKUP(\"txt_2206\",tbl_i18n[],Lang_Ind,FALSE)","v":"Um die Teampaarungen zu überprüfen, können folgende Kriterien ausgewählt werden:"}]
[null,null,null,null,null,null,"▪",{"$f":"VLOOKUP(\"txt_2207a\",tbl_i18n[],Lang_Ind,FALSE)","v":"Anzahl der Teams (zwischen 2 und 26)"}]
[null,null,null,null,null,null,"▪",{"$f":"VLOOKUP(\"txt_2207b\",tbl_i18n[],Lang_Ind,FALSE)","v":"Anzahl der Spielfelder (bis jetzt nur bei 10 Teams möglich)"}]
[null,null,null,null,null,null,"▪",{"$f":"VLOOKUP(\"txt_2207c\",tbl_i18n[],Lang_Ind,FALSE)","v":"zwei unterschiedlich farbig markierte Teams"}]
[]
[null,null,null,null,null,null,{"$f":"VLOOKUP(\"calc_1000\",tbl_i18n[],Lang_Ind,FALSE)","v":"Berechnung der benötigten Spielfelder, Runden, Spiele und Sätze"}]
[null,null,null,null,null,null,null,{"$f":"VLOOKUP(\"calc_1001\",tbl_i18n[],Lang_Ind,FALSE)","v":"(wenn alle gleichwertigen Runden gleichzeitig stattfinden)"}]
[]
[null,null,null,"\n",null,null,null,null,{"$f":"VLOOKUP(\"calc_1011a\",tbl_i18n[],Lang_Ind,FALSE)& \"  (2…26)\"","v":"n = Anzahl der Teams je Gruppe  (2…26)"},8]
[null,null,null,"\n",null,null,null,null,{"$f":"VLOOKUP(\"calc_1012\",tbl_i18n[],Lang_Ind,FALSE)","v":"r  = Anzahl der Runden"},{"$f":"J86-ISEVEN(J86)","v":7},null,{"$f":"VLOOKUP(\"calc_1222a\",tbl_i18n[],Lang_Ind,FALSE)&\"\n\"&VLOOKUP(\"calc_1222b\",tbl_i18n[],Lang_Ind,FALSE)","v":"= n       (wenn n ungerade)\n= n-1    (wenn n gerade)"}]
[null,null,null,null,null,null,null,null,{"$f":"VLOOKUP(\"calc_1013\",tbl_i18n[],Lang_Ind,FALSE)","v":"f  = Anzahl der Felder"},{"$f":"ROUNDUP(J86/2,0)","v":4},null,{"$f":"VLOOKUP(\"calc_1223\",tbl_i18n[],Lang_Ind,FALSE)","v":"= aufrunden ( n / 2 )"}]
[null,null,null,null,null,null,null,null,{"$f":"VLOOKUP(\"calc_1014\",tbl_i18n[],Lang_Ind,FALSE)","v":"g = Anzahl der Spiele"},{"$f":"J86/2*(J86-1)","v":28},null,{"$f":"VLOOKUP(\"calc_1224\",tbl_i18n[],Lang_Ind,FALSE)","v":"= ( n / 2 ) × ( n -1 )"}]
[null,null,null,null,null,null,null,null,{"$f":"VLOOKUP(\"calc_1015\",tbl_i18n[],Lang_Ind,FALSE)","v":"s = Anzahl der Sätze"},null,null,{"$f":"VLOOKUP(\"calc_1225\",tbl_i18n[],Lang_Ind,FALSE)","v":"= Festlegung durch den Veranstalter"}]
[]
[]
[{"$f":"CELL(\"filename\",'Multi-Teams'!D1)","v":"E:\\Tournament_Database\\Tournament_Systems\\[Systems_of_Tournament-Rounds__V01.00.xlsm]Multi-Teams"},{"$f":"MID(A93,FIND(\"]\",A93)+1,255)","v":"Multi-Teams"}," ",null,null,"2.3",{"$f":"HYPERLINK(\"#'\"&B93&\"'!D2\",B93)","v":"Multi-Teams"}]
[null,null,null,null,null,null,{"$f":"CHAR(34)&VLOOKUP(\"txt_2301\",tbl_i18n[],Lang_Ind,FALSE)&CHAR(34)","v":"\"Gruppenphase: Darstellung des Multi-Team-Spielsystems (Reihenfolge der Teams)\""}]
[null,null,null,null,null,null,{"$f":"VLOOKUP(\"txt_2302\",tbl_i18n[],Lang_Ind,FALSE)","v":"Die Tabelle zeigt 4 Spiele mit je 3 bis 6 Teams in einem Spiel und wie sich die Wurfreihenfolge ändert."}]
[null,null,null,null,null,null,{"$f":"VLOOKUP(\"txt_2304\",tbl_i18n[],Lang_Ind,FALSE)","v":"Ein perfekter Spielplan hätte folgende Eigenschaften:"}]
[null,null,null,null,null,null,"▪",{"$f":"VLOOKUP(\"txt_2358\",tbl_i18n[],Lang_Ind,FALSE)","v":"Es gibt so viele Sätze wie es Teams in einem Spiel gibt."}]
[null,null,null,null,null,null,"▪",{"$f":"VLOOKUP(\"txt_2359\",tbl_i18n[],Lang_Ind,FALSE)","v":"Jedes Team beginnt genau einmal einen Satz."}]
[null,null,null,null,null,null,"▪",{"$f":"VLOOKUP(\"txt_2361\",tbl_i18n[],Lang_Ind,FALSE)","v":"Zwei Teams, die in der Wurfreihenfolge aufeinander folgen, spielen genau einmal hintereinander."}]
[null,null,null,null,null,null,{"$f":"VLOOKUP(\"txt_2305\",tbl_i18n[],Lang_Ind,FALSE)","v":"In der Realität ist dies nicht immer möglich, siehe auch „Eigenschaften“ neben dem Spielplan."}]
[null,null,null,null,null,null,{"$f":"VLOOKUP(\"txt_2306\",tbl_i18n[],Lang_Ind,FALSE)","v":"Um aufeinanderfolgende Teams zu überprüfen, können folgende Kriterien ausgewählt werden:"}]
[null,null,null,null,null,null,"▪",{"$f":"VLOOKUP(\"txt_2307c\",tbl_i18n[],Lang_Ind,FALSE)","v":"zwei unterschiedlich farbig markierte Teams"}]
[]
[null,null,null,null,null,null,{"$f":"G83","v":"Berechnung der benötigten Spielfelder, Runden, Spiele und Sätze"}]
[null,null,null,null,null,null,null,{"$f":"H84","v":"(wenn alle gleichwertigen Runden gleichzeitig stattfinden)"}]
[]
[null,null,null,"\n",null,null,null,null,{"$f":"VLOOKUP(\"calc_1011a\",tbl_i18n[],Lang_Ind,FALSE)& \"  (2…6)\"","v":"n = Anzahl der Teams je Gruppe  (2…6)"},4]
[null,null,null,null,null,null,null,null,{"$f":"I87","v":"r  = Anzahl der Runden"},1,null,{"$f":"VLOOKUP(\"calc_1232\",tbl_i18n[],Lang_Ind,FALSE)","v":"= 1    (immer)"}]
[null,null,null,null,null,null,null,null,{"$f":"I88","v":"f  = Anzahl der Felder"},1,null,{"$f":"VLOOKUP(\"calc_1233\",tbl_i18n[],Lang_Ind,FALSE)","v":"= 1    (immer)"}]
[null,null,null,null,null,null,null,null,{"$f":"I89","v":"g = Anzahl der Spiele"},1,null,{"$f":"VLOOKUP(\"calc_1234\",tbl_i18n[],Lang_Ind,FALSE)","v":"= Festlegung durch den Veranstalter"}]
[null,null,null,null,null,null,null,null,{"$f":"I90","v":"s = Anzahl der Sätze"},{"$f":"J107","v":4},null,{"$f":"VLOOKUP(\"calc_1235\",tbl_i18n[],Lang_Ind,FALSE)","v":"= n"}]
[]
[]
[{"$f":"CELL(\"filename\",'KO-Single'!$B$1)","v":"E:\\Tournament_Database\\Tournament_Systems\\[Systems_of_Tournament-Rounds__V01.00.xlsm]KO-Single"},{"$f":"MID(A114,FIND(\"]\",A114)+1,255)","v":"KO-Single"}," ",null,null,"2.4",{"$f":"HYPERLINK(\"#'\"&B114&\"'!M2\",B114)","v":"KO-Single"}]
[null,null,null,null,null,null,{"$f":"CHAR(34)&VLOOKUP(\"txt_2401\",tbl_i18n[],Lang_Ind,FALSE)&CHAR(34)","v":"\"Finalrunden: Darstellung eines einfachen K.O-Systems (Ausscheidungsrunden)\""}]
[null,null,null,null,null,null,{"$f":"VLOOKUP(\"txt_2402\",tbl_i18n[],Lang_Ind,FALSE)","v":"Klassische Turnierform, bei der der Verlierer eines Spiels aus dem Turnier ausscheidet."}]
[null,null,null,null,null,null,{"$f":"VLOOKUP(\"txt_2403\",tbl_i18n[],Lang_Ind,FALSE)","v":"Die gewählte Systematik der Spielnummern und wer gegen wen spielt ist weit verbreitet und relativ einfach."}]
[null,null,null,{"$f":"IF(Lang_Ind<>3,\"\n\",\"\")","v":""},null,null,{"$f":"VLOOKUP(\"txt_2404\",tbl_i18n[],Lang_Ind,FALSE)","v":"Allerdings wurde hier beim Setzen der Vorrundengruppen abgewichen, um folgende Bedingungen einzuhalten:"}]
[null,null,null,null,null,null,{"$f":"VLOOKUP(\"txt_2405\",tbl_i18n[],Lang_Ind,FALSE)","v":"(Reihenfolge = absteigende Priorität)"}]
[null,null,null,"\n",null,null,"▪",{"$f":"VLOOKUP(\"txt_2406a\",tbl_i18n[],Lang_Ind,FALSE)","v":"Wenn die besten Teams jeder Vorrundengruppe jedes Spiel gewinnen, sollten sie so spät wie möglich gegeneinander spielen."}]
[null,null,null,"\n",null,null,"▪",{"$f":"VLOOKUP(\"txt_2406b\",tbl_i18n[],Lang_Ind,FALSE)","v":"Wenn zwei Teams einer Vorrundengruppe jedes Spiel gewinnen, sollten sie so spät wie möglich gegeneinander spielen."}]
[null,null,null,"\n",null,null,"▪",{"$f":"VLOOKUP(\"txt_2406c\",tbl_i18n[],Lang_Ind,FALSE)","v":"Bei Auslosung der Vorrundengruppen sollten die Gruppenkombinationen in der ersten K.O.-Runde möglichst gemischt werden. Beispiel: 4 Gruppen á 4 Teams, Gruppe A spielt nicht nur gegen eine Gruppe."}]
[]
[null,null,null,null,null,null,{"$f":"G83","v":"Berechnung der benötigten Spielfelder, Runden, Spiele und Sätze"}]
[null,null,null,null,null,null,null,{"$f":"H84","v":"(wenn alle gleichwertigen Runden gleichzeitig stattfinden)"}]
[]
[null,null,null,"\n",null,null,null,null,{"$f":"VLOOKUP(\"calc_1011\",tbl_i18n[],Lang_Ind,FALSE)& \"  (4, 8 ,16, 32, 64, 128)\"","v":"n = Anzahl der Teams  (4, 8 ,16, 32, 64, 128)"},16]
[null,null,null,null,null,null,null,null,{"$f":"I87","v":"r  = Anzahl der Runden"},{"$f":"LOG(J127,2)","v":4},null,{"$f":"VLOOKUP(\"calc_1242\",tbl_i18n[],Lang_Ind,FALSE)","v":"= log₂ ( n )"}]
[null,null,null,null,null,null,null,null,{"$f":"I88","v":"f  = Anzahl der Felder"},{"$f":"J127/2","v":8},null,{"$f":"VLOOKUP(\"calc_1243\",tbl_i18n[],Lang_Ind,FALSE)","v":"= n / 2"}]
[null,null,null,null,null,null,null,null,{"$f":"I89","v":"g = Anzahl der Spiele"},{"$f":"J127","v":16},null,{"$f":"VLOOKUP(\"calc_1244\",tbl_i18n[],Lang_Ind,FALSE)","v":"= n    (mit Spiel um den dritten Platz)"}]
[null,null,null,null,null,null,null,null,{"$f":"I90","v":"s = Anzahl der Sätze"},null,null,{"$f":"VLOOKUP(\"calc_1245\",tbl_i18n[],Lang_Ind,FALSE)","v":"= Festlegung durch den Veranstalter"}]
[]
[]
[{"$f":"CELL(\"filename\",'KO-Full'!$B$1)","v":"E:\\Tournament_Database\\Tournament_Systems\\[Systems_of_Tournament-Rounds__V01.00.xlsm]KO-Full"},{"$f":"MID(A134,FIND(\"]\",A134)+1,255)","v":"KO-Full"}," ",null,null,"2.5",{"$f":"HYPERLINK(\"#'\"&B134&\"'!M2\",B134)","v":"KO-Full"}]
[null,null,null,null,null,null,{"$f":"CHAR(34)&VLOOKUP(\"txt_2501\",tbl_i18n[],Lang_Ind,FALSE)&CHAR(34)","v":"\"Finalrunden: Darstellung eines vollständiges KO-Systems (mit Ausspielung aller Plätze)\""}]
[null,null,null,null,null,null,{"$f":"VLOOKUP(\"txt_2502\",tbl_i18n[],Lang_Ind,FALSE)","v":"Das Grundprinzip und die Anforderungen entsprechen dem einfachen K.O.-System."}]
[null,null,null,null,null,null,{"$f":"VLOOKUP(\"txt_2503\",tbl_i18n[],Lang_Ind,FALSE)","v":"Alle Teams spielen die gleiche Anzahl von Spielen."}]
[null,null,null,null,null,null,{"$f":"VLOOKUP(\"txt_2504\",tbl_i18n[],Lang_Ind,FALSE)","v":"Der Gewinner eines Spiels spielt mit den anderen Gewinnern der gleichen Runde um die obere Hälfte der Plätze, die Verlierer spielen die unteren Plätze aus."}]
[null,null,null,null,null,null,{"$f":"VLOOKUP(\"txt_2505\",tbl_i18n[],Lang_Ind,FALSE)","v":"Es werden nicht mehr Spielfelder und Zeit als bei dem einfachen K.O.-System benötigt."}]
[]
[null,null,null,null,null,null,{"$f":"G83","v":"Berechnung der benötigten Spielfelder, Runden, Spiele und Sätze"}]
[null,null,null,null,null,null,null,{"$f":"H84","v":"(wenn alle gleichwertigen Runden gleichzeitig stattfinden)"}]
[]
[null,null,null,"\n",null,null,null,null,{"$f":"VLOOKUP(\"calc_1011\",tbl_i18n[],Lang_Ind,FALSE)& \"  (4, 8 ,16, 32, 64, 128)\"","v":"n = Anzahl der Teams  (4, 8 ,16, 32, 64, 128)"},16]
[null,null,null,null,null,null,null,null,{"$f":"I87","v":"r  = Anzahl der Runden"},{"$f":"LOG(J144,2)","v":4},null,{"$f":"VLOOKUP(\"calc_1252\",tbl_i18n[],Lang_Ind,FALSE)","v":"= log₂ ( n )"}]
[null,null,null,null,null,null,null,null,{"$f":"I88","v":"f  = Anzahl der Felder"},{"$f":"J144/2","v":8},null,{"$f":"VLOOKUP(\"calc_1253\",tbl_i18n[],Lang_Ind,FALSE)","v":"= n / 2"}]
[null,null,null,null,null,null,null,null,{"$f":"I89","v":"g = Anzahl der Spiele"},{"$f":"J144/2*LOG(J144,2)","v":32},null,{"$f":"VLOOKUP(\"calc_1254\",tbl_i18n[],Lang_Ind,FALSE)","v":"= (n / 2 ) × log₂ ( n )    = r × f"}]
[null,null,null,null,null,null,null,null,{"$f":"I90","v":"s = Anzahl der Sätze"},null,null,{"$f":"VLOOKUP(\"calc_1255\",tbl_i18n[],Lang_Ind,FALSE)","v":"= Festlegung durch den Veranstalter"}]
[]
[]
[{"$f":"CELL(\"filename\",'KO-Consolation'!M1)","v":"E:\\Tournament_Database\\Tournament_Systems\\[Systems_of_Tournament-Rounds__V01.00.xlsm]KO-Consolation"},{"$f":"MID(A151,FIND(\"]\",A151)+1,255)","v":"KO-Consolation"}," ",null,null,"2.6",{"$f":"HYPERLINK(\"#'\"&B151&\"'!M2\",B151)","v":"KO-Consolation"}]
[null,null,null,null,null,null,{"$f":"CHAR(34)&VLOOKUP(\"txt_2601\",tbl_i18n[],Lang_Ind,FALSE)&CHAR(34)","v":"\"Finalrunden: Darstellung eines einfachen K.O-Systems (Ausscheidungsrunden) mit einer Trostrunde\""}]
[null,null,null,null,null,null,{"$f":"VLOOKUP(\"txt_2602\",tbl_i18n[],Lang_Ind,FALSE)","v":"Das Grundprinzip und die Anforderungen entsprechen dem einfachen K.O.-System."}]
[null,null,null,"\n",null,null,{"$f":"VLOOKUP(\"txt_2603\",tbl_i18n[],Lang_Ind,FALSE)","v":"Mit einer Ausnahme: die Verlierer der ersten Runde spielen in einem einfachen K.O.-System weiter um die mittleren Plätze."}]
[]
[null,null,null,null,null,null,{"$f":"VLOOKUP(\"txt_2611\",tbl_i18n[],Lang_Ind,FALSE)","v":"Beispiel: 64 Teams, mittlerer Platz = 33"}]
[null,null,null,"\n",null,null,null,{"$f":"VLOOKUP(\"txt_2612\",tbl_i18n[],Lang_Ind,FALSE)","v":"Die Verlierer der ersten Runde (1/32-Finale) spielen weiter mit einem einfachen K.O.-System um die Plätze 33 bis 36 (entspricht 1. bis 4 Platz der Trostrunde)."}]
[]
[null,null,null,null,null,null,{"$f":"VLOOKUP(\"txt_2620\",tbl_i18n[],Lang_Ind,FALSE)","v":"Hinweis zum Tabellenblatt:"}]
[]
[null,null,null,null,null,null,null,{"$f":"VLOOKUP(\"txt_2621\",tbl_i18n[],Lang_Ind,FALSE)","v":"Oberhalb dieser Linie finden die Spiele um den ersten Platz statt."}]
[null,null,null,null,null,null,null,{"$f":"VLOOKUP(\"txt_2622\",tbl_i18n[],Lang_Ind,FALSE)","v":"Unterhalb dieser Linie finden die Spiele der Trostrunde statt."}]
[]
[null,null,null,null,null,null,{"$f":"G83","v":"Berechnung der benötigten Spielfelder, Runden, Spiele und Sätze"}]
[null,null,null,null,null,null,null,{"$f":"H84","v":"(wenn alle gleichwertigen Runden gleichzeitig stattfinden)"}]
[]
[null,null,null,"\n",null,null,null,null,{"$f":"VLOOKUP(\"calc_1011\",tbl_i18n[],Lang_Ind,FALSE)& \"  (8 ,16, 32, 64, 128)\"","v":"n = Anzahl der Teams  (8 ,16, 32, 64, 128)"},16]
[null,null,null,null,null,null,null,null,{"$f":"I87","v":"r  = Anzahl der Runden"},{"$f":"LOG(J167,2)","v":4},null,{"$f":"VLOOKUP(\"calc_1262\",tbl_i18n[],Lang_Ind,FALSE)","v":"= log₂ ( n )"}]
[null,null,null,null,null,null,null,null,{"$f":"I88","v":"f  = Anzahl der Felder"},{"$f":"J167/2","v":8},null,{"$f":"VLOOKUP(\"calc_1263\",tbl_i18n[],Lang_Ind,FALSE)","v":"= n / 2"}]
[null,null,null,null,null,null,null,null,{"$f":"I89","v":"g = Anzahl der Spiele"},{"$f":"1.5*J167","v":24},null,{"$f":"VLOOKUP(\"calc_1264\",tbl_i18n[],Lang_Ind,FALSE)","v":"= 1,5 × n"}]
[null,null,null,null,null,null,null,null,{"$f":"I90","v":"s = Anzahl der Sätze"},null,null,{"$f":"VLOOKUP(\"calc_1265\",tbl_i18n[],Lang_Ind,FALSE)","v":"= Festlegung durch den Veranstalter"}]
[]
[]
[{"$f":"CELL(\"filename\",'KO-Double'!M1)","v":"E:\\Tournament_Database\\Tournament_Systems\\[Systems_of_Tournament-Rounds__V01.00.xlsm]KO-Double"},{"$f":"MID(A174,FIND(\"]\",A174)+1,255)","v":"KO-Double"}," ",null,null,"2.7",{"$f":"HYPERLINK(\"#'\"&B174&\"'!M2\",B174)","v":"KO-Double"}]
[null,null,null,null,null,null,{"$f":"CHAR(34)&VLOOKUP(\"txt_2701\",tbl_i18n[],Lang_Ind,FALSE)&CHAR(34)","v":"\"Finalrunden: Darstellung eines Doppel-KO-Systems\""}]
[null,null,null,"\n",null,null,{"$f":"VLOOKUP(\"txt_2702\",tbl_i18n[],Lang_Ind,FALSE)","v":"Ein Doppel-KO-System ist eine Turnierform, bei dem ein Teilnehmer erst nach zwei verlorenen Spielen nicht mehr für den Gewinn der Turniermeisterschaft in Frage kommt."}]
[null,null,null,"\n",null,null,{"$f":"VLOOKUP(\"txt_2703\",tbl_i18n[],Lang_Ind,FALSE)","v":"Es erfordert die gleiche Anzahl von Feldern wie das einfache oder vollständige K.O.-System; hat aber mindestens doppelt so viele Runden."}]
[null,null,null,"\n",null,null,{"$f":"VLOOKUP(\"txt_2729\",tbl_i18n[],Lang_Ind,FALSE)","v":"Im Gegensatz zur üblichen Darstellung (siehe untere Grafik) habe ich hier eine andere Darstellung des Doppel-KO-Systems gewählt, die meines Erachtens die Systematik besser verdeutlicht."}]
[]
[]
[]
[]
[]
[]
[]
[]
[null,null,null,null,null,null,{"$f":"VLOOKUP(\"txt_2720\",tbl_i18n[],Lang_Ind,FALSE)","v":"Hinweis zum Tabellenblatt:"}]
[]
[null,null,null,null,null,null,null,{"$f":"VLOOKUP(\"txt_2721\",tbl_i18n[],Lang_Ind,FALSE)","v":"Oberhalb dieser Linie finden die Spiele um den ersten Platz statt."}]
["\n",null,null,null,null,null,null,{"$f":"VLOOKUP(\"txt_2722\",tbl_i18n[],Lang_Ind,FALSE)","v":"Jedes Team, dass unter dieser Linie fällt (weil es ein Spiel verloren hat), kann \nnoch am Finalspiel teilnehmen, wenn es alle folgenden Spiele gewinnt."}]
[]
[null,null,null,null,null,null,{"$f":"G83","v":"Berechnung der benötigten Spielfelder, Runden, Spiele und Sätze"}]
[null,null,null,null,null,null,null,{"$f":"H84","v":"(wenn alle gleichwertigen Runden gleichzeitig stattfinden)"}]
[]
[null,null,null,"\n",null,null,null,null,{"$f":"VLOOKUP(\"calc_1011\",tbl_i18n[],Lang_Ind,FALSE)& \"  (8 ,16, 32, 64)\"","v":"n = Anzahl der Teams  (8 ,16, 32, 64)"},16]
[null,null,null,null,null,null,null,null,{"$f":"I87","v":"r  = Anzahl der Runden"},{"$f":"2* LOG(J195,2)","v":8},null,{"$f":"VLOOKUP(\"calc_1272\",tbl_i18n[],Lang_Ind,FALSE)","v":"= 2 × log₂ ( n ) + x"}]
[null,null,null,null,null,null,null,null,{"$f":"I88","v":"f  = Anzahl der Felder"},{"$f":"J195/2","v":8},null,{"$f":"VLOOKUP(\"calc_1273\",tbl_i18n[],Lang_Ind,FALSE)","v":"= n / 2"}]
[null,null,null,null,null,null,null,null,{"$f":"I89","v":"g = Anzahl der Spiele"},{"$f":"2*(J195-1)","v":30},null,{"$f":"VLOOKUP(\"calc_1274\",tbl_i18n[],Lang_Ind,FALSE)","v":"= 2 × ( n - 1 )"}]
[null,null,null,null,null,null,null,null,{"$f":"I90","v":"s = Anzahl der Sätze"},null,null,{"$f":"VLOOKUP(\"calc_1275\",tbl_i18n[],Lang_Ind,FALSE)","v":"= Festlegung durch den Veranstalter"}]
[]
[null,null,null,null,null,null,null,null,{"$f":"VLOOKUP(\"txt_2711\",tbl_i18n[],Lang_Ind,FALSE)","v":"x ist abhängig vom Spielverlauf des Verlierers des Finalspiels (Spiel um den ersten Platz)"}]
[null,null,null,null,null,null,null,null,{"$f":"VLOOKUP(\"txt_2712\",tbl_i18n[],Lang_Ind,FALSE)","v":"x = 0;  wenn der Verlierer vor dem Finalspiel in der KO-Runde schon ein Spiel verloren hatte (Doppel-KO)"}]
[null,null,null,"\n",null,null,null,null,{"$f":"VLOOKUP(\"txt_2713\",tbl_i18n[],Lang_Ind,FALSE)","v":"x = 1;  wenn der Verlierer vor dem Finalspiel in der KO-Runde kein Spiel verloren hatte \n           gibt es ein zweites Finalspiel"}]
[]
[]
[null,null,null,null,null,"2.8","Info Swiss-system"]
[null,null,null,null,null,null,{"$f":"CHAR(34)&VLOOKUP(\"txt_2801\",tbl_i18n[],Lang_Ind,FALSE)&CHAR(34)","v":"\"Darstellung des Schweizer System\""}]
[null,null,null,"\n",null,null,{"$f":"VLOOKUP(\"txt_2802\",tbl_i18n[],Lang_Ind,FALSE)","v":"Das Schweizer System lässt sich am besten als Sonderform des Rundenturniers (Round-Robin-Systems) beschreiben. "}]
[null,null,null,"\n",null,null,{"$f":"VLOOKUP(\"txt_2803\",tbl_i18n[],Lang_Ind,FALSE)","v":"Die erste Runde wird gesetzt oder gelost; nach jeder Runde wird der Zwischenstand bestimmt, und in den folgenden Runden spielt stets der Führende gegen den Zweitplatzierten, der dritte gegen den vierten und so weiter."}]
[]
[null,null,null,null,null,null,{"$f":"VLOOKUP(\"txt_2899\",tbl_i18n[],Lang_Ind,FALSE)","v":"Aufgrund der Systematik und Komplexität dieser Turnierform ist diese hier noch nicht implementiert."}]
[]
[]
[null,null,null,null,null,3,{"$f":"VLOOKUP(\"txt_3000\",tbl_i18n[],Lang_Ind,FALSE)","v":"Basistabellen"}]
[]
[{"$f":"CELL(\"filename\",'Table Round-Robin'!$A$1)","v":"E:\\Tournament_Database\\Tournament_Systems\\[Systems_of_Tournament-Rounds__V01.00.xlsm]Table Round-Robin"},{"$f":"MID(A216,FIND(\"]\",A216)+1,255)","v":"Table Round-Robin"}," ",null,null,"3.1",{"$f":"HYPERLINK(\"#'\"&B216&\"'!A1\",B216)","v":"Table Round-Robin"}]
[null,null,null,null,null,null,{"$f":"VLOOKUP(\"txt_3101\",tbl_i18n[],Lang_Ind,FALSE)","v":"Das Blatt enthält 2 Tabellen, die aus technischen Gründen nur in englischer Sprache verfügbar sind."}]
[null,null,null,null,null,null,"▪",{"$f":"\"'tbl_RR_Data': \"&'Table Round-Robin'!$B$5","v":"'tbl_RR_Data': Table of team pairings depending on the number of teams and playing fields"}]
[null,null,null,null,null,null,"▪",{"$f":"\"'tbl_RR_Info':  \"&'Table Round-Robin'!$K$5","v":"'tbl_RR_Info':  Table of notes depending on the number of teams and playing fields"}]
[null,null,null,null,null,null,{"$f":"VLOOKUP(\"txt_3102\",tbl_i18n[],Lang_Ind,FALSE) &\" '\" & G69&\"'\"","v":"Beide Tabellen werden für folgendes Blatt verwendet: 'Round-Robin'"}]
[]
[{"$f":"CELL(\"filename\",'Table Multi-Teams'!$A$1)","v":"E:\\Tournament_Database\\Tournament_Systems\\[Systems_of_Tournament-Rounds__V01.00.xlsm]Table Multi-Teams"},{"$f":"MID(A222,FIND(\"]\",A222)+1,255)","v":"Table Multi-Teams"}," ",null,null,"3.2",{"$f":"HYPERLINK(\"#'\"&B222&\"'!A1\",B222)","v":"Table Multi-Teams"}]
[null,null,null,null,null,null,{"$f":"VLOOKUP(\"txt_3201\",tbl_i18n[],Lang_Ind,FALSE)","v":"Das Blatt enthält 1 Tabelle, die aus technischen Gründen nur in englischer Sprache verfügbar ist."}]
[null,null,null,null,null,null,"▪",{"$f":"\"'tbl_MT_Data': \"&'Table Multi-Teams'!$B$5","v":"'tbl_MT_Data': Table of team orders per set depending on the number of teams"}]
[null,null,null,null,null,null,"▪",{"$f":"\"'tbl_MT_Info':   \"&'Table Multi-Teams'!$O$5","v":"'tbl_MT_Info':   Table of notes depending on the number of teams"}]
[null,null,null,null,null,null,{"$f":"VLOOKUP(\"txt_3202\",tbl_i18n[],Lang_Ind,FALSE) &\" '\" & G93&\"'\"","v":"Diese wird für folgendes Blatt verwendet: 'Multi-Teams'"}]
[]
[{"$f":"CELL(\"filename\",'Table KO-Rounds'!$A$1)","v":"E:\\Tournament_Database\\Tournament_Systems\\[Systems_of_Tournament-Rounds__V01.00.xlsm]Table KO-Rounds"},{"$f":"MID(A228,FIND(\"]\",A228)+1,255)","v":"Table KO-Rounds"}," ",null,null,"3.3",{"$f":"HYPERLINK(\"#'\"&B228&\"'!A1\",B228)","v":"Table KO-Rounds"}]
[null,null,null,null,null,null,{"$f":"VLOOKUP(\"txt_3301\",tbl_i18n[],Lang_Ind,FALSE)","v":"Das Blatt enthält 1 Tabelle, die aus technischen Gründen nur in englischer Sprache verfügbar ist."}]
[null,null,null,null,null,null,"▪",{"$f":"\"'tbl_KO_Data':  \"&'Table KO-Rounds'!B5","v":"'tbl_KO_Data':  Table of team pairings (with predessor game or group rank) for KO-rounds"}]
[null,null,null,null,null,null,{"$f":"VLOOKUP(\"txt_3302\",tbl_i18n[],Lang_Ind,FALSE)","v":"Diese wird für alle \"Info KO-…\" Blätter verwendet."}]
[]
[{"$f":"CELL(\"filename\",Localisation!$A$1)","v":"E:\\Tournament_Database\\Tournament_Systems\\[Systems_of_Tournament-Rounds__V01.00.xlsm]Localisation"},{"$f":"MID(A233,FIND(\"]\",A233)+1,255)","v":"Localisation"}," ",null,null,"3.9",{"$f":"HYPERLINK(\"#'\"&B233&\"'!A1\",B233)","v":"Localisation"}]
[null,null,null,null,null,null,{"$f":"VLOOKUP(\"txt_3901\",tbl_i18n[],Lang_Ind,FALSE)","v":"Das Blatt enthält alle sprachabhängigen Texte."}]
[null,null,null,"\n",null,null,{"$f":"VLOOKUP(\"txt_3902\",tbl_i18n[],Lang_Ind,FALSE)","v":"Für eine neue Sprache muss einfach in der obersten Zeile der Name der Sprache in die nächste freie Spalte eingetragen werden. Das ist alles (außer den fehlenden Übersetzungen)."}]
[null,null,null,"\n",null,null,{"$f":"VLOOKUP(\"txt_3903\",tbl_i18n[],Lang_Ind,FALSE)","v":"Es empfiehlt sich, die komplette Spalte einer vollständig ausgefüllten Sprache für die neue Sprache zu kopieren, so dass bei fehlenden Übersetzungen keine Lücken entstehen."}]
[]
[]
[null,null,null,null,null,"4",{"$f":"VLOOKUP(\"txt_4000\",tbl_i18n[],Lang_Ind,FALSE)","v":"Überarbeitungen"}]
[]
[]
[]
[]
[]
[]
[null,null,null,null,null,"5",{"$f":"VLOOKUP(\"txt_5000\",tbl_i18n[],Lang_Ind,FALSE)","v":"Über den Autor"}]
[null,null,null,"\n\n",null,null,{"$f":"VLOOKUP(\"txt_5001\",tbl_i18n[],Lang_Ind,FALSE)","v":"Ich nutze Excel seit 1988 (damals auf einem Macintosh) und das Programm ist definitiv schon vor langer Zeit zu einem Hobby von mir geworden. Außerdem nutze ich die zugehörige Programmiersprache VBA seit Anbeginn ausgiebig."}]
[null,null,null,null,null,null,{"$f":"VLOOKUP(\"txt_5002\",tbl_i18n[],Lang_Ind,FALSE)","v":"Kontakt:"}]
[null,null,null,null,null,null,"*",null,"walter_aust@t-online.de"]

{"sheet":"Round-Robin","index":1,"n_rows":40,"n_cols":75,"rows_kept":40,"cut":false,"hidden":false,"merged":[[14,57,14,59],[16,74,39,74],[18,76,19,76],[20,76,21,76],[22,76,24,76],[26,76,28,76],[8,28,8,29],[8,55,8,56],[10,55,10,56],[8,41,8,42],[10,23,10,27],[8,23,8,27],[10,28,10,29],[13,23,14,23],[13,24,13,62],[13,69,14,71],[13,74,14,74],[14,24,14,26],[14,60,14,62],[14,27,14,29],[14,30,14,32],[14,33,14,35],[14,36,14,38],[14,39,14,41],[14,42,14,44],[14,45,14,47],[14,48,14,50],[14,51,14,53],[14,54,14,56]]}
[null,null,null,null,null,null,null,null,null,null,null,null,null,null,null,null,null,null,null,null,null,null,null,null,1,2,3,4,5,6,7,8,9,10,11,12,13,14,15,16,17,18,19,20,21,22,23,24,25,26,27,28,29,30]
[]
[]
[null,null,null,null,null,null,null,null,null,null,null,null,null,null,null,null,null,null,null,null,null,null,null,{"$f":"VLOOKUP(\"txt_0000\",tbl_i18n[],Lang_Ind,FALSE)","v":"Spielsysteme für Turniere"},null,null,null,null,null,null,null,null,null,null,null,null,null,null,null,null,null,null,null,null,null,null,null,null,null,null,null,null,null,null,null,null,null,null,null,null,null,null,null,null,null,null,null,null,null,null,null,null,null,null,"created by: Walter Aust"]
[]
[null,null,null,null,null,null,null,null,null,null,null,null,null,null,null,null,null,null,null,null,null,"ç"]
[null,null,null,null,null,null,null,null,null,null,null,null,null,null,null,null,null,null,null,null,null,null,null,{"$f":"VLOOKUP(\"txt_2201\",tbl_i18n[],Lang_Ind,FALSE)","v":"Gruppenphase: Darstellung des Round-Robin-Systems"}]
[null,null,1]
["RR_CourtsCnt",null,{"$f":"INDEX(T12:T13,C8)","v":4},null,null,null,null,null,null,null,null,null,null,null,null,null,null,null,null,null,null,null,null,{"$f":"VLOOKUP(\"txt_2251\",tbl_i18n[],Lang_Ind,FALSE)","v":"Anzahl der Teams:"},null,null,null,null,8,null,null,null,null,null,{"$f":"VLOOKUP(\"txt_2254\",tbl_i18n[],Lang_Ind,FALSE)","v":"Anzahl der Runden:"},null,null,null,null,null,null,{"$f":"INDEX(tbl_RR_Data[Round],S15)","v":7},null,null,null,null,null,null,{"$f":"VLOOKUP(\"txt_2253\",tbl_i18n[],Lang_Ind,FALSE)","v":"Hervorheben von Team:"},null,null,null,null,null,null,1]
[]
[null,null,null,null,null,null,null,null,null,null,null,null,null,null,null,null,null,null,null,null,null,null,null,{"$f":"VLOOKUP(\"txt_2252\",tbl_i18n[],Lang_Ind,FALSE)","v":"Anzahl der Spielfelder:"},null,null,null,null,{"$f":"RR_CourtsCnt","v":4},null,null,null,null,null,null,null,null,null,null,null,null,null,null,null,null,null,null,null,null,null,null,null,null,null,null,2]
[null,null,{"$f":"1000000*RR_TeamsCnt","v":8000000},null,"auxilary table to spare calculations",null,null,null,null,null,null,null,null,null,null,null,null,null,{"$f":"MATCH(C13,tbl_RR_Data[ID],1)","v":85},{"$f":"INDEX(tbl_RR_Data[Sum Fields],S12)","v":4}]
[null,null,{"$f":"1000000*(RR_TeamsCnt+1)","v":9000000},null,null,null,null,null,null,null,null,null,null,null,null,null,null,null,{"$f":"MATCH(C12,tbl_RR_Data[ID],1)+1","v":58},{"$f":"INDEX(tbl_RR_Data[Sum Fields],S13)","v":4}]
[null,null,{"$f":"C12+10000*(RR_CourtsCnt)","v":8040000},null,1,2,3,4,5,6,7,8,9,10,11,12,13,null,{"$f":"MATCH(C14,tbl_RR_Info[ID],0)","v":7},null,null,null,null,{"$f":"VLOOKUP(\"txt_2255\",tbl_i18n[],Lang_Ind,FALSE)","v":"Runde"},{"$f":"VLOOKUP(\"txt_2256\",tbl_i18n[],Lang_Ind,FALSE)","v":"Spielfeld"},null,null,null,null,null,null,null,null,null,null,null,null,null,null,null,null,null,null,null,null,null,null,null,null,null,null,null,null,null,null,null,null,null,null,null,null,null,null,null,null,null,null,null,null,{"$f":"VLOOKUP(\"txt_2257\",tbl_i18n[],Lang_Ind,FALSE)","v":"Pause"},null,null,null,null,{"$f":"VLOOKUP(\"txt_2258\",tbl_i18n[],Lang_Ind,FALSE)","v":"Eigenschaften dieses Turnierdesigns:"}]
[null,null,null,null,1,{"$f":"(RR_CourtsCnt>=F14)*F14","v":2},3,4,0,0,0,0,0,0,0,0,0,null,{"$f":"MATCH(C14+9999,tbl_RR_Data[ID],1)","v":85},{"$f":"VLOOKUP(\"Num_\"&RR_CourtsCnt-ISEVEN(RR_TeamsCnt),tbl_i18n[],Lang_Ind,FALSE)","v":"drei"}," ",null,null,null,{"$f":"E15","v":1},null,null,{"$f":"F15","v":2},null,null,{"$f":"G15","v":3},null,null,{"$f":"H15","v":4},null,null,{"$f":"I15","v":0},null,null,{"$f":"J15","v":0},null,null,{"$f":"K15","v":0},null,null,{"$f":"L15","v":0},null,null,{"$f":"M15","v":0},null,null,{"$f":"N15","v":0},null,null,{"$f":"O15","v":0},null,null,{"$f":"P15","v":0},null,null,{"$f":"Q15","v":0}]
[1,1,{"$f":"IF(B16,MATCH($C$14+100*B16,tbl_RR_Data[ID],1),0)","v":57},null,{"$f":"$B16*E$15","v":1},2,3,4,0,0,0,0,0,0,0,0,0,null,null,{"$f":"VLOOKUP(\"Num_\"&RR_CourtsCnt&\"x\",tbl_i18n[],Lang_Ind,FALSE)","v":"viermal"}," ",null,null,{"$f":"B16","v":1},{"$f":"IF(E16,INDEX(tbl_RR_Data[Team 1],$C16+Y$15),\"\")","v":5},{"$f":"IF(E16,\"–\",\"\")","v":"–"},{"$f":"IF(E16,INDEX(tbl_RR_Data[Team 2],$C16+Y$15),\"\")","v":4},{"$f":"IF(F16,INDEX(tbl_RR_Data[Team 1],$C16+AB$15),\"\")","v":7},{"$f":"IF(F16,\"–\",\"\")","v":"–"},{"$f":"IF(F16,INDEX(tbl_RR_Data[Team 2],$C16+AB$15),\"\")","v":2},{"$f":"IF(G16,INDEX(tbl_RR_Data[Team 1],$C16+AE$15),\"\")","v":8},{"$f":"IF(G16,\"–\",\"\")","v":"–"},{"$f":"IF(G16,INDEX(tbl_RR_Data[Team 2],$C16+AE$15),\"\")","v":3},{"$f":"IF(H16,INDEX(tbl_RR_Data[Team 1],$C16+AH$15),\"\")","v":1},{"$f":"IF(H16,\"–\",\"\")","v":"–"},{"$f":"IF(H16,INDEX(tbl_RR_Data[Team 2],$C16+AH$15),\"\")","v":6},{"$f":"IF(I16,INDEX(tbl_RR_Data[Team 1],$C16+AK$15),\"\")","v":""},{"$f":"IF(I16,\"–\",\"\")","v":""},{"$f":"IF(I16,INDEX(tbl_RR_Data[Team 2],$C16+AK$15),\"\")","v":""},{"$f":"IF(J16,INDEX(tbl_RR_Data[Team 1],$C16+AN$15),\"\")","v":""},{"$f":"IF(J16,\"–\",\"\")","v":""},{"$f":"IF(J16,INDEX(tbl_RR_Data[Team 2],$C16+AN$15),\"\")","v":""},{"$f":"IF(K16,INDEX(tbl_RR_Data[Team 1],$C16+AQ$15),\"\")","v":""},{"$f":"IF(K16,\"–\",\"\")","v":""},{"$f":"IF(K16,INDEX(tbl_RR_Data[Team 2],$C16+AQ$15),\"\")","v":""},{"$f":"IF(L16,INDEX(tbl_RR_Data[Team 1],$C16+AT$15),\"\")","v":""},{"$f":"IF(L16,\"–\",\"\")","v":""},{"$f":"IF(L16,INDEX(tbl_RR_Data[Team 2],$C16+AT$15),\"\")","v":""},{"$f":"IF(M16,INDEX(tbl_RR_Data[Team 1],$C16+AW$15),\"\")","v":""},{"$f":"IF(M16,\"–\",\"\")","v":""},{"$f":"IF(M16,INDEX(tbl_RR_Data[Team 2],$C16+AW$15),\"\")","v":""},{"$f":"IF(N16,INDEX(tbl_RR_Data[Team 1],$C16+AZ$15),\"\")","v":""},{"$f":"IF(N16,\"–\",\"\")","v":""},{"$f":"IF(N16,INDEX(tbl_RR_Data[Team 2],$C16+AZ$15),\"\")","v":""},{"$f":"IF(O16,INDEX(tbl_RR_Data[Team 1],$C16+BC$15),\"\")","v":""},{"$f":"IF(O16,\"–\",\"\")","v":""},{"$f":"IF(O16,INDEX(tbl_RR_Data[Team 2],$C16+BC$15),\"\")","v":""},{"$f":"IF(P16,INDEX(tbl_RR_Data[Team 1],$C16+BF$15),\"\")","v":""},{"$f":"IF(P16,\"–\",\"\")","v":""},{"$f":"IF(P16,INDEX(tbl_RR_Data[Team 2],$C16+BF$15),\"\")","v":""},{"$f":"IF(Q16,INDEX(tbl_RR_Data[Team 1],$C16+BI$15),\"\")","v":""},{"$f":"IF(Q16,\"–\",\"\")","v":""},{"$f":"IF(Q16,INDEX(tbl_RR_Data[Team 2],$C16+BI$15),\"\")","v":""},null,{"$f":"SMALL(IF(COUNTIF($Y16:$BK16,$Y$1:$BB$1),999,$Y$1:$BB$1),$Y$1:$BB$1)","v":9},10,11,{"$f":"RR_TeamsCnt-COUNT(Y16:BK16)","v":0},{"$f":"AND(X16,BP16>0,BP16<4)","v":false},{"$f":"IF(AND($BQ16,BM16<=RR_TeamsCnt),BM16,\"\")","v":""},{"$f":"IF(AND($BQ16,BN16<=RR_TeamsCnt),BN16,\"\")","v":""},{"$f":"IF(AND($BQ16,BO16<=RR_TeamsCnt),BO16,\"\")","v":""}]
[2,{"$f":"(RR_RoundsCnt>=A17)*A17","v":2},{"$f":"IF(B17,MATCH($C$14+100*B17,tbl_RR_Data[ID],1),0)","v":61},null,2,4,6,8,0,0,0,0,0,0,0,0,0,null,{"$f":"INDEX(tbl_RR_Info[Text 1],$S$14)","v":"txt_2259"},{"$f":"IF(S17<>0,VLOOKUP(S17,tbl_i18n[],Lang_Ind,FALSE)&CHAR(10)&CHAR(10),\"\")","v":"Jedes Team spielt genau einmal gegen ein anderes.\n\n"}," ",null,null,{"$f":"B17","v":2},{"$f":"IF(E17,INDEX(tbl_RR_Data[Team 1],$C17+Y$15),\"\")","v":6},{"$f":"IF(E17,\"–\",\"\")","v":"–"},{"$f":"IF(E17,INDEX(tbl_RR_Data[Team 2],$C17+Y$15),\"\")","v":3},{"$f":"IF(F17,INDEX(tbl_RR_Data[Team 1],$C17+AB$15),\"\")","v":8},{"$f":"IF(F17,\"–\",\"\")","v":"–"},{"$f":"IF(F17,INDEX(tbl_RR_Data[Team 2],$C17+AB$15),\"\")","v":1},{"$f":"IF(G17,INDEX(tbl_RR_Data[Team 1],$C17+AE$15),\"\")","v":5},{"$f":"IF(G17,\"–\",\"\")","v":"–"},{"$f":"IF(G17,INDEX(tbl_RR_Data[Team 2],$C17+AE$15),\"\")","v":2},{"$f":"IF(H17,INDEX(tbl_RR_Data[Team 1],$C17+AH$15),\"\")","v":4},{"$f":"IF(H17,\"–\",\"\")","v":"–"},{"$f":"IF(H17,INDEX(tbl_RR_Data[Team 2],$C17+AH$15),\"\")","v":7},{"$f":"IF(I17,INDEX(tbl_RR_Data[Team 1],$C17+AK$15),\"\")","v":""},{"$f":"IF(I17,\"–\",\"\")","v":""},{"$f":"IF(I17,INDEX(tbl_RR_Data[Team 2],$C17+AK$15),\"\")","v":""},{"$f":"IF(J17,INDEX(tbl_RR_Data[Team 1],$C17+AN$15),\"\")","v":""},{"$f":"IF(J17,\"–\",\"\")","v":""},{"$f":"IF(J17,INDEX(tbl_RR_Data[Team 2],$C17+AN$15),\"\")","v":""},{"$f":"IF(K17,INDEX(tbl_RR_Data[Team 1],$C17+AQ$15),\"\")","v":""},{"$f":"IF(K17,\"–\",\"\")","v":""},{"$f":"IF(K17,INDEX(tbl_RR_Data[Team 2],$C17+AQ$15),\"\")","v":""},{"$f":"IF(L17,INDEX(tbl_RR_Data[Team 1],$C17+AT$15),\"\")","v":""},{"$f":"IF(L17,\"–\",\"\")","v":""},{"$f":"IF(L17,INDEX(tbl_RR_Data[Team 2],$C17+AT$15),\"\")","v":""},{"$f":"IF(M17,INDEX(tbl_RR_Data[Team 1],$C17+AW$15),\"\")","v":""},{"$f":"IF(M17,\"–\",\"\")","v":""},{"$f":"IF(M17,INDEX(tbl_RR_Data[Team 2],$C17+AW$15),\"\")","v":""},{"$f":"IF(N17,INDEX(tbl_RR_Data[Team 1],$C17+AZ$15),\"\")","v":""},{"$f":"IF(N17,\"–\",\"\")","v":""},{"$f":"IF(N17,INDEX(tbl_RR_Data[Team 2],$C17+AZ$15),\"\")","v":""},{"$f":"IF(O17,INDEX(tbl_RR_Data[Team 1],$C17+BC$15),\"\")","v":""},{"$f":"IF(O17,\"–\",\"\")","v":""},{"$f":"IF(O17,INDEX(tbl_RR_Data[Team 2],$C17+BC$15),\"\")","v":""},{"$f":"IF(P17,INDEX(tbl_RR_Data[Team 1],$C17+BF$15),\"\")","v":""},{"$f":"IF(P17,\"–\",\"\")","v":""},{"$f":"IF(P17,INDEX(tbl_RR_Data[Team 2],$C17+BF$15),\"\")","v":""},{"$f":"IF(Q17,INDEX(tbl_RR_Data[Team 1],$C17+BI$15),\"\")","v":""},{"$f":"IF(Q17,\"–\",\"\")","v":""},{"$f":"IF(Q17,INDEX(tbl_RR_Data[Team 2],$C17+BI$15),\"\")","v":""},null,{"$f":"SMALL(IF(COUNTIF($Y17:$BK17,$Y$1:$BB$1),999,$Y$1:$BB$1),$Y$1:$BB$1)","v":9},10,11,0,{"$f":"AND(X17,BP17>0,BP17<4)","v":false},"","","",null,null,{"$f":"T17&T18&T19&T21","v":"Jedes Team spielt genau einmal gegen ein anderes.\n\nKein Team spielt zwei Spiele hintereinander auf demselben Spielfeld.\n\nJedes Team beginnt höchstens einmal den ersten Satz auf einem Spielfeld.\n\nDaher spielt jedes Team je zweimal auf drei Spielfeldern und einmal auf einem Spielfeld, und jedes Team beginnt drei- oder viermal den ersten Satz."}]
[3,3,{"$f":"IF(B18,MATCH($C$14+100*B18,tbl_RR_Data[ID],1),0)","v":65},null,3,6,9,12,0,0,0,0,0,0,0,0,0,null,{"$f":"INDEX(tbl_RR_Info[Text 2],$S$14)","v":"txt_2263"},{"$f":"IF(S18<>0,VLOOKUP(S18,tbl_i18n[],Lang_Ind,FALSE)&CHAR(10)&CHAR(10),\"\")","v":"Kein Team spielt zwei Spiele hintereinander auf demselben Spielfeld.\n\n"}," ",null,null,3,{"$f":"IF(E18,INDEX(tbl_RR_Data[Team 1],$C18+Y$15),\"\")","v":2},"–",{"$f":"IF(E18,INDEX(tbl_RR_Data[Team 2],$C18+Y$15),\"\")","v":8},{"$f":"IF(F18,INDEX(tbl_RR_Data[Team 1],$C18+AB$15),\"\")","v":4},"–",{"$f":"IF(F18,INDEX(tbl_RR_Data[Team 2],$C18+AB$15),\"\")","v":6},{"$f":"IF(G18,INDEX(tbl_RR_Data[Team 1],$C18+AE$15),\"\")","v":1},"–",{"$f":"IF(G18,INDEX(tbl_RR_Data[Team 2],$C18+AE$15),\"\")","v":7},{"$f":"IF(H18,INDEX(tbl_RR_Data[Team 1],$C18+AH$15),\"\")","v":5},"–",{"$f":"IF(H18,INDEX(tbl_RR_Data[Team 2],$C18+AH$15),\"\")","v":3},{"$f":"IF(I18,INDEX(tbl_RR_Data[Team 1],$C18+AK$15),\"\")","v":""},"",{"$f":"IF(I18,INDEX(tbl_RR_Data[Team 2],$C18+AK$15),\"\")","v":""},{"$f":"IF(J18,INDEX(tbl_RR_Data[Team 1],$C18+AN$15),\"\")","v":""},"",{"$f":"IF(J18,INDEX(tbl_RR_Data[Team 2],$C18+AN$15),\"\")","v":""},{"$f":"IF(K18,INDEX(tbl_RR_Data[Team 1],$C18+AQ$15),\"\")","v":""},"",{"$f":"IF(K18,INDEX(tbl_RR_Data[Team 2],$C18+AQ$15),\"\")","v":""},{"$f":"IF(L18,INDEX(tbl_RR_Data[Team 1],$C18+AT$15),\"\")","v":""},"",{"$f":"IF(L18,INDEX(tbl_RR_Data[Team 2],$C18+AT$15),\"\")","v":""},{"$f":"IF(M18,INDEX(tbl_RR_Data[Team 1],$C18+AW$15),\"\")","v":""},"",{"$f":"IF(M18,INDEX(tbl_RR_Data[Team 2],$C18+AW$15),\"\")","v":""},{"$f":"IF(N18,INDEX(tbl_RR_Data[Team 1],$C18+AZ$15),\"\")","v":""},"",{"$f":"IF(N18,INDEX(tbl_RR_Data[Team 2],$C18+AZ$15),\"\")","v":""},{"$f":"IF(O18,INDEX(tbl_RR_Data[Team 1],$C18+BC$15),\"\")","v":""},"",{"$f":"IF(O18,INDEX(tbl_RR_Data[Team 2],$C18+BC$15),\"\")","v":""},{"$f":"IF(P18,INDEX(tbl_RR_Data[Team 1],$C18+BF$15),\"\")","v":""},"",{"$f":"IF(P18,INDEX(tbl_RR_Data[Team 2],$C18+BF$15),\"\")","v":""},{"$f":"IF(Q18,INDEX(tbl_RR_Data[Team 1],$C18+BI$15),\"\")","v":""},"",{"$f":"IF(Q18,INDEX(tbl_RR_Data[Team 2],$C18+BI$15),\"\")","v":""},null,{"$f":"SMALL(IF(COUNTIF($Y18:$BK18,$Y$1:$BB$1),999,$Y$1:$BB$1),$Y$1:$BB$1)","v":9},10,11,0,false,"","",""]
[4,4,{"$f":"IF(B19,MATCH($C$14+100*B19,tbl_RR_Data[ID],1),0)","v":69},null,4,8,12,16,0,0,0,0,0,0,0,0,0,null,{"$f":"INDEX(tbl_RR_Info[Text 3],$S$14)","v":"txt_2269"},{"$f":"IF(S19<>0,VLOOKUP(S19,tbl_i18n[],Lang_Ind,FALSE)&CHAR(10)&CHAR(10),\"\")","v":"Jedes Team beginnt höchstens einmal den ersten Satz auf einem Spielfeld.\n\n"}," ",null,null,4,{"$f":"IF(E19,INDEX(tbl_RR_Data[Team 1],$C19+Y$15),\"\")","v":3},"–",{"$f":"IF(E19,INDEX(tbl_RR_Data[Team 2],$C19+Y$15),\"\")","v":7},{"$f":"IF(F19,INDEX(tbl_RR_Data[Team 1],$C19+AB$15),\"\")","v":1},"–",{"$f":"IF(F19,INDEX(tbl_RR_Data[Team 2],$C19+AB$15),\"\")","v":5},{"$f":"IF(G19,INDEX(tbl_RR_Data[Team 1],$C19+AE$15),\"\")","v":4},"–",{"$f":"IF(G19,INDEX(tbl_RR_Data[Team 2],$C19+AE$15),\"\")","v":8},{"$f":"IF(H19,INDEX(tbl_RR_Data[Team 1],$C19+AH$15),\"\")","v":6},"–",{"$f":"IF(H19,INDEX(tbl_RR_Data[Team 2],$C19+AH$15),\"\")","v":2},{"$f":"IF(I19,INDEX(tbl_RR_Data[Team 1],$C19+AK$15),\"\")","v":""},"",{"$f":"IF(I19,INDEX(tbl_RR_Data[Team 2],$C19+AK$15),\"\")","v":""},{"$f":"IF(J19,INDEX(tbl_RR_Data[Team 1],$C19+AN$15),\"\")","v":""},"",{"$f":"IF(J19,INDEX(tbl_RR_Data[Team 2],$C19+AN$15),\"\")","v":""},{"$f":"IF(K19,INDEX(tbl_RR_Data[Team 1],$C19+AQ$15),\"\")","v":""},"",{"$f":"IF(K19,INDEX(tbl_RR_Data[Team 2],$C19+AQ$15),\"\")","v":""},{"$f":"IF(L19,INDEX(tbl_RR_Data[Team 1],$C19+AT$15),\"\")","v":""},"",{"$f":"IF(L19,INDEX(tbl_RR_Data[Team 2],$C19+AT$15),\"\")","v":""},{"$f":"IF(M19,INDEX(tbl_RR_Data[Team 1],$C19+AW$15),\"\")","v":""},"",{"$f":"IF(M19,INDEX(tbl_RR_Data[Team 2],$C19+AW$15),\"\")","v":""},{"$f":"IF(N19,INDEX(tbl_RR_Data[Team 1],$C19+AZ$15),\"\")","v":""},"",{"$f":"IF(N19,INDEX(tbl_RR_Data[Team 2],$C19+AZ$15),\"\")","v":""},{"$f":"IF(O19,INDEX(tbl_RR_Data[Team 1],$C19+BC$15),\"\")","v":""},"",{"$f":"IF(O19,INDEX(tbl_RR_Data[Team 2],$C19+BC$15),\"\")","v":""},{"$f":"IF(P19,INDEX(tbl_RR_Data[Team 1],$C19+BF$15),\"\")","v":""},"",{"$f":"IF(P19,INDEX(tbl_RR_Data[Team 2],$C19+BF$15),\"\")","v":""},{"$f":"IF(Q19,INDEX(tbl_RR_Data[Team 1],$C19+BI$15),\"\")","v":""},"",{"$f":"IF(Q19,INDEX(tbl_RR_Data[Team 2],$C19+BI$15),\"\")","v":""},null,{"$f":"SMALL(IF(COUNTIF($Y19:$BK19,$Y$1:$BB$1),999,$Y$1:$BB$1),$Y$1:$BB$1)","v":9},10,11,0,false,"","",""]
[5,5,{"$f":"IF(B20,MATCH($C$14+100*B20,tbl_RR_Data[ID],1),0)","v":73},null,5,10,15,20,0,0,0,0,0,0,0,0,0,null,{"$f":"INDEX(tbl_RR_Info[Text 4],$S$14)","v":"txt_2275"},{"$f":"IF(S20<>0,VLOOKUP(S20,tbl_i18n[],Lang_Ind,FALSE),\"\")","v":"Daher spielt jedes Team je zweimal auf ##1 Spielfeldern und einmal auf einem Spielfeld, und jedes Team beginnt ##1- oder ##2 den ersten Satz."}," ",null,null,5,{"$f":"IF(E20,INDEX(tbl_RR_Data[Team 1],$C20+Y$15),\"\")","v":4},"–",{"$f":"IF(E20,INDEX(tbl_RR_Data[Team 2],$C20+Y$15),\"\")","v":1},{"$f":"IF(F20,INDEX(tbl_RR_Data[Team 1],$C20+AB$15),\"\")","v":2},"–",{"$f":"IF(F20,INDEX(tbl_RR_Data[Team 2],$C20+AB$15),\"\")","v":3},{"$f":"IF(G20,INDEX(tbl_RR_Data[Team 1],$C20+AE$15),\"\")","v":7},"–",{"$f":"IF(G20,INDEX(tbl_RR_Data[Team 2],$C20+AE$15),\"\")","v":6},{"$f":"IF(H20,INDEX(tbl_RR_Data[Team 1],$C20+AH$15),\"\")","v":8},"–",{"$f":"IF(H20,INDEX(tbl_RR_Data[Team 2],$C20+AH$15),\"\")","v":5},{"$f":"IF(I20,INDEX(tbl_RR_Data[Team 1],$C20+AK$15),\"\")","v":""},"",{"$f":"IF(I20,INDEX(tbl_RR_Data[Team 2],$C20+AK$15),\"\")","v":""},{"$f":"IF(J20,INDEX(tbl_RR_Data[Team 1],$C20+AN$15),\"\")","v":""},"",{"$f":"IF(J20,INDEX(tbl_RR_Data[Team 2],$C20+AN$15),\"\")","v":""},{"$f":"IF(K20,INDEX(tbl_RR_Data[Team 1],$C20+AQ$15),\"\")","v":""},"",{"$f":"IF(K20,INDEX(tbl_RR_Data[Team 2],$C20+AQ$15),\"\")","v":""},{"$f":"IF(L20,INDEX(tbl_RR_Data[Team 1],$C20+AT$15),\"\")","v":""},"",{"$f":"IF(L20,INDEX(tbl_RR_Data[Team 2],$C20+AT$15),\"\")","v":""},{"$f":"IF(M20,INDEX(tbl_RR_Data[Team 1],$C20+AW$15),\"\")","v":""},"",{"$f":"IF(M20,INDEX(tbl_RR_Data[Team 2],$C20+AW$15),\"\")","v":""},{"$f":"IF(N20,INDEX(tbl_RR_Data[Team 1],$C20+AZ$15),\"\")","v":""},"",{"$f":"IF(N20,INDEX(tbl_RR_Data[Team 2],$C20+AZ$15),\"\")","v":""},{"$f":"IF(O20,INDEX(tbl_RR_Data[Team 1],$C20+BC$15),\"\")","v":""},"",{"$f":"IF(O20,INDEX(tbl_RR_Data[Team 2],$C20+BC$15),\"\")","v":""},{"$f":"IF(P20,INDEX(tbl_RR_Data[Team 1],$C20+BF$15),\"\")","v":""},"",{"$f":"IF(P20,INDEX(tbl_RR_Data[Team 2],$C20+BF$15),\"\")","v":""},{"$f":"IF(Q20,INDEX(tbl_RR_Data[Team 1],$C20+BI$15),\"\")","v":""},"",{"$f":"IF(Q20,INDEX(tbl_RR_Data[Team 2],$C20+BI$15),\"\")","v":""},null,{"$f":"SMALL(IF(COUNTIF($Y20:$BK20,$Y$1:$BB$1),999,$Y$1:$BB$1),$Y$1:$BB$1)","v":9},10,11,0,false,"","",""]
[6,6,{"$f":"IF(B21,MATCH($C$14+100*B21,tbl_RR_Data[ID],1),0)","v":77},null,6,12,18,24,0,0,0,0,0,0,0,0,0,null,null,{"$f":"SUBSTITUTE(SUBSTITUTE(T20,\"##1\",T15),\"##2\",T16)","v":"Daher spielt jedes Team je zweimal auf drei Spielfeldern und einmal auf einem Spielfeld, und jedes Team beginnt drei- oder viermal den ersten Satz."}," ",null,null,6,{"$f":"IF(E21,INDEX(tbl_RR_Data[Team 1],$C21+Y$15),\"\")","v":8},"–",{"$f":"IF(E21,INDEX(tbl_RR_Data[Team 2],$C21+Y$15),\"\")","v":6},{"$f":"IF(F21,INDEX(tbl_RR_Data[Team 1],$C21+AB$15),\"\")","v":5},"–",{"$f":"IF(F21,INDEX(tbl_RR_Data[Team 2],$C21+AB$15),\"\")","v":7},{"$f":"IF(G21,INDEX(tbl_RR_Data[Team 1],$C21+AE$15),\"\")","v":2},"–",{"$f":"IF(G21,INDEX(tbl_RR_Data[Team 2],$C21+AE$15),\"\")","v":4},{"$f":"IF(H21,INDEX(tbl_RR_Data[Team 1],$C21+AH$15),\"\")","v":3},"–",{"$f":"IF(H21,INDEX(tbl_RR_Data[Team 2],$C21+AH$15),\"\")","v":1},{"$f":"IF(I21,INDEX(tbl_RR_Data[Team 1],$C21+AK$15),\"\")","v":""},"",{"$f":"IF(I21,INDEX(tbl_RR_Data[Team 2],$C21+AK$15),\"\")","v":""},{"$f":"IF(J21,INDEX(tbl_RR_Data[Team 1],$C21+AN$15),\"\")","v":""},"",{"$f":"IF(J21,INDEX(tbl_RR_Data[Team 2],$C21+AN$15),\"\")","v":""},{"$f":"IF(K21,INDEX(tbl_RR_Data[Team 1],$C21+AQ$15),\"\")","v":""},"",{"$f":"IF(K21,INDEX(tbl_RR_Data[Team 2],$C21+AQ$15),\"\")","v":""},{"$f":"IF(L21,INDEX(tbl_RR_Data[Team 1],$C21+AT$15),\"\")","v":""},"",{"$f":"IF(L21,INDEX(tbl_RR_Data[Team 2],$C21+AT$15),\"\")","v":""},{"$f":"IF(M21,INDEX(tbl_RR_Data[Team 1],$C21+AW$15),\"\")","v":""},"",{"$f":"IF(M21,INDEX(tbl_RR_Data[Team 2],$C21+AW$15),\"\")","v":""},{"$f":"IF(N21,INDEX(tbl_RR_Data[Team 1],$C21+AZ$15),\"\")","v":""},"",{"$f":"IF(N21,INDEX(tbl_RR_Data[Team 2],$C21+AZ$15),\"\")","v":""},{"$f":"IF(O21,INDEX(tbl_RR_Data[Team 1],$C21+BC$15),\"\")","v":""},"",{"$f":"IF(O21,INDEX(tbl_RR_Data[Team 2],$C21+BC$15),\"\")","v":""},{"$f":"IF(P21,INDEX(tbl_RR_Data[Team 1],$C21+BF$15),\"\")","v":""},"",{"$f":"IF(P21,INDEX(tbl_RR_Data[Team 2],$C21+BF$15),\"\")","v":""},{"$f":"IF(Q21,INDEX(tbl_RR_Data[Team 1],$C21+BI$15),\"\")","v":""},"",{"$f":"IF(Q21,INDEX(tbl_RR_Data[Team 2],$C21+BI$15),\"\")","v":""},null,{"$f":"SMALL(IF(COUNTIF($Y21:$BK21,$Y$1:$BB$1),999,$Y$1:$BB$1),$Y$1:$BB$1)","v":9},10,11,0,false,"","",""]
[7,7,{"$f":"IF(B22,MATCH($C$14+100*B22,tbl_RR_Data[ID],1),0)","v":81},null,7,14,21,28,0,0,0,0,0,0,0,0,0,null,null,null,null,null,null,7,{"$f":"IF(E22,INDEX(tbl_RR_Data[Team 1],$C22+Y$15),\"\")","v":1},"–",{"$f":"IF(E22,INDEX(tbl_RR_Data[Team 2],$C22+Y$15),\"\")","v":2},{"$f":"IF(F22,INDEX(tbl_RR_Data[Team 1],$C22+AB$15),\"\")","v":3},"–",{"$f":"IF(F22,INDEX(tbl_RR_Data[Team 2],$C22+AB$15),\"\")","v":4},{"$f":"IF(G22,INDEX(tbl_RR_Data[Team 1],$C22+AE$15),\"\")","v":6},"–",{"$f":"IF(G22,INDEX(tbl_RR_Data[Team 2],$C22+AE$15),\"\")","v":5},{"$f":"IF(H22,INDEX(tbl_RR_Data[Team 1],$C22+AH$15),\"\")","v":7},"–",{"$f":"IF(H22,INDEX(tbl_RR_Data[Team 2],$C22+AH$15),\"\")","v":8},{"$f":"IF(I22,INDEX(tbl_RR_Data[Team 1],$C22+AK$15),\"\")","v":""},"",{"$f":"IF(I22,INDEX(tbl_RR_Data[Team 2],$C22+AK$15),\"\")","v":""},{"$f":"IF(J22,INDEX(tbl_RR_Data[Team 1],$C22+AN$15),\"\")","v":""},"",{"$f":"IF(J22,INDEX(tbl_RR_Data[Team 2],$C22+AN$15),\"\")","v":""},{"$f":"IF(K22,INDEX(tbl_RR_Data[Team 1],$C22+AQ$15),\"\")","v":""},"",{"$f":"IF(K22,INDEX(tbl_RR_Data[Team 2],$C22+AQ$15),\"\")","v":""},{"$f":"IF(L22,INDEX(tbl_RR_Data[Team 1],$C22+AT$15),\"\")","v":""},"",{"$f":"IF(L22,INDEX(tbl_RR_Data[Team 2],$C22+AT$15),\"\")","v":""},{"$f":"IF(M22,INDEX(tbl_RR_Data[Team 1],$C22+AW$15),\"\")","v":""},"",{"$f":"IF(M22,INDEX(tbl_RR_Data[Team 2],$C22+AW$15),\"\")","v":""},{"$f":"IF(N22,INDEX(tbl_RR_Data[Team 1],$C22+AZ$15),\"\")","v":""},"",{"$f":"IF(N22,INDEX(tbl_RR_Data[Team 2],$C22+AZ$15),\"\")","v":""},{"$f":"IF(O22,INDEX(tbl_RR_Data[Team 1],$C22+BC$15),\"\")","v":""},"",{"$f":"IF(O22,INDEX(tbl_RR_Data[Team 2],$C22+BC$15),\"\")","v":""},{"$f":"IF(P22,INDEX(tbl_RR_Data[Team 1],$C22+BF$15),\"\")","v":""},"",{"$f":"IF(P22,INDEX(tbl_RR_Data[Team 2],$C22+BF$15),\"\")","v":""},{"$f":"IF(Q22,INDEX(tbl_RR_Data[Team 1],$C22+BI$15),\"\")","v":""},"",{"$f":"IF(Q22,INDEX(tbl_RR_Data[Team 2],$C22+BI$15),\"\")","v":""},null,{"$f":"SMALL(IF(COUNTIF($Y22:$BK22,$Y$1:$BB$1),999,$Y$1:$BB$1),$Y$1:$BB$1)","v":9},10,11,0,false,"","",""]
[8,0,{"$f":"IF(B23,MATCH($C$14+100*B23,tbl_RR_Data[ID],1),0)","v":0},null,0,0,0,0,0,0,0,0,0,0,0,0,0,null,null,null,null,null,null,0,{"$f":"IF(E23,INDEX(tbl_RR_Data[Team 1],$C23+Y$15),\"\")","v":""},"",{"$f":"IF(E23,INDEX(tbl_RR_Data[Team 2],$C23+Y$15),\"\")","v":""},{"$f":"IF(F23,INDEX(tbl_RR_Data[Team 1],$C23+AB$15),\"\")","v":""},"",{"$f":"IF(F23,INDEX(tbl_RR_Data[Team 2],$C23+AB$15),\"\")","v":""},{"$f":"IF(G23,INDEX(tbl_RR_Data[Team 1],$C23+AE$15),\"\")","v":""},"",{"$f":"IF(G23,INDEX(tbl_RR_Data[Team 2],$C23+AE$15),\"\")","v":""},{"$f":"IF(H23,INDEX(tbl_RR_Data[Team 1],$C23+AH$15),\"\")","v":""},"",{"$f":"IF(H23,INDEX(tbl_RR_Data[Team 2],$C23+AH$15),\"\")","v":""},{"$f":"IF(I23,INDEX(tbl_RR_Data[Team 1],$C23+AK$15),\"\")","v":""},"",{"$f":"IF(I23,INDEX(tbl_RR_Data[Team 2],$C23+AK$15),\"\")","v":""},{"$f":"IF(J23,INDEX(tbl_RR_Data[Team 1],$C23+AN$15),\"\")","v":""},"",{"$f":"IF(J23,INDEX(tbl_RR_Data[Team 2],$C23+AN$15),\"\")","v":""},{"$f":"IF(K23,INDEX(tbl_RR_Data[Team 1],$C23+AQ$15),\"\")","v":""},"",{"$f":"IF(K23,INDEX(tbl_RR_Data[Team 2],$C23+AQ$15),\"\")","v":""},{"$f":"IF(L23,INDEX(tbl_RR_Data[Team 1],$C23+AT$15),\"\")","v":""},"",{"$f":"IF(L23,INDEX(tbl_RR_Data[Team 2],$C23+AT$15),\"\")","v":""},{"$f":"IF(M23,INDEX(tbl_RR_Data[Team 1],$C23+AW$15),\"\")","v":""},"",{"$f":"IF(M23,INDEX(tbl_RR_Data[Team 2],$C23+AW$15),\"\")","v":""},{"$f":"IF(N23,INDEX(tbl_RR_Data[Team 1],$C23+AZ$15),\"\")","v":""},"",{"$f":"IF(N23,INDEX(tbl_RR_Data[Team 2],$C23+AZ$15),\"\")","v":""},{"$f":"IF(O23,INDEX(tbl_RR_Data[Team 1],$C23+BC$15),\"\")","v":""},"",{"$f":"IF(O23,INDEX(tbl_RR_Data[Team 2],$C23+BC$15),\"\")","v":""},{"$f":"IF(P23,INDEX(tbl_RR_Data[Team 1],$C23+BF$15),\"\")","v":""},"",{"$f":"IF(P23,INDEX(tbl_RR_Data[Team 2],$C23+BF$15),\"\")","v":""},{"$f":"IF(Q23,INDEX(tbl_RR_Data[Team 1],$C23+BI$15),\"\")","v":""},"",{"$f":"IF(Q23,INDEX(tbl_RR_Data[Team 2],$C23+BI$15),\"\")","v":""},null,{"$f":"SMALL(IF(COUNTIF($Y23:$BK23,$Y$1:$BB$1),999,$Y$1:$BB$1),$Y$1:$BB$1)","v":1},2,3,8,false,"","",""]
[9,0,{"$f":"IF(B24,MATCH($C$14+100*B24,tbl_RR_Data[ID],1),0)","v":0},null,0,0,0,0,0,0,0,0,0,0,0,0,0,null,null,null,null,null,null,0,{"$f":"IF(E24,INDEX(tbl_RR_Data[Team 1],$C24+Y$15),\"\")","v":""},"",{"$f":"IF(E24,INDEX(tbl_RR_Data[Team 2],$C24+Y$15),\"\")","v":""},{"$f":"IF(F24,INDEX(tbl_RR_Data[Team 1],$C24+AB$15),\"\")","v":""},"",{"$f":"IF(F24,INDEX(tbl_RR_Data[Team 2],$C24+AB$15),\"\")","v":""},{"$f":"IF(G24,INDEX(tbl_RR_Data[Team 1],$C24+AE$15),\"\")","v":""},"",{"$f":"IF(G24,INDEX(tbl_RR_Data[Team 2],$C24+AE$15),\"\")","v":""},{"$f":"IF(H24,INDEX(tbl_RR_Data[Team 1],$C24+AH$15),\"\")","v":""},"",{"$f":"IF(H24,INDEX(tbl_RR_Data[Team 2],$C24+AH$15),\"\")","v":""},{"$f":"IF(I24,INDEX(tbl_RR_Data[Team 1],$C24+AK$15),\"\")","v":""},"",{"$f":"IF(I24,INDEX(tbl_RR_Data[Team 2],$C24+AK$15),\"\")","v":""},{"$f":"IF(J24,INDEX(tbl_RR_Data[Team 1],$C24+AN$15),\"\")","v":""},"",{"$f":"IF(J24,INDEX(tbl_RR_Data[Team 2],$C24+AN$15),\"\")","v":""},{"$f":"IF(K24,INDEX(tbl_RR_Data[Team 1],$C24+AQ$15),\"\")","v":""},"",{"$f":"IF(K24,INDEX(tbl_RR_Data[Team 2],$C24+AQ$15),\"\")","v":""},{"$f":"IF(L24,INDEX(tbl_RR_Data[Team 1],$C24+AT$15),\"\")","v":""},"",{"$f":"IF(L24,INDEX(tbl_RR_Data[Team 2],$C24+AT$15),\"\")","v":""},{"$f":"IF(M24,INDEX(tbl_RR_Data[Team 1],$C24+AW$15),\"\")","v":""},"",{"$f":"IF(M24,INDEX(tbl_RR_Data[Team 2],$C24+AW$15),\"\")","v":""},{"$f":"IF(N24,INDEX(tbl_RR_Data[Team 1],$C24+AZ$15),\"\")","v":""},"",{"$f":"IF(N24,INDEX(tbl_RR_Data[Team 2],$C24+AZ$15),\"\")","v":""},{"$f":"IF(O24,INDEX(tbl_RR_Data[Team 1],$C24+BC$15),\"\")","v":""},"",{"$f":"IF(O24,INDEX(tbl_RR_Data[Team 2],$C24+BC$15),\"\")","v":""},{"$f":"IF(P24,INDEX(tbl_RR_Data[Team 1],$C24+BF$15),\"\")","v":""},"",{"$f":"IF(P24,INDEX(tbl_RR_Data[Team 2],$C24+BF$15),\"\")","v":""},{"$f":"IF(Q24,INDEX(tbl_RR_Data[Team 1],$C24+BI$15),\"\")","v":""},"",{"$f":"IF(Q24,INDEX(tbl_RR_Data[Team 2],$C24+BI$15),\"\")","v":""},null,{"$f":"SMALL(IF(COUNTIF($Y24:$BK24,$Y$1:$BB$1),999,$Y$1:$BB$1),$Y$1:$BB$1)","v":1},2,3,8,false,"","",""]
[10,0,{"$f":"IF(B25,MATCH($C$14+100*B25,tbl_RR_Data[ID],1),0)","v":0},null,0,0,0,0,0,0,0,0,0,0,0,0,0,null,null,null,null,null,null,0,{"$f":"IF(E25,INDEX(tbl_RR_Data[Team 1],$C25+Y$15),\"\")","v":""},"",{"$f":"IF(E25,INDEX(tbl_RR_Data[Team 2],$C25+Y$15),\"\")","v":""},{"$f":"IF(F25,INDEX(tbl_RR_Data[Team 1],$C25+AB$15),\"\")","v":""},"",{"$f":"IF(F25,INDEX(tbl_RR_Data[Team 2],$C25+AB$15),\"\")","v":""},{"$f":"IF(G25,INDEX(tbl_RR_Data[Team 1],$C25+AE$15),\"\")","v":""},"",{"$f":"IF(G25,INDEX(tbl_RR_Data[Team 2],$C25+AE$15),\"\")","v":""},{"$f":"IF(H25,INDEX(tbl_RR_Data[Team 1],$C25+AH$15),\"\")","v":""},"",{"$f":"IF(H25,INDEX(tbl_RR_Data[Team 2],$C25+AH$15),\"\")","v":""},{"$f":"IF(I25,INDEX(tbl_RR_Data[Team 1],$C25+AK$15),\"\")","v":""},"",{"$f":"IF(I25,INDEX(tbl_RR_Data[Team 2],$C25+AK$15),\"\")","v":""},{"$f":"IF(J25,INDEX(tbl_RR_Data[Team 1],$C25+AN$15),\"\")","v":""},"",{"$f":"IF(J25,INDEX(tbl_RR_Data[Team 2],$C25+AN$15),\"\")","v":""},{"$f":"IF(K25,INDEX(tbl_RR_Data[Team 1],$C25+AQ$15),\"\")","v":""},"",{"$f":"IF(K25,INDEX(tbl_RR_Data[Team 2],$C25+AQ$15),\"\")","v":""},{"$f":"IF(L25,INDEX(tbl_RR_Data[Team 1],$C25+AT$15),\"\")","v":""},"",{"$f":"IF(L25,INDEX(tbl_RR_Data[Team 2],$C25+AT$15),\"\")","v":""},{"$f":"IF(M25,INDEX(tbl_RR_Data[Team 1],$C25+AW$15),\"\")","v":""},"",{"$f":"IF(M25,INDEX(tbl_RR_Data[Team 2],$C25+AW$15),\"\")","v":""},{"$f":"IF(N25,INDEX(tbl_RR_Data[Team 1],$C25+AZ$15),\"\")","v":""},"",{"$f":"IF(N25,INDEX(tbl_RR_Data[Team 2],$C25+AZ$15),\"\")","v":""},{"$f":"IF(O25,INDEX(tbl_RR_Data[Team 1],$C25+BC$15),\"\")","v":""},"",{"$f":"IF(O25,INDEX(tbl_RR_Data[Team 2],$C25+BC$15),\"\")","v":""},{"$f":"IF(P25,INDEX(tbl_RR_Data[Team 1],$C25+BF$15),\"\")","v":""},"",{"$f":"IF(P25,INDEX(tbl_RR_Data[Team 2],$C25+BF$15),\"\")","v":""},{"$f":"IF(Q25,INDEX(tbl_RR_Data[Team 1],$C25+BI$15),\"\")","v":""},"",{"$f":"IF(Q25,INDEX(tbl_RR_Data[Team 2],$C25+BI$15),\"\")","v":""},null,{"$f":"SMALL(IF(COUNTIF($Y25:$BK25,$Y$1:$BB$1),999,$Y$1:$BB$1),$Y$1:$BB$1)","v":1},2,3,8,false,"","",""]
[11,0,{"$f":"IF(B26,MATCH($C$14+100*B26,tbl_RR_Data[ID],1),0)","v":0},null,0,0,0,0,0,0,0,0,0,0,0,0,0,null,null,null,null,null,null,0,{"$f":"IF(E26,INDEX(tbl_RR_Data[Team 1],$C26+Y$15),\"\")","v":""},"",{"$f":"IF(E26,INDEX(tbl_RR_Data[Team 2],$C26+Y$15),\"\")","v":""},{"$f":"IF(F26,INDEX(tbl_RR_Data[Team 1],$C26+AB$15),\"\")","v":""},"",{"$f":"IF(F26,INDEX(tbl_RR_Data[Team 2],$C26+AB$15),\"\")","v":""},{"$f":"IF(G26,INDEX(tbl_RR_Data[Team 1],$C26+AE$15),\"\")","v":""},"",{"$f":"IF(G26,INDEX(tbl_RR_Data[Team 2],$C26+AE$15),\"\")","v":""},{"$f":"IF(H26,INDEX(tbl_RR_Data[Team 1],$C26+AH$15),\"\")","v":""},"",{"$f":"IF(H26,INDEX(tbl_RR_Data[Team 2],$C26+AH$15),\"\")","v":""},{"$f":"IF(I26,INDEX(tbl_RR_Data[Team 1],$C26+AK$15),\"\")","v":""},"",{"$f":"IF(I26,INDEX(tbl_RR_Data[Team 2],$C26+AK$15),\"\")","v":""},{"$f":"IF(J26,INDEX(tbl_RR_Data[Team 1],$C26+AN$15),\"\")","v":""},"",{"$f":"IF(J26,INDEX(tbl_RR_Data[Team 2],$C26+AN$15),\"\")","v":""},{"$f":"IF(K26,INDEX(tbl_RR_Data[Team 1],$C26+AQ$15),\"\")","v":""},"",{"$f":"IF(K26,INDEX(tbl_RR_Data[Team 2],$C26+AQ$15),\"\")","v":""},{"$f":"IF(L26,INDEX(tbl_RR_Data[Team 1],$C26+AT$15),\"\")","v":""},"",{"$f":"IF(L26,INDEX(tbl_RR_Data[Team 2],$C26+AT$15),\"\")","v":""},{"$f":"IF(M26,INDEX(tbl_RR_Data[Team 1],$C26+AW$15),\"\")","v":""},"",{"$f":"IF(M26,INDEX(tbl_RR_Data[Team 2],$C26+AW$15),\"\")","v":""},{"$f":"IF(N26,INDEX(tbl_RR_Data[Team 1],$C26+AZ$15),\"\")","v":""},"",{"$f":"IF(N26,INDEX(tbl_RR_Data[Team 2],$C26+AZ$15),\"\")","v":""},{"$f":"IF(O26,INDEX(tbl_RR_Data[Team 1],$C26+BC$15),\"\")","v":""},"",{"$f":"IF(O26,INDEX(tbl_RR_Data[Team 2],$C26+BC$15),\"\")","v":""},{"$f":"IF(P26,INDEX(tbl_RR_Data[Team 1],$C26+BF$15),\"\")","v":""},"",{"$f":"IF(P26,INDEX(tbl_RR_Data[Team 2],$C26+BF$15),\"\")","v":""},{"$f":"IF(Q26,INDEX(tbl_RR_Data[Team 1],$C26+BI$15),\"\")","v":""},"",{"$f":"IF(Q26,INDEX(tbl_RR_Data[Team 2],$C26+BI$15),\"\")","v":""},null,{"$f":"SMALL(IF(COUNTIF($Y26:$BK26,$Y$1:$BB$1),999,$Y$1:$BB$1),$Y$1:$BB$1)","v":1},2,3,8,false,"","",""]
[12,0,{"$f":"IF(B27,MATCH($C$14+100*B27,tbl_RR_Data[ID],1),0)","v":0},null,0,0,0,0,0,0,0,0,0,0,0,0,0,null,null,null,null,null,null,0,{"$f":"IF(E27,INDEX(tbl_RR_Data[Team 1],$C27+Y$15),\"\")","v":""},"",{"$f":"IF(E27,INDEX(tbl_RR_Data[Team 2],$C27+Y$15),\"\")","v":""},{"$f":"IF(F27,INDEX(tbl_RR_Data[Team 1],$C27+AB$15),\"\")","v":""},"",{"$f":"IF(F27,INDEX(tbl_RR_Data[Team 2],$C27+AB$15),\"\")","v":""},{"$f":"IF(G27,INDEX(tbl_RR_Data[Team 1],$C27+AE$15),\"\")","v":""},"",{"$f":"IF(G27,INDEX(tbl_RR_Data[Team 2],$C27+AE$15),\"\")","v":""},{"$f":"IF(H27,INDEX(tbl_RR_Data[Team 1],$C27+AH$15),\"\")","v":""},"",{"$f":"IF(H27,INDEX(tbl_RR_Data[Team 2],$C27+AH$15),\"\")","v":""},{"$f":"IF(I27,INDEX(tbl_RR_Data[Team 1],$C27+AK$15),\"\")","v":""},"",{"$f":"IF(I27,INDEX(tbl_RR_Data[Team 2],$C27+AK$15),\"\")","v":""},{"$f":"IF(J27,INDEX(tbl_RR_Data[Team 1],$C27+AN$15),\"\")","v":""},"",{"$f":"IF(J27,INDEX(tbl_RR_Data[Team 2],$C27+AN$15),\"\")","v":""},{"$f":"IF(K27,INDEX(tbl_RR_Data[Team 1],$C27+AQ$15),\"\")","v":""},"",{"$f":"IF(K27,INDEX(tbl_RR_Data[Team 2],$C27+AQ$15),\"\")","v":""},{"$f":"IF(L27,INDEX(tbl_RR_Data[Team 1],$C27+AT$15),\"\")","v":""},"",{"$f":"IF(L27,INDEX(tbl_RR_Data[Team 2],$C27+AT$15),\"\")","v":""},{"$f":"IF(M27,INDEX(tbl_RR_Data[Team 1],$C27+AW$15),\"\")","v":""},"",{"$f":"IF(M27,INDEX(tbl_RR_Data[Team 2],$C27+AW$15),\"\")","v":""},{"$f":"IF(N27,INDEX(tbl_RR_Data[Team 1],$C27+AZ$15),\"\")","v":""},"",{"$f":"IF(N27,INDEX(tbl_RR_Data[Team 2],$C27+AZ$15),\"\")","v":""},{"$f":"IF(O27,INDEX(tbl_RR_Data[Team 1],$C27+BC$15),\"\")","v":""},"",{"$f":"IF(O27,INDEX(tbl_RR_Data[Team 2],$C27+BC$15),\"\")","v":""},{"$f":"IF(P27,INDEX(tbl_RR_Data[Team 1],$C27+BF$15),\"\")","v":""},"",{"$f":"IF(P27,INDEX(tbl_RR_Data[Team 2],$C27+BF$15),\"\")","v":""},{"$f":"IF(Q27,INDEX(tbl_RR_Data[Team 1],$C27+BI$15),\"\")","v":""},"",{"$f":"IF(Q27,INDEX(tbl_RR_Data[Team 2],$C27+BI$15),\"\")","v":""},null,{"$f":"SMALL(IF(COUNTIF($Y27:$BK27,$Y$1:$BB$1),999,$Y$1:$BB$1),$Y$1:$BB$1)","v":1},2,3,8,false,"","",""]
[13,0,{"$f":"IF(B28,MATCH($C$14+100*B28,tbl_RR_Data[ID],1),0)","v":0},null,0,0,0,0,0,0,0,0,0,0,0,0,0,null,null,null,null,null,null,0,{"$f":"IF(E28,INDEX(tbl_RR_Data[Team 1],$C28+Y$15),\"\")","v":""},"",{"$f":"IF(E28,INDEX(tbl_RR_Data[Team 2],$C28+Y$15),\"\")","v":""},{"$f":"IF(F28,INDEX(tbl_RR_Data[Team 1],$C28+AB$15),\"\")","v":""},"",{"$f":"IF(F28,INDEX(tbl_RR_Data[Team 2],$C28+AB$15),\"\")","v":""},{"$f":"IF(G28,INDEX(tbl_RR_Data[Team 1],$C28+AE$15),\"\")","v":""},"",{"$f":"IF(G28,INDEX(tbl_RR_Data[Team 2],$C28+AE$15),\"\")","v":""},{"$f":"IF(H28,INDEX(tbl_RR_Data[Team 1],$C28+AH$15),\"\")","v":""},"",{"$f":"IF(H28,INDEX(tbl_RR_Data[Team 2],$C28+AH$15),\"\")","v":""},{"$f":"IF(I28,INDEX(tbl_RR_Data[Team 1],$C28+AK$15),\"\")","v":""},"",{"$f":"IF(I28,INDEX(tbl_RR_Data[Team 2],$C28+AK$15),\"\")","v":""},{"$f":"IF(J28,INDEX(tbl_RR_Data[Team 1],$C28+AN$15),\"\")","v":""},"",{"$f":"IF(J28,INDEX(tbl_RR_Data[Team 2],$C28+AN$15),\"\")","v":""},{"$f":"IF(K28,INDEX(tbl_RR_Data[Team 1],$C28+AQ$15),\"\")","v":""},"",{"$f":"IF(K28,INDEX(tbl_RR_Data[Team 2],$C28+AQ$15),\"\")","v":""},{"$f":"IF(L28,INDEX(tbl_RR_Data[Team 1],$C28+AT$15),\"\")","v":""},"",{"$f":"IF(L28,INDEX(tbl_RR_Data[Team 2],$C28+AT$15),\"\")","v":""},{"$f":"IF(M28,INDEX(tbl_RR_Data[Team 1],$C28+AW$15),\"\")","v":""},"",{"$f":"IF(M28,INDEX(tbl_RR_Data[Team 2],$C28+AW$15),\"\")","v":""},{"$f":"IF(N28,INDEX(tbl_RR_Data[Team 1],$C28+AZ$15),\"\")","v":""},"",{"$f":"IF(N28,INDEX(tbl_RR_Data[Team 2],$C28+AZ$15),\"\")","v":""},{"$f":"IF(O28,INDEX(tbl_RR_Data[Team 1],$C28+BC$15),\"\")","v":""},"",{"$f":"IF(O28,INDEX(tbl_RR_Data[Team 2],$C28+BC$15),\"\")","v":""},{"$f":"IF(P28,INDEX(tbl_RR_Data[Team 1],$C28+BF$15),\"\")","v":""},"",{"$f":"IF(P28,INDEX(tbl_RR_Data[Team 2],$C28+BF$15),\"\")","v":""},{"$f":"IF(Q28,INDEX(tbl_RR_Data[Team 1],$C28+BI$15),\"\")","v":""},"",{"$f":"IF(Q28,INDEX(tbl_RR_Data[Team 2],$C28+BI$15),\"\")","v":""},null,{"$f":"SMALL(IF(COUNTIF($Y28:$BK28,$Y$1:$BB$1),999,$Y$1:$BB$1),$Y$1:$BB$1)","v":1},2,3,8,false,"","",""]
[14,0,{"$f":"IF(B29,MATCH($C$14+100*B29,tbl_RR_Data[ID],1),0)","v":0},null,0,0,0,0,0,0,0,0,0,0,0,0,0,null,null,null,null,null,null,0,{"$f":"IF(E29,INDEX(tbl_RR_Data[Team 1],$C29+Y$15),\"\")","v":""},"",{"$f":"IF(E29,INDEX(tbl_RR_Data[Team 2],$C29+Y$15),\"\")","v":""},{"$f":"IF(F29,INDEX(tbl_RR_Data[Team 1],$C29+AB$15),\"\")","v":""},"",{"$f":"IF(F29,INDEX(tbl_RR_Data[Team 2],$C29+AB$15),\"\")","v":""},{"$f":"IF(G29,INDEX(tbl_RR_Data[Team 1],$C29+AE$15),\"\")","v":""},"",{"$f":"IF(G29,INDEX(tbl_RR_Data[Team 2],$C29+AE$15),\"\")","v":""},{"$f":"IF(H29,INDEX(tbl_RR_Data[Team 1],$C29+AH$15),\"\")","v":""},"",{"$f":"IF(H29,INDEX(tbl_RR_Data[Team 2],$C29+AH$15),\"\")","v":""},{"$f":"IF(I29,INDEX(tbl_RR_Data[Team 1],$C29+AK$15),\"\")","v":""},"",{"$f":"IF(I29,INDEX(tbl_RR_Data[Team 2],$C29+AK$15),\"\")","v":""},{"$f":"IF(J29,INDEX(tbl_RR_Data[Team 1],$C29+AN$15),\"\")","v":""},"",{"$f":"IF(J29,INDEX(tbl_RR_Data[Team 2],$C29+AN$15),\"\")","v":""},{"$f":"IF(K29,INDEX(tbl_RR_Data[Team 1],$C29+AQ$15),\"\")","v":""},"",{"$f":"IF(K29,INDEX(tbl_RR_Data[Team 2],$C29+AQ$15),\"\")","v":""},{"$f":"IF(L29,INDEX(tbl_RR_Data[Team 1],$C29+AT$15),\"\")","v":""},"",{"$f":"IF(L29,INDEX(tbl_RR_Data[Team 2],$C29+AT$15),\"\")","v":""},{"$f":"IF(M29,INDEX(tbl_RR_Data[Team 1],$C29+AW$15),\"\")","v":""},"",{"$f":"IF(M29,INDEX(tbl_RR_Data[Team 2],$C29+AW$15),\"\")","v":""},{"$f":"IF(N29,INDEX(tbl_RR_Data[Team 1],$C29+AZ$15),\"\")","v":""},"",{"$f":"IF(N29,INDEX(tbl_RR_Data[Team 2],$C29+AZ$15),\"\")","v":""},{"$f":"IF(O29,INDEX(tbl_RR_Data[Team 1],$C29+BC$15),\"\")","v":""},"",{"$f":"IF(O29,INDEX(tbl_RR_Data[Team 2],$C29+BC$15),\"\")","v":""},{"$f":"IF(P29,INDEX(tbl_RR_Data[Team 1],$C29+BF$15),\"\")","v":""},"",{"$f":"IF(P29,INDEX(tbl_RR_Data[Team 2],$C29+BF$15),\"\")","v":""},{"$f":"IF(Q29,INDEX(tbl_RR_Data[Team 1],$C29+BI$15),\"\")","v":""},"",{"$f":"IF(Q29,INDEX(tbl_RR_Data[Team 2],$C29+BI$15),\"\")","v":""},null,{"$f":"SMALL(IF(COUNTIF($Y29:$BK29,$Y$1:$BB$1),999,$Y$1:$BB$1),$Y$1:$BB$1)","v":1},2,3,8,false,"","",""]
[15,0,{"$f":"IF(B30,MATCH($C$14+100*B30,tbl_RR_Data[ID],1),0)","v":0},null,0,0,0,0,0,0,0,0,0,0,0,0,0,null,null,null,null,null,null,0,{"$f":"IF(E30,INDEX(tbl_RR_Data[Team 1],$C30+Y$15),\"\")","v":""},"",{"$f":"IF(E30,INDEX(tbl_RR_Data[Team 2],$C30+Y$15),\"\")","v":""},{"$f":"IF(F30,INDEX(tbl_RR_Data[Team 1],$C30+AB$15),\"\")","v":""},"",{"$f":"IF(F30,INDEX(tbl_RR_Data[Team 2],$C30+AB$15),\"\")","v":""},{"$f":"IF(G30,INDEX(tbl_RR_Data[Team 1],$C30+AE$15),\"\")","v":""},"",{"$f":"IF(G30,INDEX(tbl_RR_Data[Team 2],$C30+AE$15),\"\")","v":""},{"$f":"IF(H30,INDEX(tbl_RR_Data[Team 1],$C30+AH$15),\"\")","v":""},"",{"$f":"IF(H30,INDEX(tbl_RR_Data[Team 2],$C30+AH$15),\"\")","v":""},{"$f":"IF(I30,INDEX(tbl_RR_Data[Team 1],$C30+AK$15),\"\")","v":""},"",{"$f":"IF(I30,INDEX(tbl_RR_Data[Team 2],$C30+AK$15),\"\")","v":""},{"$f":"IF(J30,INDEX(tbl_RR_Data[Team 1],$C30+AN$15),\"\")","v":""},"",{"$f":"IF(J30,INDEX(tbl_RR_Data[Team 2],$C30+AN$15),\"\")","v":""},{"$f":"IF(K30,INDEX(tbl_RR_Data[Team 1],$C30+AQ$15),\"\")","v":""},"",{"$f":"IF(K30,INDEX(tbl_RR_Data[Team 2],$C30+AQ$15),\"\")","v":""},{"$f":"IF(L30,INDEX(tbl_RR_Data[Team 1],$C30+AT$15),\"\")","v":""},"",{"$f":"IF(L30,INDEX(tbl_RR_Data[Team 2],$C30+AT$15),\"\")","v":""},{"$f":"IF(M30,INDEX(tbl_RR_Data[Team 1],$C30+AW$15),\"\")","v":""},"",{"$f":"IF(M30,INDEX(tbl_RR_Data[Team 2],$C30+AW$15),\"\")","v":""},{"$f":"IF(N30,INDEX(tbl_RR_Data[Team 1],$C30+AZ$15),\"\")","v":""},"",{"$f":"IF(N30,INDEX(tbl_RR_Data[Team 2],$C30+AZ$15),\"\")","v":""},{"$f":"IF(O30,INDEX(tbl_RR_Data[Team 1],$C30+BC$15),\"\")","v":""},"",{"$f":"IF(O30,INDEX(tbl_RR_Data[Team 2],$C30+BC$15),\"\")","v":""},{"$f":"IF(P30,INDEX(tbl_RR_Data[Team 1],$C30+BF$15),\"\")","v":""},"",{"$f":"IF(P30,INDEX(tbl_RR_Data[Team 2],$C30+BF$15),\"\")","v":""},{"$f":"IF(Q30,INDEX(tbl_RR_Data[Team 1],$C30+BI$15),\"\")","v":""},"",{"$f":"IF(Q30,INDEX(tbl_RR_Data[Team 2],$C30+BI$15),\"\")","v":""},null,{"$f":"SMALL(IF(COUNTIF($Y30:$BK30,$Y$1:$BB$1),999,$Y$1:$BB$1),$Y$1:$BB$1)","v":1},2,3,8,false,"","",""]
[16,0,{"$f":"IF(B31,MATCH($C$14+100*B31,tbl_RR_Data[ID],1),0)","v":0},null,0,0,0,0,0,0,0,0,0,0,0,0,0,null,null,null,null,null,null,0,{"$f":"IF(E31,INDEX(tbl_RR_Data[Team 1],$C31+Y$15),\"\")","v":""},"",{"$f":"IF(E31,INDEX(tbl_RR_Data[Team 2],$C31+Y$15),\"\")","v":""},{"$f":"IF(F31,INDEX(tbl_RR_Data[Team 1],$C31+AB$15),\"\")","v":""},"",{"$f":"IF(F31,INDEX(tbl_RR_Data[Team 2],$C31+AB$15),\"\")","v":""},{"$f":"IF(G31,INDEX(tbl_RR_Data[Team 1],$C31+AE$15),\"\")","v":""},"",{"$f":"IF(G31,INDEX(tbl_RR_Data[Team 2],$C31+AE$15),\"\")","v":""},{"$f":"IF(H31,INDEX(tbl_RR_Data[Team 1],$C31+AH$15),\"\")","v":""},"",{"$f":"IF(H31,INDEX(tbl_RR_Data[Team 2],$C31+AH$15),\"\")","v":""},{"$f":"IF(I31,INDEX(tbl_RR_Data[Team 1],$C31+AK$15),\"\")","v":""},"",{"$f":"IF(I31,INDEX(tbl_RR_Data[Team 2],$C31+AK$15),\"\")","v":""},{"$f":"IF(J31,INDEX(tbl_RR_Data[Team 1],$C31+AN$15),\"\")","v":""},"",{"$f":"IF(J31,INDEX(tbl_RR_Data[Team 2],$C31+AN$15),\"\")","v":""},{"$f":"IF(K31,INDEX(tbl_RR_Data[Team 1],$C31+AQ$15),\"\")","v":""},"",{"$f":"IF(K31,INDEX(tbl_RR_Data[Team 2],$C31+AQ$15),\"\")","v":""},{"$f":"IF(L31,INDEX(tbl_RR_Data[Team 1],$C31+AT$15),\"\")","v":""},"",{"$f":"IF(L31,INDEX(tbl_RR_Data[Team 2],$C31+AT$15),\"\")","v":""},{"$f":"IF(M31,INDEX(tbl_RR_Data[Team 1],$C31+AW$15),\"\")","v":""},"",{"$f":"IF(M31,INDEX(tbl_RR_Data[Team 2],$C31+AW$15),\"\")","v":""},{"$f":"IF(N31,INDEX(tbl_RR_Data[Team 1],$C31+AZ$15),\"\")","v":""},"",{"$f":"IF(N31,INDEX(tbl_RR_Data[Team 2],$C31+AZ$15),\"\")","v":""},{"$f":"IF(O31,INDEX(tbl_RR_Data[Team 1],$C31+BC$15),\"\")","v":""},"",{"$f":"IF(O31,INDEX(tbl_RR_Data[Team 2],$C31+BC$15),\"\")","v":""},{"$f":"IF(P31,INDEX(tbl_RR_Data[Team 1],$C31+BF$15),\"\")","v":""},"",{"$f":"IF(P31,INDEX(tbl_RR_Data[Team 2],$C31+BF$15),\"\")","v":""},{"$f":"IF(Q31,INDEX(tbl_RR_Data[Team 1],$C31+BI$15),\"\")","v":""},"",{"$f":"IF(Q31,INDEX(tbl_RR_Data[Team 2],$C31+BI$15),\"\")","v":""},null,{"$f":"SMALL(IF(COUNTIF($Y31:$BK31,$Y$1:$BB$1),999,$Y$1:$BB$1),$Y$1:$BB$1)","v":1},2,3,8,false,"","",""]
[17,0,{"$f":"IF(B32,MATCH($C$14+100*B32,tbl_RR_Data[ID],1),0)","v":0},null,0,0,0,0,0,0,0,0,0,0,0,0,0,null,null,null,null,null,null,0,{"$f":"IF(E32,INDEX(tbl_RR_Data[Team 1],$C32+Y$15),\"\")","v":""},"",{"$f":"IF(E32,INDEX(tbl_RR_Data[Team 2],$C32+Y$15),\"\")","v":""},{"$f":"IF(F32,INDEX(tbl_RR_Data[Team 1],$C32+AB$15),\"\")","v":""},"",{"$f":"IF(F32,INDEX(tbl_RR_Data[Team 2],$C32+AB$15),\"\")","v":""},{"$f":"IF(G32,INDEX(tbl_RR_Data[Team 1],$C32+AE$15),\"\")","v":""},"",{"$f":"IF(G32,INDEX(tbl_RR_Data[Team 2],$C32+AE$15),\"\")","v":""},{"$f":"IF(H32,INDEX(tbl_RR_Data[Team 1],$C32+AH$15),\"\")","v":""},"",{"$f":"IF(H32,INDEX(tbl_RR_Data[Team 2],$C32+AH$15),\"\")","v":""},{"$f":"IF(I32,INDEX(tbl_RR_Data[Team 1],$C32+AK$15),\"\")","v":""},"",{"$f":"IF(I32,INDEX(tbl_RR_Data[Team 2],$C32+AK$15),\"\")","v":""},{"$f":"IF(J32,INDEX(tbl_RR_Data[Team 1],$C32+AN$15),\"\")","v":""},"",{"$f":"IF(J32,INDEX(tbl_RR_Data[Team 2],$C32+AN$15),\"\")","v":""},{"$f":"IF(K32,INDEX(tbl_RR_Data[Team 1],$C32+AQ$15),\"\")","v":""},"",{"$f":"IF(K32,INDEX(tbl_RR_Data[Team 2],$C32+AQ$15),\"\")","v":""},{"$f":"IF(L32,INDEX(tbl_RR_Data[Team 1],$C32+AT$15),\"\")","v":""},"",{"$f":"IF(L32,INDEX(tbl_RR_Data[Team 2],$C32+AT$15),\"\")","v":""},{"$f":"IF(M32,INDEX(tbl_RR_Data[Team 1],$C32+AW$15),\"\")","v":""},"",{"$f":"IF(M32,INDEX(tbl_RR_Data[Team 2],$C32+AW$15),\"\")","v":""},{"$f":"IF(N32,INDEX(tbl_RR_Data[Team 1],$C32+AZ$15),\"\")","v":""},"",{"$f":"IF(N32,INDEX(tbl_RR_Data[Team 2],$C32+AZ$15),\"\")","v":""},{"$f":"IF(O32,INDEX(tbl_RR_Data[Team 1],$C32+BC$15),\"\")","v":""},"",{"$f":"IF(O32,INDEX(tbl_RR_Data[Team 2],$C32+BC$15),\"\")","v":""},{"$f":"IF(P32,INDEX(tbl_RR_Data[Team 1],$C32+BF$15),\"\")","v":""},"",{"$f":"IF(P32,INDEX(tbl_RR_Data[Team 2],$C32+BF$15),\"\")","v":""},{"$f":"IF(Q32,INDEX(tbl_RR_Data[Team 1],$C32+BI$15),\"\")","v":""},"",{"$f":"IF(Q32,INDEX(tbl_RR_Data[Team 2],$C32+BI$15),\"\")","v":""},null,{"$f":"SMALL(IF(COUNTIF($Y32:$BK32,$Y$1:$BB$1),999,$Y$1:$BB$1),$Y$1:$BB$1)","v":1},2,3,8,false,"","",""]
[18,0,{"$f":"IF(B33,MATCH($C$14+100*B33,tbl_RR_Data[ID],1),0)","v":0},null,0,0,0,0,0,0,0,0,0,0,0,0,0,null,null,null,null,null,null,0,{"$f":"IF(E33,INDEX(tbl_RR_Data[Team 1],$C33+Y$15),\"\")","v":""},"",{"$f":"IF(E33,INDEX(tbl_RR_Data[Team 2],$C33+Y$15),\"\")","v":""},{"$f":"IF(F33,INDEX(tbl_RR_Data[Team 1],$C33+AB$15),\"\")","v":""},"",{"$f":"IF(F33,INDEX(tbl_RR_Data[Team 2],$C33+AB$15),\"\")","v":""},{"$f":"IF(G33,INDEX(tbl_RR_Data[Team 1],$C33+AE$15),\"\")","v":""},"",{"$f":"IF(G33,INDEX(tbl_RR_Data[Team 2],$C33+AE$15),\"\")","v":""},{"$f":"IF(H33,INDEX(tbl_RR_Data[Team 1],$C33+AH$15),\"\")","v":""},"",{"$f":"IF(H33,INDEX(tbl_RR_Data[Team 2],$C33+AH$15),\"\")","v":""},{"$f":"IF(I33,INDEX(tbl_RR_Data[Team 1],$C33+AK$15),\"\")","v":""},"",{"$f":"IF(I33,INDEX(tbl_RR_Data[Team 2],$C33+AK$15),\"\")","v":""},{"$f":"IF(J33,INDEX(tbl_RR_Data[Team 1],$C33+AN$15),\"\")","v":""},"",{"$f":"IF(J33,INDEX(tbl_RR_Data[Team 2],$C33+AN$15),\"\")","v":""},{"$f":"IF(K33,INDEX(tbl_RR_Data[Team 1],$C33+AQ$15),\"\")","v":""},"",{"$f":"IF(K33,INDEX(tbl_RR_Data[Team 2],$C33+AQ$15),\"\")","v":""},{"$f":"IF(L33,INDEX(tbl_RR_Data[Team 1],$C33+AT$15),\"\")","v":""},"",{"$f":"IF(L33,INDEX(tbl_RR_Data[Team 2],$C33+AT$15),\"\")","v":""},{"$f":"IF(M33,INDEX(tbl_RR_Data[Team 1],$C33+AW$15),\"\")","v":""},"",{"$f":"IF(M33,INDEX(tbl_RR_Data[Team 2],$C33+AW$15),\"\")","v":""},{"$f":"IF(N33,INDEX(tbl_RR_Data[Team 1],$C33+AZ$15),\"\")","v":""},"",{"$f":"IF(N33,INDEX(tbl_RR_Data[Team 2],$C33+AZ$15),\"\")","v":""},{"$f":"IF(O33,INDEX(tbl_RR_Data[Team 1],$C33+BC$15),\"\")","v":""},"",{"$f":"IF(O33,INDEX(tbl_RR_Data[Team 2],$C33+BC$15),\"\")","v":""},{"$f":"IF(P33,INDEX(tbl_RR_Data[Team 1],$C33+BF$15),\"\")","v":""},"",{"$f":"IF(P33,INDEX(tbl_RR_Data[Team 2],$C33+BF$15),\"\")","v":""},{"$f":"IF(Q33,INDEX(tbl_RR_Data[Team 1],$C33+BI$15),\"\")","v":""},"",{"$f":"IF(Q33,INDEX(tbl_RR_Data[Team 2],$C33+BI$15),\"\")","v":""},null,{"$f":"SMALL(IF(COUNTIF($Y33:$BK33,$Y$1:$BB$1),999,$Y$1:$BB$1),$Y$1:$BB$1)","v":1},2,3,8,false,"","",""]
[19,0,{"$f":"IF(B34,MATCH($C$14+100*B34,tbl_RR_Data[ID],1),0)","v":0},null,0,0,0,0,0,0,0,0,0,0,0,0,0,null,null,null,null,null,null,0,{"$f":"IF(E34,INDEX(tbl_RR_Data[Team 1],$C34+Y$15),\"\")","v":""},"",{"$f":"IF(E34,INDEX(tbl_RR_Data[Team 2],$C34+Y$15),\"\")","v":""},{"$f":"IF(F34,INDEX(tbl_RR_Data[Team 1],$C34+AB$15),\"\")","v":""},"",{"$f":"IF(F34,INDEX(tbl_RR_Data[Team 2],$C34+AB$15),\"\")","v":""},{"$f":"IF(G34,INDEX(tbl_RR_Data[Team 1],$C34+AE$15),\"\")","v":""},"",{"$f":"IF(G34,INDEX(tbl_RR_Data[Team 2],$C34+AE$15),\"\")","v":""},{"$f":"IF(H34,INDEX(tbl_RR_Data[Team 1],$C34+AH$15),\"\")","v":""},"",{"$f":"IF(H34,INDEX(tbl_RR_Data[Team 2],$C34+AH$15),\"\")","v":""},{"$f":"IF(I34,INDEX(tbl_RR_Data[Team 1],$C34+AK$15),\"\")","v":""},"",{"$f":"IF(I34,INDEX(tbl_RR_Data[Team 2],$C34+AK$15),\"\")","v":""},{"$f":"IF(J34,INDEX(tbl_RR_Data[Team 1],$C34+AN$15),\"\")","v":""},"",{"$f":"IF(J34,INDEX(tbl_RR_Data[Team 2],$C34+AN$15),\"\")","v":""},{"$f":"IF(K34,INDEX(tbl_RR_Data[Team 1],$C34+AQ$15),\"\")","v":""},"",{"$f":"IF(K34,INDEX(tbl_RR_Data[Team 2],$C34+AQ$15),\"\")","v":""},{"$f":"IF(L34,INDEX(tbl_RR_Data[Team 1],$C34+AT$15),\"\")","v":""},"",{"$f":"IF(L34,INDEX(tbl_RR_Data[Team 2],$C34+AT$15),\"\")","v":""},{"$f":"IF(M34,INDEX(tbl_RR_Data[Team 1],$C34+AW$15),\"\")","v":""},"",{"$f":"IF(M34,INDEX(tbl_RR_Data[Team 2],$C34+AW$15),\"\")","v":""},{"$f":"IF(N34,INDEX(tbl_RR_Data[Team 1],$C34+AZ$15),\"\")","v":""},"",{"$f":"IF(N34,INDEX(tbl_RR_Data[Team 2],$C34+AZ$15),\"\")","v":""},{"$f":"IF(O34,INDEX(tbl_RR_Data[Team 1],$C34+BC$15),\"\")","v":""},"",{"$f":"IF(O34,INDEX(tbl_RR_Data[Team 2],$C34+BC$15),\"\")","v":""},{"$f":"IF(P34,INDEX(tbl_RR_Data[Team 1],$C34+BF$15),\"\")","v":""},"",{"$f":"IF(P34,INDEX(tbl_RR_Data[Team 2],$C34+BF$15),\"\")","v":""},{"$f":"IF(Q34,INDEX(tbl_RR_Data[Team 1],$C34+BI$15),\"\")","v":""},"",{"$f":"IF(Q34,INDEX(tbl_RR_Data[Team 2],$C34+BI$15),\"\")","v":""},null,{"$f":"SMALL(IF(COUNTIF($Y34:$BK34,$Y$1:$BB$1),999,$Y$1:$BB$1),$Y$1:$BB$1)","v":1},2,3,8,false,"","",""]
[20,0,{"$f":"IF(B35,MATCH($C$14+100*B35,tbl_RR_Data[ID],1),0)","v":0},null,0,0,0,0,0,0,0,0,{"$f":"$B35*M$15","v":0},0,0,0,0,null,null,null,null,null,null,0,{"$f":"IF(E35,INDEX(tbl_RR_Data[Team 1],$C35+Y$15),\"\")","v":""},"",{"$f":"IF(E35,INDEX(tbl_RR_Data[Team 2],$C35+Y$15),\"\")","v":""},{"$f":"IF(F35,INDEX(tbl_RR_Data[Team 1],$C35+AB$15),\"\")","v":""},"",{"$f":"IF(F35,INDEX(tbl_RR_Data[Team 2],$C35+AB$15),\"\")","v":""},{"$f":"IF(G35,INDEX(tbl_RR_Data[Team 1],$C35+AE$15),\"\")","v":""},"",{"$f":"IF(G35,INDEX(tbl_RR_Data[Team 2],$C35+AE$15),\"\")","v":""},{"$f":"IF(H35,INDEX(tbl_RR_Data[Team 1],$C35+AH$15),\"\")","v":""},"",{"$f":"IF(H35,INDEX(tbl_RR_Data[Team 2],$C35+AH$15),\"\")","v":""},{"$f":"IF(I35,INDEX(tbl_RR_Data[Team 1],$C35+AK$15),\"\")","v":""},"",{"$f":"IF(I35,INDEX(tbl_RR_Data[Team 2],$C35+AK$15),\"\")","v":""},{"$f":"IF(J35,INDEX(tbl_RR_Data[Team 1],$C35+AN$15),\"\")","v":""},"",{"$f":"IF(J35,INDEX(tbl_RR_Data[Team 2],$C35+AN$15),\"\")","v":""},{"$f":"IF(K35,INDEX(tbl_RR_Data[Team 1],$C35+AQ$15),\"\")","v":""},"",{"$f":"IF(K35,INDEX(tbl_RR_Data[Team 2],$C35+AQ$15),\"\")","v":""},{"$f":"IF(L35,INDEX(tbl_RR_Data[Team 1],$C35+AT$15),\"\")","v":""},"",{"$f":"IF(L35,INDEX(tbl_RR_Data[Team 2],$C35+AT$15),\"\")","v":""},{"$f":"IF(M35,INDEX(tbl_RR_Data[Team 1],$C35+AW$15),\"\")","v":""},"",{"$f":"IF(M35,INDEX(tbl_RR_Data[Team 2],$C35+AW$15),\"\")","v":""},{"$f":"IF(N35,INDEX(tbl_RR_Data[Team 1],$C35+AZ$15),\"\")","v":""},"",{"$f":"IF(N35,INDEX(tbl_RR_Data[Team 2],$C35+AZ$15),\"\")","v":""},{"$f":"IF(O35,INDEX(tbl_RR_Data[Team 1],$C35+BC$15),\"\")","v":""},"",{"$f":"IF(O35,INDEX(tbl_RR_Data[Team 2],$C35+BC$15),\"\")","v":""},{"$f":"IF(P35,INDEX(tbl_RR_Data[Team 1],$C35+BF$15),\"\")","v":""},"",{"$f":"IF(P35,INDEX(tbl_RR_Data[Team 2],$C35+BF$15),\"\")","v":""},{"$f":"IF(Q35,INDEX(tbl_RR_Data[Team 1],$C35+BI$15),\"\")","v":""},"",{"$f":"IF(Q35,INDEX(tbl_RR_Data[Team 2],$C35+BI$15),\"\")","v":""},null,{"$f":"SMALL(IF(COUNTIF($Y35:$BK35,$Y$1:$BB$1),999,$Y$1:$BB$1),$Y$1:$BB$1)","v":1},2,3,8,false,"","",""]
[21,0,{"$f":"IF(B36,MATCH($C$14+100*B36,tbl_RR_Data[ID],1),0)","v":0},null,{"$f":"$B36*E$15","v":0},0,0,0,0,0,0,0,0,0,0,0,0,null,null,null,null,null,null,0,{"$f":"IF(E36,INDEX(tbl_RR_Data[Team 1],$C36+Y$15),\"\")","v":""},"",{"$f":"IF(E36,INDEX(tbl_RR_Data[Team 2],$C36+Y$15),\"\")","v":""},{"$f":"IF(F36,INDEX(tbl_RR_Data[Team 1],$C36+AB$15),\"\")","v":""},"",{"$f":"IF(F36,INDEX(tbl_RR_Data[Team 2],$C36+AB$15),\"\")","v":""},{"$f":"IF(G36,INDEX(tbl_RR_Data[Team 1],$C36+AE$15),\"\")","v":""},"",{"$f":"IF(G36,INDEX(tbl_RR_Data[Team 2],$C36+AE$15),\"\")","v":""},{"$f":"IF(H36,INDEX(tbl_RR_Data[Team 1],$C36+AH$15),\"\")","v":""},"",{"$f":"IF(H36,INDEX(tbl_RR_Data[Team 2],$C36+AH$15),\"\")","v":""},{"$f":"IF(I36,INDEX(tbl_RR_Data[Team 1],$C36+AK$15),\"\")","v":""},"",{"$f":"IF(I36,INDEX(tbl_RR_Data[Team 2],$C36+AK$15),\"\")","v":""},{"$f":"IF(J36,INDEX(tbl_RR_Data[Team 1],$C36+AN$15),\"\")","v":""},"",{"$f":"IF(J36,INDEX(tbl_RR_Data[Team 2],$C36+AN$15),\"\")","v":""},{"$f":"IF(K36,INDEX(tbl_RR_Data[Team 1],$C36+AQ$15),\"\")","v":""},"",{"$f":"IF(K36,INDEX(tbl_RR_Data[Team 2],$C36+AQ$15),\"\")","v":""},{"$f":"IF(L36,INDEX(tbl_RR_Data[Team 1],$C36+AT$15),\"\")","v":""},"",{"$f":"IF(L36,INDEX(tbl_RR_Data[Team 2],$C36+AT$15),\"\")","v":""},{"$f":"IF(M36,INDEX(tbl_RR_Data[Team 1],$C36+AW$15),\"\")","v":""},"",{"$f":"IF(M36,INDEX(tbl_RR_Data[Team 2],$C36+AW$15),\"\")","v":""},{"$f":"IF(N36,INDEX(tbl_RR_Data[Team 1],$C36+AZ$15),\"\")","v":""},"",{"$f":"IF(N36,INDEX(tbl_RR_Data[Team 2],$C36+AZ$15),\"\")","v":""},{"$f":"IF(O36,INDEX(tbl_RR_Data[Team 1],$C36+BC$15),\"\")","v":""},"",{"$f":"IF(O36,INDEX(tbl_RR_Data[Team 2],$C36+BC$15),\"\")","v":""},{"$f":"IF(P36,INDEX(tbl_RR_Data[Team 1],$C36+BF$15),\"\")","v":""},"",{"$f":"IF(P36,INDEX(tbl_RR_Data[Team 2],$C36+BF$15),\"\")","v":""},{"$f":"IF(Q36,INDEX(tbl_RR_Data[Team 1],$C36+BI$15),\"\")","v":""},"",{"$f":"IF(Q36,INDEX(tbl_RR_Data[Team 2],$C36+BI$15),\"\")","v":""},null,{"$f":"SMALL(IF(COUNTIF($Y36:$BK36,$Y$1:$BB$1),999,$Y$1:$BB$1),$Y$1:$BB$1)","v":1},2,3,8,false,"","",""]
[22,0,{"$f":"IF(B37,MATCH($C$14+100*B37,tbl_RR_Data[ID],1),0)","v":0},null,0,0,0,0,0,0,0,0,0,0,0,0,0,null,null,null,null,null,null,0,{"$f":"IF(E37,INDEX(tbl_RR_Data[Team 1],$C37+Y$15),\"\")","v":""},"",{"$f":"IF(E37,INDEX(tbl_RR_Data[Team 2],$C37+Y$15),\"\")","v":""},{"$f":"IF(F37,INDEX(tbl_RR_Data[Team 1],$C37+AB$15),\"\")","v":""},"",{"$f":"IF(F37,INDEX(tbl_RR_Data[Team 2],$C37+AB$15),\"\")","v":""},{"$f":"IF(G37,INDEX(tbl_RR_Data[Team 1],$C37+AE$15),\"\")","v":""},"",{"$f":"IF(G37,INDEX(tbl_RR_Data[Team 2],$C37+AE$15),\"\")","v":""},{"$f":"IF(H37,INDEX(tbl_RR_Data[Team 1],$C37+AH$15),\"\")","v":""},"",{"$f":"IF(H37,INDEX(tbl_RR_Data[Team 2],$C37+AH$15),\"\")","v":""},{"$f":"IF(I37,INDEX(tbl_RR_Data[Team 1],$C37+AK$15),\"\")","v":""},"",{"$f":"IF(I37,INDEX(tbl_RR_Data[Team 2],$C37+AK$15),\"\")","v":""},{"$f":"IF(J37,INDEX(tbl_RR_Data[Team 1],$C37+AN$15),\"\")","v":""},"",{"$f":"IF(J37,INDEX(tbl_RR_Data[Team 2],$C37+AN$15),\"\")","v":""},{"$f":"IF(K37,INDEX(tbl_RR_Data[Team 1],$C37+AQ$15),\"\")","v":""},"",{"$f":"IF(K37,INDEX(tbl_RR_Data[Team 2],$C37+AQ$15),\"\")","v":""},{"$f":"IF(L37,INDEX(tbl_RR_Data[Team 1],$C37+AT$15),\"\")","v":""},"",{"$f":"IF(L37,INDEX(tbl_RR_Data[Team 2],$C37+AT$15),\"\")","v":""},{"$f":"IF(M37,INDEX(tbl_RR_Data[Team 1],$C37+AW$15),\"\")","v":""},"",{"$f":"IF(M37,INDEX(tbl_RR_Data[Team 2],$C37+AW$15),\"\")","v":""},{"$f":"IF(N37,INDEX(tbl_RR_Data[Team 1],$C37+AZ$15),\"\")","v":""},"",{"$f":"IF(N37,INDEX(tbl_RR_Data[Team 2],$C37+AZ$15),\"\")","v":""},{"$f":"IF(O37,INDEX(tbl_RR_Data[Team 1],$C37+BC$15),\"\")","v":""},"",{"$f":"IF(O37,INDEX(tbl_RR_Data[Team 2],$C37+BC$15),\"\")","v":""},{"$f":"IF(P37,INDEX(tbl_RR_Data[Team 1],$C37+BF$15),\"\")","v":""},"",{"$f":"IF(P37,INDEX(tbl_RR_Data[Team 2],$C37+BF$15),\"\")","v":""},{"$f":"IF(Q37,INDEX(tbl_RR_Data[Team 1],$C37+BI$15),\"\")","v":""},"",{"$f":"IF(Q37,INDEX(tbl_RR_Data[Team 2],$C37+BI$15),\"\")","v":""},null,{"$f":"SMALL(IF(COUNTIF($Y37:$BK37,$Y$1:$BB$1),999,$Y$1:$BB$1),$Y$1:$BB$1)","v":1},2,3,8,false,"","",""]
[23,0,{"$f":"IF(B38,MATCH($C$14+100*B38,tbl_RR_Data[ID],1),0)","v":0},null,0,0,0,0,0,0,0,0,0,0,0,0,0,null,null,null,null,null,null,0,{"$f":"IF(E38,INDEX(tbl_RR_Data[Team 1],$C38+Y$15),\"\")","v":""},"",{"$f":"IF(E38,INDEX(tbl_RR_Data[Team 2],$C38+Y$15),\"\")","v":""},{"$f":"IF(F38,INDEX(tbl_RR_Data[Team 1],$C38+AB$15),\"\")","v":""},"",{"$f":"IF(F38,INDEX(tbl_RR_Data[Team 2],$C38+AB$15),\"\")","v":""},{"$f":"IF(G38,INDEX(tbl_RR_Data[Team 1],$C38+AE$15),\"\")","v":""},"",{"$f":"IF(G38,INDEX(tbl_RR_Data[Team 2],$C38+AE$15),\"\")","v":""},{"$f":"IF(H38,INDEX(tbl_RR_Data[Team 1],$C38+AH$15),\"\")","v":""},"",{"$f":"IF(H38,INDEX(tbl_RR_Data[Team 2],$C38+AH$15),\"\")","v":""},{"$f":"IF(I38,INDEX(tbl_RR_Data[Team 1],$C38+AK$15),\"\")","v":""},"",{"$f":"IF(I38,INDEX(tbl_RR_Data[Team 2],$C38+AK$15),\"\")","v":""},{"$f":"IF(J38,INDEX(tbl_RR_Data[Team 1],$C38+AN$15),\"\")","v":""},"",{"$f":"IF(J38,INDEX(tbl_RR_Data[Team 2],$C38+AN$15),\"\")","v":""},{"$f":"IF(K38,INDEX(tbl_RR_Data[Team 1],$C38+AQ$15),\"\")","v":""},"",{"$f":"IF(K38,INDEX(tbl_RR_Data[Team 2],$C38+AQ$15),\"\")","v":""},{"$f":"IF(L38,INDEX(tbl_RR_Data[Team 1],$C38+AT$15),\"\")","v":""},"",{"$f":"IF(L38,INDEX(tbl_RR_Data[Team 2],$C38+AT$15),\"\")","v":""},{"$f":"IF(M38,INDEX(tbl_RR_Data[Team 1],$C38+AW$15),\"\")","v":""},"",{"$f":"IF(M38,INDEX(tbl_RR_Data[Team 2],$C38+AW$15),\"\")","v":""},{"$f":"IF(N38,INDEX(tbl_RR_Data[Team 1],$C38+AZ$15),\"\")","v":""},"",{"$f":"IF(N38,INDEX(tbl_RR_Data[Team 2],$C38+AZ$15),\"\")","v":""},{"$f":"IF(O38,INDEX(tbl_RR_Data[Team 1],$C38+BC$15),\"\")","v":""},"",{"$f":"IF(O38,INDEX(tbl_RR_Data[Team 2],$C38+BC$15),\"\")","v":""},{"$f":"IF(P38,INDEX(tbl_RR_Data[Team 1],$C38+BF$15),\"\")","v":""},"",{"$f":"IF(P38,INDEX(tbl_RR_Data[Team 2],$C38+BF$15),\"\")","v":""},{"$f":"IF(Q38,INDEX(tbl_RR_Data[Team 1],$C38+BI$15),\"\")","v":""},"",{"$f":"IF(Q38,INDEX(tbl_RR_Data[Team 2],$C38+BI$15),\"\")","v":""},null,{"$f":"SMALL(IF(COUNTIF($Y38:$BK38,$Y$1:$BB$1),999,$Y$1:$BB$1),$Y$1:$BB$1)","v":1},2,3,8,false,"","",""]
[24,0,{"$f":"IF(B39,MATCH($C$14+100*B39,tbl_RR_Data[ID],1),0)","v":0},null,0,0,0,0,0,0,0,0,0,0,0,0,0,null,null,null,null,null,null,0,{"$f":"IF(E39,INDEX(tbl_RR_Data[Team 1],$C39+Y$15),\"\")","v":""},"",{"$f":"IF(E39,INDEX(tbl_RR_Data[Team 2],$C39+Y$15),\"\")","v":""},{"$f":"IF(F39,INDEX(tbl_RR_Data[Team 1],$C39+AB$15),\"\")","v":""},"",{"$f":"IF(F39,INDEX(tbl_RR_Data[Team 2],$C39+AB$15),\"\")","v":""},{"$f":"IF(G39,INDEX(tbl_RR_Data[Team 1],$C39+AE$15),\"\")","v":""},"",{"$f":"IF(G39,INDEX(tbl_RR_Data[Team 2],$C39+AE$15),\"\")","v":""},{"$f":"IF(H39,INDEX(tbl_RR_Data[Team 1],$C39+AH$15),\"\")","v":""},"",{"$f":"IF(H39,INDEX(tbl_RR_Data[Team 2],$C39+AH$15),\"\")","v":""},{"$f":"IF(I39,INDEX(tbl_RR_Data[Team 1],$C39+AK$15),\"\")","v":""},"",{"$f":"IF(I39,INDEX(tbl_RR_Data[Team 2],$C39+AK$15),\"\")","v":""},{"$f":"IF(J39,INDEX(tbl_RR_Data[Team 1],$C39+AN$15),\"\")","v":""},"",{"$f":"IF(J39,INDEX(tbl_RR_Data[Team 2],$C39+AN$15),\"\")","v":""},{"$f":"IF(K39,INDEX(tbl_RR_Data[Team 1],$C39+AQ$15),\"\")","v":""},"",{"$f":"IF(K39,INDEX(tbl_RR_Data[Team 2],$C39+AQ$15),\"\")","v":""},{"$f":"IF(L39,INDEX(tbl_RR_Data[Team 1],$C39+AT$15),\"\")","v":""},"",{"$f":"IF(L39,INDEX(tbl_RR_Data[Team 2],$C39+AT$15),\"\")","v":""},{"$f":"IF(M39,INDEX(tbl_RR_Data[Team 1],$C39+AW$15),\"\")","v":""},"",{"$f":"IF(M39,INDEX(tbl_RR_Data[Team 2],$C39+AW$15),\"\")","v":""},{"$f":"IF(N39,INDEX(tbl_RR_Data[Team 1],$C39+AZ$15),\"\")","v":""},"",{"$f":"IF(N39,INDEX(tbl_RR_Data[Team 2],$C39+AZ$15),\"\")","v":""},{"$f":"IF(O39,INDEX(tbl_RR_Data[Team 1],$C39+BC$15),\"\")","v":""},"",{"$f":"IF(O39,INDEX(tbl_RR_Data[Team 2],$C39+BC$15),\"\")","v":""},{"$f":"IF(P39,INDEX(tbl_RR_Data[Team 1],$C39+BF$15),\"\")","v":""},"",{"$f":"IF(P39,INDEX(tbl_RR_Data[Team 2],$C39+BF$15),\"\")","v":""},{"$f":"IF(Q39,INDEX(tbl_RR_Data[Team 1],$C39+BI$15),\"\")","v":""},"",{"$f":"IF(Q39,INDEX(tbl_RR_Data[Team 2],$C39+BI$15),\"\")","v":""},null,{"$f":"SMALL(IF(COUNTIF($Y39:$BK39,$Y$1:$BB$1),999,$Y$1:$BB$1),$Y$1:$BB$1)","v":1},2,3,8,false,"","",""]
[25,0,{"$f":"IF(B40,MATCH($C$14+100*B40,tbl_RR_Data[ID],1),0)","v":0},null,0,0,0,0,0,0,0,0,0,0,0,0,0,null,null,null,null,null,null,0,{"$f":"IF(E40,INDEX(tbl_RR_Data[Team 1],$C40+Y$15),\"\")","v":""},"",{"$f":"IF(E40,INDEX(tbl_RR_Data[Team 2],$C40+Y$15),\"\")","v":""},{"$f":"IF(F40,INDEX(tbl_RR_Data[Team 1],$C40+AB$15),\"\")","v":""},"",{"$f":"IF(F40,INDEX(tbl_RR_Data[Team 2],$C40+AB$15),\"\")","v":""},{"$f":"IF(G40,INDEX(tbl_RR_Data[Team 1],$C40+AE$15),\"\")","v":""},"",{"$f":"IF(G40,INDEX(tbl_RR_Data[Team 2],$C40+AE$15),\"\")","v":""},{"$f":"IF(H40,INDEX(tbl_RR_Data[Team 1],$C40+AH$15),\"\")","v":""},"",{"$f":"IF(H40,INDEX(tbl_RR_Data[Team 2],$C40+AH$15),\"\")","v":""},{"$f":"IF(I40,INDEX(tbl_RR_Data[Team 1],$C40+AK$15),\"\")","v":""},"",{"$f":"IF(I40,INDEX(tbl_RR_Data[Team 2],$C40+AK$15),\"\")","v":""},{"$f":"IF(J40,INDEX(tbl_RR_Data[Team 1],$C40+AN$15),\"\")","v":""},"",{"$f":"IF(J40,INDEX(tbl_RR_Data[Team 2],$C40+AN$15),\"\")","v":""},{"$f":"IF(K40,INDEX(tbl_RR_Data[Team 1],$C40+AQ$15),\"\")","v":""},"",{"$f":"IF(K40,INDEX(tbl_RR_Data[Team 2],$C40+AQ$15),\"\")","v":""},{"$f":"IF(L40,INDEX(tbl_RR_Data[Team 1],$C40+AT$15),\"\")","v":""},"",{"$f":"IF(L40,INDEX(tbl_RR_Data[Team 2],$C40+AT$15),\"\")","v":""},{"$f":"IF(M40,INDEX(tbl_RR_Data[Team 1],$C40+AW$15),\"\")","v":""},"",{"$f":"IF(M40,INDEX(tbl_RR_Data[Team 2],$C40+AW$15),\"\")","v":""},{"$f":"IF(N40,INDEX(tbl_RR_Data[Team 1],$C40+AZ$15),\"\")","v":""},"",{"$f":"IF(N40,INDEX(tbl_RR_Data[Team 2],$C40+AZ$15),\"\")","v":""},{"$f":"IF(O40,INDEX(tbl_RR_Data[Team 1],$C40+BC$15),\"\")","v":""},"",{"$f":"IF(O40,INDEX(tbl_RR_Data[Team 2],$C40+BC$15),\"\")","v":""},{"$f":"IF(P40,INDEX(tbl_RR_Data[Team 1],$C40+BF$15),\"\")","v":""},"",{"$f":"IF(P40,INDEX(tbl_RR_Data[Team 2],$C40+BF$15),\"\")","v":""},{"$f":"IF(Q40,INDEX(tbl_RR_Data[Team 1],$C40+BI$15),\"\")","v":""},"",{"$f":"IF(Q40,INDEX(tbl_RR_Data[Team 2],$C40+BI$15),\"\")","v":""},null,{"$f":"SMALL(IF(COUNTIF($Y40:$BK40,$Y$1:$BB$1),999,$Y$1:$BB$1),$Y$1:$BB$1)","v":1},2,3,8,false,"","",""]

{"sheet":"Multi-Teams","index":2,"n_rows":30,"n_cols":56,"rows_kept":30,"cut":false,"hidden":false,"merged":[[25,55,30,55],[25,5,27,5],[28,5,30,5],[13,5,15,5],[13,55,15,55],[16,5,18,5],[16,55,18,55],[19,5,21,5],[20,55,24,55],[22,5,24,5],[11,37,11,49],[11,7,11,13],[11,15,11,23],[11,25,11,35],[6,10,6,11],[8,10,8,11]]}
[]
[null,null,null,null,null,{"$f":"VLOOKUP(\"txt_0000\",tbl_i18n[],Lang_Ind,FALSE)","v":"Spielsysteme für Turniere"},null,null,null,null,null,null,null,null,null,null,null,null,null,null,null,null,null,null,null,null,null,null,null,null,null,null,null,null,null,null,null,null,null,null,null,null,null,null,null,null,null,null,null,null,null,null,null,null,null,"created by: Walter Aust"]
[]
[null,null,null,"ç"]
[null,null,null,null,null,{"$f":"VLOOKUP(\"txt_2301\",tbl_i18n[],Lang_Ind,FALSE)","v":"Gruppenphase: Darstellung des Multi-Team-Spielsystems (Reihenfolge der Teams)"}]
[]
["MT_ShowSystem_Sel",false,null,null,null,{"$f":"VLOOKUP(\"txt_2351\",tbl_i18n[],Lang_Ind,FALSE)","v":"Hervorheben von Team:"},null,null,null,null,1,null,null,null,null,null,null,null,null,null,{"$f":"VLOOKUP(\"txt_2364\",tbl_i18n[],Lang_Ind,FALSE)","v":"System zur Reihenfolge der Teams anzeigen"}]
[]
[null,null,null,null,null,null,null,null,null,null,3]
[]
[]
[null,null,null,null,null,{"$f":"VLOOKUP(\"txt_2352\",tbl_i18n[],Lang_Ind,FALSE)","v":"Satz"},null,{"$f":"VLOOKUP(\"txt_2353\",tbl_i18n[],Lang_Ind,FALSE)","v":"3 Teams in einem Spiel"},null,null,null,null,null,null,null,{"$f":"VLOOKUP(\"txt_2354\",tbl_i18n[],Lang_Ind,FALSE)","v":"4 Teams in einem Spiel"},null,null,null,null,null,null,null,null,null,{"$f":"VLOOKUP(\"txt_2355\",tbl_i18n[],Lang_Ind,FALSE)","v":"5 Teams in einem Spiel"},null,null,null,null,null,null,null,null,null,null,null,{"$f":"VLOOKUP(\"txt_2356\",tbl_i18n[],Lang_Ind,FALSE)","v":"6 Teams in einem Spiel"},null,null,null,null,null,null,null,null,null,null,null,null,null,null,null,null,null,{"$f":"VLOOKUP(\"txt_2357\",tbl_i18n[],Lang_Ind,FALSE)","v":"Eigenschaften dieser Turnierdesigns:"}]
[]
[null,null,null,null,null,1,null,null,null,null,null,null,null,null,null,null,null,null,null,null,null,null,null,null,null,null,null,null,null,null,null,null,null,null,null,null,null,null,null,null,null,null,null,null,null,null,null,null,null,null,null,null,null,null,null,{"$f":"VLOOKUP(\"txt_2358\",tbl_i18n[],Lang_Ind,FALSE)","v":"Es gibt so viele Sätze wie es Teams in einem Spiel gibt."}]
[null,null,null,null,null,null,null,null,1,"–",2,"–",3,null,null,null,1,"–",2,"–",3,"–",4,null,null,null,1,"–",4,"–",5,"–",2,"–",3,null,null,null,1,"–",2,"–",3,"–",4,"–",5,"–",6]
[]
[null,null,null,null,null,2,null,null,null,null,null,null,null,null,null,null,null,null,null,null,null,null,null,null,null,null,null,null,null,null,null,null,null,null,null,null,null,null,null,null,null,null,null,null,null,null,null,null,null,null,null,null,null,null,null,{"$f":"VLOOKUP(\"txt_2359\",tbl_i18n[],Lang_Ind,FALSE)","v":"Jedes Team beginnt genau einmal einen Satz."}]
[null,null,null,null,null,null,null,null,2,"–",3,"–",1,null,null,null,2,"–",4,"–",1,"–",3,null,null,null,2,"–",5,"–",1,"–",3,"–",4,null,null,null,2,"–",4,"–",1,"–",6,"–",3,"–",5]
[]
[null,null,null,null,null,3]
[null,null,null,null,null,null,null,null,3,"–",1,"–",2,null,null,null,4,"–",3,"–",2,"–",1,null,null,null,3,"–",1,"–",2,"–",4,"–",5,null,null,null,4,"–",6,"–",2,"–",5,"–",1,"–",3,null,null,null,null,null,null,{"$f":"VLOOKUP(\"txt_2360\",tbl_i18n[],Lang_Ind,FALSE) & CHAR(10) & VLOOKUP(\"txt_2361\",tbl_i18n[],Lang_Ind,FALSE)","v":"Gerade Anzahl von Teams:\nZwei Teams, die in der Wurfreihenfolge aufeinander folgen, spielen genau einmal hintereinander."}]
[]
[null,null,null,null,null,4]
[null,null,null,null,null,null,null,null,null,null,null,null,null,null,null,null,3,"–",1,"–",4,"–",2,null,null,null,4,"–",2,"–",3,"–",5,"–",1,null,null,null,6,"–",5,"–",4,"–",3,"–",2,"–",1]
[]
[null,null,null,null,null,5,null,null,null,null,null,null,null,null,null,null,null,null,null,null,null,null,null,null,null,null,null,null,null,null,null,null,null,null,null,null,null,null,null,null,null,null,null,null,null,null,null,null,null,null,null,null,null,null,null,{"$f":"VLOOKUP(\"txt_2362\",tbl_i18n[],Lang_Ind,FALSE) & CHAR(10) & VLOOKUP(\"txt_2363\",tbl_i18n[],Lang_Ind,FALSE)","v":"Ungerade Anzahl von Teams:\nZwei Teams, die in der Wurfreihenfolge aufeinander folgen, spielen höchstens zweimal hintereinander."}]
[null,null,null,null,null,null,null,null,null,null,null,null,null,null,null,null,null,null,null,null,null,null,null,null,null,null,5,"–",3,"–",4,"–",1,"–",2,null,null,null,5,"–",3,"–",6,"–",1,"–",4,"–",2]
[]
[null,null,null,null,null,6]
[null,null,null,null,null,null,null,null,null,null,null,null,null,null,null,null,null,null,null,null,null,null,null,null,null,null,null,null,null,null,null,null,null,null,null,null,null,null,3,"–",1,"–",5,"–",2,"–",6,"–",4]

{"sheet":"Info Multi-Teams Aux","index":3,"n_rows":3,"n_cols":5,"rows_kept":3,"cut":false,"hidden":true,"merged":[[19,2,21,2],[4,2,6,2],[7,2,9,2],[10,2,12,2],[13,2,15,2],[16,2,18,2]]}
[]
[]
[null,null,true,null,"This part is necessary to show or hide the system of sequences without VBA macro."]

{"sheet":"KO-Single","index":4,"n_rows":527,"n_cols":53,"rows_kept":527,"cut":false,"hidden":false,"merged":[[18,14,19,14],[19,16,20,18],[19,19,20,19],[21,16,22,18],[21,19,22,19],[22,14,23,14],[13,41,13,44],[13,46,13,49],[13,51,13,52],[17,16,18,16],[17,17,18,17],[17,18,18,18],[17,19,18,19],[13,3,13,8],[13,16,13,19],[13,21,13,24],[13,26,13,29],[13,31,13,34],[13,36,13,39],[29,16,30,18],[29,19,30,19],[30,14,31,14],[33,16,34,16],[33,17,34,17],[33,18,34,18],[33,19,34,19],[34,14,35,14],[35,16,36,18],[35,19,36,19],[25,16,26,16],[25,17,26,17],[25,18,26,18],[25,19,26,19],[26,14,27,14],[27,16,28,18],[27,19,28,19],[45,16,46,18],[45,19,46,19],[46,14,47,14],[49,16,50,16],[49,17,50,17],[49,18,50,18],[49,19,50,19],[50,14,51,14],[51,16,52,18],[51,19,52,19],[37,16,38,18],[37,19,38,19],[38,14,39,14],[41,16,42,16],[41,17,42,17],[41,18,42,18],[41,19,42,19],[42,14,43,14],[43,16,44,18],[43,19,44,19],[61,16,62,18],[61,19,62,19],[62,14,63,14],[65,16,66,16],[65,17,66,17],[65,18,66,18],[65,19,66,19],[66,14,67,14],[67,16,68,18],[67,19,68,19],[53,16,54,18],[53,19,54,19],[54,14,55,14],[57,16,58,16],[57,17,58,17],[57,18,58,18],[57,19,58,19],[58,14,59,14],[59,16,60,18],[59,19,60,19],[77,16,78,18],[77,19,78,19],[78,14,79,14],[81,16,82,16],[81,17,82,17],[81,18,82,18],[81,19,82,19],[82,14,83,14],[83,16,84,18],[83,19,84,19],[69,16,70,18],[69,19,70,19],[70,14,71,14],[73,16,74,16],[73,17,74,17],[73,18,74,18],[73,19,74,19],[74,14,75,14],[75,16,76,18],[75,19,76,19],[93,16,94,18],[93,19,94,19],[94,14,95,14],[97,16,98,16],[97,17,98,17],[97,18,98,18],[97,19,98,19],[98,14,99,14],[99,16,100,18],[99,19,100,19],[85,16,86,18],[85,19,86,19],[86,14,87,14],[89,16,90,16],[89,17,90,17],[89,18,90,18],[89,19,90,19],[90,14,91,14],[91,16,92,18],[91,19,92,19],[109,16,110,18],[109,19,110,19],[110,14,111,14],[113,16,114,16],[113,17,114,17],[113,18,114,18],[113,19,114,19],[114,14,115,14],[115,16,116,18],[115,19,116,19],[101,16,102,18],[101,19,102,19],[102,14,103,14],[105,16,106,16],[105,17,106,17],[105,18,106,18],[105,19,106,19],[106,14,107,14],[107,16,108,18],[107,19,108,19],[125,16,126,18],[125,19,126,19],[126,14,127,14],[129,16,130,16],[129,17,130,17],[129,18,130,18],[129,19,130,19],[130,14,131,14],[131,16,132,18],[131,19,132,19],[117,16,118,18],[117,19,118,19],[118,14,119,14],[121,16,122,16],[121,17,122,17],[121,18,122,18],[121,19,122,19],[122,14,123,14],[123,16,124,18],[123,19,124,19],[145,21,146,21],[145,22,146,22],[145,23,146,23],[145,24,146,24],[146,14,147,14],[147,16,148,18],[147,19,148,19],[147,21,148,23],[147,24,148,24],[141,16,142,18],[141,19,142,19],[142,14,143,14],[145,16,146,16],[145,17,146,17],[145,18,146,18],[145,19,146,19],[133,16,134,18],[133,19,134,19],[134,14,135,14],[137,16,138,16],[137,17,138,17],[137,18,138,18],[137,19,138,19],[138,14,139,14],[139,16,140,18],[139,19,140,19],[153,22,154,22],[153,23,154,23],[153,24,154,24],[154,14,155,14],[155,16,156,18],[155,19,156,19],[155,21,156,23],[155,24,156,24],[149,16,150,18],[149,19,150,19],[149,21,150,23],[149,24,150,24],[150,14,151,14],[153,16,154,16],[153,17,154,17],[153,18,154,18],[153,19,154,19],[153,21,154,21],[161,22,162,22],[161,23,162,23],[161,24,162,24],[162,14,163,14],[163,16,164,18],[163,19,164,19],[163,21,164,23],[163,24,164,24],[157,16,158,18],[157,19,158,19],[157,21,158,23],[157,24,158,24],[158,14,159,14],[161,16,162,16],[161,17,162,17],[161,18,162,18],[161,19,162,19],[161,21,162,21],[169,22,170,22],[169,23,170,23],[169,24,170,24],[170,14,171,14],[171,16,172,18],[171,19,172,19],[171,21,172,23],[171,24,172,24],[165,16,166,18],[165,19,166,19],[165,21,166,23],[165,24,166,24],[166,14,167,14],[169,16,170,16],[169,17,170,17],[169,18,170,18],[169,19,170,19],[169,21,170,21],[177,22,178,22],[177,23,178,23],[177,24,178,24],[178,14,179,14],[179,16,180,18],[179,19,180,19],[179,21,180,23],[179,24,180,24],[173,16,174,18],[173,19,174,19],[173,21,174,23],[173,24,174,24],[174,14,175,14],[177,16,178,16],[177,17,178,17],[177,18,178,18],[177,19,178,19],[177,21,178,21],[185,22,186,22],[185,23,186,23],[185,24,186,24],[186,14,187,14],[187,16,188,18],[187,19,188,19],[187,21,188,23],[187,24,188,24],[181,16,182,18],[181,19,182,19],[181,21,182,23],[181,24,182,24],[182,14,183,14],[185,16,186,16],[185,17,186,17],[185,18,186,18],[185,19,186,19],[185,21,186,21],[193,22,194,22],[193,23,194,23],[193,24,194,24],[194,14,195,14],[195,16,196,18],[195,19,196,19],[195,21,196,23],[195,24,196,24],[189,16,190,18],[189,19,190,19],[189,21,190,23],[189,24,190,24],[190,14,191,14],[193,16,194,16],[193,17,194,17],[193,18,194,18],[193,19,194,19],[193,21,194,21],[201,22,202,22],[201,23,202,23],[201,24,202,24],[202,14,203,14],[203,16,204,18],[203,19,204,19],[203,21,204,23],[203,24,204,24],[197,16,198,18],[197,19,198,19],[197,21,198,23],[197,24,198,24],[198,14,199,14],[201,16,202,16],[201,17,202,17],[201,18,202,18],[201,19,202,19],[201,21,202,21],[209,29,210,29],[210,14,211,14],[211,16,212,18],[211,19,212,19],[211,21,212,23],[211,24,212,24],[211,26,212,28],[211,29,212,29],[209,22,210,22],[209,23,210,23],[209,24,210,24],[209,26,210,26],[209,27,210,27],[209,28,210,28],[205,16,206,18],[205,19,206,19],[205,21,206,23],[205,24,206,24],[206,14,207,14],[209,16,210,16],[209,17,210,17],[209,18,210,18],[209,19,210,19],[209,21,210,21],[217,29,218,29],[218,14,219,14],[219,16,220,18],[219,19,220,19],[219,21,220,23],[219,24,220,24],[219,26,220,28],[219,29,220,29],[217,22,218,22],[217,23,218,23],[217,24,218,24],[217,26,218,26],[217,27,218,27],[217,28,218,28],[214,14,215,14],[217,16,218,16],[217,17,218,17],[217,18,218,18],[217,19,218,19],[217,21,218,21],[213,16,214,18],[213,19,214,19],[213,21,214,23],[213,24,214,24],[213,26,214,28],[213,29,214,29],[225,29,226,29],[226,14,227,14],[227,16,228,18],[227,19,228,19],[227,21,228,23],[227,24,228,24],[227,26,228,28],[227,29,228,29],[225,22,226,22],[225,23,226,23],[225,24,226,24],[225,26,226,26],[225,27,226,27],[225,28,226,28],[222,14,223,14],[225,16,226,16],[225,17,226,17],[225,18,226,18],[225,19,226,19],[225,21,226,21],[221,16,222,18],[221,19,222,19],[221,21,222,23],[221,24,222,24],[221,26,222,28],[221,29,222,29],[233,29,234,29],[234,14,235,14],[235,16,236,18],[235,19,236,19],[235,21,236,23],[235,24,236,24],[235,26,236,28],[235,29,236,29],[233,22,234,22],[233,23,234,23],[233,24,234,24],[233,26,234,26],[233,27,234,27],[233,28,234,28],[230,14,231,14],[233,16,234,16],[233,17,234,17],[233,18,234,18],[233,19,234,19],[233,21,234,21],[229,16,230,18],[229,19,230,19],[229,21,230,23],[229,24,230,24],[229,26,230,28],[229,29,230,29],[241,29,242,29],[241,31,242,31],[241,32,242,32],[241,33,242,33],[241,34,242,34],[242,14,243,14],[243,16,244,18],[243,19,244,19],[243,21,244,23],[243,24,244,24],[241,22,242,22],[241,23,242,23],[241,24,242,24],[241,26,242,26],[241,27,242,27],[241,28,242,28],[238,14,239,14],[241,16,242,16],[241,17,242,17],[241,18,242,18],[241,19,242,19],[241,21,242,21],[237,16,238,18],[237,19,238,19],[237,21,238,23],[237,24,238,24],[237,26,238,28],[237,29,238,29],[245,31,246,33],[245,34,246,34],[246,14,247,14],[249,16,250,16],[249,17,250,17],[249,18,250,18],[249,19,250,19],[249,21,250,21],[249,22,250,22],[249,23,250,23],[243,26,244,28],[243,29,244,29],[243,31,244,33],[243,34,244,34],[245,16,246,18],[245,19,246,19],[245,21,246,23],[245,24,246,24],[245,26,246,28],[245,29,246,29],[254,14,255,14],[257,16,258,16],[257,17,258,17],[257,18,258,18],[257,19,258,19],[257,21,258,21],[251,31,252,33],[251,34,252,34],[253,16,254,18],[253,19,254,19],[253,21,254,23],[253,24,254,24],[253,26,254,28],[253,29,254,29],[253,31,254,33],[253,34,254,34],[249,32,250,32],[249,33,250,33],[249,34,250,34],[250,14,251,14],[251,16,252,18],[251,19,252,19],[251,21,252,23],[251,24,252,24],[251,26,252,28],[251,29,252,29],[249,24,250,24],[249,26,250,26],[249,27,250,27],[249,28,250,28],[249,29,250,29],[249,31,250,31],[257,37,258,37],[257,38,258,38],[257,39,258,39],[258,14,259,14],[259,16,260,18],[259,19,260,19],[259,21,260,23],[259,24,260,24],[259,26,260,28],[259,29,260,29],[257,29,258,29],[257,31,258,31],[257,32,258,32],[257,33,258,33],[257,34,258,34],[257,36,258,36],[257,22,258,22],[257,23,258,23],[257,24,258,24],[257,26,258,26],[257,27,258,27],[257,28,258,28],[261,31,262,33],[261,34,262,34],[261,36,262,38],[261,39,262,39],[262,14,263,14],[265,16,266,16],[265,17,266,17],[265,18,266,18],[265,19,266,19],[265,21,266,21],[259,31,260,33],[259,34,260,34],[259,36,260,38],[259,39,260,39],[261,16,262,18],[261,19,262,19],[261,21,262,23],[261,24,262,24],[261,26,262,28],[261,29,262,29],[267,26,268,28],[267,29,268,29],[267,31,268,33],[267,34,268,34],[265,44,266,44],[265,46,266,46],[265,47,266,47],[265,48,266,48],[265,49,266,49],[266,14,267,14],[267,36,268,38],[267,39,268,39],[267,41,268,43],[267,44,268,44],[265,37,266,37],[265,38,266,38],[265,39,266,39],[265,41,266,41],[265,42,266,42],[265,43,266,43],[265,29,266,29],[265,31,266,31],[265,32,266,32],[265,33,266,33],[265,34,266,34],[265,36,266,36],[265,22,266,22],[265,23,266,23],[265,24,266,24],[265,26,266,26],[265,27,266,27],[265,28,266,28],[270,14,271,14],[270,51,271,51],[270,52,271,52],[273,16,274,16],[273,17,274,17],[273,18,274,18],[273,19,274,19],[273,21,274,21],[273,22,274,22],[273,23,274,23],[269,36,270,38],[269,39,270,39],[269,41,270,43],[269,44,270,44],[269,46,270,48],[269,49,270,49],[267,46,268,48],[267,49,268,49],[269,16,270,18],[269,19,270,19],[269,21,270,23],[269,24,270,24],[269,26,270,28],[269,29,270,29],[269,31,270,33],[269,34,270,34],[266,51,267,51],[266,52,267,52],[267,16,268,18],[267,19,268,19],[267,21,268,23],[267,24,268,24],[273,47,274,47],[273,48,274,48],[273,49,274,49],[274,14,275,14],[274,51,275,51],[274,52,275,52],[275,16,276,18],[275,19,276,19],[275,21,276,23],[275,24,276,24],[273,39,274,39],[273,41,274,41],[273,42,274,42],[273,43,274,43],[273,44,274,44],[273,46,274,46],[273,32,274,32],[273,33,274,33],[273,34,274,34],[273,36,274,36],[273,37,274,37],[273,38,274,38],[273,24,274,24],[273,26,274,26],[273,27,274,27],[273,28,274,28],[273,29,274,29],[273,31,274,31],[277,46,278,48],[277,49,278,49],[278,14,279,14],[278,51,279,51],[278,52,279,52],[281,16,282,16],[281,17,282,17],[281,18,282,18],[281,19,282,19],[281,21,282,21],[277,31,278,33],[277,34,278,34],[277,36,278,38],[277,39,278,39],[277,41,278,43],[277,44,278,44],[275,41,276,43],[275,44,276,44],[275,46,276,48],[275,49,276,49],[277,16,278,18],[277,19,278,19],[277,21,278,23],[277,24,278,24],[277,26,278,28],[277,29,278,29],[275,26,276,28],[275,29,276,29],[275,31,276,33],[275,34,276,34],[275,36,276,38],[275,39,276,39],[281,37,282,37],[281,38,282,38],[281,39,282,39],[282,14,283,14],[283,16,284,18],[283,19,284,19],[283,21,284,23],[283,24,284,24],[283,26,284,28],[283,29,284,29],[281,29,282,29],[281,31,282,31],[281,32,282,32],[281,33,282,33],[281,34,282,34],[281,36,282,36],[281,22,282,22],[281,23,282,23],[281,24,282,24],[281,26,282,26],[281,27,282,27],[281,28,282,28],[285,36,286,38],[285,39,286,39],[286,14,287,14],[289,16,290,16],[289,17,290,17],[289,18,290,18],[289,19,290,19],[289,21,290,21],[283,31,284,33],[283,34,284,34],[283,36,284,38],[283,39,284,39],[285,16,286,18],[285,19,286,19],[285,21,286,23],[285,24,286,24],[285,26,286,28],[285,29,286,29],[289,29,290,29],[289,31,290,31],[289,32,290,32],[289,33,290,33],[289,34,290,34],[290,14,291,14],[291,16,292,18],[291,19,292,19],[291,21,292,23],[291,24,292,24],[289,22,290,22],[289,23,290,23],[289,24,290,24],[289,26,290,26],[289,27,290,27],[289,28,290,28],[285,31,286,33],[285,34,286,34],[293,31,294,33],[293,34,294,34],[294,14,295,14],[297,16,298,16],[297,17,298,17],[297,18,298,18],[297,19,298,19],[297,21,298,21],[297,22,298,22],[297,23,298,23],[291,26,292,28],[291,29,292,29],[291,31,292,33],[291,34,292,34],[293,16,294,18],[293,19,294,19],[293,21,294,23],[293,24,294,24],[293,26,294,28],[293,29,294,29],[299,31,300,33],[299,34,300,34],[301,16,302,18],[301,19,302,19],[301,21,302,23],[301,24,302,24],[301,26,302,28],[301,29,302,29],[301,31,302,33],[301,34,302,34],[297,32,298,32],[297,33,298,33],[297,34,298,34],[298,14,299,14],[299,16,300,18],[299,19,300,19],[299,21,300,23],[299,24,300,24],[299,26,300,28],[299,29,300,29],[297,24,298,24],[297,26,298,26],[297,27,298,27],[297,28,298,28],[297,29,298,29],[297,31,298,31],[305,29,306,29],[306,14,307,14],[307,16,308,18],[307,19,308,19],[307,21,308,23],[307,24,308,24],[307,26,308,28],[307,29,308,29],[305,22,306,22],[305,23,306,23],[305,24,306,24],[305,26,306,26],[305,27,306,27],[305,28,306,28],[302,14,303,14],[305,16,306,16],[305,17,306,17],[305,18,306,18],[305,19,306,19],[305,21,306,21],[313,29,314,29],[314,14,315,14],[315,16,316,18],[315,19,316,19],[315,21,316,23],[315,24,316,24],[315,26,316,28],[315,29,316,29],[313,22,314,22],[313,23,314,23],[313,24,314,24],[313,26,314,26],[313,27,314,27],[313,28,314,28],[310,14,311,14],[313,16,314,16],[313,17,314,17],[313,18,314,18],[313,19,314,19],[313,21,314,21],[309,16,310,18],[309,19,310,19],[309,21,310,23],[309,24,310,24],[309,26,310,28],[309,29,310,29],[321,29,322,29],[322,14,323,14],[323,16,324,18],[323,19,324,19],[323,21,324,23],[323,24,324,24],[323,26,324,28],[323,29,324,29],[321,22,322,22],[321,23,322,23],[321,24,322,24],[321,26,322,26],[321,27,322,27],[321,28,322,28],[318,14,319,14],[321,16,322,16],[321,17,322,17],[321,18,322,18],[321,19,322,19],[321,21,322,21],[317,16,318,18],[317,19,318,19],[317,21,318,23],[317,24,318,24],[317,26,318,28],[317,29,318,29],[333,26,334,28],[333,29,334,29],[329,29,330,29],[330,14,331,14],[331,16,332,18],[331,19,332,19],[331,21,332,23],[331,24,332,24],[331,26,332,28],[331,29,332,29],[329,22,330,22],[329,23,330,23],[329,24,330,24],[329,26,330,26],[329,27,330,27],[329,28,330,28],[326,14,327,14],[329,16,330,16],[329,17,330,17],[329,18,330,18],[329,19,330,19],[329,21,330,21],[325,16,326,18],[325,19,326,19],[325,21,326,23],[325,24,326,24],[325,26,326,28],[325,29,326,29],[337,22,338,22],[337,23,338,23],[337,24,338,24],[338,14,339,14],[339,16,340,18],[339,19,340,19],[339,21,340,23],[339,24,340,24],[334,14,335,14],[337,16,338,16],[337,17,338,17],[337,18,338,18],[337,19,338,19],[337,21,338,21],[333,16,334,18],[333,19,334,19],[333,21,334,23],[333,24,334,24],[345,22,346,22],[345,23,346,23],[345,24,346,24],[346,14,347,14],[347,16,348,18],[347,19,348,19],[347,21,348,23],[347,24,348,24],[341,16,342,18],[341,19,342,19],[341,21,342,23],[341,24,342,24],[342,14,343,14],[345,16,346,16],[345,17,346,17],[345,18,346,18],[345,19,346,19],[345,21,346,21],[353,22,354,22],[353,23,354,23],[353,24,354,24],[354,14,355,14],[355,16,356,18],[355,19,356,19],[355,21,356,23],[355,24,356,24],[349,16,350,18],[349,19,350,19],[349,21,350,23],[349,24,350,24],[350,14,351,14],[353,16,354,16],[353,17,354,17],[353,18,354,18],[353,19,354,19],[353,21,354,21],[361,22,362,22],[361,23,362,23],[361,24,362,24],[362,14,363,14],[363,16,364,18],[363,19,364,19],[363,21,364,23],[363,24,364,24],[357,16,358,18],[357,19,358,19],[357,21,358,23],[357,24,358,24],[358,14,359,14],[361,16,362,16],[361,17,362,17],[361,18,362,18],[361,19,362,19],[361,21,362,21],[369,22,370,22],[369,23,370,23],[369,24,370,24],[370,14,371,14],[371,16,372,18],[371,19,372,19],[371,21,372,23],[371,24,372,24],[365,16,366,18],[365,19,366,19],[365,21,366,23],[365,24,366,24],[366,14,367,14],[369,16,370,16],[369,17,370,17],[369,18,370,18],[369,19,370,19],[369,21,370,21],[377,22,378,22],[377,23,378,23],[377,24,378,24],[378,14,379,14],[379,16,380,18],[379,19,380,19],[379,21,380,23],[379,24,380,24],[373,16,374,18],[373,19,374,19],[373,21,374,23],[373,24,374,24],[374,14,375,14],[377,16,378,16],[377,17,378,17],[377,18,378,18],[377,19,378,19],[377,21,378,21],[385,22,386,22],[385,23,386,23],[385,24,386,24],[386,14,387,14],[387,16,388,18],[387,19,388,19],[387,21,388,23],[387,24,388,24],[381,16,382,18],[381,19,382,19],[381,21,382,23],[381,24,382,24],[382,14,383,14],[385,16,386,16],[385,17,386,17],[385,18,386,18],[385,19,386,19],[385,21,386,21],[393,22,394,22],[393,23,394,23],[393,24,394,24],[394,14,395,14],[395,16,396,18],[395,19,396,19],[395,21,396,23],[395,24,396,24],[389,16,390,18],[389,19,390,19],[389,21,390,23],[389,24,390,24],[390,14,391,14],[393,16,394,16]],"merged_total":1169,"flags":["merged_cut"]}
[]
[null,null,null,null,null,null,null,null,null,null,null,null,null,null,{"$f":"VLOOKUP(\"txt_0000\",tbl_i18n[#Data],Lang_Ind,FALSE)","v":"Spielsysteme für Turniere"},null,null,null,null,null,null,null,null,null,null,null,null,null,null,null,null,null,null,null,null,null,null,null,null,null,null,null,null,null,null,null,null,null,null,null,null,null,"created by: Walter Aust"]
[]
[null,null,null,null,null,null,null,null,null,null,null,null,"ç"]
[null,null,null,null,null,null,null,null,null,null,null,null,null,null,{"$f":"VLOOKUP(\"txt_2401\",tbl_i18n[#Data],Lang_Ind,FALSE)","v":"Finalrunden: Darstellung eines einfachen K.O-Systems (Ausscheidungsrunden)"}]
["KO_txt_lbl1",{"$f":"VLOOKUP(\"txt_2a52\",tbl_i18n[],Lang_Ind,FALSE)","v":"erforderliche Teams:"}]
["KO_txt_btn1",{"$f":"VLOOKUP(\"txt_2a58\",tbl_i18n[],Lang_Ind,FALSE)","v":"Spielergebnisse löschen"},null,null,null,null,null,null,null,null,null,null,null,null,{"$f":"VLOOKUP(\"txt_2a51\",tbl_i18n[#Data],Lang_Ind,FALSE)","v":"Einstiegsrunde:"}]
["KO_txt_lbl2",{"$f":"VLOOKUP(\"txt_2a54\",tbl_i18n[],Lang_Ind,FALSE)","v":"Teams pro Gruppe:"}]
["KO_txt_btn2",{"$f":"VLOOKUP(\"txt_2a59\",tbl_i18n[],Lang_Ind,FALSE)","v":"Spielergebnisse vorbesetzen"},null,null,null,null,null,null,null,null,null,null,null,null,{"$f":"VLOOKUP(\"txt_2a53\",tbl_i18n[#Data],Lang_Ind,FALSE)","v":"Anzahl der Vorrundengruppen:"}]
[]
[null,null,null,null,null,null,null,null,null,null,null,null,null,null,{"$f":"IF(KO_Groups_Ind>1,VLOOKUP(\"txt_2a70\",tbl_i18n[#Data],Lang_Ind,FALSE) & INDEX(tbl_i18n[#Data],KO_Groups_Ind+MATCH(\"txt_2a70\",tbl_i18n[ID],0),Lang_Ind) &  VLOOKUP(\"txt_2a72\",tbl_i18n[#Data],Lang_Ind,FALSE),\"\")","v":"Hinweis:  Ab den Halbfinalrunden (inklusive) können Teams mit der gleichen Gruppenplatzierung aufeinandertreffen."}]
[]
[]
[null,null,null,"Game Offset",null,null,null,null,null,null,"rows",null,null,null,"Rank + Group",null,{"$f":"B22","v":"1/64-Finale"},null,null,null,null,{"$f":"B21","v":"1/32-Finale"},null,null,null,null,{"$f":"B20","v":"1/16-Finale"},null,null,null,null,{"$f":"B19","v":"1/8-Finale"},null,null,null,null,{"$f":"B18","v":"1/4-Finale"},null,null,null,null,{"$f":"B17","v":"Halbfinale"},null,null,null,null,{"$f":"VLOOKUP(\"K_01_#\",tbl_i18n[#Data],Lang_Ind,FALSE)","v":"Spiel um Rang #"},null,null,null,null,{"$f":"VLOOKUP(\"txt_2a57\",tbl_i18n[#Data],Lang_Ind,FALSE)","v":"Rang"}]
[]
[null,null,null,2,4,8,16,32,64,null,null,null,null,null,null,null,{"$f":"KO_Rounds_Ind=6","v":false},null,null,null,null,{"$f":"KO_Rounds_Ind=5","v":false},null,null,null,null,{"$f":"KO_Rounds_Ind=4","v":false},null,null,null,null,{"$f":"KO_Rounds_Ind=3","v":true},null,null,null,null,{"$f":"KO_Rounds_Ind=2","v":false},null,null,null,null,{"$f":"KO_Rounds_Ind=1","v":false}]
["KO_Rounds_List",{"$f":"VLOOKUP(\"K_02_A\",tbl_i18n[#Data],Lang_Ind,FALSE)","v":"Halbfinale"}]
[null,{"$f":"VLOOKUP(\"K_04_A\",tbl_i18n[#Data],Lang_Ind,FALSE)","v":"1/4-Finale"},null,null,null,null,null,null,1,null,{"$f":"KO_Data_1row+INDEX(D18:I18,KO_Rounds_Ind)","v":295},null,null,null,null,null,"K_64_A01","field x","best of n",0]
[null,{"$f":"VLOOKUP(\"K_08_A\",tbl_i18n[#Data],Lang_Ind,FALSE)","v":"1/8-Finale"},null,null,null,null,null,null,null,null,null,null,null,null,{"$f":"INDEX(tbl_KO_Data[T1 Src Rank],K18) & \". Gr. \" & INDEX(tbl_KO_Data[T1 Src Group],K18)","v":"4. Gr. B"}]
[null,{"$f":"VLOOKUP(\"K_16_A\",tbl_i18n[#Data],Lang_Ind,FALSE)","v":"1/16-Finale"},null,null,null,null,null,null,null,null,null,null,null,null,null,null,{"$f":"O19","v":"4. Gr. B"}]
[null,{"$f":"VLOOKUP(\"K_32_A\",tbl_i18n[#Data],Lang_Ind,FALSE)","v":"1/32-Finale"}]
[null,{"$f":"VLOOKUP(\"K_64_A\",tbl_i18n[#Data],Lang_Ind,FALSE)","v":"1/64-Finale"},null,null,null,null,null,null,null,null,null,null,null,null,null,null,{"$f":"O23","v":"5. Gr. A"}]
[null,null,null,null,null,null,null,null,null,null,null,null,null,null,{"$f":"INDEX(tbl_KO_Data[T2 Src Rank],K18) & \". Gr. \" & INDEX(tbl_KO_Data[T2 Src Group],K18)","v":"5. Gr. A"}]
["KO_Rounds_Ind",3]
[]
["KO_TeamsReq",{"$f":"2^(1+KO_Rounds_Ind)","v":16},null,null,null,null,null,null,64,null,{"$f":"KO_Data_1row+INDEX(D26:I26,KO_Rounds_Ind)","v":295},null,null,null,null,null,"K_64_A64","field x","best of n",0]
[null,null,null,null,null,null,null,null,null,null,null,null,null,null,{"$f":"INDEX(tbl_KO_Data[T1 Src Rank],K26) & \". Gr. \" & INDEX(tbl_KO_Data[T1 Src Group],K26)","v":"4. Gr. B"}]
["KO_Groups_List",1,null,null,null,null,null,null,null,null,null,null,null,null,null,null,{"$f":"O27","v":"4. Gr. B"}]
[null,2]
[null,4,null,null,null,null,null,null,null,null,null,null,null,null,null,null,{"$f":"O31","v":"5. Gr. A"}]
[null,8,null,null,null,null,null,null,null,null,null,null,null,null,{"$f":"INDEX(tbl_KO_Data[T2 Src Rank],K26) & \". Gr. \" & INDEX(tbl_KO_Data[T2 Src Group],K26)","v":"5. Gr. A"}]
[null,16]
[null,32]
[null,64,null,null,null,null,null,null,32,null,{"$f":"KO_Data_1row+INDEX(D34:I34,KO_Rounds_Ind)","v":295},null,null,null,null,null,"K_64_A32","field x","best of n",0]
[null,128,null,null,null,null,null,null,null,null,null,null,null,null,{"$f":"INDEX(tbl_KO_Data[T1 Src Rank],K34) & \". Gr. \" & INDEX(tbl_KO_Data[T1 Src Group],K34)","v":"4. Gr. B"}]
[null,null,null,null,null,null,null,null,null,null,null,null,null,null,null,null,{"$f":"O35","v":"4. Gr. B"}]
["KO_Groups_Ind",3]
[null,null,null,null,null,null,null,null,null,null,null,null,null,null,null,null,{"$f":"O39","v":"5. Gr. A"}]
["KO_Groups_Sel",{"$f":"MIN(INDEX(KO_Groups_List,KO_Groups_Ind),KO_TeamsReq)","v":4},null,null,null,null,null,null,null,null,null,null,null,null,{"$f":"INDEX(tbl_KO_Data[T2 Src Rank],K34) & \". Gr. \" & INDEX(tbl_KO_Data[T2 Src Group],K34)","v":"5. Gr. A"}]
[]
["KO_GroupSize",{"$f":"KO_TeamsReq/KO_Groups_Sel","v":4}]
[null,null,null,null,null,null,null,null,33,null,{"$f":"KO_Data_1row+INDEX(D42:I42,KO_Rounds_Ind)","v":295},null,null,null,null,null,"K_64_A33","field x","best of n",0]
["tbl_KO_Data.ID",{"$f":"1000000000*2^(KO_Rounds_Ind) + 1000000 * KO_Groups_Sel + 1000 * KO_GroupSize","v":8004004000},null,null,null,null,null,null,null,null,null,null,null,null,{"$f":"INDEX(tbl_KO_Data[T1 Src Rank],K42) & \". Gr. \" & INDEX(tbl_KO_Data[T1 Src Group],K42)","v":"4. Gr. B"}]
[null,null,null,null,null,null,null,null,null,null,null,null,null,null,null,null,{"$f":"O43","v":"4. Gr. B"}]
["KO_Data_1row",{"$f":"MATCH(B43,tbl_KO_Data[ID],1)","v":295}]
[null,null,null,null,null,null,null,null,null,null,null,null,null,null,null,null,{"$f":"O47","v":"5. Gr. A"}]
[null,null,null,null,null,null,null,null,null,null,null,null,null,null,{"$f":"INDEX(tbl_KO_Data[T2 Src Rank],K42) & \". Gr. \" & INDEX(tbl_KO_Data[T2 Src Group],K42)","v":"5. Gr. A"}]
[]
[]
[null,null,null,null,null,null,null,null,16,null,{"$f":"KO_Data_1row+INDEX(D50:I50,KO_Rounds_Ind)","v":295},null,null,null,null,null,"K_64_A16","field x","best of n",0]
[null,null,null,null,null,null,null,null,null,null,null,null,null,null,{"$f":"INDEX(tbl_KO_Data[T1 Src Rank],K50) & \". Gr. \" & INDEX(tbl_KO_Data[T1 Src Group],K50)","v":"4. Gr. B"}]
[null,null,null,null,null,null,null,null,null,null,null,null,null,null,null,null,{"$f":"O51","v":"4. Gr. B"}]
[]
[null,null,null,null,null,null,null,null,null,null,null,null,null,null,null,null,{"$f":"O55","v":"5. Gr. A"}]
[null,null,null,null,null,null,null,null,null,null,null,null,null,null,{"$f":"INDEX(tbl_KO_Data[T2 Src Rank],K50) & \". Gr. \" & INDEX(tbl_KO_Data[T2 Src Group],K50)","v":"5. Gr. A"}]
[]
[]
[null,null,null,null,null,null,null,null,49,null,{"$f":"KO_Data_1row+INDEX(D58:I58,KO_Rounds_Ind)","v":295},null,null,null,null,null,"K_64_A49","field x","best of n",0]
[null,null,null,null,null,null,null,null,null,null,null,null,null,null,{"$f":"INDEX(tbl_KO_Data[T1 Src Rank],K58) & \". Gr. \" & INDEX(tbl_KO_Data[T1 Src Group],K58)","v":"4. Gr. B"}]
[null,null,null,null,null,null,null,null,null,null,null,null,null,null,null,null,{"$f":"O59","v":"4. Gr. B"}]
[]
[null,null,null,null,null,null,null,null,null,null,null,null,null,null,null,null,{"$f":"O63","v":"5. Gr. A"}]
[null,null,null,null,null,null,null,null,null,null,null,null,null,null,{"$f":"INDEX(tbl_KO_Data[T2 Src Rank],K58) & \". Gr. \" & INDEX(tbl_KO_Data[T2 Src Group],K58)","v":"5. Gr. A"}]
[]
[]
[null,null,null,null,null,null,null,null,17,null,{"$f":"KO_Data_1row+INDEX(D66:I66,KO_Rounds_Ind)","v":295},null,null,null,null,null,"K_64_A17","field x","best of n",0]
[null,null,null,null,null,null,null,null,null,null,null,null,null,null,{"$f":"INDEX(tbl_KO_Data[T1 Src Rank],K66) & \". Gr. \" & INDEX(tbl_KO_Data[T1 Src Group],K66)","v":"4. Gr. B"}]
[null,null,null,null,null,null,null,null,null,null,null,null,null,null,null,null,{"$f":"O67","v":"4. Gr. B"}]
[]
[null,null,null,null,null,null,null,null,null,null,null,null,null,null,null,null,{"$f":"O71","v":"5. Gr. A"}]
[null,null,null,null,null,null,null,null,null,null,null,null,null,null,{"$f":"INDEX(tbl_KO_Data[T2 Src Rank],K66) & \". Gr. \" & INDEX(tbl_KO_Data[T2 Src Group],K66)","v":"5. Gr. A"}]
[]
[]
[null,null,null,null,null,null,null,null,48,null,{"$f":"KO_Data_1row+INDEX(D74:I74,KO_Rounds_Ind)","v":295},null,null,null,null,null,"K_64_A48","field x","best of n",0]
[null,null,null,null,null,null,null,null,null,null,null,null,null,null,{"$f":"INDEX(tbl_KO_Data[T1 Src Rank],K74) & \". Gr. \" & INDEX(tbl_KO_Data[T1 Src Group],K74)","v":"4. Gr. B"}]
[null,null,null,null,null,null,null,null,null,null,null,null,null,null,null,null,{"$f":"O75","v":"4. Gr. B"}]
[]
[null,null,null,null,null,null,null,null,null,null,null,null,null,null,null,null,{"$f":"O79","v":"5. Gr. A"}]
[null,null,null,null,null,null,null,null,null,null,null,null,null,null,{"$f":"INDEX(tbl_KO_Data[T2 Src Rank],K74) & \". Gr. \" & INDEX(tbl_KO_Data[T2 Src Group],K74)","v":"5. Gr. A"}]
[]
[]
[null,null,null,null,null,null,null,null,8,null,{"$f":"KO_Data_1row+INDEX(D82:I82,KO_Rounds_Ind)","v":295},null,null,null,null,null,"K_64_A08","field x","best of n",0]
[null,null,null,null,null,null,null,null,null,null,null,null,null,null,{"$f":"INDEX(tbl_KO_Data[T1 Src Rank],K82) & \". Gr. \" & INDEX(tbl_KO_Data[T1 Src Group],K82)","v":"4. Gr. B"}]
[null,null,null,null,null,null,null,null,null,null,null,null,null,null,null,null,{"$f":"O83","v":"4. Gr. B"}]
[]
[null,null,null,null,null,null,null,null,null,null,null,null,null,null,null,null,{"$f":"O87","v":"5. Gr. A"}]
[null,null,null,null,null,null,null,null,null,null,null,null,null,null,{"$f":"INDEX(tbl_KO_Data[T2 Src Rank],K82) & \". Gr. \" & INDEX(tbl_KO_Data[T2 Src Group],K82)","v":"5. Gr. A"}]
[]
[]
[null,null,null,null,null,null,null,null,57,null,{"$f":"KO_Data_1row+INDEX(D90:I90,KO_Rounds_Ind)","v":295},null,null,null,null,null,"K_64_A57","field x","best of n",0]
[null,null,null,null,null,null,null,null,null,null,null,null,null,null,{"$f":"INDEX(tbl_KO_Data[T1 Src Rank],K90) & \". Gr. \" & INDEX(tbl_KO_Data[T1 Src Group],K90)","v":"4. Gr. B"}]
[null,null,null,null,null,null,null,null,null,null,null,null,null,null,null,null,{"$f":"O91","v":"4. Gr. B"}]
[]
[null,null,null,null,null,null,null,null,null,null,null,null,null,null,null,null,{"$f":"O95","v":"5. Gr. A"}]
[null,null,null,null,null,null,null,null,null,null,null,null,null,null,{"$f":"INDEX(tbl_KO_Data[T2 Src Rank],K90) & \". Gr. \" & INDEX(tbl_KO_Data[T2 Src Group],K90)","v":"5. Gr. A"}]
[]
[]
[null,null,null,null,null,null,null,null,25,null,{"$f":"KO_Data_1row+INDEX(D98:I98,KO_Rounds_Ind)","v":295},null,null,null,null,null,"K_64_A25","field x","best of n",0]
[null,null,null,null,null,null,null,null,null,null,null,null,null,null,{"$f":"INDEX(tbl_KO_Data[T1 Src Rank],K98) & \". Gr. \" & INDEX(tbl_KO_Data[T1 Src Group],K98)","v":"4. Gr. B"}]
[null,null,null,null,null,null,null,null,null,null,null,null,null,null,null,null,{"$f":"O99","v":"4. Gr. B"}]
[]
[null,null,null,null,null,null,null,null,null,null,null,null,null,null,null,null,{"$f":"O103","v":"5. Gr. A"}]
[null,null,null,null,null,null,null,null,null,null,null,null,null,null,{"$f":"INDEX(tbl_KO_Data[T2 Src Rank],K98) & \". Gr. \" & INDEX(tbl_KO_Data[T2 Src Group],K98)","v":"5. Gr. A"}]
[]
[]
[null,null,null,null,null,null,null,null,40,null,{"$f":"KO_Data_1row+INDEX(D106:I106,KO_Rounds_Ind)","v":295},null,null,null,null,null,"K_64_A40","field x","best of n",0]
[null,null,null,null,null,null,null,null,null,null,null,null,null,null,{"$f":"INDEX(tbl_KO_Data[T1 Src Rank],K106) & \". Gr. \" & INDEX(tbl_KO_Data[T1 Src Group],K106)","v":"4. Gr. B"}]
[null,null,null,null,null,null,null,null,null,null,null,null,null,null,null,null,{"$f":"O107","v":"4. Gr. B"}]
[]
[null,null,null,null,null,null,null,null,null,null,null,null,null,null,null,null,{"$f":"O111","v":"5. Gr. A"}]
[null,null,null,null,null,null,null,null,null,null,null,null,null,null,{"$f":"INDEX(tbl_KO_Data[T2 Src Rank],K106) & \". Gr. \" & INDEX(tbl_KO_Data[T2 Src Group],K106)","v":"5. Gr. A"}]
[]
[]
[null,null,null,null,null,null,null,null,9,null,{"$f":"KO_Data_1row+INDEX(D114:I114,KO_Rounds_Ind)","v":295},null,null,null,null,null,"K_64_A09","field x","best of n",0]
[null,null,null,null,null,null,null,null,null,null,null,null,null,null,{"$f":"INDEX(tbl_KO_Data[T1 Src Rank],K114) & \". Gr. \" & INDEX(tbl_KO_Data[T1 Src Group],K114)","v":"4. Gr. B"}]
[null,null,null,null,null,null,null,null,null,null,null,null,null,null,null,null,{"$f":"O115","v":"4. Gr. B"}]
[]
[null,null,null,null,null,null,null,null,null,null,null,null,null,null,null,null,{"$f":"O119","v":"5. Gr. A"}]
[null,null,null,null,null,null,null,null,null,null,null,null,null,null,{"$f":"INDEX(tbl_KO_Data[T2 Src Rank],K114) & \". Gr. \" & INDEX(tbl_KO_Data[T2 Src Group],K114)","v":"5. Gr. A"}]
[]
[]
[null,null,null,null,null,null,null,null,56,null,{"$f":"KO_Data_1row+INDEX(D122:I122,KO_Rounds_Ind)","v":295},null,null,null,null,null,"K_64_A56","field x","best of n",0]
[null,null,null,null,null,null,null,null,null,null,null,null,null,null,{"$f":"INDEX(tbl_KO_Data[T1 Src Rank],K122) & \". Gr. \" & INDEX(tbl_KO_Data[T1 Src Group],K122)","v":"4. Gr. B"}]
[null,null,null,null,null,null,null,null,null,null,null,null,null,null,null,null,{"$f":"O123","v":"4. Gr. B"}]
[]
[null,null,null,null,null,null,null,null,null,null,null,null,null,null,null,null,{"$f":"O127","v":"5. Gr. A"}]
[null,null,null,null,null,null,null,null,null,null,null,null,null,null,{"$f":"INDEX(tbl_KO_Data[T2 Src Rank],K122) & \". Gr. \" & INDEX(tbl_KO_Data[T2 Src Group],K122)","v":"5. Gr. A"}]
[]
[]
[null,null,null,null,null,null,null,null,24,null,{"$f":"KO_Data_1row+INDEX(D130:I130,KO_Rounds_Ind)","v":295},null,null,null,null,null,"K_64_A24","field x","best of n",0]
[null,null,null,null,null,null,null,null,null,null,null,null,null,null,{"$f":"INDEX(tbl_KO_Data[T1 Src Rank],K130) & \". Gr. \" & INDEX(tbl_KO_Data[T1 Src Group],K130)","v":"4. Gr. B"}]
[null,null,null,null,null,null,null,null,null,null,null,null,null,null,null,null,{"$f":"O131","v":"4. Gr. B"}]
[]
[null,null,null,null,null,null,null,null,null,null,null,null,null,null,null,null,{"$f":"O135","v":"5. Gr. A"}]
[null,null,null,null,null,null,null,null,null,null,null,null,null,null,{"$f":"INDEX(tbl_KO_Data[T2 Src Rank],K130) & \". Gr. \" & INDEX(tbl_KO_Data[T2 Src Group],K130)","v":"5. Gr. A"}]
[]
[]
[null,null,null,null,null,null,null,null,41,null,{"$f":"KO_Data_1row+INDEX(D138:I138,KO_Rounds_Ind)","v":295},null,null,null,null,null,"K_64_A41","field x","best of n",1]
[null,null,null,null,null,null,null,null,null,null,null,null,null,null,{"$f":"INDEX(tbl_KO_Data[T1 Src Rank],K138) & \". Gr. \" & INDEX(tbl_KO_Data[T1 Src Group],K138)","v":"4. Gr. B"}]
[null,null,null,null,null,null,null,null,null,null,null,null,null,null,null,null,{"$f":"O139","v":"4. Gr. B"}]
[]
[null,null,null,null,null,null,null,null,null,null,null,null,null,null,null,null,{"$f":"O143","v":"5. Gr. A"}]
[null,null,null,null,null,null,null,null,null,null,null,null,null,null,{"$f":"INDEX(tbl_KO_Data[T2 Src Rank],K138) & \". Gr. \" & INDEX(tbl_KO_Data[T2 Src Group],K138)","v":"5. Gr. A"}]
[]
[]
[null,null,null,null,null,null,null,1,4,null,{"$f":"KO_Data_1row+INDEX(D146:I146,KO_Rounds_Ind)","v":295},null,null,null,null,null,"K_64_A04","field x","best of n",0,null,"K_32_A01","field x","best of n",0]
[null,null,null,null,null,null,null,null,null,null,null,null,null,null,{"$f":"INDEX(tbl_KO_Data[T1 Src Rank],K146) & \". Gr. \" & INDEX(tbl_KO_Data[T1 Src Group],K146)","v":"4. Gr. B"}]
[null,null,null,null,null,null,null,null,null,null,null,null,null,null,null,null,{"$f":"O147","v":"4. Gr. B"},null,null,null,null,{"$f":"IF($V$16,O147,CHOOSE(SIGN(T22-T20)+2,Q20,\"(\"&Q20&\" : \"&Q22&\")\",Q22))","v":"(4. Gr. B : 5. Gr. A)"}]
[]
[null,null,null,null,null,null,null,null,null,null,null,null,null,null,null,null,{"$f":"O151","v":"5. Gr. A"},null,null,null,null,{"$f":"IF($V$16,O151,CHOOSE(SIGN(T30-T28)+2,Q28,\"(\"&Q28&\" : \"&Q30&\")\",Q30))","v":"(4. Gr. B : 5. Gr. A)"}]
[null,null,null,null,null,null,null,null,null,null,null,null,null,null,{"$f":"INDEX(tbl_KO_Data[T2 Src Rank],K146) & \". Gr. \" & INDEX(tbl_KO_Data[T2 Src Group],K146)","v":"5. Gr. A"}]
[]
[]
[null,null,null,null,null,null,null,32,61,null,{"$f":"KO_Data_1row+INDEX(D154:I154,KO_Rounds_Ind)","v":295},null,null,null,null,null,"K_64_A61","field x","best of n",0,null,"K_32_A32","field x","best of n",0]
[null,null,null,null,null,null,null,null,null,null,null,null,null,null,{"$f":"INDEX(tbl_KO_Data[T1 Src Rank],K154) & \". Gr. \" & INDEX(tbl_KO_Data[T1 Src Group],K154)","v":"4. Gr. B"}]
[null,null,null,null,null,null,null,null,null,null,null,null,null,null,null,null,{"$f":"O155","v":"4. Gr. B"},null,null,null,null,{"$f":"IF($V$16,O155,CHOOSE(SIGN(T38-T36)+2,Q36,\"(\"&Q36&\" : \"&Q38&\")\",Q38))","v":"(4. Gr. B : 5. Gr. A)"}]
[]
[null,null,null,null,null,null,null,null,null,null,null,null,null,null,null,null,{"$f":"O159","v":"5. Gr. A"},null,null,null,null,{"$f":"IF($V$16,O159,CHOOSE(SIGN(T46-T44)+2,Q44,\"(\"&Q44&\" : \"&Q46&\")\",Q46))","v":"(4. Gr. B : 5. Gr. A)"}]
[null,null,null,null,null,null,null,null,null,null,null,null,null,null,{"$f":"INDEX(tbl_KO_Data[T2 Src Rank],K154) & \". Gr. \" & INDEX(tbl_KO_Data[T2 Src Group],K154)","v":"5. Gr. A"}]
[]
[]
[null,null,null,null,null,null,null,16,29,null,{"$f":"KO_Data_1row+INDEX(D162:I162,KO_Rounds_Ind)","v":295},null,null,null,null,null,"K_64_A29","field x","best of n",0,null,"K_32_A16","field x","best of n",0]
[null,null,null,null,null,null,null,null,null,null,null,null,null,null,{"$f":"INDEX(tbl_KO_Data[T1 Src Rank],K162) & \". Gr. \" & INDEX(tbl_KO_Data[T1 Src Group],K162)","v":"4. Gr. B"}]
[null,null,null,null,null,null,null,null,null,null,null,null,null,null,null,null,{"$f":"O163","v":"4. Gr. B"},null,null,null,null,{"$f":"IF($V$16,O163,CHOOSE(SIGN(T54-T52)+2,Q52,\"(\"&Q52&\" : \"&Q54&\")\",Q54))","v":"(4. Gr. B : 5. Gr. A)"}]
[]
[null,null,null,null,null,null,null,null,null,null,null,null,null,null,null,null,{"$f":"O167","v":"5. Gr. A"},null,null,null,null,{"$f":"IF($V$16,O167,CHOOSE(SIGN(T62-T60)+2,Q60,\"(\"&Q60&\" : \"&Q62&\")\",Q62))","v":"(4. Gr. B : 5. Gr. A)"}]
[null,null,null,null,null,null,null,null,null,null,null,null,null,null,{"$f":"INDEX(tbl_KO_Data[T2 Src Rank],K162) & \". Gr. \" & INDEX(tbl_KO_Data[T2 Src Group],K162)","v":"5. Gr. A"}]
[]
[]
[null,null,null,null,null,null,null,17,36,null,{"$f":"KO_Data_1row+INDEX(D170:I170,KO_Rounds_Ind)","v":295},null,null,null,null,null,"K_64_A36","field x","best of n",0,null,"K_32_A17","field x","best of n",0]
[null,null,null,null,null,null,null,null,null,null,null,null,null,null,{"$f":"INDEX(tbl_KO_Data[T1 Src Rank],K170) & \". Gr. \" & INDEX(tbl_KO_Data[T1 Src Group],K170)","v":"4. Gr. B"}]
[null,null,null,null,null,null,null,null,null,null,null,null,null,null,null,null,{"$f":"O171","v":"4. Gr. B"},null,null,null,null,{"$f":"IF($V$16,O171,CHOOSE(SIGN(T70-T68)+2,Q68,\"(\"&Q68&\" : \"&Q70&\")\",Q70))","v":"(4. Gr. B : 5. Gr. A)"}]
[]
[null,null,null,null,null,null,null,null,null,null,null,null,null,null,null,null,{"$f":"O175","v":"5. Gr. A"},null,null,null,null,{"$f":"IF($V$16,O175,CHOOSE(SIGN(T78-T76)+2,Q76,\"(\"&Q76&\" : \"&Q78&\")\",Q78))","v":"(4. Gr. B : 5. Gr. A)"}]
[null,null,null,null,null,null,null,null,null,null,null,null,null,null,{"$f":"INDEX(tbl_KO_Data[T2 Src Rank],K170) & \". Gr. \" & INDEX(tbl_KO_Data[T2 Src Group],K170)","v":"5. Gr. A"}]
[]
[]
[null,null,null,null,null,null,null,8,13,null,{"$f":"KO_Data_1row+INDEX(D178:I178,KO_Rounds_Ind)","v":295},null,null,null,null,null,"K_64_A13","field x","best of n",0,null,"K_32_A08","field x","best of n",0]
[null,null,null,null,null,null,null,null,null,null,null,null,null,null,{"$f":"INDEX(tbl_KO_Data[T1 Src Rank],K178) & \". Gr. \" & INDEX(tbl_KO_Data[T1 Src Group],K178)","v":"4. Gr. B"}]
[null,null,null,null,null,null,null,null,null,null,null,null,null,null,null,null,{"$f":"O179","v":"4. Gr. B"},null,null,null,null,{"$f":"IF($V$16,O179,CHOOSE(SIGN(T86-T84)+2,Q84,\"(\"&Q84&\" : \"&Q86&\")\",Q86))","v":"(4. Gr. B : 5. Gr. A)"}]
[]
[null,null,null,null,null,null,null,null,null,null,null,null,null,null,null,null,{"$f":"O183","v":"5. Gr. A"},null,null,null,null,{"$f":"IF($V$16,O183,CHOOSE(SIGN(T94-T92)+2,Q92,\"(\"&Q92&\" : \"&Q94&\")\",Q94))","v":"(4. Gr. B : 5. Gr. A)"}]
[null,null,null,null,null,null,null,null,null,null,null,null,null,null,{"$f":"INDEX(tbl_KO_Data[T2 Src Rank],K178) & \". Gr. \" & INDEX(tbl_KO_Data[T2 Src Group],K178)","v":"5. Gr. A"}]
[]
[]
[null,null,null,null,null,null,null,25,52,null,{"$f":"KO_Data_1row+INDEX(D186:I186,KO_Rounds_Ind)","v":295},null,null,null,null,null,"K_64_A52","field x","best of n",0,null,"K_32_A25","field x","best of n",0]
[null,null,null,null,null,null,null,null,null,null,null,null,null,null,{"$f":"INDEX(tbl_KO_Data[T1 Src Rank],K186) & \". Gr. \" & INDEX(tbl_KO_Data[T1 Src Group],K186)","v":"4. Gr. B"}]
[null,null,null,null,null,null,null,null,null,null,null,null,null,null,null,null,{"$f":"O187","v":"4. Gr. B"},null,null,null,null,{"$f":"IF($V$16,O187,CHOOSE(SIGN(T102-T100)+2,Q100,\"(\"&Q100&\" : \"&Q102&\")\",Q102))","v":"(4. Gr. B : 5. Gr. A)"}]
[]
[null,null,null,null,null,null,null,null,null,null,null,null,null,null,null,null,{"$f":"O191","v":"5. Gr. A"},null,null,null,null,{"$f":"IF($V$16,O191,CHOOSE(SIGN(T110-T108)+2,Q108,\"(\"&Q108&\" : \"&Q110&\")\",Q110))","v":"(4. Gr. B : 5. Gr. A)"}]
[null,null,null,null,null,null,null,null,null,null,null,null,null,null,{"$f":"INDEX(tbl_KO_Data[T2 Src Rank],K186) & \". Gr. \" & INDEX(tbl_KO_Data[T2 Src Group],K186)","v":"5. Gr. A"}]
[]
[]
[null,null,null,null,null,null,null,9,20,null,{"$f":"KO_Data_1row+INDEX(D194:I194,KO_Rounds_Ind)","v":295},null,null,null,null,null,"K_64_A20","field x","best of n",0,null,"K_32_A09","field x","best of n",0]
[null,null,null,null,null,null,null,null,null,null,null,null,null,null,{"$f":"INDEX(tbl_KO_Data[T1 Src Rank],K194) & \". Gr. \" & INDEX(tbl_KO_Data[T1 Src Group],K194)","v":"4. Gr. B"}]
[null,null,null,null,null,null,null,null,null,null,null,null,null,null,null,null,{"$f":"O195","v":"4. Gr. B"},null,null,null,null,{"$f":"IF($V$16,O195,CHOOSE(SIGN(T118-T116)+2,Q116,\"(\"&Q116&\" : \"&Q118&\")\",Q118))","v":"(4. Gr. B : 5. Gr. A)"}]
[]
[null,null,null,null,null,null,null,null,null,null,null,null,null,null,null,null,{"$f":"O199","v":"5. Gr. A"},null,null,null,null,{"$f":"IF($V$16,O199,CHOOSE(SIGN(T126-T124)+2,Q124,\"(\"&Q124&\" : \"&Q126&\")\",Q126))","v":"(4. Gr. B : 5. Gr. A)"}]
[null,null,null,null,null,null,null,null,null,null,null,null,null,null,{"$f":"INDEX(tbl_KO_Data[T2 Src Rank],K194) & \". Gr. \" & INDEX(tbl_KO_Data[T2 Src Group],K194)","v":"5. Gr. A"}]
[]
[]
[null,null,null,null,null,null,null,24,45,null,{"$f":"KO_Data_1row+INDEX(D202:I202,KO_Rounds_Ind)","v":295},null,null,null,null,null,"K_64_A45","field x","best of n",0,null,"K_32_A24","field x","best of n",0]
[null,null,null,null,null,null,null,null,null,null,null,null,null,null,{"$f":"INDEX(tbl_KO_Data[T1 Src Rank],K202) & \". Gr. \" & INDEX(tbl_KO_Data[T1 Src Group],K202)","v":"4. Gr. B"}]
[null,null,null,null,null,null,null,null,null,null,null,null,null,null,null,null,{"$f":"O203","v":"4. Gr. B"},null,null,null,null,{"$f":"IF($V$16,O203,CHOOSE(SIGN(T134-T132)+2,Q132,\"(\"&Q132&\" : \"&Q134&\")\",Q134))","v":"(4. Gr. B : 5. Gr. A)"}]
[]
[null,null,null,null,null,null,null,null,null,null,null,null,null,null,null,null,{"$f":"O207","v":"5. Gr. A"},null,null,null,null,{"$f":"IF($V$16,O207,CHOOSE(SIGN(T142-T140)+2,Q140,\"(\"&Q140&\" : \"&Q142&\")\",Q142))","v":"(4. Gr. B : 5. Gr. A)"}]
[null,null,null,null,null,null,null,null,null,null,null,null,null,null,{"$f":"INDEX(tbl_KO_Data[T2 Src Rank],K202) & \". Gr. \" & INDEX(tbl_KO_Data[T2 Src Group],K202)","v":"5. Gr. A"}]
[]
[]
[null,null,null,null,null,null,1,4,5,null,{"$f":"KO_Data_1row+INDEX(D210:I210,KO_Rounds_Ind)","v":295},null,null,null,null,null,"K_64_A05","field x","best of n",0,null,"K_32_A04","field x","best of n",0,null,"K_16_A01","field x","best of n",0]
[null,null,null,null,null,null,null,null,null,null,null,null,null,null,{"$f":"INDEX(tbl_KO_Data[T1 Src Rank],K210) & \". Gr. \" & INDEX(tbl_KO_Data[T1 Src Group],K210)","v":"4. Gr. B"}]
[null,null,null,null,null,null,null,null,null,null,null,null,null,null,null,null,{"$f":"O211","v":"4. Gr. B"},null,null,null,null,{"$f":"IF($V$16,O211,CHOOSE(SIGN(T150-T148)+2,Q148,\"(\"&Q148&\" : \"&Q150&\")\",Q150))","v":"(4. Gr. B : 5. Gr. A)"},null,null,null,null,{"$f":"IF($AA$16,O211,CHOOSE(SIGN(Y150-Y148)+2,V148,\"(\"&V148&\" : \"&V150&\")\",V150))","v":"((4. Gr. B : 5. Gr. A) : (4. Gr. B : 5. Gr. A))"}]
[]
[null,null,null,null,null,null,null,null,null,null,null,null,null,null,null,null,{"$f":"O215","v":"5. Gr. A"},null,null,null,null,{"$f":"IF($V$16,O215,CHOOSE(SIGN(T158-T156)+2,Q156,\"(\"&Q156&\" : \"&Q158&\")\",Q158))","v":"(4. Gr. B : 5. Gr. A)"},null,null,null,null,{"$f":"IF($AA$16,O215,CHOOSE(SIGN(Y158-Y156)+2,V156,\"(\"&V156&\" : \"&V158&\")\",V158))","v":"((4. Gr. B : 5. Gr. A) : (4. Gr. B : 5. Gr. A))"}]
[null,null,null,null,null,null,null,null,null,null,null,null,null,null,{"$f":"INDEX(tbl_KO_Data[T2 Src Rank],K210) & \". Gr. \" & INDEX(tbl_KO_Data[T2 Src Group],K210)","v":"5. Gr. A"}]
[]
[]
[null,null,null,null,null,null,16,29,60,null,{"$f":"KO_Data_1row+INDEX(D218:I218,KO_Rounds_Ind)","v":295},null,null,null,null,null,"K_64_A60","field x","best of n",0,null,"K_32_A29","field x","best of n",0,null,"K_16_A16","field x","best of n",0]
[null,null,null,null,null,null,null,null,null,null,null,null,null,null,{"$f":"INDEX(tbl_KO_Data[T1 Src Rank],K218) & \". Gr. \" & INDEX(tbl_KO_Data[T1 Src Group],K218)","v":"4. Gr. B"}]
[null,null,null,null,null,null,null,null,null,null,null,null,null,null,null,null,{"$f":"O219","v":"4. Gr. B"},null,null,null,null,{"$f":"IF($V$16,O219,CHOOSE(SIGN(T166-T164)+2,Q164,\"(\"&Q164&\" : \"&Q166&\")\",Q166))","v":"(4. Gr. B : 5. Gr. A)"},null,null,null,null,{"$f":"IF($AA$16,O219,CHOOSE(SIGN(Y166-Y164)+2,V164,\"(\"&V164&\" : \"&V166&\")\",V166))","v":"((4. Gr. B : 5. Gr. A) : (4. Gr. B : 5. Gr. A))"}]
[]
[null,null,null,null,null,null,null,null,null,null,null,null,null,null,null,null,{"$f":"O223","v":"5. Gr. A"},null,null,null,null,{"$f":"IF($V$16,O223,CHOOSE(SIGN(T174-T172)+2,Q172,\"(\"&Q172&\" : \"&Q174&\")\",Q174))","v":"(4. Gr. B : 5. Gr. A)"},null,null,null,null,{"$f":"IF($AA$16,O223,CHOOSE(SIGN(Y174-Y172)+2,V172,\"(\"&V172&\" : \"&V174&\")\",V174))","v":"((4. Gr. B : 5. Gr. A) : (4. Gr. B : 5. Gr. A))"}]
[null,null,null,null,null,null,null,null,null,null,null,null,null,null,{"$f":"INDEX(tbl_KO_Data[T2 Src Rank],K218) & \". Gr. \" & INDEX(tbl_KO_Data[T2 Src Group],K218)","v":"5. Gr. A"}]
[]
[]
[null,null,null,null,null,null,8,13,28,null,{"$f":"KO_Data_1row+INDEX(D226:I226,KO_Rounds_Ind)","v":295},null,null,null,null,null,"K_64_A28","field x","best of n",0,null,"K_32_A13","field x","best of n",0,null,"K_16_A08","field x","best of n",0]
[null,null,null,null,null,null,null,null,null,null,null,null,null,null,{"$f":"INDEX(tbl_KO_Data[T1 Src Rank],K226) & \". Gr. \" & INDEX(tbl_KO_Data[T1 Src Group],K226)","v":"4. Gr. B"}]
[null,null,null,null,null,null,null,null,null,null,null,null,null,null,null,null,{"$f":"O227","v":"4. Gr. B"},null,null,null,null,{"$f":"IF($V$16,O227,CHOOSE(SIGN(T182-T180)+2,Q180,\"(\"&Q180&\" : \"&Q182&\")\",Q182))","v":"(4. Gr. B : 5. Gr. A)"},null,null,null,null,{"$f":"IF($AA$16,O227,IF($AA$16,O211,CHOOSE(SIGN(Y182-Y180)+2,V180,\"(\"&V180&\" : \"&V182&\")\",V182)))","v":"((4. Gr. B : 5. Gr. A) : (4. Gr. B : 5. Gr. A))"}]
[]
[null,null,null,null,null,null,null,null,null,null,null,null,null,null,null,null,{"$f":"O231","v":"5. Gr. A"},null,null,null,null,{"$f":"IF($V$16,O231,CHOOSE(SIGN(T190-T188)+2,Q188,\"(\"&Q188&\" : \"&Q190&\")\",Q190))","v":"(4. Gr. B : 5. Gr. A)"},null,null,null,null,{"$f":"IF($AA$16,O231,CHOOSE(SIGN(Y190-Y188)+2,V188,\"(\"&V188&\" : \"&V190&\")\",V190))","v":"((4. Gr. B : 5. Gr. A) : (4. Gr. B : 5. Gr. A))"}]
[null,null,null,null,null,null,null,null,null,null,null,null,null,null,{"$f":"INDEX(tbl_KO_Data[T2 Src Rank],K226) & \". Gr. \" & INDEX(tbl_KO_Data[T2 Src Group],K226)","v":"5. Gr. A"}]
[]
[]
[null,null,null,null,null,null,9,20,37,null,{"$f":"KO_Data_1row+INDEX(D234:I234,KO_Rounds_Ind)","v":295},null,null,null,null,null,"K_64_A37","field x","best of n",0,null,"K_32_A20","field x","best of n",0,null,"K_16_A09","field x","best of n",0]
[null,null,null,null,null,null,null,null,null,null,null,null,null,null,{"$f":"INDEX(tbl_KO_Data[T1 Src Rank],K234) & \". Gr. \" & INDEX(tbl_KO_Data[T1 Src Group],K234)","v":"4. Gr. B"}]
[null,null,null,null,null,null,null,null,null,null,null,null,null,null,null,null,{"$f":"O235","v":"4. Gr. B"},null,null,null,null,{"$f":"IF($V$16,O235,CHOOSE(SIGN(T198-T196)+2,Q196,\"(\"&Q196&\" : \"&Q198&\")\",Q198))","v":"(4. Gr. B : 5. Gr. A)"},null,null,null,null,{"$f":"IF($AA$16,O235,CHOOSE(SIGN(Y198-Y196)+2,V196,\"(\"&V196&\" : \"&V198&\")\",V198))","v":"((4. Gr. B : 5. Gr. A) : (4. Gr. B : 5. Gr. A))"}]
[]
[null,null,null,null,null,null,null,null,null,null,null,null,null,null,null,null,{"$f":"O239","v":"5. Gr. A"},null,null,null,null,{"$f":"IF($V$16,O239,CHOOSE(SIGN(T206-T204)+2,Q204,\"(\"&Q204&\" : \"&Q206&\")\",Q206))","v":"(4. Gr. B : 5. Gr. A)"},null,null,null,null,{"$f":"IF($AA$16,O239,CHOOSE(SIGN(Y206-Y204)+2,V204,\"(\"&V204&\" : \"&V206&\")\",V206))","v":"((4. Gr. B : 5. Gr. A) : (4. Gr. B : 5. Gr. A))"}]
[null,null,null,null,null,null,null,null,null,null,null,null,null,null,{"$f":"INDEX(tbl_KO_Data[T2 Src Rank],K234) & \". Gr. \" & INDEX(tbl_KO_Data[T2 Src Group],K234)","v":"5. Gr. A"}]
[]
[]
[null,null,null,null,null,1,4,5,12,null,{"$f":"KO_Data_1row+INDEX(D242:I242,KO_Rounds_Ind)","v":296},null,null,null,null,null,"K_64_A12","field x","best of n",0,null,"K_32_A05","field x","best of n",0,null,"K_16_A04","field x","best of n",0,null,"K_08_A1","field x","best of n",0]
[null,null,null,null,null,null,null,null,null,null,null,null,null,null,{"$f":"INDEX(tbl_KO_Data[T1 Src Rank],K242) & \". Gr. \" & INDEX(tbl_KO_Data[T1 Src Group],K242)","v":"1. Gr. A"}]
[null,null,null,null,null,null,null,null,null,null,null,null,null,null,null,null,{"$f":"O243","v":"1. Gr. A"},null,null,null,null,{"$f":"IF($V$16,O243,CHOOSE(SIGN(T214-T212)+2,Q212,\"(\"&Q212&\" : \"&Q214&\")\",Q214))","v":"(4. Gr. B : 5. Gr. A)"},null,null,null,null,{"$f":"IF($AA$16,O243,CHOOSE(SIGN(Y214-Y212)+2,V212,\"(\"&V212&\" : \"&V214&\")\",V214))","v":"((4. Gr. B : 5. Gr. A) : (4. Gr. B : 5. Gr. A))"},null,null,null,null,{"$f":"IF($AF$16,O243,CHOOSE(SIGN(AD214-AD212)+2,AA212,\"(\"&AA212&\" : \"&AA214&\")\",AA214))","v":"1. Gr. A"}]
[]
[null,null,null,null,null,null,null,null,null,null,null,null,null,null,null,null,{"$f":"O247","v":"4. Gr. B"},null,null,null,null,{"$f":"IF($V$16,O247,CHOOSE(SIGN(T222-T220)+2,Q220,\"(\"&Q220&\" : \"&Q222&\")\",Q222))","v":"(4. Gr. B : 5. Gr. A)"},null,null,null,null,{"$f":"IF($AA$16,O247,CHOOSE(SIGN(Y222-Y220)+2,V220,\"(\"&V220&\" : \"&V222&\")\",V222))","v":"((4. Gr. B : 5. Gr. A) : (4. Gr. B : 5. Gr. A))"},null,null,null,null,{"$f":"IF($AF$16,O247,CHOOSE(SIGN(AD222-AD220)+2,AA220,\"(\"&AA220&\" : \"&AA222&\")\",AA222))","v":"4. Gr. B"}]
[null,null,null,null,null,null,null,null,null,null,null,null,null,null,{"$f":"INDEX(tbl_KO_Data[T2 Src Rank],K242) & \". Gr. \" & INDEX(tbl_KO_Data[T2 Src Group],K242)","v":"4. Gr. B"}]
[]
[]
[null,null,null,null,null,8,13,28,53,null,{"$f":"KO_Data_1row+INDEX(D250:I250,KO_Rounds_Ind)","v":303},null,null,null,null,null,"K_64_A53","field x","best of n",0,null,"K_32_A28","field x","best of n",0,null,"K_16_A13","field x","best of n",0,null,"K_08_A8","field x","best of n",0]
[null,null,null,null,null,null,null,null,null,null,null,null,null,null,{"$f":"INDEX(tbl_KO_Data[T1 Src Rank],K250) & \". Gr. \" & INDEX(tbl_KO_Data[T1 Src Group],K250)","v":"2. Gr. D"}]
[null,null,null,null,null,null,null,null,null,null,null,null,null,null,null,null,{"$f":"O251","v":"2. Gr. D"},null,null,null,null,{"$f":"IF($V$16,O251,CHOOSE(SIGN(T230-T228)+2,Q228,\"(\"&Q228&\" : \"&Q230&\")\",Q230))","v":"(4. Gr. B : 5. Gr. A)"},null,null,null,null,{"$f":"IF($AA$16,O251,CHOOSE(SIGN(Y230-Y228)+2,V228,\"(\"&V228&\" : \"&V230&\")\",V230))","v":"((4. Gr. B : 5. Gr. A) : (4. Gr. B : 5. Gr. A))"},null,null,null,null,{"$f":"IF($AF$16,O251,CHOOSE(SIGN(AD230-AD228)+2,AA228,\"(\"&AA228&\" : \"&AA230&\")\",AA230))","v":"2. Gr. D"}]
[]
[null,null,null,null,null,null,null,null,null,null,null,null,null,null,null,null,{"$f":"O255","v":"3. Gr. C"},null,null,null,null,{"$f":"IF($V$16,O255,CHOOSE(SIGN(T238-T236)+2,Q236,\"(\"&Q236&\" : \"&Q238&\")\",Q238))","v":"(4. Gr. B : 5. Gr. A)"},null,null,null,null,{"$f":"IF($AA$16,O255,CHOOSE(SIGN(Y238-Y236)+2,V236,\"(\"&V236&\" : \"&V238&\")\",V238))","v":"((4. Gr. B : 5. Gr. A) : (4. Gr. B : 5. Gr. A))"},null,null,null,null,{"$f":"IF($AF$16,O255,CHOOSE(SIGN(AD238-AD236)+2,AA236,\"(\"&AA236&\" : \"&AA238&\")\",AA238))","v":"3. Gr. C"}]
[null,null,null,null,null,null,null,null,null,null,null,null,null,null,{"$f":"INDEX(tbl_KO_Data[T2 Src Rank],K250) & \". Gr. \" & INDEX(tbl_KO_Data[T2 Src Group],K250)","v":"3. Gr. C"}]
[]
[]
[null,null,null,null,1,4,5,12,21,null,{"$f":"KO_Data_1row+INDEX(D258:I258,KO_Rounds_Ind)","v":299},null,null,null,null,null,"K_64_A21","field x","best of n",0,null,"K_32_A12","field x","best of n",0,null,"K_16_A05","field x","best of n",0,null,"K_08_A4","field x","best of n",0,null,"K_04_A1","field x","best of n",0]
[null,null,null,null,null,null,null,null,null,null,null,null,null,null,{"$f":"INDEX(tbl_KO_Data[T1 Src Rank],K258) & \". Gr. \" & INDEX(tbl_KO_Data[T1 Src Group],K258)","v":"1. Gr. C"}]
[null,null,null,null,null,null,null,null,null,null,null,null,null,null,null,null,{"$f":"O259","v":"1. Gr. C"},null,null,null,null,{"$f":"IF($V$16,O259,CHOOSE(SIGN(T246-T244)+2,Q244,\"(\"&Q244&\" : \"&Q246&\")\",Q246))","v":"(1. Gr. A : 4. Gr. B)"},null,null,null,null,{"$f":"IF($AA$16,O259,CHOOSE(SIGN(Y246-Y244)+2,V244,\"(\"&V244&\" : \"&V246&\")\",V246))","v":"((4. Gr. B : 5. Gr. A) : (4. Gr. B : 5. Gr. A))"},null,null,null,null,{"$f":"IF($AF$16,O259,CHOOSE(SIGN(AD246-AD244)+2,AA244,\"(\"&AA244&\" : \"&AA246&\")\",AA246))","v":"1. Gr. C"},null,null,null,null,{"$f":"IF($AK$16,O259,CHOOSE(SIGN(AI246-AI244)+2,AF244,\"(\"&AF244&\" : \"&AF246&\")\",AF246))","v":"(1. Gr. A : 4. Gr. B)"}]
[]
[null,null,null,null,null,null,null,null,null,null,null,null,null,null,null,null,{"$f":"O263","v":"4. Gr. D"},null,null,null,null,{"$f":"IF($V$16,O263,CHOOSE(SIGN(T254-T252)+2,Q252,\"(\"&Q252&\" : \"&Q254&\")\",Q254))","v":"(2. Gr. D : 3. Gr. C)"},null,null,null,null,{"$f":"IF($AA$16,O263,CHOOSE(SIGN(Y254-Y252)+2,V252,\"(\"&V252&\" : \"&V254&\")\",V254))","v":"((4. Gr. B : 5. Gr. A) : (4. Gr. B : 5. Gr. A))"},null,null,null,null,{"$f":"IF($AF$16,O263,CHOOSE(SIGN(AD254-AD252)+2,AA252,\"(\"&AA252&\" : \"&AA254&\")\",AA254))","v":"4. Gr. D"},null,null,null,null,{"$f":"IF($AK$16,O263,CHOOSE(SIGN(AI254-AI252)+2,AF252,\"(\"&AF252&\" : \"&AF254&\")\",AF254))","v":"(2. Gr. D : 3. Gr. C)"}]
[null,null,null,null,null,null,null,null,null,null,null,null,null,null,{"$f":"INDEX(tbl_KO_Data[T2 Src Rank],K258) & \". Gr. \" & INDEX(tbl_KO_Data[T2 Src Group],K258)","v":"4. Gr. D"}]
[]
[]
[null,null,null,1,4,5,12,21,44,null,{"$f":"KO_Data_1row+INDEX(D266:I266,KO_Rounds_Ind)","v":300},null,null,null,null,null,"K_64_A44","field x","best of n",0,null,"K_32_A21","field x","best of n",0,null,"K_16_A12","field x","best of n",0,null,"K_08_A5","field x","best of n",0,null,"K_04_A4","field x","best of n",0,null,"K_02_A1","field x","best of n",0,null,"K_01_001","field x","best of n",0]
[null,null,null,null,null,null,null,null,null,null,null,null,null,null,{"$f":"INDEX(tbl_KO_Data[T1 Src Rank],K266) & \". Gr. \" & INDEX(tbl_KO_Data[T1 Src Group],K266)","v":"2. Gr. B"},null,null,null,null,null,null,null,null,null,null,null,null,null,null,null,null,null,null,null,null,null,null,null,null,null,null,null,null,null,null,null,null,null,null,null,null,1,{"$f":"IF(AX268>AX270,AU268,IF(AX268<AX270,AU270,\"\"))","v":""}]
[null,null,null,null,null,null,null,null,null,null,null,null,null,null,null,null,{"$f":"O267","v":"2. Gr. B"},null,null,null,null,{"$f":"IF($V$16,O267,CHOOSE(SIGN(T262-T260)+2,Q260,\"(\"&Q260&\" : \"&Q262&\")\",Q262))","v":"(1. Gr. C : 4. Gr. D)"},null,null,null,null,{"$f":"IF($AA$16,O267,CHOOSE(SIGN(Y262-Y260)+2,V260,\"(\"&V260&\" : \"&V262&\")\",V262))","v":"((1. Gr. A : 4. Gr. B) : (2. Gr. D : 3. Gr. C))"},null,null,null,null,{"$f":"IF($AF$16,O267,CHOOSE(SIGN(AD262-AD260)+2,AA260,\"(\"&AA260&\" : \"&AA262&\")\",AA262))","v":"2. Gr. B"},null,null,null,null,{"$f":"IF($AK$16,O267,CHOOSE(SIGN(AI262-AI260)+2,AF260,\"(\"&AF260&\" : \"&AF262&\")\",AF262))","v":"(1. Gr. C : 4. Gr. D)"},null,null,null,null,{"$f":"IF($AP$16,O267,CHOOSE(SIGN(AN262-AN260)+2,AK260,\"(\"&AK260&\" : \"&AK262&\")\",AK262))","v":"((1. Gr. A : 4. Gr. B) : (2. Gr. D : 3. Gr. C))"},null,null,null,null,{"$f":"CHOOSE(SIGN(AS270-AS268)+2,AP268,\"(\"&AP268&\" : \"&AP270&\")\",AP270)","v":"(((1. Gr. A : 4. Gr. B) : (2. Gr. D : 3. Gr. C)) : ((1. Gr. C : 4. Gr. D) : (2. Gr. B : 3. Gr. A)))"}]
[]
[null,null,null,null,null,null,null,null,null,null,null,null,null,null,null,null,{"$f":"O271","v":"3. Gr. A"},null,null,null,null,{"$f":"IF($V$16,O271,CHOOSE(SIGN(T270-T268)+2,Q268,\"(\"&Q268&\" : \"&Q270&\")\",Q270))","v":"(2. Gr. B : 3. Gr. A)"},null,null,null,null,{"$f":"IF($AA$16,O271,CHOOSE(SIGN(Y270-Y268)+2,V268,\"(\"&V268&\" : \"&V270&\")\",V270))","v":"((1. Gr. C : 4. Gr. D) : (2. Gr. B : 3. Gr. A))"},null,null,null,null,{"$f":"IF($AF$16,O271,CHOOSE(SIGN(AD270-AD268)+2,AA268,\"(\"&AA268&\" : \"&AA270&\")\",AA270))","v":"3. Gr. A"},null,null,null,null,{"$f":"IF($AK$16,O271,CHOOSE(SIGN(AI270-AI268)+2,AF268,\"(\"&AF268&\" : \"&AF270&\")\",AF270))","v":"(2. Gr. B : 3. Gr. A)"},null,null,null,null,{"$f":"IF($AP$16,O271,CHOOSE(SIGN(AN270-AN268)+2,AK268,\"(\"&AK268&\" : \"&AK270&\")\",AK270))","v":"((1. Gr. C : 4. Gr. D) : (2. Gr. B : 3. Gr. A))"},null,null,null,null,{"$f":"CHOOSE(SIGN(AS278-AS276)+2,AP276,\"(\"&AP276&\" : \"&AP278&\")\",AP278)","v":"(((1. Gr. B : 4. Gr. C) : (2. Gr. A : 3. Gr. D)) : ((1. Gr. D : 4. Gr. A) : (2. Gr. C : 3. Gr. B)))"}]
[null,null,null,null,null,null,null,null,null,null,null,null,null,null,{"$f":"INDEX(tbl_KO_Data[T2 Src Rank],K266) & \". Gr. \" & INDEX(tbl_KO_Data[T2 Src Group],K266)","v":"3. Gr. A"},null,null,null,null,null,null,null,null,null,null,null,null,null,null,null,null,null,null,null,null,null,null,null,null,null,null,null,null,null,null,null,null,null,null,null,null,2,{"$f":"IF(AX268>AX270,AU270,IF(AX268<AX270,AU268,\"\"))","v":""}]
[]
[]
[null,null,null,2,2,2,2,2,2,null,{"$f":"KO_Data_1row+INDEX(D274:I274,KO_Rounds_Ind)","v":297},null,null,null,null,null,"K_64_A02","field x","best of n",0,null,"K_32_A02","field x","best of n",0,null,"K_16_A02","field x","best of n",0,null,"K_08_A2","field x","best of n",0,null,"K_04_A2","field x","best of n",0,null,"K_02_A1","field x","best of n",0,null,"K_01_003","field x","best of n",0]
[null,null,null,null,null,null,null,null,null,null,null,null,null,null,{"$f":"INDEX(tbl_KO_Data[T1 Src Rank],K274) & \". Gr. \" & INDEX(tbl_KO_Data[T1 Src Group],K274)","v":"1. Gr. B"},null,null,null,null,null,null,null,null,null,null,null,null,null,null,null,null,null,null,null,null,null,null,null,null,null,null,null,null,null,null,null,null,null,null,null,null,3,{"$f":"IF(AX276>AX278,AU276,IF(AX276<AX278,AU278,\"\"))","v":""}]
[null,null,null,null,null,null,null,null,null,null,null,null,null,null,null,null,{"$f":"O275","v":"1. Gr. B"},null,null,null,null,{"$f":"IF($V$16,O275,CHOOSE(SIGN(T278-T276)+2,Q276,\"(\"&Q276&\" : \"&Q278&\")\",Q278))","v":"(1. Gr. B : 4. Gr. C)"},null,null,null,null,{"$f":"IF($AA$16,O275,CHOOSE(SIGN(Y278-Y276)+2,V276,\"(\"&V276&\" : \"&V278&\")\",V278))","v":"((1. Gr. B : 4. Gr. C) : (2. Gr. A : 3. Gr. D))"},null,null,null,null,{"$f":"IF($AF$16,O275,CHOOSE(SIGN(AD278-AD276)+2,AA276,\"(\"&AA276&\" : \"&AA278&\")\",AA278))","v":"1. Gr. B"},null,null,null,null,{"$f":"IF($AK$16,O275,CHOOSE(SIGN(AI278-AI276)+2,AF276,\"(\"&AF276&\" : \"&AF278&\")\",AF278))","v":"(1. Gr. B : 4. Gr. C)"},null,null,null,null,{"$f":"IF($AP$16,O275,CHOOSE(SIGN(AN278-AN276)+2,AK276,\"(\"&AK276&\" : \"&AK278&\")\",AK278))","v":"((1. Gr. B : 4. Gr. C) : (2. Gr. A : 3. Gr. D))"},null,null,null,null,{"$f":"CHOOSE(SIGN(AS268-AS270)+2,AP268,\"(\"&AP268&\" : \"&AP270&\")\",AP270)","v":"(((1. Gr. A : 4. Gr. B) : (2. Gr. D : 3. Gr. C)) : ((1. Gr. C : 4. Gr. D) : (2. Gr. B : 3. Gr. A)))"}]
[]
[null,null,null,null,null,null,null,null,null,null,null,null,null,null,null,null,{"$f":"O279","v":"4. Gr. C"},null,null,null,null,{"$f":"IF($V$16,O279,CHOOSE(SIGN(T286-T284)+2,Q284,\"(\"&Q284&\" : \"&Q286&\")\",Q286))","v":"(2. Gr. A : 3. Gr. D)"},null,null,null,null,{"$f":"IF($AA$16,O279,CHOOSE(SIGN(Y286-Y284)+2,V284,\"(\"&V284&\" : \"&V286&\")\",V286))","v":"((1. Gr. D : 4. Gr. A) : (2. Gr. C : 3. Gr. B))"},null,null,null,null,{"$f":"IF($AF$16,O279,CHOOSE(SIGN(AD286-AD284)+2,AA284,\"(\"&AA284&\" : \"&AA286&\")\",AA286))","v":"4. Gr. C"},null,null,null,null,{"$f":"IF($AK$16,O279,CHOOSE(SIGN(AI286-AI284)+2,AF284,\"(\"&AF284&\" : \"&AF286&\")\",AF286))","v":"(2. Gr. A : 3. Gr. D)"},null,null,null,null,{"$f":"IF($AP$16,O279,CHOOSE(SIGN(AN286-AN284)+2,AK284,\"(\"&AK284&\" : \"&AK286&\")\",AK286))","v":"((1. Gr. D : 4. Gr. A) : (2. Gr. C : 3. Gr. B))"},null,null,null,null,{"$f":"CHOOSE(SIGN(AS276-AS278)+2,AP276,\"(\"&AP276&\" : \"&AP278&\")\",AP278)","v":"(((1. Gr. B : 4. Gr. C) : (2. Gr. A : 3. Gr. D)) : ((1. Gr. D : 4. Gr. A) : (2. Gr. C : 3. Gr. B)))"}]
[null,null,null,null,null,null,null,null,null,null,null,null,null,null,{"$f":"INDEX(tbl_KO_Data[T2 Src Rank],K274) & \". Gr. \" & INDEX(tbl_KO_Data[T2 Src Group],K274)","v":"4. Gr. C"},null,null,null,null,null,null,null,null,null,null,null,null,null,null,null,null,null,null,null,null,null,null,null,null,null,null,null,null,null,null,null,null,null,null,null,null,4,{"$f":"IF(AX276>AX278,AU278,IF(AX276<AX278,AU276,\"\"))","v":""}]
[]
[]
[null,null,null,null,3,7,15,31,63,null,{"$f":"KO_Data_1row+INDEX(D282:I282,KO_Rounds_Ind)","v":302},null,null,null,null,null,"K_64_A63","field x","best of n",0,null,"K_32_A31","field x","best of n",0,null,"K_16_A15","field x","best of n",0,null,"K_08_A7","field x","best of n",0,null,"K_04_A3","field x","best of n",0]
[null,null,null,null,null,null,null,null,null,null,null,null,null,null,{"$f":"INDEX(tbl_KO_Data[T1 Src Rank],K282) & \". Gr. \" & INDEX(tbl_KO_Data[T1 Src Group],K282)","v":"2. Gr. A"}]
[null,null,null,null,null,null,null,null,null,null,null,null,null,null,null,null,{"$f":"O283","v":"2. Gr. A"},null,null,null,null,{"$f":"IF($V$16,O283,CHOOSE(SIGN(T294-T292)+2,Q292,\"(\"&Q292&\" : \"&Q294&\")\",Q294))","v":"(1. Gr. D : 4. Gr. A)"},null,null,null,null,{"$f":"IF($AA$16,O283,CHOOSE(SIGN(Y294-Y292)+2,V292,\"(\"&V292&\" : \"&V294&\")\",V294))","v":"((4. Gr. B : 5. Gr. A) : (4. Gr. B : 5. Gr. A))"},null,null,null,null,{"$f":"IF($AF$16,O283,CHOOSE(SIGN(AD294-AD292)+2,AA292,\"(\"&AA292&\" : \"&AA294&\")\",AA294))","v":"2. Gr. A"},null,null,null,null,{"$f":"IF($AK$16,O283,CHOOSE(SIGN(AI294-AI292)+2,AF292,\"(\"&AF292&\" : \"&AF294&\")\",AF294))","v":"(1. Gr. D : 4. Gr. A)"}]
[]
[null,null,null,null,null,null,null,null,null,null,null,null,null,null,null,null,{"$f":"O287","v":"3. Gr. D"},null,null,null,null,{"$f":"IF($V$16,O287,CHOOSE(SIGN(T302-T300)+2,Q300,\"(\"&Q300&\" : \"&Q302&\")\",Q302))","v":"(2. Gr. C : 3. Gr. B)"},null,null,null,null,{"$f":"IF($AA$16,O287,CHOOSE(SIGN(Y302-Y300)+2,V300,\"(\"&V300&\" : \"&V302&\")\",V302))","v":"((4. Gr. B : 5. Gr. A) : (4. Gr. B : 5. Gr. A))"},null,null,null,null,{"$f":"IF($AF$16,O287,CHOOSE(SIGN(AD302-AD300)+2,AA300,\"(\"&AA300&\" : \"&AA302&\")\",AA302))","v":"3. Gr. D"},null,null,null,null,{"$f":"IF($AK$16,O287,CHOOSE(SIGN(AI302-AI300)+2,AF300,\"(\"&AF300&\" : \"&AF302&\")\",AF302))","v":"(2. Gr. C : 3. Gr. B)"}]
[null,null,null,null,null,null,null,null,null,null,null,null,null,null,{"$f":"INDEX(tbl_KO_Data[T2 Src Rank],K282) & \". Gr. \" & INDEX(tbl_KO_Data[T2 Src Group],K282)","v":"3. Gr. D"}]
[]
[]
[null,null,null,null,null,3,7,15,31,null,{"$f":"KO_Data_1row+INDEX(D290:I290,KO_Rounds_Ind)","v":298},null,null,null,null,null,"K_64_A31","field x","best of n",0,null,"K_32_A15","field x","best of n",0,null,"K_16_A07","field x","best of n",0,null,"K_08_A3","field x","best of n",0]
[null,null,null,null,null,null,null,null,null,null,null,null,null,null,{"$f":"INDEX(tbl_KO_Data[T1 Src Rank],K290) & \". Gr. \" & INDEX(tbl_KO_Data[T1 Src Group],K290)","v":"1. Gr. D"}]
[null,null,null,null,null,null,null,null,null,null,null,null,null,null,null,null,{"$f":"O291","v":"1. Gr. D"},null,null,null,null,{"$f":"IF($V$16,O291,CHOOSE(SIGN(T310-T308)+2,Q308,\"(\"&Q308&\" : \"&Q310&\")\",Q310))","v":"(4. Gr. B : 5. Gr. A)"},null,null,null,null,{"$f":"IF($AA$16,O291,CHOOSE(SIGN(Y310-Y308)+2,V308,\"(\"&V308&\" : \"&V310&\")\",V310))","v":"((4. Gr. B : 5. Gr. A) : (4. Gr. B : 5. Gr. A))"},null,null,null,null,{"$f":"IF($AF$16,O291,CHOOSE(SIGN(AD310-AD308)+2,AA308,\"(\"&AA308&\" : \"&AA310&\")\",AA310))","v":"1. Gr. D"}]
[]
[null,null,null,null,null,null,null,null,null,null,null,null,null,null,null,null,{"$f":"O295","v":"4. Gr. A"},null,null,null,null,{"$f":"IF($V$16,O295,CHOOSE(SIGN(T318-T316)+2,Q316,\"(\"&Q316&\" : \"&Q318&\")\",Q318))","v":"(4. Gr. B : 5. Gr. A)"},null,null,null,null,{"$f":"IF($AA$16,O295,CHOOSE(SIGN(Y318-Y316)+2,V316,\"(\"&V316&\" : \"&V318&\")\",V318))","v":"((4. Gr. B : 5. Gr. A) : (4. Gr. B : 5. Gr. A))"},null,null,null,null,{"$f":"IF($AF$16,O295,CHOOSE(SIGN(AD318-AD316)+2,AA316,\"(\"&AA316&\" : \"&AA318&\")\",AA318))","v":"4. Gr. A"}]
[null,null,null,null,null,null,null,null,null,null,null,null,null,null,{"$f":"INDEX(tbl_KO_Data[T2 Src Rank],K290) & \". Gr. \" & INDEX(tbl_KO_Data[T2 Src Group],K290)","v":"4. Gr. A"}]
[]
[]
[null,null,null,null,null,6,10,18,34,null,{"$f":"KO_Data_1row+INDEX(D298:I298,KO_Rounds_Ind)","v":301},null,null,null,null,null,"K_64_A34","field x","best of n",0,null,"K_32_A18","field x","best of n",0,null,"K_16_A10","field x","best of n",0,null,"K_08_A6","field x","best of n",0]
[null,null,null,null,null,null,null,null,null,null,null,null,null,null,{"$f":"INDEX(tbl_KO_Data[T1 Src Rank],K298) & \". Gr. \" & INDEX(tbl_KO_Data[T1 Src Group],K298)","v":"2. Gr. C"}]
[null,null,null,null,null,null,null,null,null,null,null,null,null,null,null,null,{"$f":"O299","v":"2. Gr. C"},null,null,null,null,{"$f":"IF($V$16,O299,CHOOSE(SIGN(T326-T324)+2,Q324,\"(\"&Q324&\" : \"&Q326&\")\",Q326))","v":"(4. Gr. B : 5. Gr. A)"},null,null,null,null,{"$f":"IF($AA$16,O299,CHOOSE(SIGN(Y326-Y324)+2,V324,\"(\"&V324&\" : \"&V326&\")\",V326))","v":"((4. Gr. B : 5. Gr. A) : (4. Gr. B : 5. Gr. A))"},null,null,null,null,{"$f":"IF($AF$16,O299,CHOOSE(SIGN(AD326-AD324)+2,AA324,\"(\"&AA324&\" : \"&AA326&\")\",AA326))","v":"2. Gr. C"}]
[]
[null,null,null,null,null,null,null,null,null,null,null,null,null,null,null,null,{"$f":"O303","v":"3. Gr. B"},null,null,null,null,{"$f":"IF($V$16,O303,CHOOSE(SIGN(T334-T332)+2,Q332,\"(\"&Q332&\" : \"&Q334&\")\",Q334))","v":"(4. Gr. B : 5. Gr. A)"},null,null,null,null,{"$f":"IF($AA$16,O303,CHOOSE(SIGN(Y334-Y332)+2,V332,\"(\"&V332&\" : \"&V334&\")\",V334))","v":"((4. Gr. B : 5. Gr. A) : (4. Gr. B : 5. Gr. A))"},null,null,null,null,{"$f":"IF($AF$16,O303,CHOOSE(SIGN(AD334-AD332)+2,AA332,\"(\"&AA332&\" : \"&AA334&\")\",AA334))","v":"3. Gr. B"}]
[null,null,null,null,null,null,null,null,null,null,null,null,null,null,{"$f":"INDEX(tbl_KO_Data[T2 Src Rank],K298) & \". Gr. \" & INDEX(tbl_KO_Data[T2 Src Group],K298)","v":"3. Gr. B"}]
[]
[]
[null,null,null,null,null,null,3,7,15,null,{"$f":"KO_Data_1row+INDEX(D306:I306,KO_Rounds_Ind)","v":295},null,null,null,null,null,"K_64_A15","field x","best of n",0,null,"K_32_A07","field x","best of n",0,null,"K_16_A03","field x","best of n",0]
[null,null,null,null,null,null,null,null,null,null,null,null,null,null,{"$f":"INDEX(tbl_KO_Data[T1 Src Rank],K306) & \". Gr. \" & INDEX(tbl_KO_Data[T1 Src Group],K306)","v":"4. Gr. B"}]
[null,null,null,null,null,null,null,null,null,null,null,null,null,null,null,null,{"$f":"O307","v":"4. Gr. B"},null,null,null,null,{"$f":"IF($V$16,O307,CHOOSE(SIGN(T342-T340)+2,Q340,\"(\"&Q340&\" : \"&Q342&\")\",Q342))","v":"(4. Gr. B : 5. Gr. A)"},null,null,null,null,{"$f":"IF($AA$16,O307,CHOOSE(SIGN(Y342-Y340)+2,V340,\"(\"&V340&\" : \"&V342&\")\",V342))","v":"((4. Gr. B : 5. Gr. A) : (4. Gr. B : 5. Gr. A))"}]
[]
[null,null,null,null,null,null,null,null,null,null,null,null,null,null,null,null,{"$f":"O311","v":"5. Gr. A"},null,null,null,null,{"$f":"IF($V$16,O311,CHOOSE(SIGN(T350-T348)+2,Q348,\"(\"&Q348&\" : \"&Q350&\")\",Q350))","v":"(4. Gr. B : 5. Gr. A)"},null,null,null,null,{"$f":"IF($AA$16,O311,CHOOSE(SIGN(Y350-Y348)+2,V348,\"(\"&V348&\" : \"&V350&\")\",V350))","v":"((4. Gr. B : 5. Gr. A) : (4. Gr. B : 5. Gr. A))"}]
[null,null,null,null,null,null,null,null,null,null,null,null,null,null,{"$f":"INDEX(tbl_KO_Data[T2 Src Rank],K306) & \". Gr. \" & INDEX(tbl_KO_Data[T2 Src Group],K306)","v":"5. Gr. A"}]
[]
[]
[null,null,null,null,null,null,14,26,50,null,{"$f":"KO_Data_1row+INDEX(D314:I314,KO_Rounds_Ind)","v":295},null,null,null,null,null,"K_64_A50","field x","best of n",0,null,"K_32_A26","field x","best of n",0,null,"K_16_A14","field x","best of n",0]
[null,null,null,null,null,null,null,null,null,null,null,null,null,null,{"$f":"INDEX(tbl_KO_Data[T1 Src Rank],K314) & \". Gr. \" & INDEX(tbl_KO_Data[T1 Src Group],K314)","v":"4. Gr. B"}]
[null,null,null,null,null,null,null,null,null,null,null,null,null,null,null,null,{"$f":"O315","v":"4. Gr. B"},null,null,null,null,{"$f":"IF($V$16,O315,CHOOSE(SIGN(T358-T356)+2,Q356,\"(\"&Q356&\" : \"&Q358&\")\",Q358))","v":"(4. Gr. B : 5. Gr. A)"},null,null,null,null,{"$f":"IF($AA$16,O315,CHOOSE(SIGN(Y358-Y356)+2,V356,\"(\"&V356&\" : \"&V358&\")\",V358))","v":"((4. Gr. B : 5. Gr. A) : (4. Gr. B : 5. Gr. A))"}]
[]
[null,null,null,null,null,null,null,null,null,null,null,null,null,null,null,null,{"$f":"O319","v":"5. Gr. A"},null,null,null,null,{"$f":"IF($V$16,O319,CHOOSE(SIGN(T366-T364)+2,Q364,\"(\"&Q364&\" : \"&Q366&\")\",Q366))","v":"(4. Gr. B : 5. Gr. A)"},null,null,null,null,{"$f":"IF($AA$16,O319,CHOOSE(SIGN(Y366-Y364)+2,V364,\"(\"&V364&\" : \"&V366&\")\",V366))","v":"((4. Gr. B : 5. Gr. A) : (4. Gr. B : 5. Gr. A))"}]
[null,null,null,null,null,null,null,null,null,null,null,null,null,null,{"$f":"INDEX(tbl_KO_Data[T2 Src Rank],K314) & \". Gr. \" & INDEX(tbl_KO_Data[T2 Src Group],K314)","v":"5. Gr. A"}]
[]
[]
[null,null,null,null,null,null,6,10,18,null,{"$f":"KO_Data_1row+INDEX(D322:I322,KO_Rounds_Ind)","v":295},null,null,null,null,null,"K_64_A18","field x","best of n",0,null,"K_32_A10","field x","best of n",0,null,"K_16_A06","field x","best of n",0]
[null,null,null,null,null,null,null,null,null,null,null,null,null,null,{"$f":"INDEX(tbl_KO_Data[T1 Src Rank],K322) & \". Gr. \" & INDEX(tbl_KO_Data[T1 Src Group],K322)","v":"4. Gr. B"}]
[null,null,null,null,null,null,null,null,null,null,null,null,null,null,null,null,{"$f":"O323","v":"4. Gr. B"},null,null,null,null,{"$f":"IF($V$16,O323,CHOOSE(SIGN(T374-T372)+2,Q372,\"(\"&Q372&\" : \"&Q374&\")\",Q374))","v":"(4. Gr. B : 5. Gr. A)"},null,null,null,null,{"$f":"IF($AA$16,O323,CHOOSE(SIGN(Y374-Y372)+2,V372,\"(\"&V372&\" : \"&V374&\")\",V374))","v":"((4. Gr. B : 5. Gr. A) : (4. Gr. B : 5. Gr. A))"}]
[]
[null,null,null,null,null,null,null,null,null,null,null,null,null,null,null,null,{"$f":"O327","v":"5. Gr. A"},null,null,null,null,{"$f":"IF($V$16,O327,CHOOSE(SIGN(T382-T380)+2,Q380,\"(\"&Q380&\" : \"&Q382&\")\",Q382))","v":"(4. Gr. B : 5. Gr. A)"},null,null,null,null,{"$f":"IF($AA$16,O327,CHOOSE(SIGN(Y382-Y380)+2,V380,\"(\"&V380&\" : \"&V382&\")\",V382))","v":"((4. Gr. B : 5. Gr. A) : (4. Gr. B : 5. Gr. A))"}]
[null,null,null,null,null,null,null,null,null,null,null,null,null,null,{"$f":"INDEX(tbl_KO_Data[T2 Src Rank],K322) & \". Gr. \" & INDEX(tbl_KO_Data[T2 Src Group],K322)","v":"5. Gr. A"}]
[]
[]
[null,null,null,null,null,null,11,23,47,null,{"$f":"KO_Data_1row+INDEX(D330:I330,KO_Rounds_Ind)","v":295},null,null,null,null,null,"K_64_A47","field x","best of n",0,null,"K_32_A23","field x","best of n",0,null,"K_16_A11","field x","best of n",0]
[null,null,null,null,null,null,null,null,null,null,null,null,null,null,{"$f":"INDEX(tbl_KO_Data[T1 Src Rank],K330) & \". Gr. \" & INDEX(tbl_KO_Data[T1 Src Group],K330)","v":"4. Gr. B"}]
[null,null,null,null,null,null,null,null,null,null,null,null,null,null,null,null,{"$f":"O331","v":"4. Gr. B"},null,null,null,null,{"$f":"IF($V$16,O331,CHOOSE(SIGN(T390-T388)+2,Q388,\"(\"&Q388&\" : \"&Q390&\")\",Q390))","v":"(4. Gr. B : 5. Gr. A)"},null,null,null,null,{"$f":"IF($AA$16,O331,CHOOSE(SIGN(Y390-Y388)+2,V388,\"(\"&V388&\" : \"&V390&\")\",V390))","v":"((4. Gr. B : 5. Gr. A) : (4. Gr. B : 5. Gr. A))"}]
[]
[null,null,null,null,null,null,null,null,null,null,null,null,null,null,null,null,{"$f":"O335","v":"5. Gr. A"},null,null,null,null,{"$f":"IF($V$16,O335,CHOOSE(SIGN(T398-T396)+2,Q396,\"(\"&Q396&\" : \"&Q398&\")\",Q398))","v":"(4. Gr. B : 5. Gr. A)"},null,null,null,null,{"$f":"IF($AA$16,O335,CHOOSE(SIGN(Y398-Y396)+2,V396,\"(\"&V396&\" : \"&V398&\")\",V398))","v":"((4. Gr. B : 5. Gr. A) : (4. Gr. B : 5. Gr. A))"}]
[null,null,null,null,null,null,null,null,null,null,null,null,null,null,{"$f":"INDEX(tbl_KO_Data[T2 Src Rank],K330) & \". Gr. \" & INDEX(tbl_KO_Data[T2 Src Group],K330)","v":"5. Gr. A"}]
[]
[]
[null,null,null,null,null,null,null,3,7,null,{"$f":"KO_Data_1row+INDEX(D338:I338,KO_Rounds_Ind)","v":295},null,null,null,null,null,"K_64_A07","field x","best of n",0,null,"K_32_A03","field x","best of n",0]
[null,null,null,null,null,null,null,null,null,null,null,null,null,null,{"$f":"INDEX(tbl_KO_Data[T1 Src Rank],K338) & \". Gr. \" & INDEX(tbl_KO_Data[T1 Src Group],K338)","v":"4. Gr. B"}]
[null,null,null,null,null,null,null,null,null,null,null,null,null,null,null,null,{"$f":"O339","v":"4. Gr. B"},null,null,null,null,{"$f":"IF($V$16,O339,CHOOSE(SIGN(T406-T404)+2,Q404,\"(\"&Q404&\" : \"&Q406&\")\",Q406))","v":"(4. Gr. B : 5. Gr. A)"}]
[]
[null,null,null,null,null,null,null,null,null,null,null,null,null,null,null,null,{"$f":"O343","v":"5. Gr. A"},null,null,null,null,{"$f":"IF($V$16,O343,CHOOSE(SIGN(T414-T412)+2,Q412,\"(\"&Q412&\" : \"&Q414&\")\",Q414))","v":"(4. Gr. B : 5. Gr. A)"}]
[null,null,null,null,null,null,null,null,null,null,null,null,null,null,{"$f":"INDEX(tbl_KO_Data[T2 Src Rank],K338) & \". Gr. \" & INDEX(tbl_KO_Data[T2 Src Group],K338)","v":"5. Gr. A"}]
[]
[]
[null,null,null,null,null,null,null,30,58,null,{"$f":"KO_Data_1row+INDEX(D346:I346,KO_Rounds_Ind)","v":295},null,null,null,null,null,"K_64_A58","field x","best of n",0,null,"K_32_A30","field x","best of n",0]
[null,null,null,null,null,null,null,null,null,null,null,null,null,null,{"$f":"INDEX(tbl_KO_Data[T1 Src Rank],K346) & \". Gr. \" & INDEX(tbl_KO_Data[T1 Src Group],K346)","v":"4. Gr. B"}]
[null,null,null,null,null,null,null,null,null,null,null,null,null,null,null,null,{"$f":"O347","v":"4. Gr. B"},null,null,null,null,{"$f":"IF($V$16,O347,CHOOSE(SIGN(T422-T420)+2,Q420,\"(\"&Q420&\" : \"&Q422&\")\",Q422))","v":"(4. Gr. B : 5. Gr. A)"}]
[]
[null,null,null,null,null,null,null,null,null,null,null,null,null,null,null,null,{"$f":"O351","v":"5. Gr. A"},null,null,null,null,{"$f":"IF($V$16,O351,CHOOSE(SIGN(T430-T428)+2,Q428,\"(\"&Q428&\" : \"&Q430&\")\",Q430))","v":"(4. Gr. B : 5. Gr. A)"}]
[null,null,null,null,null,null,null,null,null,null,null,null,null,null,{"$f":"INDEX(tbl_KO_Data[T2 Src Rank],K346) & \". Gr. \" & INDEX(tbl_KO_Data[T2 Src Group],K346)","v":"5. Gr. A"}]
[]
[]
[null,null,null,null,null,null,null,14,26,null,{"$f":"KO_Data_1row+INDEX(D354:I354,KO_Rounds_Ind)","v":295},null,null,null,null,null,"K_64_A26","field x","best of n",0,null,"K_32_A14","field x","best of n",0]
[null,null,null,null,null,null,null,null,null,null,null,null,null,null,{"$f":"INDEX(tbl_KO_Data[T1 Src Rank],K354) & \". Gr. \" & INDEX(tbl_KO_Data[T1 Src Group],K354)","v":"4. Gr. B"}]
[null,null,null,null,null,null,null,null,null,null,null,null,null,null,null,null,{"$f":"O355","v":"4. Gr. B"},null,null,null,null,{"$f":"IF($V$16,O355,CHOOSE(SIGN(T438-T436)+2,Q436,\"(\"&Q436&\" : \"&Q438&\")\",Q438))","v":"(4. Gr. B : 5. Gr. A)"}]
[]
[null,null,null,null,null,null,null,null,null,null,null,null,null,null,null,null,{"$f":"O359","v":"5. Gr. A"},null,null,null,null,{"$f":"IF($V$16,O359,CHOOSE(SIGN(T446-T444)+2,Q444,\"(\"&Q444&\" : \"&Q446&\")\",Q446))","v":"(4. Gr. B : 5. Gr. A)"}]
[null,null,null,null,null,null,null,null,null,null,null,null,null,null,{"$f":"INDEX(tbl_KO_Data[T2 Src Rank],K354) & \". Gr. \" & INDEX(tbl_KO_Data[T2 Src Group],K354)","v":"5. Gr. A"}]
[]
[]
[null,null,null,null,null,null,null,19,39,null,{"$f":"KO_Data_1row+INDEX(D362:I362,KO_Rounds_Ind)","v":295},null,null,null,null,null,"K_64_A39","field x","best of n",0,null,"K_32_A19","field x","best of n",0]
[null,null,null,null,null,null,null,null,null,null,null,null,null,null,{"$f":"INDEX(tbl_KO_Data[T1 Src Rank],K362) & \". Gr. \" & INDEX(tbl_KO_Data[T1 Src Group],K362)","v":"4. Gr. B"}]
[null,null,null,null,null,null,null,null,null,null,null,null,null,null,null,null,{"$f":"O363","v":"4. Gr. B"},null,null,null,null,{"$f":"IF($V$16,O363,CHOOSE(SIGN(T454-T452)+2,Q452,\"(\"&Q452&\" : \"&Q454&\")\",Q454))","v":"(4. Gr. B : 5. Gr. A)"}]
[]
[null,null,null,null,null,null,null,null,null,null,null,null,null,null,null,null,{"$f":"O367","v":"5. Gr. A"},null,null,null,null,{"$f":"IF($V$16,O367,CHOOSE(SIGN(T462-T460)+2,Q460,\"(\"&Q460&\" : \"&Q462&\")\",Q462))","v":"(4. Gr. B : 5. Gr. A)"}]
[null,null,null,null,null,null,null,null,null,null,null,null,null,null,{"$f":"INDEX(tbl_KO_Data[T2 Src Rank],K362) & \". Gr. \" & INDEX(tbl_KO_Data[T2 Src Group],K362)","v":"5. Gr. A"}]
[]
[]
[null,null,null,null,null,null,null,6,10,null,{"$f":"KO_Data_1row+INDEX(D370:I370,KO_Rounds_Ind)","v":295},null,null,null,null,null,"K_64_A10","field x","best of n",0,null,"K_32_A06","field x","best of n",0]
[null,null,null,null,null,null,null,null,null,null,null,null,null,null,{"$f":"INDEX(tbl_KO_Data[T1 Src Rank],K370) & \". Gr. \" & INDEX(tbl_KO_Data[T1 Src Group],K370)","v":"4. Gr. B"}]
[null,null,null,null,null,null,null,null,null,null,null,null,null,null,null,null,{"$f":"O371","v":"4. Gr. B"},null,null,null,null,{"$f":"IF($V$16,O371,CHOOSE(SIGN(T470-T468)+2,Q468,\"(\"&Q468&\" : \"&Q470&\")\",Q470))","v":"(4. Gr. B : 5. Gr. A)"}]
[]
[null,null,null,null,null,null,null,null,null,null,null,null,null,null,null,null,{"$f":"O375","v":"5. Gr. A"},null,null,null,null,{"$f":"IF($V$16,O375,CHOOSE(SIGN(T478-T476)+2,Q476,\"(\"&Q476&\" : \"&Q478&\")\",Q478))","v":"(4. Gr. B : 5. Gr. A)"}]
[null,null,null,null,null,null,null,null,null,null,null,null,null,null,{"$f":"INDEX(tbl_KO_Data[T2 Src Rank],K370) & \". Gr. \" & INDEX(tbl_KO_Data[T2 Src Group],K370)","v":"5. Gr. A"}]
[]
[]
[null,null,null,null,null,null,null,27,55,null,{"$f":"KO_Data_1row+INDEX(D378:I378,KO_Rounds_Ind)","v":295},null,null,null,null,null,"K_64_A55","field x","best of n",0,null,"K_32_A27","field x","best of n",0]
[null,null,null,null,null,null,null,null,null,null,null,null,null,null,{"$f":"INDEX(tbl_KO_Data[T1 Src Rank],K378) & \". Gr. \" & INDEX(tbl_KO_Data[T1 Src Group],K378)","v":"4. Gr. B"}]
[null,null,null,null,null,null,null,null,null,null,null,null,null,null,null,null,{"$f":"O379","v":"4. Gr. B"},null,null,null,null,{"$f":"IF($V$16,O379,CHOOSE(SIGN(T486-T484)+2,Q484,\"(\"&Q484&\" : \"&Q486&\")\",Q486))","v":"(4. Gr. B : 5. Gr. A)"}]
[]
[null,null,null,null,null,null,null,null,null,null,null,null,null,null,null,null,{"$f":"O383","v":"5. Gr. A"},null,null,null,null,{"$f":"IF($V$16,O383,CHOOSE(SIGN(T494-T492)+2,Q492,\"(\"&Q492&\" : \"&Q494&\")\",Q494))","v":"(4. Gr. B : 5. Gr. A)"}]
[null,null,null,null,null,null,null,null,null,null,null,null,null,null,{"$f":"INDEX(tbl_KO_Data[T2 Src Rank],K378) & \". Gr. \" & INDEX(tbl_KO_Data[T2 Src Group],K378)","v":"5. Gr. A"}]
[]
[]
[null,null,null,null,null,null,null,11,23,null,{"$f":"KO_Data_1row+INDEX(D386:I386,KO_Rounds_Ind)","v":295},null,null,null,null,null,"K_64_A23","field x","best of n",0,null,"K_32_A11","field x","best of n",0]
[null,null,null,null,null,null,null,null,null,null,null,null,null,null,{"$f":"INDEX(tbl_KO_Data[T1 Src Rank],K386) & \". Gr. \" & INDEX(tbl_KO_Data[T1 Src Group],K386)","v":"4. Gr. B"}]
[null,null,null,null,null,null,null,null,null,null,null,null,null,null,null,null,{"$f":"O387","v":"4. Gr. B"},null,null,null,null,{"$f":"IF($V$16,O387,CHOOSE(SIGN(T502-T500)+2,Q500,\"(\"&Q500&\" : \"&Q502&\")\",Q502))","v":"(4. Gr. B : 5. Gr. A)"}]
[]
[null,null,null,null,null,null,null,null,null,null,null,null,null,null,null,null,{"$f":"O391","v":"5. Gr. A"},null,null,null,null,{"$f":"IF($V$16,O391,CHOOSE(SIGN(T510-T508)+2,Q508,\"(\"&Q508&\" : \"&Q510&\")\",Q510))","v":"(4. Gr. B : 5. Gr. A)"}]
[null,null,null,null,null,null,null,null,null,null,null,null,null,null,{"$f":"INDEX(tbl_KO_Data[T2 Src Rank],K386) & \". Gr. \" & INDEX(tbl_KO_Data[T2 Src Group],K386)","v":"5. Gr. A"}]
[]
[]
[null,null,null,null,null,null,null,22,42,null,{"$f":"KO_Data_1row+INDEX(D394:I394,KO_Rounds_Ind)","v":295},null,null,null,null,null,"K_64_A42","field x","best of n",0,null,"K_32_A22","field x","best of n",0]
[null,null,null,null,null,null,null,null,null,null,null,null,null,null,{"$f":"INDEX(tbl_KO_Data[T1 Src Rank],K394) & \". Gr. \" & INDEX(tbl_KO_Data[T1 Src Group],K394)","v":"4. Gr. B"}]
[null,null,null,null,null,null,null,null,null,null,null,null,null,null,null,null,{"$f":"O395","v":"4. Gr. B"},null,null,null,null,{"$f":"IF($V$16,O395,CHOOSE(SIGN(T518-T516)+2,Q516,\"(\"&Q516&\" : \"&Q518&\")\",Q518))","v":"(4. Gr. B : 5. Gr. A)"}]
[]
[null,null,null,null,null,null,null,null,null,null,null,null,null,null,null,null,{"$f":"O399","v":"5. Gr. A"},null,null,null,null,{"$f":"IF($V$16,O399,CHOOSE(SIGN(T526-T524)+2,Q524,\"(\"&Q524&\" : \"&Q526&\")\",Q526))","v":"(4. Gr. B : 5. Gr. A)"}]
[null,null,null,null,null,null,null,null,null,null,null,null,null,null,{"$f":"INDEX(tbl_KO_Data[T2 Src Rank],K394) & \". Gr. \" & INDEX(tbl_KO_Data[T2 Src Group],K394)","v":"5. Gr. A"}]
[]
[]
[null,null,null,null,null,null,null,null,3,null,{"$f":"KO_Data_1row+INDEX(D402:I402,KO_Rounds_Ind)","v":295},null,null,null,null,null,"K_64_A03","field x","best of n",0]
[null,null,null,null,null,null,null,null,null,null,null,null,null,null,{"$f":"INDEX(tbl_KO_Data[T1 Src Rank],K402) & \". Gr. \" & INDEX(tbl_KO_Data[T1 Src Group],K402)","v":"4. Gr. B"}]
[null,null,null,null,null,null,null,null,null,null,null,null,null,null,null,null,{"$f":"O403","v":"4. Gr. B"}]
[]
[null,null,null,null,null,null,null,null,null,null,null,null,null,null,null,null,{"$f":"O407","v":"5. Gr. A"}]
[null,null,null,null,null,null,null,null,null,null,null,null,null,null,{"$f":"INDEX(tbl_KO_Data[T2 Src Rank],K402) & \". Gr. \" & INDEX(tbl_KO_Data[T2 Src Group],K402)","v":"5. Gr. A"}]
[]
[]
[null,null,null,null,null,null,null,null,62,null,{"$f":"KO_Data_1row+INDEX(D410:I410,KO_Rounds_Ind)","v":295},null,null,null,null,null,"K_64_A62","field x","best of n",0]
[null,null,null,null,null,null,null,null,null,null,null,null,null,null,{"$f":"INDEX(tbl_KO_Data[T1 Src Rank],K410) & \". Gr. \" & INDEX(tbl_KO_Data[T1 Src Group],K410)","v":"4. Gr. B"}]
[null,null,null,null,null,null,null,null,null,null,null,null,null,null,null,null,{"$f":"O411","v":"4. Gr. B"}]
[]
[null,null,null,null,null,null,null,null,null,null,null,null,null,null,null,null,{"$f":"O415","v":"5. Gr. A"}]
[null,null,null,null,null,null,null,null,null,null,null,null,null,null,{"$f":"INDEX(tbl_KO_Data[T2 Src Rank],K410) & \". Gr. \" & INDEX(tbl_KO_Data[T2 Src Group],K410)","v":"5. Gr. A"}]
[]
[]
[null,null,null,null,null,null,null,null,30,null,{"$f":"KO_Data_1row+INDEX(D418:I418,KO_Rounds_Ind)","v":295},null,null,null,null,null,"K_64_A30","field x","best of n",0]
[null,null,null,null,null,null,null,null,null,null,null,null,null,null,{"$f":"INDEX(tbl_KO_Data[T1 Src Rank],K418) & \". Gr. \" & INDEX(tbl_KO_Data[T1 Src Group],K418)","v":"4. Gr. B"}]
[null,null,null,null,null,null,null,null,null,null,null,null,null,null,null,null,{"$f":"O419","v":"4. Gr. B"}]
[]
[null,null,null,null,null,null,null,null,null,null,null,null,null,null,null,null,{"$f":"O423","v":"5. Gr. A"}]
[null,null,null,null,null,null,null,null,null,null,null,null,null,null,{"$f":"INDEX(tbl_KO_Data[T2 Src Rank],K418) & \". Gr. \" & INDEX(tbl_KO_Data[T2 Src Group],K418)","v":"5. Gr. A"}]
[]
[]
[null,null,null,null,null,null,null,null,35,null,{"$f":"KO_Data_1row+INDEX(D426:I426,KO_Rounds_Ind)","v":295},null,null,null,null,null,"K_64_A35","field x","best of n",0]
[null,null,null,null,null,null,null,null,null,null,null,null,null,null,{"$f":"INDEX(tbl_KO_Data[T1 Src Rank],K426) & \". Gr. \" & INDEX(tbl_KO_Data[T1 Src Group],K426)","v":"4. Gr. B"}]
[null,null,null,null,null,null,null,null,null,null,null,null,null,null,null,null,{"$f":"O427","v":"4. Gr. B"}]
[]
[null,null,null,null,null,null,null,null,null,null,null,null,null,null,null,null,{"$f":"O431","v":"5. Gr. A"}]
[null,null,null,null,null,null,null,null,null,null,null,null,null,null,{"$f":"INDEX(tbl_KO_Data[T2 Src Rank],K426) & \". Gr. \" & INDEX(tbl_KO_Data[T2 Src Group],K426)","v":"5. Gr. A"}]
[]
[]
[null,null,null,null,null,null,null,null,14,null,{"$f":"KO_Data_1row+INDEX(D434:I434,KO_Rounds_Ind)","v":295},null,null,null,null,null,"K_64_A14","field x","best of n",0]
[null,null,null,null,null,null,null,null,null,null,null,null,null,null,{"$f":"INDEX(tbl_KO_Data[T1 Src Rank],K434) & \". Gr. \" & INDEX(tbl_KO_Data[T1 Src Group],K434)","v":"4. Gr. B"}]
[null,null,null,null,null,null,null,null,null,null,null,null,null,null,null,null,{"$f":"O435","v":"4. Gr. B"}]
[]
[null,null,null,null,null,null,null,null,null,null,null,null,null,null,null,null,{"$f":"O439","v":"5. Gr. A"}]
[null,null,null,null,null,null,null,null,null,null,null,null,null,null,{"$f":"INDEX(tbl_KO_Data[T2 Src Rank],K434) & \". Gr. \" & INDEX(tbl_KO_Data[T2 Src Group],K434)","v":"5. Gr. A"}]
[]
[]
[null,null,null,null,null,null,null,null,51,null,{"$f":"KO_Data_1row+INDEX(D442:I442,KO_Rounds_Ind)","v":295},null,null,null,null,null,"K_64_A51","field x","best of n",0]
[null,null,null,null,null,null,null,null,null,null,null,null,null,null,{"$f":"INDEX(tbl_KO_Data[T1 Src Rank],K442) & \". Gr. \" & INDEX(tbl_KO_Data[T1 Src Group],K442)","v":"4. Gr. B"}]
[null,null,null,null,null,null,null,null,null,null,null,null,null,null,null,null,{"$f":"O443","v":"4. Gr. B"}]
[]
[null,null,null,null,null,null,null,null,null,null,null,null,null,null,null,null,{"$f":"O447","v":"5. Gr. A"}]
[null,null,null,null,null,null,null,null,null,null,null,null,null,null,{"$f":"INDEX(tbl_KO_Data[T2 Src Rank],K442) & \". Gr. \" & INDEX(tbl_KO_Data[T2 Src Group],K442)","v":"5. Gr. A"}]
[]
[]
[null,null,null,null,null,null,null,null,19,null,{"$f":"KO_Data_1row+INDEX(D450:I450,KO_Rounds_Ind)","v":295},null,null,null,null,null,"K_64_A19","field x","best of n",0]
[null,null,null,null,null,null,null,null,null,null,null,null,null,null,{"$f":"INDEX(tbl_KO_Data[T1 Src Rank],K450) & \". Gr. \" & INDEX(tbl_KO_Data[T1 Src Group],K450)","v":"4. Gr. B"}]
[null,null,null,null,null,null,null,null,null,null,null,null,null,null,null,null,{"$f":"O451","v":"4. Gr. B"}]
[]
[null,null,null,null,null,null,null,null,null,null,null,null,null,null,null,null,{"$f":"O455","v":"5. Gr. A"}]
[null,null,null,null,null,null,null,null,null,null,null,null,null,null,{"$f":"INDEX(tbl_KO_Data[T2 Src Rank],K450) & \". Gr. \" & INDEX(tbl_KO_Data[T2 Src Group],K450)","v":"5. Gr. A"}]
[]
[]
[null,null,null,null,null,null,null,null,46,null,{"$f":"KO_Data_1row+INDEX(D458:I458,KO_Rounds_Ind)","v":295},null,null,null,null,null,"K_64_A46","field x","best of n",0]
[null,null,null,null,null,null,null,null,null,null,null,null,null,null,{"$f":"INDEX(tbl_KO_Data[T1 Src Rank],K458) & \". Gr. \" & INDEX(tbl_KO_Data[T1 Src Group],K458)","v":"4. Gr. B"}]
[null,null,null,null,null,null,null,null,null,null,null,null,null,null,null,null,{"$f":"O459","v":"4. Gr. B"}]
[]
[null,null,null,null,null,null,null,null,null,null,null,null,null,null,null,null,{"$f":"O463","v":"5. Gr. A"}]
[null,null,null,null,null,null,null,null,null,null,null,null,null,null,{"$f":"INDEX(tbl_KO_Data[T2 Src Rank],K458) & \". Gr. \" & INDEX(tbl_KO_Data[T2 Src Group],K458)","v":"5. Gr. A"}]
[]
[]
[null,null,null,null,null,null,null,null,6,null,{"$f":"KO_Data_1row+INDEX(D466:I466,KO_Rounds_Ind)","v":295},null,null,null,null,null,"K_64_A06","field x","best of n",0]
[null,null,null,null,null,null,null,null,null,null,null,null,null,null,{"$f":"INDEX(tbl_KO_Data[T1 Src Rank],K466) & \". Gr. \" & INDEX(tbl_KO_Data[T1 Src Group],K466)","v":"4. Gr. B"}]
[null,null,null,null,null,null,null,null,null,null,null,null,null,null,null,null,{"$f":"O467","v":"4. Gr. B"}]
[]
[null,null,null,null,null,null,null,null,null,null,null,null,null,null,null,null,{"$f":"O471","v":"5. Gr. A"}]
[null,null,null,null,null,null,null,null,null,null,null,null,null,null,{"$f":"INDEX(tbl_KO_Data[T2 Src Rank],K466) & \". Gr. \" & INDEX(tbl_KO_Data[T2 Src Group],K466)","v":"5. Gr. A"}]
[]
[]
[null,null,null,null,null,null,null,null,59,null,{"$f":"KO_Data_1row+INDEX(D474:I474,KO_Rounds_Ind)","v":295},null,null,null,null,null,"K_64_A59","field x","best of n",0]
[null,null,null,null,null,null,null,null,null,null,null,null,null,null,{"$f":"INDEX(tbl_KO_Data[T1 Src Rank],K474) & \". Gr. \" & INDEX(tbl_KO_Data[T1 Src Group],K474)","v":"4. Gr. B"}]
[null,null,null,null,null,null,null,null,null,null,null,null,null,null,null,null,{"$f":"O475","v":"4. Gr. B"}]
[]
[null,null,null,null,null,null,null,null,null,null,null,null,null,null,null,null,{"$f":"O479","v":"5. Gr. A"}]
[null,null,null,null,null,null,null,null,null,null,null,null,null,null,{"$f":"INDEX(tbl_KO_Data[T2 Src Rank],K474) & \". Gr. \" & INDEX(tbl_KO_Data[T2 Src Group],K474)","v":"5. Gr. A"}]
[]
[]
[null,null,null,null,null,null,null,null,27,null,{"$f":"KO_Data_1row+INDEX(D482:I482,KO_Rounds_Ind)","v":295},null,null,null,null,null,"K_64_A27","field x","best of n",0]
[null,null,null,null,null,null,null,null,null,null,null,null,null,null,{"$f":"INDEX(tbl_KO_Data[T1 Src Rank],K482) & \". Gr. \" & INDEX(tbl_KO_Data[T1 Src Group],K482)","v":"4. Gr. B"}]
[null,null,null,null,null,null,null,null,null,null,null,null,null,null,null,null,{"$f":"O483","v":"4. Gr. B"}]
[]
[null,null,null,null,null,null,null,null,null,null,null,null,null,null,null,null,{"$f":"O487","v":"5. Gr. A"}]
[null,null,null,null,null,null,null,null,null,null,null,null,null,null,{"$f":"INDEX(tbl_KO_Data[T2 Src Rank],K482) & \". Gr. \" & INDEX(tbl_KO_Data[T2 Src Group],K482)","v":"5. Gr. A"}]
[]
[]
[null,null,null,null,null,null,null,null,38,null,{"$f":"KO_Data_1row+INDEX(D490:I490,KO_Rounds_Ind)","v":295},null,null,null,null,null,"K_64_A38","field x","best of n",0]
[null,null,null,null,null,null,null,null,null,null,null,null,null,null,{"$f":"INDEX(tbl_KO_Data[T1 Src Rank],K490) & \". Gr. \" & INDEX(tbl_KO_Data[T1 Src Group],K490)","v":"4. Gr. B"}]
[null,null,null,null,null,null,null,null,null,null,null,null,null,null,null,null,{"$f":"O491","v":"4. Gr. B"}]
[]
[null,null,null,null,null,null,null,null,null,null,null,null,null,null,null,null,{"$f":"O495","v":"5. Gr. A"}]
[null,null,null,null,null,null,null,null,null,null,null,null,null,null,{"$f":"INDEX(tbl_KO_Data[T2 Src Rank],K490) & \". Gr. \" & INDEX(tbl_KO_Data[T2 Src Group],K490)","v":"5. Gr. A"}]
[]
[]
[null,null,null,null,null,null,null,null,11,null,{"$f":"KO_Data_1row+INDEX(D498:I498,KO_Rounds_Ind)","v":295},null,null,null,null,null,"K_64_A11","field x","best of n",0]
[null,null,null,null,null,null,null,null,null,null,null,null,null,null,{"$f":"INDEX(tbl_KO_Data[T1 Src Rank],K498) & \". Gr. \" & INDEX(tbl_KO_Data[T1 Src Group],K498)","v":"4. Gr. B"}]
[null,null,null,null,null,null,null,null,null,null,null,null,null,null,null,null,{"$f":"O499","v":"4. Gr. B"}]
[]
[null,null,null,null,null,null,null,null,null,null,null,null,null,null,null,null,{"$f":"O503","v":"5. Gr. A"}]
[null,null,null,null,null,null,null,null,null,null,null,null,null,null,{"$f":"INDEX(tbl_KO_Data[T2 Src Rank],K498) & \". Gr. \" & INDEX(tbl_KO_Data[T2 Src Group],K498)","v":"5. Gr. A"}]
[]
[]
[null,null,null,null,null,null,null,null,54,null,{"$f":"KO_Data_1row+INDEX(D506:I506,KO_Rounds_Ind)","v":295},null,null,null,null,null,"K_64_A54","field x","best of n",0]
[null,null,null,null,null,null,null,null,null,null,null,null,null,null,{"$f":"INDEX(tbl_KO_Data[T1 Src Rank],K506) & \". Gr. \" & INDEX(tbl_KO_Data[T1 Src Group],K506)","v":"4. Gr. B"}]
[null,null,null,null,null,null,null,null,null,null,null,null,null,null,null,null,{"$f":"O507","v":"4. Gr. B"}]
[]
[null,null,null,null,null,null,null,null,null,null,null,null,null,null,null,null,{"$f":"O511","v":"5. Gr. A"}]
[null,null,null,null,null,null,null,null,null,null,null,null,null,null,{"$f":"INDEX(tbl_KO_Data[T2 Src Rank],K506) & \". Gr. \" & INDEX(tbl_KO_Data[T2 Src Group],K506)","v":"5. Gr. A"}]
[]
[]
[null,null,null,null,null,null,null,null,22,null,{"$f":"KO_Data_1row+INDEX(D514:I514,KO_Rounds_Ind)","v":295},null,null,null,null,null,"K_64_A22","field x","best of n",0]
[null,null,null,null,null,null,null,null,null,null,null,null,null,null,{"$f":"INDEX(tbl_KO_Data[T1 Src Rank],K514) & \". Gr. \" & INDEX(tbl_KO_Data[T1 Src Group],K514)","v":"4. Gr. B"}]
[null,null,null,null,null,null,null,null,null,null,null,null,null,null,null,null,{"$f":"O515","v":"4. Gr. B"}]
[]
[null,null,null,null,null,null,null,null,null,null,null,null,null,null,null,null,{"$f":"O519","v":"5. Gr. A"}]
[null,null,null,null,null,null,null,null,null,null,null,null,null,null,{"$f":"INDEX(tbl_KO_Data[T2 Src Rank],K514) & \". Gr. \" & INDEX(tbl_KO_Data[T2 Src Group],K514)","v":"5. Gr. A"}]
[]
[]
[null,null,null,null,null,null,null,null,43,null,{"$f":"KO_Data_1row+INDEX(D522:I522,KO_Rounds_Ind)","v":295},null,null,null,null,null,"K_64_A43","field x","best of n",0]
[null,null,null,null,null,null,null,null,null,null,null,null,null,null,{"$f":"INDEX(tbl_KO_Data[T1 Src Rank],K522) & \". Gr. \" & INDEX(tbl_KO_Data[T1 Src Group],K522)","v":"4. Gr. B"}]
[null,null,null,null,null,null,null,null,null,null,null,null,null,null,null,null,{"$f":"O523","v":"4. Gr. B"}]
[]
[null,null,null,null,null,null,null,null,null,null,null,null,null,null,null,null,{"$f":"O527","v":"5. Gr. A"}]
[null,null,null,null,null,null,null,null,null,null,null,null,null,null,{"$f":"INDEX(tbl_KO_Data[T2 Src Rank],K522) & \". Gr. \" & INDEX(tbl_KO_Data[T2 Src Group],K522)","v":"5. Gr. A"}]

{"sheet":"KO-Full","index":5,"n_rows":527,"n_cols":53,"rows_kept":527,"cut":false,"hidden":false,"merged":[[22,52,23,52],[18,52,19,52],[13,41,13,44],[13,46,13,49],[13,51,13,52],[17,16,18,16],[17,17,18,17],[17,18,18,18],[17,19,18,19],[17,21,18,21],[17,22,18,22],[17,23,18,23],[13,3,13,8],[13,16,13,19],[13,21,13,24],[13,26,13,29],[13,31,13,34],[13,36,13,39],[19,29,20,29],[19,31,20,33],[19,34,20,34],[19,36,20,38],[17,47,18,47],[17,48,18,48],[17,49,18,49],[18,14,19,14],[18,51,19,51],[19,39,20,39],[19,41,20,43],[19,44,20,44],[19,46,20,48],[17,43,18,43],[17,44,18,44],[17,46,18,46],[17,32,18,32],[17,33,18,33],[17,34,18,34],[17,36,18,36],[17,37,18,37],[17,38,18,38],[17,24,18,24],[17,26,18,26],[17,27,18,27],[17,28,18,28],[17,29,18,29],[17,31,18,31],[17,39,18,39],[17,41,18,41],[17,42,18,42],[26,52,27,52],[27,16,28,18],[27,19,28,19],[27,21,28,23],[27,24,28,24],[25,41,26,41],[25,42,26,42],[25,43,26,43],[25,44,26,44],[25,46,26,46],[25,47,26,47],[25,33,26,33],[25,34,26,34],[25,36,26,36],[25,37,26,37],[25,38,26,38],[25,39,26,39],[25,26,26,26],[25,27,26,27],[25,28,26,28],[25,29,26,29],[25,31,26,31],[25,32,26,32],[25,49,26,49],[25,48,26,48],[33,18,34,18],[33,19,34,19],[33,21,34,21],[33,22,34,22],[29,46,30,48],[29,49,30,49],[30,14,31,14],[30,51,31,51],[21,29,22,29],[21,31,22,33],[21,34,22,34],[21,36,22,38],[19,16,20,18],[19,19,20,19],[19,21,20,23],[19,24,20,24],[19,26,20,28],[26,14,27,14],[21,39,22,39],[21,41,22,43],[21,44,22,44],[21,46,22,48],[21,49,22,49],[22,14,23,14],[19,49,20,49],[21,16,22,18],[21,19,22,19],[21,21,22,23],[21,24,22,24],[21,26,22,28],[22,51,23,51],[30,52,31,52],[29,31,30,33],[29,34,30,34],[29,36,30,38],[29,39,30,39],[29,41,30,43],[29,44,30,44],[27,41,28,43],[27,44,28,44],[27,46,28,48],[27,49,28,49],[29,16,30,18],[29,19,30,19],[29,21,30,23],[29,24,30,24],[29,26,30,28],[29,29,30,29],[27,26,28,28],[27,29,28,29],[27,31,28,33],[27,34,28,34],[27,36,28,38],[27,39,28,39],[26,51,27,51],[25,16,26,16],[25,17,26,17],[25,18,26,18],[25,19,26,19],[25,21,26,21],[25,22,26,22],[25,23,26,23],[25,24,26,24],[35,29,36,29],[35,31,36,33],[35,34,36,34],[33,46,34,46],[33,47,34,47],[33,48,34,48],[33,49,34,49],[34,14,35,14],[35,36,36,38],[35,39,36,39],[35,41,36,43],[35,44,36,44],[33,38,34,38],[33,39,34,39],[33,41,34,41],[33,42,34,42],[33,43,34,43],[33,44,34,44],[33,31,34,31],[33,32,34,32],[33,33,34,33],[33,34,34,34],[33,36,34,36],[33,37,34,37],[33,23,34,23],[33,24,34,24],[33,26,34,26],[33,27,34,27],[33,28,34,28],[33,29,34,29],[33,16,34,16],[33,17,34,17],[38,14,39,14],[38,51,39,51],[38,52,39,52],[41,16,42,16],[41,17,42,17],[41,18,42,18],[41,19,42,19],[41,21,42,21],[41,22,42,22],[37,36,38,38],[37,39,38,39],[37,41,38,43],[37,44,38,44],[37,46,38,48],[37,49,38,49],[35,46,36,48],[35,49,36,49],[37,16,38,18],[37,19,38,19],[37,21,38,23],[37,24,38,24],[37,26,38,28],[37,29,38,29],[37,31,38,33],[37,34,38,34],[34,51,35,51],[34,52,35,52],[35,16,36,18],[35,19,36,19],[35,21,36,23],[35,24,36,24],[35,26,36,28],[43,29,44,29],[43,31,44,33],[43,34,44,34],[41,46,42,46],[41,47,42,47],[41,48,42,48],[41,49,42,49],[42,14,43,14],[43,36,44,38],[43,39,44,39],[43,41,44,43],[43,44,44,44],[41,38,42,38],[41,39,42,39],[41,41,42,41],[41,42,42,42],[41,43,42,43],[41,44,42,44],[41,31,42,31],[41,32,42,32],[41,33,42,33],[41,34,42,34],[41,36,42,36],[41,37,42,37],[41,23,42,23],[41,24,42,24],[41,26,42,26],[41,27,42,27],[41,28,42,28],[41,29,42,29],[46,14,47,14],[46,51,47,51],[46,52,47,52],[49,16,50,16],[49,17,50,17],[49,18,50,18],[49,19,50,19],[49,21,50,21],[49,22,50,22],[45,36,46,38],[45,39,46,39],[45,41,46,43],[45,44,46,44],[45,46,46,48],[45,49,46,49],[43,46,44,48],[43,49,44,49],[45,16,46,18],[45,19,46,19],[45,21,46,23],[45,24,46,24],[45,26,46,28],[45,29,46,29],[45,31,46,33],[45,34,46,34],[42,51,43,51],[42,52,43,52],[43,16,44,18],[43,19,44,19],[43,21,44,23],[43,24,44,24],[43,26,44,28],[51,29,52,29],[51,31,52,33],[51,34,52,34],[49,46,50,46],[49,47,50,47],[49,48,50,48],[49,49,50,49],[50,14,51,14],[51,36,52,38],[51,39,52,39],[51,41,52,43],[51,44,52,44],[49,38,50,38],[49,39,50,39],[49,41,50,41],[49,42,50,42],[49,43,50,43],[49,44,50,44],[49,31,50,31],[49,32,50,32],[49,33,50,33],[49,34,50,34],[49,36,50,36],[49,37,50,37],[49,23,50,23],[49,24,50,24],[49,26,50,26],[49,27,50,27],[49,28,50,28],[49,29,50,29],[54,14,55,14],[54,51,55,51],[54,52,55,52],[57,16,58,16],[57,17,58,17],[57,18,58,18],[57,19,58,19],[57,21,58,21],[57,22,58,22],[53,36,54,38],[53,39,54,39],[53,41,54,43],[53,44,54,44],[53,46,54,48],[53,49,54,49],[51,46,52,48],[51,49,52,49],[53,16,54,18],[53,19,54,19],[53,21,54,23],[53,24,54,24],[53,26,54,28],[53,29,54,29],[53,31,54,33],[53,34,54,34],[50,51,51,51],[50,52,51,52],[51,16,52,18],[51,19,52,19],[51,21,52,23],[51,24,52,24],[51,26,52,28],[59,29,60,29],[59,31,60,33],[59,34,60,34],[57,46,58,46],[57,47,58,47],[57,48,58,48],[57,49,58,49],[58,14,59,14],[59,36,60,38],[59,39,60,39],[59,41,60,43],[59,44,60,44],[57,38,58,38],[57,39,58,39],[57,41,58,41],[57,42,58,42],[57,43,58,43],[57,44,58,44],[57,31,58,31],[57,32,58,32],[57,33,58,33],[57,34,58,34],[57,36,58,36],[57,37,58,37],[57,23,58,23],[57,24,58,24],[57,26,58,26],[57,27,58,27],[57,28,58,28],[57,29,58,29],[62,14,63,14],[62,51,63,51],[62,52,63,52],[65,16,66,16],[65,17,66,17],[65,18,66,18],[65,19,66,19],[65,21,66,21],[65,22,66,22],[61,36,62,38],[61,39,62,39],[61,41,62,43],[61,44,62,44],[61,46,62,48],[61,49,62,49],[59,46,60,48],[59,49,60,49],[61,16,62,18],[61,19,62,19],[61,21,62,23],[61,24,62,24],[61,26,62,28],[61,29,62,29],[61,31,62,33],[61,34,62,34],[58,51,59,51],[58,52,59,52],[59,16,60,18],[59,19,60,19],[59,21,60,23],[59,24,60,24],[59,26,60,28],[67,29,68,29],[67,31,68,33],[67,34,68,34],[65,46,66,46],[65,47,66,47],[65,48,66,48],[65,49,66,49],[66,14,67,14],[67,36,68,38],[67,39,68,39],[67,41,68,43],[67,44,68,44],[65,38,66,38],[65,39,66,39],[65,41,66,41],[65,42,66,42],[65,43,66,43],[65,44,66,44],[65,31,66,31],[65,32,66,32],[65,33,66,33],[65,34,66,34],[65,36,66,36],[65,37,66,37],[65,23,66,23],[65,24,66,24],[65,26,66,26],[65,27,66,27],[65,28,66,28],[65,29,66,29],[70,14,71,14],[70,51,71,51],[70,52,71,52],[73,16,74,16],[73,17,74,17],[73,18,74,18],[73,19,74,19],[73,21,74,21],[73,22,74,22],[69,36,70,38],[69,39,70,39],[69,41,70,43],[69,44,70,44],[69,46,70,48],[69,49,70,49],[67,46,68,48],[67,49,68,49],[69,16,70,18],[69,19,70,19],[69,21,70,23],[69,24,70,24],[69,26,70,28],[69,29,70,29],[69,31,70,33],[69,34,70,34],[66,51,67,51],[66,52,67,52],[67,16,68,18],[67,19,68,19],[67,21,68,23],[67,24,68,24],[67,26,68,28],[75,29,76,29],[75,31,76,33],[75,34,76,34],[73,46,74,46],[73,47,74,47],[73,48,74,48],[73,49,74,49],[74,14,75,14],[75,36,76,38],[75,39,76,39],[75,41,76,43],[75,44,76,44],[73,38,74,38],[73,39,74,39],[73,41,74,41],[73,42,74,42],[73,43,74,43],[73,44,74,44],[73,31,74,31],[73,32,74,32],[73,33,74,33],[73,34,74,34],[73,36,74,36],[73,37,74,37],[73,23,74,23],[73,24,74,24],[73,26,74,26],[73,27,74,27],[73,28,74,28],[73,29,74,29],[78,14,79,14],[78,51,79,51],[78,52,79,52],[81,16,82,16],[81,17,82,17],[81,18,82,18],[81,19,82,19],[81,21,82,21],[81,22,82,22],[77,36,78,38],[77,39,78,39],[77,41,78,43],[77,44,78,44],[77,46,78,48],[77,49,78,49],[75,46,76,48],[75,49,76,49],[77,16,78,18],[77,19,78,19],[77,21,78,23],[77,24,78,24],[77,26,78,28],[77,29,78,29],[77,31,78,33],[77,34,78,34],[74,51,75,51],[74,52,75,52],[75,16,76,18],[75,19,76,19],[75,21,76,23],[75,24,76,24],[75,26,76,28],[83,29,84,29],[83,31,84,33],[83,34,84,34],[81,46,82,46],[81,47,82,47],[81,48,82,48],[81,49,82,49],[82,14,83,14],[83,36,84,38],[83,39,84,39],[83,41,84,43],[83,44,84,44],[81,38,82,38],[81,39,82,39],[81,41,82,41],[81,42,82,42],[81,43,82,43],[81,44,82,44],[81,31,82,31],[81,32,82,32],[81,33,82,33],[81,34,82,34],[81,36,82,36],[81,37,82,37],[81,23,82,23],[81,24,82,24],[81,26,82,26],[81,27,82,27],[81,28,82,28],[81,29,82,29],[86,14,87,14],[86,51,87,51],[86,52,87,52],[89,16,90,16],[89,17,90,17],[89,18,90,18],[89,19,90,19],[89,21,90,21],[89,22,90,22],[85,36,86,38],[85,39,86,39],[85,41,86,43],[85,44,86,44],[85,46,86,48],[85,49,86,49],[83,46,84,48],[83,49,84,49],[85,16,86,18],[85,19,86,19],[85,21,86,23],[85,24,86,24],[85,26,86,28],[85,29,86,29],[85,31,86,33],[85,34,86,34],[82,51,83,51],[82,52,83,52],[83,16,84,18],[83,19,84,19],[83,21,84,23],[83,24,84,24],[83,26,84,28],[91,29,92,29],[91,31,92,33],[91,34,92,34],[89,46,90,46],[89,47,90,47],[89,48,90,48],[89,49,90,49],[90,14,91,14],[91,36,92,38],[91,39,92,39],[91,41,92,43],[91,44,92,44],[89,38,90,38],[89,39,90,39],[89,41,90,41],[89,42,90,42],[89,43,90,43],[89,44,90,44],[89,31,90,31],[89,32,90,32],[89,33,90,33],[89,34,90,34],[89,36,90,36],[89,37,90,37],[89,23,90,23],[89,24,90,24],[89,26,90,26],[89,27,90,27],[89,28,90,28],[89,29,90,29],[94,14,95,14],[94,51,95,51],[94,52,95,52],[97,16,98,16],[97,17,98,17],[97,18,98,18],[97,19,98,19],[97,21,98,21],[97,22,98,22],[93,36,94,38],[93,39,94,39],[93,41,94,43],[93,44,94,44],[93,46,94,48],[93,49,94,49],[91,46,92,48],[91,49,92,49],[93,16,94,18],[93,19,94,19],[93,21,94,23],[93,24,94,24],[93,26,94,28],[93,29,94,29],[93,31,94,33],[93,34,94,34],[90,51,91,51],[90,52,91,52],[91,16,92,18],[91,19,92,19],[91,21,92,23],[91,24,92,24],[91,26,92,28],[99,29,100,29],[99,31,100,33],[99,34,100,34],[97,46,98,46],[97,47,98,47],[97,48,98,48],[97,49,98,49],[98,14,99,14],[99,36,100,38],[99,39,100,39],[99,41,100,43],[99,44,100,44],[97,38,98,38],[97,39,98,39],[97,41,98,41],[97,42,98,42],[97,43,98,43],[97,44,98,44],[97,31,98,31],[97,32,98,32],[97,33,98,33],[97,34,98,34],[97,36,98,36],[97,37,98,37],[97,23,98,23],[97,24,98,24],[97,26,98,26],[97,27,98,27],[97,28,98,28],[97,29,98,29],[102,14,103,14],[102,51,103,51],[102,52,103,52],[105,16,106,16],[105,17,106,17],[105,18,106,18],[105,19,106,19],[105,21,106,21],[105,22,106,22],[101,36,102,38],[101,39,102,39],[101,41,102,43],[101,44,102,44],[101,46,102,48],[101,49,102,49],[99,46,100,48],[99,49,100,49],[101,16,102,18],[101,19,102,19],[101,21,102,23],[101,24,102,24],[101,26,102,28],[101,29,102,29],[101,31,102,33],[101,34,102,34],[98,51,99,51],[98,52,99,52],[99,16,100,18],[99,19,100,19],[99,21,100,23],[99,24,100,24],[99,26,100,28],[107,29,108,29],[107,31,108,33],[107,34,108,34],[105,46,106,46],[105,47,106,47],[105,48,106,48],[105,49,106,49],[106,14,107,14],[107,36,108,38],[107,39,108,39],[107,41,108,43],[107,44,108,44],[105,38,106,38],[105,39,106,39],[105,41,106,41],[105,42,106,42],[105,43,106,43],[105,44,106,44],[105,31,106,31],[105,32,106,32],[105,33,106,33],[105,34,106,34],[105,36,106,36],[105,37,106,37],[105,23,106,23],[105,24,106,24],[105,26,106,26],[105,27,106,27],[105,28,106,28],[105,29,106,29],[110,14,111,14],[110,51,111,51],[110,52,111,52],[113,16,114,16],[113,17,114,17],[113,18,114,18],[113,19,114,19],[113,21,114,21],[113,22,114,22],[109,36,110,38],[109,39,110,39],[109,41,110,43],[109,44,110,44],[109,46,110,48],[109,49,110,49],[107,46,108,48],[107,49,108,49],[109,16,110,18],[109,19,110,19],[109,21,110,23],[109,24,110,24],[109,26,110,28],[109,29,110,29],[109,31,110,33],[109,34,110,34],[106,51,107,51],[106,52,107,52],[107,16,108,18],[107,19,108,19],[107,21,108,23],[107,24,108,24],[107,26,108,28],[115,29,116,29],[115,31,116,33],[115,34,116,34],[113,46,114,46],[113,47,114,47],[113,48,114,48],[113,49,114,49],[114,14,115,14],[115,36,116,38],[115,39,116,39],[115,41,116,43],[115,44,116,44],[113,38,114,38],[113,39,114,39],[113,41,114,41],[113,42,114,42],[113,43,114,43],[113,44,114,44],[113,31,114,31],[113,32,114,32],[113,33,114,33],[113,34,114,34],[113,36,114,36],[113,37,114,37],[113,23,114,23],[113,24,114,24],[113,26,114,26],[113,27,114,27],[113,28,114,28],[113,29,114,29],[118,14,119,14],[118,51,119,51],[118,52,119,52],[121,16,122,16],[121,17,122,17],[121,18,122,18],[121,19,122,19],[121,21,122,21],[121,22,122,22],[117,36,118,38],[117,39,118,39],[117,41,118,43],[117,44,118,44],[117,46,118,48],[117,49,118,49],[115,46,116,48],[115,49,116,49],[117,16,118,18],[117,19,118,19],[117,21,118,23],[117,24,118,24],[117,26,118,28],[117,29,118,29],[117,31,118,33],[117,34,118,34],[114,51,115,51],[114,52,115,52],[115,16,116,18],[115,19,116,19],[115,21,116,23],[115,24,116,24],[115,26,116,28],[123,29,124,29],[123,31,124,33],[123,34,124,34],[121,46,122,46],[121,47,122,47],[121,48,122,48],[121,49,122,49],[122,14,123,14],[123,36,124,38],[123,39,124,39],[123,41,124,43],[123,44,124,44],[121,38,122,38],[121,39,122,39],[121,41,122,41],[121,42,122,42],[121,43,122,43],[121,44,122,44],[121,31,122,31],[121,32,122,32],[121,33,122,33],[121,34,122,34],[121,36,122,36],[121,37,122,37],[121,23,122,23],[121,24,122,24],[121,26,122,26],[121,27,122,27],[121,28,122,28],[121,29,122,29],[126,14,127,14],[126,51,127,51],[126,52,127,52],[129,16,130,16],[129,17,130,17],[129,18,130,18],[129,19,130,19],[129,21,130,21],[129,22,130,22],[125,36,126,38],[125,39,126,39],[125,41,126,43],[125,44,126,44],[125,46,126,48],[125,49,126,49],[123,46,124,48],[123,49,124,49],[125,16,126,18],[125,19,126,19],[125,21,126,23],[125,24,126,24],[125,26,126,28],[125,29,126,29],[125,31,126,33],[125,34,126,34],[122,51,123,51],[122,52,123,52],[123,16,124,18],[123,19,124,19],[123,21,124,23],[123,24,124,24],[123,26,124,28],[131,29,132,29],[131,31,132,33],[131,34,132,34],[129,46,130,46],[129,47,130,47],[129,48,130,48],[129,49,130,49],[130,14,131,14],[131,36,132,38],[131,39,132,39],[131,41,132,43],[131,44,132,44],[129,38,130,38],[129,39,130,39],[129,41,130,41],[129,42,130,42],[129,43,130,43],[129,44,130,44],[129,31,130,31],[129,32,130,32],[129,33,130,33],[129,34,130,34],[129,36,130,36],[129,37,130,37],[129,23,130,23],[129,24,130,24],[129,26,130,26],[129,27,130,27],[129,28,130,28],[129,29,130,29],[134,14,135,14],[134,51,135,51],[134,52,135,52],[137,16,138,16],[137,17,138,17],[137,18,138,18],[137,19,138,19],[137,21,138,21],[137,22,138,22],[133,36,134,38],[133,39,134,39],[133,41,134,43],[133,44,134,44],[133,46,134,48],[133,49,134,49],[131,46,132,48],[131,49,132,49],[133,16,134,18],[133,19,134,19],[133,21,134,23],[133,24,134,24],[133,26,134,28],[133,29,134,29],[133,31,134,33],[133,34,134,34],[130,51,131,51],[130,52,131,52],[131,16,132,18],[131,19,132,19],[131,21,132,23],[131,24,132,24],[131,26,132,28],[139,29,140,29],[139,31,140,33],[139,34,140,34],[137,46,138,46],[137,47,138,47],[137,48,138,48],[137,49,138,49],[138,14,139,14],[139,36,140,38],[139,39,140,39],[139,41,140,43],[139,44,140,44],[137,38,138,38],[137,39,138,39],[137,41,138,41],[137,42,138,42],[137,43,138,43],[137,44,138,44],[137,31,138,31],[137,32,138,32],[137,33,138,33],[137,34,138,34],[137,36,138,36],[137,37,138,37],[137,23,138,23],[137,24,138,24],[137,26,138,26],[137,27,138,27],[137,28,138,28],[137,29,138,29],[142,14,143,14],[142,51,143,51],[142,52,143,52],[145,16,146,16],[145,17,146,17],[145,18,146,18],[145,19,146,19],[145,21,146,21],[145,22,146,22],[141,36,142,38],[141,39,142,39],[141,41,142,43],[141,44,142,44],[141,46,142,48],[141,49,142,49],[139,46,140,48],[139,49,140,49],[141,16,142,18],[141,19,142,19],[141,21,142,23],[141,24,142,24],[141,26,142,28],[141,29,142,29],[141,31,142,33],[141,34,142,34]],"merged_total":3977,"flags":["merged_cut"]}
[]
[null,null,null,null,null,null,null,null,null,null,null,null,null,null,{"$f":"VLOOKUP(\"txt_0000\",tbl_i18n[],Lang_Ind,FALSE)","v":"Spielsysteme für Turniere"},null,null,null,null,null,null,null,null,null,null,null,null,null,null,null,null,null,null,null,null,null,null,null,null,null,null,null,null,null,null,null,null,null,null,null,null,null,"created by: Walter Aust"]
[]
[null,null,null,null,null,null,null,null,null,null,null,null,"ç"]
[null,null,null,null,null,null,null,null,null,null,null,null,null,null,{"$f":"VLOOKUP(\"txt_2501\",tbl_i18n[],Lang_Ind,FALSE)","v":"Finalrunden: Darstellung eines vollständiges KO-Systems (mit Ausspielung aller Plätze)"}]
["KO_txt_lbl1",{"$f":"VLOOKUP(\"txt_2a52\",tbl_i18n[],Lang_Ind,FALSE)","v":"erforderliche Teams:"}]
["KO_txt_btn1",{"$f":"VLOOKUP(\"txt_2a58\",tbl_i18n[],Lang_Ind,FALSE)","v":"Spielergebnisse löschen"},null,null,null,null,null,null,null,null,null,null,null,null,{"$f":"VLOOKUP(\"txt_2a51\",tbl_i18n[],Lang_Ind,FALSE)","v":"Einstiegsrunde:"}]
["KO_txt_lbl2",{"$f":"VLOOKUP(\"txt_2a54\",tbl_i18n[],Lang_Ind,FALSE)","v":"Teams pro Gruppe:"}]
["KO_txt_btn2",{"$f":"VLOOKUP(\"txt_2a59\",tbl_i18n[],Lang_Ind,FALSE)","v":"Spielergebnisse vorbesetzen"},null,null,null,null,null,null,null,null,null,null,null,null,{"$f":"VLOOKUP(\"txt_2a53\",tbl_i18n[],Lang_Ind,FALSE)","v":"Anzahl der Vorrundengruppen:"}]
[]
[null,null,null,null,null,null,null,null,null,null,null,null,null,null,{"$f":"IF(KO_Groups_Ind>1,VLOOKUP(\"txt_2a70\",tbl_i18n[],Lang_Ind,FALSE) & INDEX(tbl_i18n[],KO_Groups_Ind+MATCH(\"txt_2a70\",tbl_i18n[ID],0),Lang_Ind) &  VLOOKUP(\"txt_2a72\",tbl_i18n[],Lang_Ind,FALSE),\"\")","v":"Hinweis:  Ab den Halbfinalrunden (inklusive) können Teams mit der gleichen Gruppenplatzierung aufeinandertreffen."}]
[]
[]
[null,null,null,"Game numbers",null,null,null,null,null,null,"rows",null,null,null,"Rank + Group",null,{"$f":"B22","v":"1/64-Finale"},null,null,null,null,{"$f":"B21","v":"1/32-Finale"},null,null,null,null,{"$f":"B20","v":"1/16-Finale"},null,null,null,null,{"$f":"B19","v":"1/8-Finale"},null,null,null,null,{"$f":"B18","v":"1/4-Finale"},null,null,null,null,{"$f":"B17","v":"Halbfinale"},null,null,null,null,{"$f":"VLOOKUP(\"K_01_#\",tbl_i18n[],Lang_Ind,FALSE)","v":"Spiel um Rang #"},null,null,null,null,{"$f":"VLOOKUP(\"txt_2a57\",tbl_i18n[],Lang_Ind,FALSE)","v":"Rang"}]
[]
[null,null,null,2,4,8,16,32,64,null,null,null,null,null,null,null,{"$f":"KO_Rounds_Ind=6","v":false},null,null,null,null,{"$f":"KO_Rounds_Ind=5","v":false},null,null,null,null,{"$f":"KO_Rounds_Ind=4","v":false},null,null,null,null,{"$f":"KO_Rounds_Ind=3","v":true},null,null,null,null,{"$f":"KO_Rounds_Ind=2","v":false},null,null,null,null,{"$f":"KO_Rounds_Ind=1","v":false}]
["KO_Rounds_List",{"$f":"VLOOKUP(\"K_02_A\",tbl_i18n[#Data],Lang_Ind,FALSE)","v":"Halbfinale"}]
[null,{"$f":"VLOOKUP(\"K_04_A\",tbl_i18n[#Data],Lang_Ind,FALSE)","v":"1/4-Finale"},null,1,1,1,1,1,1,null,{"$f":"KO_Data_1row+INDEX(D18:I18,KO_Rounds_Ind)","v":296},null,null,null,null,null,"K_64_A01","field x","best of n",0,null,"K_32_A01","field x","best of n",0,null,"K_16_A01","field x","best of n",0,null,"K_08_A1","field x","best of n",0,null,"K_04_A1","field x","best of n",0,null,"K_02_A1","field x","best of n",0,null,"K_01_001","field x","best of n",0]
[null,{"$f":"VLOOKUP(\"K_08_A\",tbl_i18n[#Data],Lang_Ind,FALSE)","v":"1/8-Finale"},null,null,null,null,null,null,null,null,null,null,null,null,{"$f":"INDEX(tbl_KO_Data[T1 Src Rank],K18) & \". Gr. \" & INDEX(tbl_KO_Data[T1 Src Group],K18)","v":"1. Gr. A"},null,null,null,null,null,null,null,null,null,null,null,null,null,null,null,null,null,null,null,null,null,null,null,null,null,null,null,null,null,null,null,null,null,null,null,null,1,{"$f":"IF(AX20>AX22,AU20,IF(AX20<AX22,AU22,\"\"))","v":""}]
[null,{"$f":"VLOOKUP(\"K_16_A\",tbl_i18n[#Data],Lang_Ind,FALSE)","v":"1/16-Finale"},null,null,null,null,null,null,null,null,null,null,null,null,null,null,{"$f":"O19","v":"1. Gr. A"},null,null,null,null,{"$f":"IF($V$16,O19,CHOOSE(SIGN(T22-T20)+2,Q20,\"(\"&Q20&\" : \"&Q22&\")\",Q22))","v":"(1. Gr. A : 4. Gr. B)"},null,null,null,null,{"$f":"IF($AA$16,O19,CHOOSE(SIGN(Y22-Y20)+2,V20,\"(\"&V20&\" : \"&V22&\")\",V22))","v":"((1. Gr. A : 4. Gr. B) : (2. Gr. D : 3. Gr. C))"},null,null,null,null,{"$f":"IF($AF$16,O19,CHOOSE(SIGN(AD22-AD20)+2,AA20,\"(\"&AA20&\" : \"&AA22&\")\",AA22))","v":"1. Gr. A"},null,null,null,null,{"$f":"IF($AK$16,O19,CHOOSE(SIGN(AI22-AI20)+2,AF20,\"(\"&AF20&\" : \"&AF22&\")\",AF22))","v":"(1. Gr. A : 4. Gr. B)"},null,null,null,null,{"$f":"IF($AP$16,O19,CHOOSE(SIGN(AN22-AN20)+2,AK20,\"(\"&AK20&\" : \"&AK22&\")\",AK22))","v":"((1. Gr. A : 4. Gr. B) : (2. Gr. D : 3. Gr. C))"},null,null,null,null,{"$f":"CHOOSE(SIGN(AS22-AS20)+2,AP20,\"(\"&AP20&\" : \"&AP22&\")\",AP22)","v":"(((1. Gr. A : 4. Gr. B) : (2. Gr. D : 3. Gr. C)) : ((1. Gr. C : 4. Gr. D) : (2. Gr. B : 3. Gr. A)))"}]
[null,{"$f":"VLOOKUP(\"K_32_A\",tbl_i18n[#Data],Lang_Ind,FALSE)","v":"1/32-Finale"}]
[null,{"$f":"VLOOKUP(\"K_64_A\",tbl_i18n[#Data],Lang_Ind,FALSE)","v":"1/64-Finale"},null,null,null,null,null,null,null,null,null,null,null,null,null,null,{"$f":"O23","v":"4. Gr. B"},null,null,null,null,{"$f":"IF($V$16,O23,CHOOSE(SIGN(T30-T28)+2,Q28,\"(\"&Q28&\" : \"&Q30&\")\",Q30))","v":"(2. Gr. D : 3. Gr. C)"},null,null,null,null,{"$f":"IF($AA$16,O23,CHOOSE(SIGN(Y30-Y28)+2,V28,\"(\"&V28&\" : \"&V30&\")\",V30))","v":"((1. Gr. C : 4. Gr. D) : (2. Gr. B : 3. Gr. A))"},null,null,null,null,{"$f":"IF($AF$16,O23,CHOOSE(SIGN(AD30-AD28)+2,AA28,\"(\"&AA28&\" : \"&AA30&\")\",AA30))","v":"4. Gr. B"},null,null,null,null,{"$f":"IF($AK$16,O23,CHOOSE(SIGN(AI30-AI28)+2,AF28,\"(\"&AF28&\" : \"&AF30&\")\",AF30))","v":"(2. Gr. D : 3. Gr. C)"},null,null,null,null,{"$f":"IF($AP$16,O23,CHOOSE(SIGN(AN30-AN28)+2,AK28,\"(\"&AK28&\" : \"&AK30&\")\",AK30))","v":"((1. Gr. C : 4. Gr. D) : (2. Gr. B : 3. Gr. A))"},null,null,null,null,{"$f":"CHOOSE(SIGN(AS30-AS28)+2,AP28,\"(\"&AP28&\" : \"&AP30&\")\",AP30)","v":"(((1. Gr. B : 4. Gr. C) : (2. Gr. A : 3. Gr. D)) : ((1. Gr. D : 4. Gr. A) : (2. Gr. C : 3. Gr. B)))"}]
[null,null,null,null,null,null,null,null,null,null,null,null,null,null,{"$f":"INDEX(tbl_KO_Data[T2 Src Rank],K18) & \". Gr. \" & INDEX(tbl_KO_Data[T2 Src Group],K18)","v":"4. Gr. B"},null,null,null,null,null,null,null,null,null,null,null,null,null,null,null,null,null,null,null,null,null,null,null,null,null,null,null,null,null,null,null,null,null,null,null,null,2,{"$f":"IF(AX20>AX22,AU22,IF(AX20<AX22,AU20,\"\"))","v":""}]
["KO_Rounds_Ind",3]
[]
["KO_TeamsReq",{"$f":"2^(1+KO_Rounds_Ind)","v":16},null,2,4,8,16,32,64,null,{"$f":"KO_Data_1row+INDEX(D26:I26,KO_Rounds_Ind)","v":303},null,null,null,null,null,"K_64_A64","field x","best of n",0,null,"K_32_A32","field x","best of n",0,null,"K_16_A16","field x","best of n",0,null,"K_08_A8","field x","best of n",0,null,"K_04_A4","field x","best of n",0,null,"K_02_A2","field x","best of n",0,null,"K_01_003","field x","best of n",0]
[null,null,null,null,null,null,null,null,null,null,null,null,null,null,{"$f":"INDEX(tbl_KO_Data[T1 Src Rank],K26) & \". Gr. \" & INDEX(tbl_KO_Data[T1 Src Group],K26)","v":"2. Gr. D"},null,null,null,null,null,null,null,null,null,null,null,null,null,null,null,null,null,null,null,null,null,null,null,null,null,null,null,null,null,null,null,null,null,null,null,null,3,{"$f":"IF(AX28>AX30,AU28,IF(AX28<AX30,AU30,\"\"))","v":""}]
["KO_Groups_List",1,null,null,null,null,null,null,null,null,null,null,null,null,null,null,{"$f":"O27","v":"2. Gr. D"},null,null,null,null,{"$f":"IF($V$16,O27,CHOOSE(SIGN(T38-T36)+2,Q36,\"(\"&Q36&\" : \"&Q38&\")\",Q38))","v":"(1. Gr. C : 4. Gr. D)"},null,null,null,null,{"$f":"IF($AA$16,O27,CHOOSE(SIGN(Y38-Y36)+2,V36,\"(\"&V36&\" : \"&V38&\")\",V38))","v":"((1. Gr. B : 4. Gr. C) : (2. Gr. A : 3. Gr. D))"},null,null,null,null,{"$f":"IF($AF$16,O27,CHOOSE(SIGN(AD38-AD36)+2,AA36,\"(\"&AA36&\" : \"&AA38&\")\",AA38))","v":"2. Gr. D"},null,null,null,null,{"$f":"IF($AK$16,O27,CHOOSE(SIGN(AI38-AI36)+2,AF36,\"(\"&AF36&\" : \"&AF38&\")\",AF38))","v":"(1. Gr. C : 4. Gr. D)"},null,null,null,null,{"$f":"IF($AP$16,O27,CHOOSE(SIGN(AN38-AN36)+2,AK36,\"(\"&AK36&\" : \"&AK38&\")\",AK38))","v":"((1. Gr. B : 4. Gr. C) : (2. Gr. A : 3. Gr. D))"},null,null,null,null,{"$f":"CHOOSE(SIGN(AS20-AS22)+2,AP20,\"(\"&AP20&\" : \"&AP22&\")\",AP22)","v":"(((1. Gr. A : 4. Gr. B) : (2. Gr. D : 3. Gr. C)) : ((1. Gr. C : 4. Gr. D) : (2. Gr. B : 3. Gr. A)))"}]
[null,2]
[null,4,null,null,null,null,null,null,null,null,null,null,null,null,null,null,{"$f":"O31","v":"3. Gr. C"},null,null,null,null,{"$f":"IF($V$16,O31,CHOOSE(SIGN(T46-T44)+2,Q44,\"(\"&Q44&\" : \"&Q46&\")\",Q46))","v":"(2. Gr. B : 3. Gr. A)"},null,null,null,null,{"$f":"IF($AA$16,O31,CHOOSE(SIGN(Y46-Y44)+2,V44,\"(\"&V44&\" : \"&V46&\")\",V46))","v":"((1. Gr. D : 4. Gr. A) : (2. Gr. C : 3. Gr. B))"},null,null,null,null,{"$f":"IF($AF$16,O31,CHOOSE(SIGN(AD46-AD44)+2,AA44,\"(\"&AA44&\" : \"&AA46&\")\",AA46))","v":"3. Gr. C"},null,null,null,null,{"$f":"IF($AK$16,O31,CHOOSE(SIGN(AI46-AI44)+2,AF44,\"(\"&AF44&\" : \"&AF46&\")\",AF46))","v":"(2. Gr. B : 3. Gr. A)"},null,null,null,null,{"$f":"IF($AP$16,O31,CHOOSE(SIGN(AN46-AN44)+2,AK44,\"(\"&AK44&\" : \"&AK46&\")\",AK46))","v":"((1. Gr. D : 4. Gr. A) : (2. Gr. C : 3. Gr. B))"},null,null,null,null,{"$f":"CHOOSE(SIGN(AS28-AS30)+2,AP28,\"(\"&AP28&\" : \"&AP30&\")\",AP30)","v":"(((1. Gr. B : 4. Gr. C) : (2. Gr. A : 3. Gr. D)) : ((1. Gr. D : 4. Gr. A) : (2. Gr. C : 3. Gr. B)))"}]
[null,8,null,null,null,null,null,null,null,null,null,null,null,null,{"$f":"INDEX(tbl_KO_Data[T2 Src Rank],K26) & \". Gr. \" & INDEX(tbl_KO_Data[T2 Src Group],K26)","v":"3. Gr. C"},null,null,null,null,null,null,null,null,null,null,null,null,null,null,null,null,null,null,null,null,null,null,null,null,null,null,null,null,null,null,null,null,null,null,null,null,4,{"$f":"IF(AX28>AX30,AU30,IF(AX28<AX30,AU28,\"\"))","v":""}]
[null,16]
[null,32]
[null,64,null,null,2,4,8,16,32,null,{"$f":"KO_Data_1row+INDEX(D34:I34,KO_Rounds_Ind)","v":299},null,null,null,null,null,"K_64_A32","field x","best of n",0,null,"K_32_A16","field x","best of n",0,null,"K_16_A08","field x","best of n",0,null,"K_08_A4","field x","best of n",0,null,"K_04_A2","field x","best of n",0,null,"K_02_B1","field x","best of n",0,null,"K_01_005","field x","best of 0",0]
[null,128,null,null,null,null,null,null,null,null,null,null,null,null,{"$f":"INDEX(tbl_KO_Data[T1 Src Rank],K34) & \". Gr. \" & INDEX(tbl_KO_Data[T1 Src Group],K34)","v":"1. Gr. C"},null,null,null,null,null,null,null,null,null,null,null,null,null,null,null,null,null,null,null,null,null,null,null,null,null,null,null,null,null,null,null,null,null,null,null,null,5,{"$f":"IF(AX36>AX38,AU36,IF(AX36<AX38,AU38,\"\"))","v":""}]
[null,null,null,null,null,null,null,null,null,null,null,null,null,null,null,null,{"$f":"O35","v":"1. Gr. C"},null,null,null,null,{"$f":"IF($V$16,O35,CHOOSE(SIGN(T54-T52)+2,Q52,\"(\"&Q52&\" : \"&Q54&\")\",Q54))","v":"(1. Gr. B : 4. Gr. C)"},null,null,null,null,{"$f":"IF($AA$16,O35,IF($AA$16,O211,CHOOSE(SIGN(Y54-Y52)+2,V52,\"(\"&V52&\" : \"&V54&\")\",V54)))","v":"((4. Gr. B : 5. Gr. A) : (4. Gr. B : 5. Gr. A))"},null,null,null,null,{"$f":"IF($AF$16,O35,CHOOSE(SIGN(AD54-AD52)+2,AA52,\"(\"&AA52&\" : \"&AA54&\")\",AA54))","v":"1. Gr. C"},null,null,null,null,{"$f":"IF($AK$16,O35,CHOOSE(SIGN(AI54-AI52)+2,AF52,\"(\"&AF52&\" : \"&AF54&\")\",AF54))","v":"(1. Gr. B : 4. Gr. C)"},null,null,null,null,{"$f":"CHOOSE(SIGN(AN20-AN22)+2,AK20,\"(\"&AK20&\" : \"&AK22&\")\",AK22)","v":"((1. Gr. A : 4. Gr. B) : (2. Gr. D : 3. Gr. C))"},null,null,null,null,{"$f":"CHOOSE(SIGN(AS38-AS36)+2,AP36,\"(\"&AP36&\" : \"&AP38&\")\",AP38)","v":"(((1. Gr. A : 4. Gr. B) : (2. Gr. D : 3. Gr. C)) : ((1. Gr. C : 4. Gr. D) : (2. Gr. B : 3. Gr. A)))"}]
["KO_Groups_Ind",3]
[null,null,null,null,null,null,null,null,null,null,null,null,null,null,null,null,{"$f":"O39","v":"4. Gr. D"},null,null,null,null,{"$f":"IF($V$16,O39,CHOOSE(SIGN(T62-T60)+2,Q60,\"(\"&Q60&\" : \"&Q62&\")\",Q62))","v":"(2. Gr. A : 3. Gr. D)"},null,null,null,null,{"$f":"IF($AA$16,O39,CHOOSE(SIGN(Y62-Y60)+2,V60,\"(\"&V60&\" : \"&V62&\")\",V62))","v":"((4. Gr. B : 5. Gr. A) : (4. Gr. B : 5. Gr. A))"},null,null,null,null,{"$f":"IF($AF$16,O39,CHOOSE(SIGN(AD62-AD60)+2,AA60,\"(\"&AA60&\" : \"&AA62&\")\",AA62))","v":"4. Gr. D"},null,null,null,null,{"$f":"IF($AK$16,O39,CHOOSE(SIGN(AI62-AI60)+2,AF60,\"(\"&AF60&\" : \"&AF62&\")\",AF62))","v":"(2. Gr. A : 3. Gr. D)"},null,null,null,null,{"$f":"CHOOSE(SIGN(AN28-AN30)+2,AK28,\"(\"&AK28&\" : \"&AK30&\")\",AK30)","v":"((1. Gr. C : 4. Gr. D) : (2. Gr. B : 3. Gr. A))"},null,null,null,null,{"$f":"CHOOSE(SIGN(AS46-AS44)+2,AP44,\"(\"&AP44&\" : \"&AP46&\")\",AP46)","v":"(((1. Gr. B : 4. Gr. C) : (2. Gr. A : 3. Gr. D)) : ((1. Gr. D : 4. Gr. A) : (2. Gr. C : 3. Gr. B)))"}]
["KO_Groups_Sel",{"$f":"MIN(INDEX(KO_Groups_List,KO_Groups_Ind),KO_TeamsReq)","v":4},null,null,null,null,null,null,null,null,null,null,null,null,{"$f":"INDEX(tbl_KO_Data[T2 Src Rank],K34) & \". Gr. \" & INDEX(tbl_KO_Data[T2 Src Group],K34)","v":"4. Gr. D"},null,null,null,null,null,null,null,null,null,null,null,null,null,null,null,null,null,null,null,null,null,null,null,null,null,null,null,null,null,null,null,null,null,null,null,null,6,{"$f":"IF(AX36>AX38,AU38,IF(AX36<AX38,AU36,\"\"))","v":""}]
[]
["KO_GroupSize",{"$f":"KO_TeamsReq/KO_Groups_Sel","v":4}]
[null,null,null,null,3,5,9,17,33,null,{"$f":"KO_Data_1row+INDEX(D42:I42,KO_Rounds_Ind)","v":300},null,null,null,null,null,"K_64_A33","field x","best of n",0,null,"K_32_A17","field x","best of n",0,null,"K_16_A09","field x","best of n",0,null,"K_08_A5","field x","best of n",0,null,"K_04_A3","field x","best of n",0,null,"K_02_B2","field x","best of n",0,null,"K_01_007","field x","best of 0",0]
["tbl_KO_Data.ID",{"$f":"1000000000*2^(KO_Rounds_Ind) + 1000000 * KO_Groups_Sel + 1000 * KO_GroupSize","v":8004004000},null,null,null,null,null,null,null,null,null,null,null,null,{"$f":"INDEX(tbl_KO_Data[T1 Src Rank],K42) & \". Gr. \" & INDEX(tbl_KO_Data[T1 Src Group],K42)","v":"2. Gr. B"},null,null,null,null,null,null,null,null,null,null,null,null,null,null,null,null,null,null,null,null,null,null,null,null,null,null,null,null,null,null,null,null,null,null,null,null,7,{"$f":"IF(AX44>AX46,AU44,IF(AX44<AX46,AU46,\"\"))","v":""}]
[null,null,null,null,null,null,null,null,null,null,null,null,null,null,null,null,{"$f":"O43","v":"2. Gr. B"},null,null,null,null,{"$f":"IF($V$16,O43,CHOOSE(SIGN(T70-T68)+2,Q68,\"(\"&Q68&\" : \"&Q70&\")\",Q70))","v":"(1. Gr. D : 4. Gr. A)"},null,null,null,null,{"$f":"IF($AA$16,O43,CHOOSE(SIGN(Y70-Y68)+2,V68,\"(\"&V68&\" : \"&V70&\")\",V70))","v":"((4. Gr. B : 5. Gr. A) : (4. Gr. B : 5. Gr. A))"},null,null,null,null,{"$f":"IF($AF$16,O43,CHOOSE(SIGN(AD70-AD68)+2,AA68,\"(\"&AA68&\" : \"&AA70&\")\",AA70))","v":"2. Gr. B"},null,null,null,null,{"$f":"IF($AK$16,O43,CHOOSE(SIGN(AI70-AI68)+2,AF68,\"(\"&AF68&\" : \"&AF70&\")\",AF70))","v":"(1. Gr. D : 4. Gr. A)"},null,null,null,null,{"$f":"CHOOSE(SIGN(AN36-AN38)+2,AK36,\"(\"&AK36&\" : \"&AK38&\")\",AK38)","v":"((1. Gr. B : 4. Gr. C) : (2. Gr. A : 3. Gr. D))"},null,null,null,null,{"$f":"CHOOSE(SIGN(AS36-AS38)+2,AP36,\"(\"&AP36&\" : \"&AP38&\")\",AP38)","v":"(((1. Gr. A : 4. Gr. B) : (2. Gr. D : 3. Gr. C)) : ((1. Gr. C : 4. Gr. D) : (2. Gr. B : 3. Gr. A)))"}]
["KO_Data_1row",{"$f":"MATCH(B43,tbl_KO_Data[ID],1)","v":295}]
[null,null,null,null,null,null,null,null,null,null,null,null,null,null,null,null,{"$f":"O47","v":"3. Gr. A"},null,null,null,null,{"$f":"IF($V$16,O47,CHOOSE(SIGN(T78-T76)+2,Q76,\"(\"&Q76&\" : \"&Q78&\")\",Q78))","v":"(2. Gr. C : 3. Gr. B)"},null,null,null,null,{"$f":"IF($AA$16,O47,CHOOSE(SIGN(Y78-Y76)+2,V76,\"(\"&V76&\" : \"&V78&\")\",V78))","v":"((4. Gr. B : 5. Gr. A) : (4. Gr. B : 5. Gr. A))"},null,null,null,null,{"$f":"IF($AF$16,O47,CHOOSE(SIGN(AD78-AD76)+2,AA76,\"(\"&AA76&\" : \"&AA78&\")\",AA78))","v":"3. Gr. A"},null,null,null,null,{"$f":"IF($AK$16,O47,CHOOSE(SIGN(AI78-AI76)+2,AF76,\"(\"&AF76&\" : \"&AF78&\")\",AF78))","v":"(2. Gr. C : 3. Gr. B)"},null,null,null,null,{"$f":"CHOOSE(SIGN(AN44-AN46)+2,AK44,\"(\"&AK44&\" : \"&AK46&\")\",AK46)","v":"((1. Gr. D : 4. Gr. A) : (2. Gr. C : 3. Gr. B))"},null,null,null,null,{"$f":"CHOOSE(SIGN(AS44-AS46)+2,AP44,\"(\"&AP44&\" : \"&AP46&\")\",AP46)","v":"(((1. Gr. B : 4. Gr. C) : (2. Gr. A : 3. Gr. D)) : ((1. Gr. D : 4. Gr. A) : (2. Gr. C : 3. Gr. B)))"}]
[null,null,null,null,null,null,null,null,null,null,null,null,null,null,{"$f":"INDEX(tbl_KO_Data[T2 Src Rank],K42) & \". Gr. \" & INDEX(tbl_KO_Data[T2 Src Group],K42)","v":"3. Gr. A"},null,null,null,null,null,null,null,null,null,null,null,null,null,null,null,null,null,null,null,null,null,null,null,null,null,null,null,null,null,null,null,null,null,null,null,null,8,{"$f":"IF(AX44>AX46,AU46,IF(AX44<AX46,AU44,\"\"))","v":""}]
[]
[]
[null,null,null,null,null,2,4,8,16,null,{"$f":"KO_Data_1row+INDEX(D50:I50,KO_Rounds_Ind)","v":297},null,null,null,null,null,"K_64_A16","field x","best of n",0,null,"K_32_A08","field x","best of n",0,null,"K_16_A04","field x","best of n",0,null,"K_08_A2","field x","best of n",0,null,"K_04_B1","field x","best of n",0,null,"K_02_C1","field x","best of n",0,null,"K_01_009","field x","best of 0",0]
[null,null,null,null,null,null,null,null,null,null,null,null,null,null,{"$f":"INDEX(tbl_KO_Data[T1 Src Rank],K50) & \". Gr. \" & INDEX(tbl_KO_Data[T1 Src Group],K50)","v":"1. Gr. B"},null,null,null,null,null,null,null,null,null,null,null,null,null,null,null,null,null,null,null,null,null,null,null,null,null,null,null,null,null,null,null,null,null,null,null,null,9,{"$f":"IF(AX52>AX54,AU52,IF(AX52<AX54,AU54,\"\"))","v":""}]
[null,null,null,null,null,null,null,null,null,null,null,null,null,null,null,null,{"$f":"O51","v":"1. Gr. B"},null,null,null,null,{"$f":"IF($V$16,O51,CHOOSE(SIGN(T86-T84)+2,Q84,\"(\"&Q84&\" : \"&Q86&\")\",Q86))","v":"(4. Gr. B : 5. Gr. A)"},null,null,null,null,{"$f":"IF($AA$16,O51,CHOOSE(SIGN(Y86-Y84)+2,V84,\"(\"&V84&\" : \"&V86&\")\",V86))","v":"((4. Gr. B : 5. Gr. A) : (4. Gr. B : 5. Gr. A))"},null,null,null,null,{"$f":"IF($AF$16,O51,CHOOSE(SIGN(AD86-AD84)+2,AA84,\"(\"&AA84&\" : \"&AA86&\")\",AA86))","v":"1. Gr. B"},null,null,null,null,{"$f":"CHOOSE(SIGN(AI20-AI22)+2,AF20,\"(\"&AF20&\" : \"&AF22&\")\",AF22)","v":"(1. Gr. A : 4. Gr. B)"},null,null,null,null,{"$f":"CHOOSE(SIGN(AN54-AN52)+2,AK52,\"(\"&AK52&\" : \"&AK54&\")\",AK54)","v":"((1. Gr. A : 4. Gr. B) : (2. Gr. D : 3. Gr. C))"},null,null,null,null,{"$f":"CHOOSE(SIGN(AS54-AS52)+2,AP52,\"(\"&AP52&\" : \"&AP54&\")\",AP54)","v":"(((1. Gr. A : 4. Gr. B) : (2. Gr. D : 3. Gr. C)) : ((1. Gr. C : 4. Gr. D) : (2. Gr. B : 3. Gr. A)))"}]
[]
[null,null,null,null,null,null,null,null,null,null,null,null,null,null,null,null,{"$f":"O55","v":"4. Gr. C"},null,null,null,null,{"$f":"IF($V$16,O55,CHOOSE(SIGN(T94-T92)+2,Q92,\"(\"&Q92&\" : \"&Q94&\")\",Q94))","v":"(4. Gr. B : 5. Gr. A)"},null,null,null,null,{"$f":"IF($AA$16,O55,CHOOSE(SIGN(Y94-Y92)+2,V92,\"(\"&V92&\" : \"&V94&\")\",V94))","v":"((4. Gr. B : 5. Gr. A) : (4. Gr. B : 5. Gr. A))"},null,null,null,null,{"$f":"IF($AF$16,O55,CHOOSE(SIGN(AD94-AD92)+2,AA92,\"(\"&AA92&\" : \"&AA94&\")\",AA94))","v":"4. Gr. C"},null,null,null,null,{"$f":"CHOOSE(SIGN(AI28-AI30)+2,AF28,\"(\"&AF28&\" : \"&AF30&\")\",AF30)","v":"(2. Gr. D : 3. Gr. C)"},null,null,null,null,{"$f":"CHOOSE(SIGN(AN62-AN60)+2,AK60,\"(\"&AK60&\" : \"&AK62&\")\",AK62)","v":"((1. Gr. C : 4. Gr. D) : (2. Gr. B : 3. Gr. A))"},null,null,null,null,{"$f":"CHOOSE(SIGN(AS62-AS60)+2,AP60,\"(\"&AP60&\" : \"&AP62&\")\",AP62)","v":"(((1. Gr. B : 4. Gr. C) : (2. Gr. A : 3. Gr. D)) : ((1. Gr. D : 4. Gr. A) : (2. Gr. C : 3. Gr. B)))"}]
[null,null,null,null,null,null,null,null,null,null,null,null,null,null,{"$f":"INDEX(tbl_KO_Data[T2 Src Rank],K50) & \". Gr. \" & INDEX(tbl_KO_Data[T2 Src Group],K50)","v":"4. Gr. C"},null,null,null,null,null,null,null,null,null,null,null,null,null,null,null,null,null,null,null,null,null,null,null,null,null,null,null,null,null,null,null,null,null,null,null,null,10,{"$f":"IF(AX52>AX54,AU54,IF(AX52<AX54,AU52,\"\"))","v":""}]
[]
[]
[null,null,null,null,null,7,13,25,49,null,{"$f":"KO_Data_1row+INDEX(D58:I58,KO_Rounds_Ind)","v":302},null,null,null,null,null,"K_64_A49","field x","best of n",0,null,"K_32_A25","field x","best of n",0,null,"K_16_A13","field x","best of n",0,null,"K_08_A7","field x","best of n",0,null,"K_04_B4","field x","best of n",0,null,"K_02_C2","field x","best of n",0,null,"K_01_011","field x","best of 0",0]
[null,null,null,null,null,null,null,null,null,null,null,null,null,null,{"$f":"INDEX(tbl_KO_Data[T1 Src Rank],K58) & \". Gr. \" & INDEX(tbl_KO_Data[T1 Src Group],K58)","v":"2. Gr. A"},null,null,null,null,null,null,null,null,null,null,null,null,null,null,null,null,null,null,null,null,null,null,null,null,null,null,null,null,null,null,null,null,null,null,null,null,11,{"$f":"IF(AX60>AX62,AU60,IF(AX60<AX62,AU62,\"\"))","v":""}]
[null,null,null,null,null,null,null,null,null,null,null,null,null,null,null,null,{"$f":"O59","v":"2. Gr. A"},null,null,null,null,{"$f":"IF($V$16,O59,CHOOSE(SIGN(T102-T100)+2,Q100,\"(\"&Q100&\" : \"&Q102&\")\",Q102))","v":"(4. Gr. B : 5. Gr. A)"},null,null,null,null,{"$f":"IF($AA$16,O59,CHOOSE(SIGN(Y102-Y100)+2,V100,\"(\"&V100&\" : \"&V102&\")\",V102))","v":"((4. Gr. B : 5. Gr. A) : (4. Gr. B : 5. Gr. A))"},null,null,null,null,{"$f":"IF($AF$16,O59,CHOOSE(SIGN(AD102-AD100)+2,AA100,\"(\"&AA100&\" : \"&AA102&\")\",AA102))","v":"2. Gr. A"},null,null,null,null,{"$f":"CHOOSE(SIGN(AI36-AI38)+2,AF36,\"(\"&AF36&\" : \"&AF38&\")\",AF38)","v":"(1. Gr. C : 4. Gr. D)"},null,null,null,null,{"$f":"CHOOSE(SIGN(AN70-AN68)+2,AK68,\"(\"&AK68&\" : \"&AK70&\")\",AK70)","v":"((1. Gr. B : 4. Gr. C) : (2. Gr. A : 3. Gr. D))"},null,null,null,null,{"$f":"CHOOSE(SIGN(AS52-AS54)+2,AP52,\"(\"&AP52&\" : \"&AP54&\")\",AP54)","v":"(((1. Gr. A : 4. Gr. B) : (2. Gr. D : 3. Gr. C)) : ((1. Gr. C : 4. Gr. D) : (2. Gr. B : 3. Gr. A)))"}]
[]
[null,null,null,null,null,null,null,null,null,null,null,null,null,null,null,null,{"$f":"O63","v":"3. Gr. D"},null,null,null,null,{"$f":"IF($V$16,O63,CHOOSE(SIGN(T110-T108)+2,Q108,\"(\"&Q108&\" : \"&Q110&\")\",Q110))","v":"(4. Gr. B : 5. Gr. A)"},null,null,null,null,{"$f":"IF($AA$16,O63,CHOOSE(SIGN(Y110-Y108)+2,V108,\"(\"&V108&\" : \"&V110&\")\",V110))","v":"((4. Gr. B : 5. Gr. A) : (4. Gr. B : 5. Gr. A))"},null,null,null,null,{"$f":"IF($AF$16,O63,CHOOSE(SIGN(AD110-AD108)+2,AA108,\"(\"&AA108&\" : \"&AA110&\")\",AA110))","v":"3. Gr. D"},null,null,null,null,{"$f":"CHOOSE(SIGN(AI44-AI46)+2,AF44,\"(\"&AF44&\" : \"&AF46&\")\",AF46)","v":"(2. Gr. B : 3. Gr. A)"},null,null,null,null,{"$f":"CHOOSE(SIGN(AN78-AN76)+2,AK76,\"(\"&AK76&\" : \"&AK78&\")\",AK78)","v":"((1. Gr. D : 4. Gr. A) : (2. Gr. C : 3. Gr. B))"},null,null,null,null,{"$f":"CHOOSE(SIGN(AS60-AS62)+2,AP60,\"(\"&AP60&\" : \"&AP62&\")\",AP62)","v":"(((1. Gr. B : 4. Gr. C) : (2. Gr. A : 3. Gr. D)) : ((1. Gr. D : 4. Gr. A) : (2. Gr. C : 3. Gr. B)))"}]
[null,null,null,null,null,null,null,null,null,null,null,null,null,null,{"$f":"INDEX(tbl_KO_Data[T2 Src Rank],K58) & \". Gr. \" & INDEX(tbl_KO_Data[T2 Src Group],K58)","v":"3. Gr. D"},null,null,null,null,null,null,null,null,null,null,null,null,null,null,null,null,null,null,null,null,null,null,null,null,null,null,null,null,null,null,null,null,null,null,null,null,12,{"$f":"IF(AX60>AX62,AU62,IF(AX60<AX62,AU60,\"\"))","v":""}]
[]
[]
[null,null,null,null,null,3,5,9,17,null,{"$f":"KO_Data_1row+INDEX(D66:I66,KO_Rounds_Ind)","v":298},null,null,null,null,null,"K_64_A17","field x","best of n",0,null,"K_32_A09","field x","best of n",0,null,"K_16_A05","field x","best of n",0,null,"K_08_A3","field x","best of n",0,null,"K_04_B2","field x","best of n",0,null,"K_02_D1","field x","best of n",0,null,"K_01_013","field x","best of 0",0]
[null,null,null,null,null,null,null,null,null,null,null,null,null,null,{"$f":"INDEX(tbl_KO_Data[T1 Src Rank],K66) & \". Gr. \" & INDEX(tbl_KO_Data[T1 Src Group],K66)","v":"1. Gr. D"},null,null,null,null,null,null,null,null,null,null,null,null,null,null,null,null,null,null,null,null,null,null,null,null,null,null,null,null,null,null,null,null,null,null,null,null,13,{"$f":"IF(AX68>AX70,AU68,IF(AX68<AX70,AU70,\"\"))","v":""}]
[null,null,null,null,null,null,null,null,null,null,null,null,null,null,null,null,{"$f":"O67","v":"1. Gr. D"},null,null,null,null,{"$f":"IF($V$16,O67,CHOOSE(SIGN(T118-T116)+2,Q116,\"(\"&Q116&\" : \"&Q118&\")\",Q118))","v":"(4. Gr. B : 5. Gr. A)"},null,null,null,null,{"$f":"IF($AA$16,O67,CHOOSE(SIGN(Y118-Y116)+2,V116,\"(\"&V116&\" : \"&V118&\")\",V118))","v":"((4. Gr. B : 5. Gr. A) : (4. Gr. B : 5. Gr. A))"},null,null,null,null,{"$f":"IF($AF$16,O67,CHOOSE(SIGN(AD118-AD116)+2,AA116,\"(\"&AA116&\" : \"&AA118&\")\",AA118))","v":"1. Gr. D"},null,null,null,null,{"$f":"CHOOSE(SIGN(AI52-AI54)+2,AF52,\"(\"&AF52&\" : \"&AF54&\")\",AF54)","v":"(1. Gr. B : 4. Gr. C)"},null,null,null,null,{"$f":"CHOOSE(SIGN(AN52-AN54)+2,AK52,\"(\"&AK52&\" : \"&AK54&\")\",AK54)","v":"((1. Gr. A : 4. Gr. B) : (2. Gr. D : 3. Gr. C))"},null,null,null,null,{"$f":"CHOOSE(SIGN(AS70-AS68)+2,AP68,\"(\"&AP68&\" : \"&AP70&\")\",AP70)","v":"(((1. Gr. A : 4. Gr. B) : (2. Gr. D : 3. Gr. C)) : ((1. Gr. C : 4. Gr. D) : (2. Gr. B : 3. Gr. A)))"}]
[]
[null,null,null,null,null,null,null,null,null,null,null,null,null,null,null,null,{"$f":"O71","v":"4. Gr. A"},null,null,null,null,{"$f":"IF($V$16,O71,CHOOSE(SIGN(T126-T124)+2,Q124,\"(\"&Q124&\" : \"&Q126&\")\",Q126))","v":"(4. Gr. B : 5. Gr. A)"},null,null,null,null,{"$f":"IF($AA$16,O71,CHOOSE(SIGN(Y126-Y124)+2,V124,\"(\"&V124&\" : \"&V126&\")\",V126))","v":"((4. Gr. B : 5. Gr. A) : (4. Gr. B : 5. Gr. A))"},null,null,null,null,{"$f":"IF($AF$16,O71,CHOOSE(SIGN(AD126-AD124)+2,AA124,\"(\"&AA124&\" : \"&AA126&\")\",AA126))","v":"4. Gr. A"},null,null,null,null,{"$f":"CHOOSE(SIGN(AI60-AI62)+2,AF60,\"(\"&AF60&\" : \"&AF62&\")\",AF62)","v":"(2. Gr. A : 3. Gr. D)"},null,null,null,null,{"$f":"CHOOSE(SIGN(AN60-AN62)+2,AK60,\"(\"&AK60&\" : \"&AK62&\")\",AK62)","v":"((1. Gr. C : 4. Gr. D) : (2. Gr. B : 3. Gr. A))"},null,null,null,null,{"$f":"CHOOSE(SIGN(AS78-AS76)+2,AP76,\"(\"&AP76&\" : \"&AP78&\")\",AP78)","v":"(((1. Gr. B : 4. Gr. C) : (2. Gr. A : 3. Gr. D)) : ((1. Gr. D : 4. Gr. A) : (2. Gr. C : 3. Gr. B)))"}]
[null,null,null,null,null,null,null,null,null,null,null,null,null,null,{"$f":"INDEX(tbl_KO_Data[T2 Src Rank],K66) & \". Gr. \" & INDEX(tbl_KO_Data[T2 Src Group],K66)","v":"4. Gr. A"},null,null,null,null,null,null,null,null,null,null,null,null,null,null,null,null,null,null,null,null,null,null,null,null,null,null,null,null,null,null,null,null,null,null,null,null,14,{"$f":"IF(AX68>AX70,AU70,IF(AX68<AX70,AU68,\"\"))","v":""}]
[]
[]
[null,null,null,null,null,6,12,24,48,null,{"$f":"KO_Data_1row+INDEX(D74:I74,KO_Rounds_Ind)","v":301},null,null,null,null,null,"K_64_A48","field x","best of n",0,null,"K_32_A24","field x","best of n",0,null,"K_16_A12","field x","best of n",0,null,"K_08_A6","field x","best of n",0,null,"K_04_B3","field x","best of n",0,null,"K_02_D2","field x","best of n",0,null,"K_01_015","field x","best of 0",0]
[null,null,null,null,null,null,null,null,null,null,null,null,null,null,{"$f":"INDEX(tbl_KO_Data[T1 Src Rank],K74) & \". Gr. \" & INDEX(tbl_KO_Data[T1 Src Group],K74)","v":"2. Gr. C"},null,null,null,null,null,null,null,null,null,null,null,null,null,null,null,null,null,null,null,null,null,null,null,null,null,null,null,null,null,null,null,null,null,null,null,null,15,{"$f":"IF(AX76>AX78,AU76,IF(AX76<AX78,AU78,\"\"))","v":""}]
[null,null,null,null,null,null,null,null,null,null,null,null,null,null,null,null,{"$f":"O75","v":"2. Gr. C"},null,null,null,null,{"$f":"IF($V$16,O75,CHOOSE(SIGN(T134-T132)+2,Q132,\"(\"&Q132&\" : \"&Q134&\")\",Q134))","v":"(4. Gr. B : 5. Gr. A)"},null,null,null,null,{"$f":"IF($AA$16,O75,CHOOSE(SIGN(Y134-Y132)+2,V132,\"(\"&V132&\" : \"&V134&\")\",V134))","v":"((4. Gr. B : 5. Gr. A) : (4. Gr. B : 5. Gr. A))"},null,null,null,null,{"$f":"IF($AF$16,O75,CHOOSE(SIGN(AD134-AD132)+2,AA132,\"(\"&AA132&\" : \"&AA134&\")\",AA134))","v":"2. Gr. C"},null,null,null,null,{"$f":"CHOOSE(SIGN(AI68-AI70)+2,AF68,\"(\"&AF68&\" : \"&AF70&\")\",AF70)","v":"(1. Gr. D : 4. Gr. A)"},null,null,null,null,{"$f":"CHOOSE(SIGN(AN68-AN70)+2,AK68,\"(\"&AK68&\" : \"&AK70&\")\",AK70)","v":"((1. Gr. B : 4. Gr. C) : (2. Gr. A : 3. Gr. D))"},null,null,null,null,{"$f":"CHOOSE(SIGN(AS68-AS70)+2,AP68,\"(\"&AP68&\" : \"&AP70&\")\",AP70)","v":"(((1. Gr. A : 4. Gr. B) : (2. Gr. D : 3. Gr. C)) : ((1. Gr. C : 4. Gr. D) : (2. Gr. B : 3. Gr. A)))"}]
[]
[null,null,null,null,null,null,null,null,null,null,null,null,null,null,null,null,{"$f":"O79","v":"3. Gr. B"},null,null,null,null,{"$f":"IF($V$16,O79,CHOOSE(SIGN(T142-T140)+2,Q140,\"(\"&Q140&\" : \"&Q142&\")\",Q142))","v":"(4. Gr. B : 5. Gr. A)"},null,null,null,null,{"$f":"IF($AA$16,O79,CHOOSE(SIGN(Y142-Y140)+2,V140,\"(\"&V140&\" : \"&V142&\")\",V142))","v":"((4. Gr. B : 5. Gr. A) : (4. Gr. B : 5. Gr. A))"},null,null,null,null,{"$f":"IF($AF$16,O79,CHOOSE(SIGN(AD142-AD140)+2,AA140,\"(\"&AA140&\" : \"&AA142&\")\",AA142))","v":"3. Gr. B"},null,null,null,null,{"$f":"CHOOSE(SIGN(AI76-AI78)+2,AF76,\"(\"&AF76&\" : \"&AF78&\")\",AF78)","v":"(2. Gr. C : 3. Gr. B)"},null,null,null,null,{"$f":"CHOOSE(SIGN(AN76-AN78)+2,AK76,\"(\"&AK76&\" : \"&AK78&\")\",AK78)","v":"((1. Gr. D : 4. Gr. A) : (2. Gr. C : 3. Gr. B))"},null,null,null,null,{"$f":"CHOOSE(SIGN(AS76-AS78)+2,AP76,\"(\"&AP76&\" : \"&AP78&\")\",AP78)","v":"(((1. Gr. B : 4. Gr. C) : (2. Gr. A : 3. Gr. D)) : ((1. Gr. D : 4. Gr. A) : (2. Gr. C : 3. Gr. B)))"}]
[null,null,null,null,null,null,null,null,null,null,null,null,null,null,{"$f":"INDEX(tbl_KO_Data[T2 Src Rank],K74) & \". Gr. \" & INDEX(tbl_KO_Data[T2 Src Group],K74)","v":"3. Gr. B"},null,null,null,null,null,null,null,null,null,null,null,null,null,null,null,null,null,null,null,null,null,null,null,null,null,null,null,null,null,null,null,null,null,null,null,null,16,{"$f":"IF(AX76>AX78,AU78,IF(AX76<AX78,AU76,\"\"))","v":""}]
[]
[]
[null,null,null,null,null,null,2,4,8,null,{"$f":"KO_Data_1row+INDEX(D82:I82,KO_Rounds_Ind)","v":295},null,null,null,null,null,"K_64_A08","field x","best of n",0,null,"K_32_A04","field x","best of n",0,null,"K_16_A02","field x","best of n",0,null,"K_08_B1","field x","best of n",0,null,"K_04_C1","field x","best of n",0,null,"K_02_E1","field x","best of n",0,null,"K_01_017","field x","best of n",0]
[null,null,null,null,null,null,null,null,null,null,null,null,null,null,{"$f":"INDEX(tbl_KO_Data[T1 Src Rank],K82) & \". Gr. \" & INDEX(tbl_KO_Data[T1 Src Group],K82)","v":"4. Gr. B"},null,null,null,null,null,null,null,null,null,null,null,null,null,null,null,null,null,null,null,null,null,null,null,null,null,null,null,null,null,null,null,null,null,null,null,null,17,{"$f":"IF(AX84>AX86,AU84,IF(AX84<AX86,AU86,\"\"))","v":""}]
[null,null,null,null,null,null,null,null,null,null,null,null,null,null,null,null,{"$f":"O83","v":"4. Gr. B"},null,null,null,null,{"$f":"IF($V$16,O83,CHOOSE(SIGN(T150-T148)+2,Q148,\"(\"&Q148&\" : \"&Q150&\")\",Q150))","v":"(4. Gr. B : 5. Gr. A)"},null,null,null,null,{"$f":"IF($AA$16,O83,CHOOSE(SIGN(Y150-Y148)+2,V148,\"(\"&V148&\" : \"&V150&\")\",V150))","v":"((4. Gr. B : 5. Gr. A) : (4. Gr. B : 5. Gr. A))"},null,null,null,null,{"$f":"CHOOSE(SIGN(AD20-AD22)+2,AA20,\"(\"&AA20&\" : \"&AA22&\")\",AA22)","v":"(((1. Gr. A : 4. Gr. B) : (2. Gr. D : 3. Gr. C)) : ((1. Gr. C : 4. Gr. D) : (2. Gr. B : 3. Gr. A)))"},null,null,null,null,{"$f":"CHOOSE(SIGN(AI86-AI84)+2,AF84,\"(\"&AF84&\" : \"&AF86&\")\",AF86)","v":"((((1. Gr. A : 4. Gr. B) : (2. Gr. D : 3. Gr. C)) : ((1. Gr. C : 4. Gr. D) : (2. Gr. B : 3. Gr. A))) : (((1. Gr. B : 4. Gr. C) : (2. Gr. A : 3. Gr. D)) : ((1. Gr. D : 4. Gr. A) : (2. Gr. C : 3. Gr. B))))"},null,null,null,null,{"$f":"CHOOSE(SIGN(AN86-AN84)+2,AK84,\"(\"&AK84&\" : \"&AK86&\")\",AK86)","v":"(((((1. Gr. A : 4. Gr. B) : (2. Gr. D : 3. Gr. C)) : ((1. Gr. C : 4. Gr. D) : (2. Gr. B : 3. Gr. A))) : (((1. Gr. B : 4. Gr. C) : (2. Gr. A : 3. Gr. D)) : ((1. Gr. D : 4. Gr. A) : (2. Gr. C : 3. Gr. B)))) : ((((4. Gr. B : 5. Gr. A) : (4. Gr. B : 5. Gr. A)) : ((4. Gr. B : 5. Gr. A) : (4. Gr. B : 5. Gr. A))) : (((4. Gr. B : 5. Gr. A) : (4. Gr. B : 5. Gr. A)) : ((4. Gr. B : 5. Gr. A) : (4. Gr. B : 5. Gr. A)))))"},null,null,null,null,{"$f":"CHOOSE(SIGN(AS86-AS84)+2,AP84,\"(\"&AP84&\" : \"&AP86&\")\",AP86)","v":"((((((1. Gr. A : 4. Gr. B) : (2. Gr. D : 3. Gr. C)) : ((1. Gr. C : 4. Gr. D) : (2. Gr. B : 3. Gr. A))) : (((1. Gr. B : 4. Gr. C) : (2. Gr. A : 3. Gr. D)) : ((1. Gr. D : 4. Gr. A) : (2. Gr. C : 3. Gr. B)))) : ((((4. Gr. B : 5. Gr. A) : (4. Gr. B : 5. Gr. A)) : ((4. Gr. B : 5. Gr. A) : (4. Gr. B : 5. Gr. A))) : (((4. Gr. B : 5. Gr. A) : (4. Gr. B : 5. Gr. A)) : ((4. Gr. B : 5. Gr. A) : (4. Gr. B : 5. Gr. A))))) : (((((4. Gr. B : 5. Gr. A) : (4. Gr. B : 5. Gr. A)) : ((4. Gr. B : 5. Gr. A) : (4. Gr. B : 5. Gr. A))) : (((4. Gr. B : 5. Gr. A) : (4. Gr. B : 5. Gr. A)) : ((4. Gr. B : 5. Gr. A) : (4. Gr. B : 5. Gr. A)))) : ((((4. Gr. B : 5. Gr. A) : (4. Gr. B : 5. Gr. A)) : ((4. Gr. B : 5. Gr. A) : (4. Gr. B : 5. Gr. A))) : (((4. Gr. B : 5. Gr. A) : (4. Gr. B : 5. Gr. A)) : ((4. Gr. B : 5. Gr. A) : (4. Gr. B : 5. Gr. A))))))"}]
[]
[null,null,null,null,null,null,null,null,null,null,null,null,null,null,null,null,{"$f":"O87","v":"5. Gr. A"},null,null,null,null,{"$f":"IF($V$16,O87,CHOOSE(SIGN(T158-T156)+2,Q156,\"(\"&Q156&\" : \"&Q158&\")\",Q158))","v":"(4. Gr. B : 5. Gr. A)"},null,null,null,null,{"$f":"IF($AA$16,O87,CHOOSE(SIGN(Y158-Y156)+2,V156,\"(\"&V156&\" : \"&V158&\")\",V158))","v":"((4. Gr. B : 5. Gr. A) : (4. Gr. B : 5. Gr. A))"},null,null,null,null,{"$f":"CHOOSE(SIGN(AD28-AD30)+2,AA28,\"(\"&AA28&\" : \"&AA30&\")\",AA30)","v":"(((1. Gr. B : 4. Gr. C) : (2. Gr. A : 3. Gr. D)) : ((1. Gr. D : 4. Gr. A) : (2. Gr. C : 3. Gr. B)))"},null,null,null,null,{"$f":"CHOOSE(SIGN(AI94-AI92)+2,AF92,\"(\"&AF92&\" : \"&AF94&\")\",AF94)","v":"((((4. Gr. B : 5. Gr. A) : (4. Gr. B : 5. Gr. A)) : ((4. Gr. B : 5. Gr. A) : (4. Gr. B : 5. Gr. A))) : (((4. Gr. B : 5. Gr. A) : (4. Gr. B : 5. Gr. A)) : ((4. Gr. B : 5. Gr. A) : (4. Gr. B : 5. Gr. A))))"},null,null,null,null,{"$f":"CHOOSE(SIGN(AN94-AN92)+2,AK92,\"(\"&AK92&\" : \"&AK94&\")\",AK94)","v":"(((((4. Gr. B : 5. Gr. A) : (4. Gr. B : 5. Gr. A)) : ((4. Gr. B : 5. Gr. A) : (4. Gr. B : 5. Gr. A))) : (((4. Gr. B : 5. Gr. A) : (4. Gr. B : 5. Gr. A)) : ((4. Gr. B : 5. Gr. A) : (4. Gr. B : 5. Gr. A)))) : ((((4. Gr. B : 5. Gr. A) : (4. Gr. B : 5. Gr. A)) : ((4. Gr. B : 5. Gr. A) : (4. Gr. B : 5. Gr. A))) : (((4. Gr. B : 5. Gr. A) : (4. Gr. B : 5. Gr. A)) : ((4. Gr. B : 5. Gr. A) : (4. Gr. B : 5. Gr. A)))))"},null,null,null,null,{"$f":"CHOOSE(SIGN(AS94-AS92)+2,AP92,\"(\"&AP92&\" : \"&AP94&\")\",AP94)","v":"((((((4. Gr. B : 5. Gr. A) : (4. Gr. B : 5. Gr. A)) : ((4. Gr. B : 5. Gr. A) : (4. Gr. B : 5. Gr. A))) : (((4. Gr. B : 5. Gr. A) : (4. Gr. B : 5. Gr. A)) : ((4. Gr. B : 5. Gr. A) : (4. Gr. B : 5. Gr. A)))) : ((((4. Gr. B : 5. Gr. A) : (4. Gr. B : 5. Gr. A)) : ((4. Gr. B : 5. Gr. A) : (4. Gr. B : 5. Gr. A))) : (((4. Gr. B : 5. Gr. A) : (4. Gr. B : 5. Gr. A)) : ((4. Gr. B : 5. Gr. A) : (4. Gr. B : 5. Gr. A))))) : (((((4. Gr. B : 5. Gr. A) : (4. Gr. B : 5. Gr. A)) : ((4. Gr. B : 5. Gr. A) : (4. Gr. B : 5. Gr. A))) : (((4. Gr. B : 5. Gr. A) : (4. Gr. B : 5. Gr. A)) : ((4. Gr. B : 5. Gr. A) : (4. Gr. B : 5. Gr. A)))) : ((((4. Gr. B : 5. Gr. A) : (4. Gr. B : 5. Gr. A)) : ((4. Gr. B : 5. Gr. A) : (4. Gr. B : 5. Gr. A))) : (((4. Gr. B : 5. Gr. A) : (4. Gr. B : 5. Gr. A)) : ((4. Gr. B : 5. Gr. A) : (4. Gr. B : 5. Gr. A))))))"}]
[null,null,null,null,null,null,null,null,null,null,null,null,null,null,{"$f":"INDEX(tbl_KO_Data[T2 Src Rank],K82) & \". Gr. \" & INDEX(tbl_KO_Data[T2 Src Group],K82)","v":"5. Gr. A"},null,null,null,null,null,null,null,null,null,null,null,null,null,null,null,null,null,null,null,null,null,null,null,null,null,null,null,null,null,null,null,null,null,null,null,null,18,{"$f":"IF(AX84>AX86,AU86,IF(AX84<AX86,AU84,\"\"))","v":""}]
[]
[]
[null,null,null,null,null,null,15,29,57,null,{"$f":"KO_Data_1row+INDEX(D90:I90,KO_Rounds_Ind)","v":295},null,null,null,null,null,"K_64_A57","field x","best of n",0,null,"K_32_A29","field x","best of n",0,null,"K_16_A15","field x","best of n",0,null,"K_08_B8","field x","best of n",0,null,"K_04_C4","field x","best of n",0,null,"K_02_E2","field x","best of n",0,null,"K_01_019","field x","best of n",0]
[null,null,null,null,null,null,null,null,null,null,null,null,null,null,{"$f":"INDEX(tbl_KO_Data[T1 Src Rank],K90) & \". Gr. \" & INDEX(tbl_KO_Data[T1 Src Group],K90)","v":"4. Gr. B"},null,null,null,null,null,null,null,null,null,null,null,null,null,null,null,null,null,null,null,null,null,null,null,null,null,null,null,null,null,null,null,null,null,null,null,null,19,{"$f":"IF(AX92>AX94,AU92,IF(AX92<AX94,AU94,\"\"))","v":""}]
[null,null,null,null,null,null,null,null,null,null,null,null,null,null,null,null,{"$f":"O91","v":"4. Gr. B"},null,null,null,null,{"$f":"IF($V$16,O91,CHOOSE(SIGN(T166-T164)+2,Q164,\"(\"&Q164&\" : \"&Q166&\")\",Q166))","v":"(4. Gr. B : 5. Gr. A)"},null,null,null,null,{"$f":"IF($AA$16,O91,CHOOSE(SIGN(Y166-Y164)+2,V164,\"(\"&V164&\" : \"&V166&\")\",V166))","v":"((4. Gr. B : 5. Gr. A) : (4. Gr. B : 5. Gr. A))"},null,null,null,null,{"$f":"CHOOSE(SIGN(AD36-AD38)+2,AA36,\"(\"&AA36&\" : \"&AA38&\")\",AA38)","v":"(((4. Gr. B : 5. Gr. A) : (4. Gr. B : 5. Gr. A)) : ((4. Gr. B : 5. Gr. A) : (4. Gr. B : 5. Gr. A)))"},null,null,null,null,{"$f":"CHOOSE(SIGN(AI102-AI100)+2,AF100,\"(\"&AF100&\" : \"&AF102&\")\",AF102)","v":"((((4. Gr. B : 5. Gr. A) : (4. Gr. B : 5. Gr. A)) : ((4. Gr. B : 5. Gr. A) : (4. Gr. B : 5. Gr. A))) : (((4. Gr. B : 5. Gr. A) : (4. Gr. B : 5. Gr. A)) : ((4. Gr. B : 5. Gr. A) : (4. Gr. B : 5. Gr. A))))"},null,null,null,null,{"$f":"CHOOSE(SIGN(AN102-AN100)+2,AK100,\"(\"&AK100&\" : \"&AK102&\")\",AK102)","v":"(((((4. Gr. B : 5. Gr. A) : (4. Gr. B : 5. Gr. A)) : ((4. Gr. B : 5. Gr. A) : (4. Gr. B : 5. Gr. A))) : (((4. Gr. B : 5. Gr. A) : (4. Gr. B : 5. Gr. A)) : ((4. Gr. B : 5. Gr. A) : (4. Gr. B : 5. Gr. A)))) : ((((4. Gr. B : 5. Gr. A) : (4. Gr. B : 5. Gr. A)) : ((4. Gr. B : 5. Gr. A) : (4. Gr. B : 5. Gr. A))) : (((4. Gr. B : 5. Gr. A) : (4. Gr. B : 5. Gr. A)) : ((4. Gr. B : 5. Gr. A) : (4. Gr. B : 5. Gr. A)))))"},null,null,null,null,{"$f":"CHOOSE(SIGN(AS84-AS86)+2,AP84,\"(\"&AP84&\" : \"&AP86&\")\",AP86)","v":"((((((1. Gr. A : 4. Gr. B) : (2. Gr. D : 3. Gr. C)) : ((1. Gr. C : 4. Gr. D) : (2. Gr. B : 3. Gr. A))) : (((1. Gr. B : 4. Gr. C) : (2. Gr. A : 3. Gr. D)) : ((1. Gr. D : 4. Gr. A) : (2. Gr. C : 3. Gr. B)))) : ((((4. Gr. B : 5. Gr. A) : (4. Gr. B : 5. Gr. A)) : ((4. Gr. B : 5. Gr. A) : (4. Gr. B : 5. Gr. A))) : (((4. Gr. B : 5. Gr. A) : (4. Gr. B : 5. Gr. A)) : ((4. Gr. B : 5. Gr. A) : (4. Gr. B : 5. Gr. A))))) : (((((4. Gr. B : 5. Gr. A) : (4. Gr. B : 5. Gr. A)) : ((4. Gr. B : 5. Gr. A) : (4. Gr. B : 5. Gr. A))) : (((4. Gr. B : 5. Gr. A) : (4. Gr. B : 5. Gr. A)) : ((4. Gr. B : 5. Gr. A) : (4. Gr. B : 5. Gr. A)))) : ((((4. Gr. B : 5. Gr. A) : (4. Gr. B : 5. Gr. A)) : ((4. Gr. B : 5. Gr. A) : (4. Gr. B : 5. Gr. A))) : (((4. Gr. B : 5. Gr. A) : (4. Gr. B : 5. Gr. A)) : ((4. Gr. B : 5. Gr. A) : (4. Gr. B : 5. Gr. A))))))"}]
[]
[null,null,null,null,null,null,null,null,null,null,null,null,null,null,null,null,{"$f":"O95","v":"5. Gr. A"},null,null,null,null,{"$f":"IF($V$16,O95,CHOOSE(SIGN(T174-T172)+2,Q172,\"(\"&Q172&\" : \"&Q174&\")\",Q174))","v":"(4. Gr. B : 5. Gr. A)"},null,null,null,null,{"$f":"IF($AA$16,O95,CHOOSE(SIGN(Y174-Y172)+2,V172,\"(\"&V172&\" : \"&V174&\")\",V174))","v":"((4. Gr. B : 5. Gr. A) : (4. Gr. B : 5. Gr. A))"},null,null,null,null,{"$f":"CHOOSE(SIGN(AD44-AD46)+2,AA44,\"(\"&AA44&\" : \"&AA46&\")\",AA46)","v":"(((4. Gr. B : 5. Gr. A) : (4. Gr. B : 5. Gr. A)) : ((4. Gr. B : 5. Gr. A) : (4. Gr. B : 5. Gr. A)))"},null,null,null,null,{"$f":"CHOOSE(SIGN(AI110-AI108)+2,AF108,\"(\"&AF108&\" : \"&AF110&\")\",AF110)","v":"((((4. Gr. B : 5. Gr. A) : (4. Gr. B : 5. Gr. A)) : ((4. Gr. B : 5. Gr. A) : (4. Gr. B : 5. Gr. A))) : (((4. Gr. B : 5. Gr. A) : (4. Gr. B : 5. Gr. A)) : ((4. Gr. B : 5. Gr. A) : (4. Gr. B : 5. Gr. A))))"},null,null,null,null,{"$f":"CHOOSE(SIGN(AN110-AN108)+2,AK108,\"(\"&AK108&\" : \"&AK110&\")\",AK110)","v":"(((((4. Gr. B : 5. Gr. A) : (4. Gr. B : 5. Gr. A)) : ((4. Gr. B : 5. Gr. A) : (4. Gr. B : 5. Gr. A))) : (((4. Gr. B : 5. Gr. A) : (4. Gr. B : 5. Gr. A)) : ((4. Gr. B : 5. Gr. A) : (4. Gr. B : 5. Gr. A)))) : ((((4. Gr. B : 5. Gr. A) : (4. Gr. B : 5. Gr. A)) : ((4. Gr. B : 5. Gr. A) : (4. Gr. B : 5. Gr. A))) : (((4. Gr. B : 5. Gr. A) : (4. Gr. B : 5. Gr. A)) : ((4. Gr. B : 5. Gr. A) : (4. Gr. B : 5. Gr. A)))))"},null,null,null,null,{"$f":"CHOOSE(SIGN(AS92-AS94)+2,AP92,\"(\"&AP92&\" : \"&AP94&\")\",AP94)","v":"((((((4. Gr. B : 5. Gr. A) : (4. Gr. B : 5. Gr. A)) : ((4. Gr. B : 5. Gr. A) : (4. Gr. B : 5. Gr. A))) : (((4. Gr. B : 5. Gr. A) : (4. Gr. B : 5. Gr. A)) : ((4. Gr. B : 5. Gr. A) : (4. Gr. B : 5. Gr. A)))) : ((((4. Gr. B : 5. Gr. A) : (4. Gr. B : 5. Gr. A)) : ((4. Gr. B : 5. Gr. A) : (4. Gr. B : 5. Gr. A))) : (((4. Gr. B : 5. Gr. A) : (4. Gr. B : 5. Gr. A)) : ((4. Gr. B : 5. Gr. A) : (4. Gr. B : 5. Gr. A))))) : (((((4. Gr. B : 5. Gr. A) : (4. Gr. B : 5. Gr. A)) : ((4. Gr. B : 5. Gr. A) : (4. Gr. B : 5. Gr. A))) : (((4. Gr. B : 5. Gr. A) : (4. Gr. B : 5. Gr. A)) : ((4. Gr. B : 5. Gr. A) : (4. Gr. B : 5. Gr. A)))) : ((((4. Gr. B : 5. Gr. A) : (4. Gr. B : 5. Gr. A)) : ((4. Gr. B : 5. Gr. A) : (4. Gr. B : 5. Gr. A))) : (((4. Gr. B : 5. Gr. A) : (4. Gr. B : 5. Gr. A)) : ((4. Gr. B : 5. Gr. A) : (4. Gr. B : 5. Gr. A))))))"}]
[null,null,null,null,null,null,null,null,null,null,null,null,null,null,{"$f":"INDEX(tbl_KO_Data[T2 Src Rank],K90) & \". Gr. \" & INDEX(tbl_KO_Data[T2 Src Group],K90)","v":"5. Gr. A"},null,null,null,null,null,null,null,null,null,null,null,null,null,null,null,null,null,null,null,null,null,null,null,null,null,null,null,null,null,null,null,null,null,null,null,null,20,{"$f":"IF(AX92>AX94,AU94,IF(AX92<AX94,AU92,\"\"))","v":""}]
[]
[]
[null,null,null,null,null,null,7,13,25,null,{"$f":"KO_Data_1row+INDEX(D98:I98,KO_Rounds_Ind)","v":295},null,null,null,null,null,"K_64_A25","field x","best of n",0,null,"K_32_A13","field x","best of n",0,null,"K_16_A07","field x","best of n",0,null,"K_08_B4","field x","best of n",0,null,"K_04_C2","field x","best of n",0,null,"K_02_F1","field x","best of n",0,null,"K_01_021","field x","best of n",0]
[null,null,null,null,null,null,null,null,null,null,null,null,null,null,{"$f":"INDEX(tbl_KO_Data[T1 Src Rank],K98) & \". Gr. \" & INDEX(tbl_KO_Data[T1 Src Group],K98)","v":"4. Gr. B"},null,null,null,null,null,null,null,null,null,null,null,null,null,null,null,null,null,null,null,null,null,null,null,null,null,null,null,null,null,null,null,null,null,null,null,null,21,{"$f":"IF(AX100>AX102,AU100,IF(AX100<AX102,AU102,\"\"))","v":""}]
[null,null,null,null,null,null,null,null,null,null,null,null,null,null,null,null,{"$f":"O99","v":"4. Gr. B"},null,null,null,null,{"$f":"IF($V$16,O99,CHOOSE(SIGN(T182-T180)+2,Q180,\"(\"&Q180&\" : \"&Q182&\")\",Q182))","v":"(4. Gr. B : 5. Gr. A)"},null,null,null,null,{"$f":"IF($AA$16,O99,CHOOSE(SIGN(Y182-Y180)+2,V180,\"(\"&V180&\" : \"&V182&\")\",V182))","v":"((4. Gr. B : 5. Gr. A) : (4. Gr. B : 5. Gr. A))"},null,null,null,null,{"$f":"CHOOSE(SIGN(AD52-AD54)+2,AA52,\"(\"&AA52&\" : \"&AA54&\")\",AA54)","v":"(((4. Gr. B : 5. Gr. A) : (4. Gr. B : 5. Gr. A)) : ((4. Gr. B : 5. Gr. A) : (4. Gr. B : 5. Gr. A)))"},null,null,null,null,{"$f":"CHOOSE(SIGN(AI118-AI116)+2,AF116,\"(\"&AF116&\" : \"&AF118&\")\",AF118)","v":"((((4. Gr. B : 5. Gr. A) : (4. Gr. B : 5. Gr. A)) : ((4. Gr. B : 5. Gr. A) : (4. Gr. B : 5. Gr. A))) : (((4. Gr. B : 5. Gr. A) : (4. Gr. B : 5. Gr. A)) : ((4. Gr. B : 5. Gr. A) : (4. Gr. B : 5. Gr. A))))"},null,null,null,null,{"$f":"CHOOSE(SIGN(AN84-AN86)+2,AK84,\"(\"&AK84&\" : \"&AK86&\")\",AK86)","v":"(((((1. Gr. A : 4. Gr. B) : (2. Gr. D : 3. Gr. C)) : ((1. Gr. C : 4. Gr. D) : (2. Gr. B : 3. Gr. A))) : (((1. Gr. B : 4. Gr. C) : (2. Gr. A : 3. Gr. D)) : ((1. Gr. D : 4. Gr. A) : (2. Gr. C : 3. Gr. B)))) : ((((4. Gr. B : 5. Gr. A) : (4. Gr. B : 5. Gr. A)) : ((4. Gr. B : 5. Gr. A) : (4. Gr. B : 5. Gr. A))) : (((4. Gr. B : 5. Gr. A) : (4. Gr. B : 5. Gr. A)) : ((4. Gr. B : 5. Gr. A) : (4. Gr. B : 5. Gr. A)))))"},null,null,null,null,{"$f":"CHOOSE(SIGN(AS102-AS100)+2,AP100,\"(\"&AP100&\" : \"&AP102&\")\",AP102)","v":"((((((1. Gr. A : 4. Gr. B) : (2. Gr. D : 3. Gr. C)) : ((1. Gr. C : 4. Gr. D) : (2. Gr. B : 3. Gr. A))) : (((1. Gr. B : 4. Gr. C) : (2. Gr. A : 3. Gr. D)) : ((1. Gr. D : 4. Gr. A) : (2. Gr. C : 3. Gr. B)))) : ((((4. Gr. B : 5. Gr. A) : (4. Gr. B : 5. Gr. A)) : ((4. Gr. B : 5. Gr. A) : (4. Gr. B : 5. Gr. A))) : (((4. Gr. B : 5. Gr. A) : (4. Gr. B : 5. Gr. A)) : ((4. Gr. B : 5. Gr. A) : (4. Gr. B : 5. Gr. A))))) : (((((4. Gr. B : 5. Gr. A) : (4. Gr. B : 5. Gr. A)) : ((4. Gr. B : 5. Gr. A) : (4. Gr. B : 5. Gr. A))) : (((4. Gr. B : 5. Gr. A) : (4. Gr. B : 5. Gr. A)) : ((4. Gr. B : 5. Gr. A) : (4. Gr. B : 5. Gr. A)))) : ((((4. Gr. B : 5. Gr. A) : (4. Gr. B : 5. Gr. A)) : ((4. Gr. B : 5. Gr. A) : (4. Gr. B : 5. Gr. A))) : (((4. Gr. B : 5. Gr. A) : (4. Gr. B : 5. Gr. A)) : ((4. Gr. B : 5. Gr. A) : (4. Gr. B : 5. Gr. A))))))"}]
[]
[null,null,null,null,null,null,null,null,null,null,null,null,null,null,null,null,{"$f":"O103","v":"5. Gr. A"},null,null,null,null,{"$f":"IF($V$16,O103,CHOOSE(SIGN(T190-T188)+2,Q188,\"(\"&Q188&\" : \"&Q190&\")\",Q190))","v":"(4. Gr. B : 5. Gr. A)"},null,null,null,null,{"$f":"IF($AA$16,O103,CHOOSE(SIGN(Y190-Y188)+2,V188,\"(\"&V188&\" : \"&V190&\")\",V190))","v":"((4. Gr. B : 5. Gr. A) : (4. Gr. B : 5. Gr. A))"},null,null,null,null,{"$f":"CHOOSE(SIGN(AD60-AD62)+2,AA60,\"(\"&AA60&\" : \"&AA62&\")\",AA62)","v":"(((4. Gr. B : 5. Gr. A) : (4. Gr. B : 5. Gr. A)) : ((4. Gr. B : 5. Gr. A) : (4. Gr. B : 5. Gr. A)))"},null,null,null,null,{"$f":"CHOOSE(SIGN(AI126-AI124)+2,AF124,\"(\"&AF124&\" : \"&AF126&\")\",AF126)","v":"((((4. Gr. B : 5. Gr. A) : (4. Gr. B : 5. Gr. A)) : ((4. Gr. B : 5. Gr. A) : (4. Gr. B : 5. Gr. A))) : (((4. Gr. B : 5. Gr. A) : (4. Gr. B : 5. Gr. A)) : ((4. Gr. B : 5. Gr. A) : (4. Gr. B : 5. Gr. A))))"},null,null,null,null,{"$f":"CHOOSE(SIGN(AN92-AN94)+2,AK92,\"(\"&AK92&\" : \"&AK94&\")\",AK94)","v":"(((((4. Gr. B : 5. Gr. A) : (4. Gr. B : 5. Gr. A)) : ((4. Gr. B : 5. Gr. A) : (4. Gr. B : 5. Gr. A))) : (((4. Gr. B : 5. Gr. A) : (4. Gr. B : 5. Gr. A)) : ((4. Gr. B : 5. Gr. A) : (4. Gr. B : 5. Gr. A)))) : ((((4. Gr. B : 5. Gr. A) : (4. Gr. B : 5. Gr. A)) : ((4. Gr. B : 5. Gr. A) : (4. Gr. B : 5. Gr. A))) : (((4. Gr. B : 5. Gr. A) : (4. Gr. B : 5. Gr. A)) : ((4. Gr. B : 5. Gr. A) : (4. Gr. B : 5. Gr. A)))))"},null,null,null,null,{"$f":"CHOOSE(SIGN(AS110-AS108)+2,AP108,\"(\"&AP108&\" : \"&AP110&\")\",AP110)","v":"((((((4. Gr. B : 5. Gr. A) : (4. Gr. B : 5. Gr. A)) : ((4. Gr. B : 5. Gr. A) : (4. Gr. B : 5. Gr. A))) : (((4. Gr. B : 5. Gr. A) : (4. Gr. B : 5. Gr. A)) : ((4. Gr. B : 5. Gr. A) : (4. Gr. B : 5. Gr. A)))) : ((((4. Gr. B : 5. Gr. A) : (4. Gr. B : 5. Gr. A)) : ((4. Gr. B : 5. Gr. A) : (4. Gr. B : 5. Gr. A))) : (((4. Gr. B : 5. Gr. A) : (4. Gr. B : 5. Gr. A)) : ((4. Gr. B : 5. Gr. A) : (4. Gr. B : 5. Gr. A))))) : (((((4. Gr. B : 5. Gr. A) : (4. Gr. B : 5. Gr. A)) : ((4. Gr. B : 5. Gr. A) : (4. Gr. B : 5. Gr. A))) : (((4. Gr. B : 5. Gr. A) : (4. Gr. B : 5. Gr. A)) : ((4. Gr. B : 5. Gr. A) : (4. Gr. B : 5. Gr. A)))) : ((((4. Gr. B : 5. Gr. A) : (4. Gr. B : 5. Gr. A)) : ((4. Gr. B : 5. Gr. A) : (4. Gr. B : 5. Gr. A))) : (((4. Gr. B : 5. Gr. A) : (4. Gr. B : 5. Gr. A)) : ((4. Gr. B : 5. Gr. A) : (4. Gr. B : 5. Gr. A))))))"}]
[null,null,null,null,null,null,null,null,null,null,null,null,null,null,{"$f":"INDEX(tbl_KO_Data[T2 Src Rank],K98) & \". Gr. \" & INDEX(tbl_KO_Data[T2 Src Group],K98)","v":"5. Gr. A"},null,null,null,null,null,null,null,null,null,null,null,null,null,null,null,null,null,null,null,null,null,null,null,null,null,null,null,null,null,null,null,null,null,null,null,null,22,{"$f":"IF(AX100>AX102,AU102,IF(AX100<AX102,AU100,\"\"))","v":""}]
[]
[]
[null,null,null,null,null,null,10,20,40,null,{"$f":"KO_Data_1row+INDEX(D106:I106,KO_Rounds_Ind)","v":295},null,null,null,null,null,"K_64_A40","field x","best of n",0,null,"K_32_A20","field x","best of n",0,null,"K_16_A10","field x","best of n",0,null,"K_08_B5","field x","best of n",0,null,"K_04_C3","field x","best of n",0,null,"K_02_F2","field x","best of n",0,null,"K_01_023","field x","best of n",0]
[null,null,null,null,null,null,null,null,null,null,null,null,null,null,{"$f":"INDEX(tbl_KO_Data[T1 Src Rank],K106) & \". Gr. \" & INDEX(tbl_KO_Data[T1 Src Group],K106)","v":"4. Gr. B"},null,null,null,null,null,null,null,null,null,null,null,null,null,null,null,null,null,null,null,null,null,null,null,null,null,null,null,null,null,null,null,null,null,null,null,null,23,{"$f":"IF(AX108>AX110,AU108,IF(AX108<AX110,AU110,\"\"))","v":""}]
[null,null,null,null,null,null,null,null,null,null,null,null,null,null,null,null,{"$f":"O107","v":"4. Gr. B"},null,null,null,null,{"$f":"IF($V$16,O107,CHOOSE(SIGN(T198-T196)+2,Q196,\"(\"&Q196&\" : \"&Q198&\")\",Q198))","v":"(4. Gr. B : 5. Gr. A)"},null,null,null,null,{"$f":"IF($AA$16,O107,CHOOSE(SIGN(Y198-Y196)+2,V196,\"(\"&V196&\" : \"&V198&\")\",V198))","v":"((4. Gr. B : 5. Gr. A) : (4. Gr. B : 5. Gr. A))"},null,null,null,null,{"$f":"CHOOSE(SIGN(AD68-AD70)+2,AA68,\"(\"&AA68&\" : \"&AA70&\")\",AA70)","v":"(((4. Gr. B : 5. Gr. A) : (4. Gr. B : 5. Gr. A)) : ((4. Gr. B : 5. Gr. A) : (4. Gr. B : 5. Gr. A)))"},null,null,null,null,{"$f":"CHOOSE(SIGN(AI134-AI132)+2,AF132,\"(\"&AF132&\" : \"&AF134&\")\",AF134)","v":"((((4. Gr. B : 5. Gr. A) : (4. Gr. B : 5. Gr. A)) : ((4. Gr. B : 5. Gr. A) : (4. Gr. B : 5. Gr. A))) : (((4. Gr. B : 5. Gr. A) : (4. Gr. B : 5. Gr. A)) : ((4. Gr. B : 5. Gr. A) : (4. Gr. B : 5. Gr. A))))"},null,null,null,null,{"$f":"CHOOSE(SIGN(AN100-AN102)+2,AK100,\"(\"&AK100&\" : \"&AK102&\")\",AK102)","v":"(((((4. Gr. B : 5. Gr. A) : (4. Gr. B : 5. Gr. A)) : ((4. Gr. B : 5. Gr. A) : (4. Gr. B : 5. Gr. A))) : (((4. Gr. B : 5. Gr. A) : (4. Gr. B : 5. Gr. A)) : ((4. Gr. B : 5. Gr. A) : (4. Gr. B : 5. Gr. A)))) : ((((4. Gr. B : 5. Gr. A) : (4. Gr. B : 5. Gr. A)) : ((4. Gr. B : 5. Gr. A) : (4. Gr. B : 5. Gr. A))) : (((4. Gr. B : 5. Gr. A) : (4. Gr. B : 5. Gr. A)) : ((4. Gr. B : 5. Gr. A) : (4. Gr. B : 5. Gr. A)))))"},null,null,null,null,{"$f":"CHOOSE(SIGN(AS100-AS102)+2,AP100,\"(\"&AP100&\" : \"&AP102&\")\",AP102)","v":"((((((1. Gr. A : 4. Gr. B) : (2. Gr. D : 3. Gr. C)) : ((1. Gr. C : 4. Gr. D) : (2. Gr. B : 3. Gr. A))) : (((1. Gr. B : 4. Gr. C) : (2. Gr. A : 3. Gr. D)) : ((1. Gr. D : 4. Gr. A) : (2. Gr. C : 3. Gr. B)))) : ((((4. Gr. B : 5. Gr. A) : (4. Gr. B : 5. Gr. A)) : ((4. Gr. B : 5. Gr. A) : (4. Gr. B : 5. Gr. A))) : (((4. Gr. B : 5. Gr. A) : (4. Gr. B : 5. Gr. A)) : ((4. Gr. B : 5. Gr. A) : (4. Gr. B : 5. Gr. A))))) : (((((4. Gr. B : 5. Gr. A) : (4. Gr. B : 5. Gr. A)) : ((4. Gr. B : 5. Gr. A) : (4. Gr. B : 5. Gr. A))) : (((4. Gr. B : 5. Gr. A) : (4. Gr. B : 5. Gr. A)) : ((4. Gr. B : 5. Gr. A) : (4. Gr. B : 5. Gr. A)))) : ((((4. Gr. B : 5. Gr. A) : (4. Gr. B : 5. Gr. A)) : ((4. Gr. B : 5. Gr. A) : (4. Gr. B : 5. Gr. A))) : (((4. Gr. B : 5. Gr. A) : (4. Gr. B : 5. Gr. A)) : ((4. Gr. B : 5. Gr. A) : (4. Gr. B : 5. Gr. A))))))"}]
[]
[null,null,null,null,null,null,null,null,null,null,null,null,null,null,null,null,{"$f":"O111","v":"5. Gr. A"},null,null,null,null,{"$f":"IF($V$16,O111,CHOOSE(SIGN(T206-T204)+2,Q204,\"(\"&Q204&\" : \"&Q206&\")\",Q206))","v":"(4. Gr. B : 5. Gr. A)"},null,null,null,null,{"$f":"IF($AA$16,O111,CHOOSE(SIGN(Y206-Y204)+2,V204,\"(\"&V204&\" : \"&V206&\")\",V206))","v":"((4. Gr. B : 5. Gr. A) : (4. Gr. B : 5. Gr. A))"},null,null,null,null,{"$f":"CHOOSE(SIGN(AD76-AD78)+2,AA76,\"(\"&AA76&\" : \"&AA78&\")\",AA78)","v":"(((4. Gr. B : 5. Gr. A) : (4. Gr. B : 5. Gr. A)) : ((4. Gr. B : 5. Gr. A) : (4. Gr. B : 5. Gr. A)))"},null,null,null,null,{"$f":"CHOOSE(SIGN(AI142-AI140)+2,AF140,\"(\"&AF140&\" : \"&AF142&\")\",AF142)","v":"((((4. Gr. B : 5. Gr. A) : (4. Gr. B : 5. Gr. A)) : ((4. Gr. B : 5. Gr. A) : (4. Gr. B : 5. Gr. A))) : (((4. Gr. B : 5. Gr. A) : (4. Gr. B : 5. Gr. A)) : ((4. Gr. B : 5. Gr. A) : (4. Gr. B : 5. Gr. A))))"},null,null,null,null,{"$f":"CHOOSE(SIGN(AN108-AN110)+2,AK108,\"(\"&AK108&\" : \"&AK110&\")\",AK110)","v":"(((((4. Gr. B : 5. Gr. A) : (4. Gr. B : 5. Gr. A)) : ((4. Gr. B : 5. Gr. A) : (4. Gr. B : 5. Gr. A))) : (((4. Gr. B : 5. Gr. A) : (4. Gr. B : 5. Gr. A)) : ((4. Gr. B : 5. Gr. A) : (4. Gr. B : 5. Gr. A)))) : ((((4. Gr. B : 5. Gr. A) : (4. Gr. B : 5. Gr. A)) : ((4. Gr. B : 5. Gr. A) : (4. Gr. B : 5. Gr. A))) : (((4. Gr. B : 5. Gr. A) : (4. Gr. B : 5. Gr. A)) : ((4. Gr. B : 5. Gr. A) : (4. Gr. B : 5. Gr. A)))))"},null,null,null,null,{"$f":"CHOOSE(SIGN(AS108-AS110)+2,AP108,\"(\"&AP108&\" : \"&AP110&\")\",AP110)","v":"((((((4. Gr. B : 5. Gr. A) : (4. Gr. B : 5. Gr. A)) : ((4. Gr. B : 5. Gr. A) : (4. Gr. B : 5. Gr. A))) : (((4. Gr. B : 5. Gr. A) : (4. Gr. B : 5. Gr. A)) : ((4. Gr. B : 5. Gr. A) : (4. Gr. B : 5. Gr. A)))) : ((((4. Gr. B : 5. Gr. A) : (4. Gr. B : 5. Gr. A)) : ((4. Gr. B : 5. Gr. A) : (4. Gr. B : 5. Gr. A))) : (((4. Gr. B : 5. Gr. A) : (4. Gr. B : 5. Gr. A)) : ((4. Gr. B : 5. Gr. A) : (4. Gr. B : 5. Gr. A))))) : (((((4. Gr. B : 5. Gr. A) : (4. Gr. B : 5. Gr. A)) : ((4. Gr. B : 5. Gr. A) : (4. Gr. B : 5. Gr. A))) : (((4. Gr. B : 5. Gr. A) : (4. Gr. B : 5. Gr. A)) : ((4. Gr. B : 5. Gr. A) : (4. Gr. B : 5. Gr. A)))) : ((((4. Gr. B : 5. Gr. A) : (4. Gr. B : 5. Gr. A)) : ((4. Gr. B : 5. Gr. A) : (4. Gr. B : 5. Gr. A))) : (((4. Gr. B : 5. Gr. A) : (4. Gr. B : 5. Gr. A)) : ((4. Gr. B : 5. Gr. A) : (4. Gr. B : 5. Gr. A))))))"}]
[null,null,null,null,null,null,null,null,null,null,null,null,null,null,{"$f":"INDEX(tbl_KO_Data[T2 Src Rank],K106) & \". Gr. \" & INDEX(tbl_KO_Data[T2 Src Group],K106)","v":"5. Gr. A"},null,null,null,null,null,null,null,null,null,null,null,null,null,null,null,null,null,null,null,null,null,null,null,null,null,null,null,null,null,null,null,null,null,null,null,null,24,{"$f":"IF(AX108>AX110,AU110,IF(AX108<AX110,AU108,\"\"))","v":""}]
[]
[]
[null,null,null,null,null,null,3,5,9,null,{"$f":"KO_Data_1row+INDEX(D114:I114,KO_Rounds_Ind)","v":295},null,null,null,null,null,"K_64_A09","field x","best of n",0,null,"K_32_A05","field x","best of n",0,null,"K_16_A03","field x","best of n",0,null,"K_08_B2","field x","best of n",0,null,"K_04_D1","field x","best of n",0,null,"K_02_G1","field x","best of n",0,null,"K_01_025","field x","best of n",0]
[null,null,null,null,null,null,null,null,null,null,null,null,null,null,{"$f":"INDEX(tbl_KO_Data[T1 Src Rank],K114) & \". Gr. \" & INDEX(tbl_KO_Data[T1 Src Group],K114)","v":"4. Gr. B"},null,null,null,null,null,null,null,null,null,null,null,null,null,null,null,null,null,null,null,null,null,null,null,null,null,null,null,null,null,null,null,null,null,null,null,null,25,{"$f":"IF(AX116>AX118,AU116,IF(AX116<AX118,AU118,\"\"))","v":""}]
[null,null,null,null,null,null,null,null,null,null,null,null,null,null,null,null,{"$f":"O115","v":"4. Gr. B"},null,null,null,null,{"$f":"IF($V$16,O115,CHOOSE(SIGN(T214-T212)+2,Q212,\"(\"&Q212&\" : \"&Q214&\")\",Q214))","v":"(4. Gr. B : 5. Gr. A)"},null,null,null,null,{"$f":"IF($AA$16,O115,CHOOSE(SIGN(Y214-Y212)+2,V212,\"(\"&V212&\" : \"&V214&\")\",V214))","v":"((4. Gr. B : 5. Gr. A) : (4. Gr. B : 5. Gr. A))"},null,null,null,null,{"$f":"CHOOSE(SIGN(AD84-AD86)+2,AA84,\"(\"&AA84&\" : \"&AA86&\")\",AA86)","v":"(((4. Gr. B : 5. Gr. A) : (4. Gr. B : 5. Gr. A)) : ((4. Gr. B : 5. Gr. A) : (4. Gr. B : 5. Gr. A)))"},null,null,null,null,{"$f":"CHOOSE(SIGN(AI84-AI86)+2,AF84,\"(\"&AF84&\" : \"&AF86&\")\",AF86)","v":"((((1. Gr. A : 4. Gr. B) : (2. Gr. D : 3. Gr. C)) : ((1. Gr. C : 4. Gr. D) : (2. Gr. B : 3. Gr. A))) : (((1. Gr. B : 4. Gr. C) : (2. Gr. A : 3. Gr. D)) : ((1. Gr. D : 4. Gr. A) : (2. Gr. C : 3. Gr. B))))"},null,null,null,null,{"$f":"CHOOSE(SIGN(AN118-AN116)+2,AK116,\"(\"&AK116&\" : \"&AK118&\")\",AK118)","v":"(((((1. Gr. A : 4. Gr. B) : (2. Gr. D : 3. Gr. C)) : ((1. Gr. C : 4. Gr. D) : (2. Gr. B : 3. Gr. A))) : (((1. Gr. B : 4. Gr. C) : (2. Gr. A : 3. Gr. D)) : ((1. Gr. D : 4. Gr. A) : (2. Gr. C : 3. Gr. B)))) : ((((4. Gr. B : 5. Gr. A) : (4. Gr. B : 5. Gr. A)) : ((4. Gr. B : 5. Gr. A) : (4. Gr. B : 5. Gr. A))) : (((4. Gr. B : 5. Gr. A) : (4. Gr. B : 5. Gr. A)) : ((4. Gr. B : 5. Gr. A) : (4. Gr. B : 5. Gr. A)))))"},null,null,null,null,{"$f":"CHOOSE(SIGN(AS118-AS116)+2,AP116,\"(\"&AP116&\" : \"&AP118&\")\",AP118)","v":"((((((1. Gr. A : 4. Gr. B) : (2. Gr. D : 3. Gr. C)) : ((1. Gr. C : 4. Gr. D) : (2. Gr. B : 3. Gr. A))) : (((1. Gr. B : 4. Gr. C) : (2. Gr. A : 3. Gr. D)) : ((1. Gr. D : 4. Gr. A) : (2. Gr. C : 3. Gr. B)))) : ((((4. Gr. B : 5. Gr. A) : (4. Gr. B : 5. Gr. A)) : ((4. Gr. B : 5. Gr. A) : (4. Gr. B : 5. Gr. A))) : (((4. Gr. B : 5. Gr. A) : (4. Gr. B : 5. Gr. A)) : ((4. Gr. B : 5. Gr. A) : (4. Gr. B : 5. Gr. A))))) : (((((4. Gr. B : 5. Gr. A) : (4. Gr. B : 5. Gr. A)) : ((4. Gr. B : 5. Gr. A) : (4. Gr. B : 5. Gr. A))) : (((4. Gr. B : 5. Gr. A) : (4. Gr. B : 5. Gr. A)) : ((4. Gr. B : 5. Gr. A) : (4. Gr. B : 5. Gr. A)))) : ((((4. Gr. B : 5. Gr. A) : (4. Gr. B : 5. Gr. A)) : ((4. Gr. B : 5. Gr. A) : (4. Gr. B : 5. Gr. A))) : (((4. Gr. B : 5. Gr. A) : (4. Gr. B : 5. Gr. A)) : ((4. Gr. B : 5. Gr. A) : (4. Gr. B : 5. Gr. A))))))"}]
[]
[null,null,null,null,null,null,null,null,null,null,null,null,null,null,null,null,{"$f":"O119","v":"5. Gr. A"},null,null,null,null,{"$f":"IF($V$16,O119,CHOOSE(SIGN(T222-T220)+2,Q220,\"(\"&Q220&\" : \"&Q222&\")\",Q222))","v":"(4. Gr. B : 5. Gr. A)"},null,null,null,null,{"$f":"IF($AA$16,O119,CHOOSE(SIGN(Y222-Y220)+2,V220,\"(\"&V220&\" : \"&V222&\")\",V222))","v":"((4. Gr. B : 5. Gr. A) : (4. Gr. B : 5. Gr. A))"},null,null,null,null,{"$f":"CHOOSE(SIGN(AD92-AD94)+2,AA92,\"(\"&AA92&\" : \"&AA94&\")\",AA94)","v":"(((4. Gr. B : 5. Gr. A) : (4. Gr. B : 5. Gr. A)) : ((4. Gr. B : 5. Gr. A) : (4. Gr. B : 5. Gr. A)))"},null,null,null,null,{"$f":"CHOOSE(SIGN(AI92-AI94)+2,AF92,\"(\"&AF92&\" : \"&AF94&\")\",AF94)","v":"((((4. Gr. B : 5. Gr. A) : (4. Gr. B : 5. Gr. A)) : ((4. Gr. B : 5. Gr. A) : (4. Gr. B : 5. Gr. A))) : (((4. Gr. B : 5. Gr. A) : (4. Gr. B : 5. Gr. A)) : ((4. Gr. B : 5. Gr. A) : (4. Gr. B : 5. Gr. A))))"},null,null,null,null,{"$f":"CHOOSE(SIGN(AN126-AN124)+2,AK124,\"(\"&AK124&\" : \"&AK126&\")\",AK126)","v":"(((((4. Gr. B : 5. Gr. A) : (4. Gr. B : 5. Gr. A)) : ((4. Gr. B : 5. Gr. A) : (4. Gr. B : 5. Gr. A))) : (((4. Gr. B : 5. Gr. A) : (4. Gr. B : 5. Gr. A)) : ((4. Gr. B : 5. Gr. A) : (4. Gr. B : 5. Gr. A)))) : ((((4. Gr. B : 5. Gr. A) : (4. Gr. B : 5. Gr. A)) : ((4. Gr. B : 5. Gr. A) : (4. Gr. B : 5. Gr. A))) : (((4. Gr. B : 5. Gr. A) : (4. Gr. B : 5. Gr. A)) : ((4. Gr. B : 5. Gr. A) : (4. Gr. B : 5. Gr. A)))))"},null,null,null,null,{"$f":"CHOOSE(SIGN(AS126-AS124)+2,AP124,\"(\"&AP124&\" : \"&AP126&\")\",AP126)","v":"((((((4. Gr. B : 5. Gr. A) : (4. Gr. B : 5. Gr. A)) : ((4. Gr. B : 5. Gr. A) : (4. Gr. B : 5. Gr. A))) : (((4. Gr. B : 5. Gr. A) : (4. Gr. B : 5. Gr. A)) : ((4. Gr. B : 5. Gr. A) : (4. Gr. B : 5. Gr. A)))) : ((((4. Gr. B : 5. Gr. A) : (4. Gr. B : 5. Gr. A)) : ((4. Gr. B : 5. Gr. A) : (4. Gr. B : 5. Gr. A))) : (((4. Gr. B : 5. Gr. A) : (4. Gr. B : 5. Gr. A)) : ((4. Gr. B : 5. Gr. A) : (4. Gr. B : 5. Gr. A))))) : (((((4. Gr. B : 5. Gr. A) : (4. Gr. B : 5. Gr. A)) : ((4. Gr. B : 5. Gr. A) : (4. Gr. B : 5. Gr. A))) : (((4. Gr. B : 5. Gr. A) : (4. Gr. B : 5. Gr. A)) : ((4. Gr. B : 5. Gr. A) : (4. Gr. B : 5. Gr. A)))) : ((((4. Gr. B : 5. Gr. A) : (4. Gr. B : 5. Gr. A)) : ((4. Gr. B : 5. Gr. A) : (4. Gr. B : 5. Gr. A))) : (((4. Gr. B : 5. Gr. A) : (4. Gr. B : 5. Gr. A)) : ((4. Gr. B : 5. Gr. A) : (4. Gr. B : 5. Gr. A))))))"}]
[null,null,null,null,null,null,null,null,null,null,null,null,null,null,{"$f":"INDEX(tbl_KO_Data[T2 Src Rank],K114) & \". Gr. \" & INDEX(tbl_KO_Data[T2 Src Group],K114)","v":"5. Gr. A"},null,null,null,null,null,null,null,null,null,null,null,null,null,null,null,null,null,null,null,null,null,null,null,null,null,null,null,null,null,null,null,null,null,null,null,null,26,{"$f":"IF(AX116>AX118,AU118,IF(AX116<AX118,AU116,\"\"))","v":""}]
[]
[]
[null,null,null,null,null,null,14,28,56,null,{"$f":"KO_Data_1row+INDEX(D122:I122,KO_Rounds_Ind)","v":295},null,null,null,null,null,"K_64_A56","field x","best of n",0,null,"K_32_A28","field x","best of n",0,null,"K_16_A14","field x","best of n",0,null,"K_08_B7","field x","best of n",0,null,"K_04_D4","field x","best of n",0,null,"K_02_G2","field x","best of n",0,null,"K_01_027","field x","best of n",0]
[null,null,null,null,null,null,null,null,null,null,null,null,null,null,{"$f":"INDEX(tbl_KO_Data[T1 Src Rank],K122) & \". Gr. \" & INDEX(tbl_KO_Data[T1 Src Group],K122)","v":"4. Gr. B"},null,null,null,null,null,null,null,null,null,null,null,null,null,null,null,null,null,null,null,null,null,null,null,null,null,null,null,null,null,null,null,null,null,null,null,null,27,{"$f":"IF(AX124>AX126,AU124,IF(AX124<AX126,AU126,\"\"))","v":""}]
[null,null,null,null,null,null,null,null,null,null,null,null,null,null,null,null,{"$f":"O123","v":"4. Gr. B"},null,null,null,null,{"$f":"IF($V$16,O123,CHOOSE(SIGN(T230-T228)+2,Q228,\"(\"&Q228&\" : \"&Q230&\")\",Q230))","v":"(4. Gr. B : 5. Gr. A)"},null,null,null,null,{"$f":"IF($AA$16,O123,CHOOSE(SIGN(Y230-Y228)+2,V228,\"(\"&V228&\" : \"&V230&\")\",V230))","v":"((4. Gr. B : 5. Gr. A) : (4. Gr. B : 5. Gr. A))"},null,null,null,null,{"$f":"CHOOSE(SIGN(AD100-AD102)+2,AA100,\"(\"&AA100&\" : \"&AA102&\")\",AA102)","v":"(((4. Gr. B : 5. Gr. A) : (4. Gr. B : 5. Gr. A)) : ((4. Gr. B : 5. Gr. A) : (4. Gr. B : 5. Gr. A)))"},null,null,null,null,{"$f":"CHOOSE(SIGN(AI100-AI102)+2,AF100,\"(\"&AF100&\" : \"&AF102&\")\",AF102)","v":"((((4. Gr. B : 5. Gr. A) : (4. Gr. B : 5. Gr. A)) : ((4. Gr. B : 5. Gr. A) : (4. Gr. B : 5. Gr. A))) : (((4. Gr. B : 5. Gr. A) : (4. Gr. B : 5. Gr. A)) : ((4. Gr. B : 5. Gr. A) : (4. Gr. B : 5. Gr. A))))"},null,null,null,null,{"$f":"CHOOSE(SIGN(AN134-AN132)+2,AK132,\"(\"&AK132&\" : \"&AK134&\")\",AK134)","v":"(((((4. Gr. B : 5. Gr. A) : (4. Gr. B : 5. Gr. A)) : ((4. Gr. B : 5. Gr. A) : (4. Gr. B : 5. Gr. A))) : (((4. Gr. B : 5. Gr. A) : (4. Gr. B : 5. Gr. A)) : ((4. Gr. B : 5. Gr. A) : (4. Gr. B : 5. Gr. A)))) : ((((4. Gr. B : 5. Gr. A) : (4. Gr. B : 5. Gr. A)) : ((4. Gr. B : 5. Gr. A) : (4. Gr. B : 5. Gr. A))) : (((4. Gr. B : 5. Gr. A) : (4. Gr. B : 5. Gr. A)) : ((4. Gr. B : 5. Gr. A) : (4. Gr. B : 5. Gr. A)))))"},null,null,null,null,{"$f":"CHOOSE(SIGN(AS116-AS118)+2,AP116,\"(\"&AP116&\" : \"&AP118&\")\",AP118)","v":"((((((1. Gr. A : 4. Gr. B) : (2. Gr. D : 3. Gr. C)) : ((1. Gr. C : 4. Gr. D) : (2. Gr. B : 3. Gr. A))) : (((1. Gr. B : 4. Gr. C) : (2. Gr. A : 3. Gr. D)) : ((1. Gr. D : 4. Gr. A) : (2. Gr. C : 3. Gr. B)))) : ((((4. Gr. B : 5. Gr. A) : (4. Gr. B : 5. Gr. A)) : ((4. Gr. B : 5. Gr. A) : (4. Gr. B : 5. Gr. A))) : (((4. Gr. B : 5. Gr. A) : (4. Gr. B : 5. Gr. A)) : ((4. Gr. B : 5. Gr. A) : (4. Gr. B : 5. Gr. A))))) : (((((4. Gr. B : 5. Gr. A) : (4. Gr. B : 5. Gr. A)) : ((4. Gr. B : 5. Gr. A) : (4. Gr. B : 5. Gr. A))) : (((4. Gr. B : 5. Gr. A) : (4. Gr. B : 5. Gr. A)) : ((4. Gr. B : 5. Gr. A) : (4. Gr. B : 5. Gr. A)))) : ((((4. Gr. B : 5. Gr. A) : (4. Gr. B : 5. Gr. A)) : ((4. Gr. B : 5. Gr. A) : (4. Gr. B : 5. Gr. A))) : (((4. Gr. B : 5. Gr. A) : (4. Gr. B : 5. Gr. A)) : ((4. Gr. B : 5. Gr. A) : (4. Gr. B : 5. Gr. A))))))"}]
[]
[null,null,null,null,null,null,null,null,null,null,null,null,null,null,null,null,{"$f":"O127","v":"5. Gr. A"},null,null,null,null,{"$f":"IF($V$16,O127,CHOOSE(SIGN(T238-T236)+2,Q236,\"(\"&Q236&\" : \"&Q238&\")\",Q238))","v":"(4. Gr. B : 5. Gr. A)"},null,null,null,null,{"$f":"IF($AA$16,O127,CHOOSE(SIGN(Y238-Y236)+2,V236,\"(\"&V236&\" : \"&V238&\")\",V238))","v":"((4. Gr. B : 5. Gr. A) : (4. Gr. B : 5. Gr. A))"},null,null,null,null,{"$f":"CHOOSE(SIGN(AD108-AD110)+2,AA108,\"(\"&AA108&\" : \"&AA110&\")\",AA110)","v":"(((4. Gr. B : 5. Gr. A) : (4. Gr. B : 5. Gr. A)) : ((4. Gr. B : 5. Gr. A) : (4. Gr. B : 5. Gr. A)))"},null,null,null,null,{"$f":"CHOOSE(SIGN(AI108-AI110)+2,AF108,\"(\"&AF108&\" : \"&AF110&\")\",AF110)","v":"((((4. Gr. B : 5. Gr. A) : (4. Gr. B : 5. Gr. A)) : ((4. Gr. B : 5. Gr. A) : (4. Gr. B : 5. Gr. A))) : (((4. Gr. B : 5. Gr. A) : (4. Gr. B : 5. Gr. A)) : ((4. Gr. B : 5. Gr. A) : (4. Gr. B : 5. Gr. A))))"},null,null,null,null,{"$f":"CHOOSE(SIGN(AN142-AN140)+2,AK140,\"(\"&AK140&\" : \"&AK142&\")\",AK142)","v":"(((((4. Gr. B : 5. Gr. A) : (4. Gr. B : 5. Gr. A)) : ((4. Gr. B : 5. Gr. A) : (4. Gr. B : 5. Gr. A))) : (((4. Gr. B : 5. Gr. A) : (4. Gr. B : 5. Gr. A)) : ((4. Gr. B : 5. Gr. A) : (4. Gr. B : 5. Gr. A)))) : ((((4. Gr. B : 5. Gr. A) : (4. Gr. B : 5. Gr. A)) : ((4. Gr. B : 5. Gr. A) : (4. Gr. B : 5. Gr. A))) : (((4. Gr. B : 5. Gr. A) : (4. Gr. B : 5. Gr. A)) : ((4. Gr. B : 5. Gr. A) : (4. Gr. B : 5. Gr. A)))))"},null,null,null,null,{"$f":"CHOOSE(SIGN(AS124-AS126)+2,AP124,\"(\"&AP124&\" : \"&AP126&\")\",AP126)","v":"((((((4. Gr. B : 5. Gr. A) : (4. Gr. B : 5. Gr. A)) : ((4. Gr. B : 5. Gr. A) : (4. Gr. B : 5. Gr. A))) : (((4. Gr. B : 5. Gr. A) : (4. Gr. B : 5. Gr. A)) : ((4. Gr. B : 5. Gr. A) : (4. Gr. B : 5. Gr. A)))) : ((((4. Gr. B : 5. Gr. A) : (4. Gr. B : 5. Gr. A)) : ((4. Gr. B : 5. Gr. A) : (4. Gr. B : 5. Gr. A))) : (((4. Gr. B : 5. Gr. A) : (4. Gr. B : 5. Gr. A)) : ((4. Gr. B : 5. Gr. A) : (4. Gr. B : 5. Gr. A))))) : (((((4. Gr. B : 5. Gr. A) : (4. Gr. B : 5. Gr. A)) : ((4. Gr. B : 5. Gr. A) : (4. Gr. B : 5. Gr. A))) : (((4. Gr. B : 5. Gr. A) : (4. Gr. B : 5. Gr. A)) : ((4. Gr. B : 5. Gr. A) : (4. Gr. B : 5. Gr. A)))) : ((((4. Gr. B : 5. Gr. A) : (4. Gr. B : 5. Gr. A)) : ((4. Gr. B : 5. Gr. A) : (4. Gr. B : 5. Gr. A))) : (((4. Gr. B : 5. Gr. A) : (4. Gr. B : 5. Gr. A)) : ((4. Gr. B : 5. Gr. A) : (4. Gr. B : 5. Gr. A))))))"}]
[null,null,null,null,null,null,null,null,null,null,null,null,null,null,{"$f":"INDEX(tbl_KO_Data[T2 Src Rank],K122) & \". Gr. \" & INDEX(tbl_KO_Data[T2 Src Group],K122)","v":"5. Gr. A"},null,null,null,null,null,null,null,null,null,null,null,null,null,null,null,null,null,null,null,null,null,null,null,null,null,null,null,null,null,null,null,null,null,null,null,null,28,{"$f":"IF(AX124>AX126,AU126,IF(AX124<AX126,AU124,\"\"))","v":""}]
[]
[]
[null,null,null,null,null,null,6,12,24,null,{"$f":"KO_Data_1row+INDEX(D130:I130,KO_Rounds_Ind)","v":295},null,null,null,null,null,"K_64_A24","field x","best of n",0,null,"K_32_A12","field x","best of n",0,null,"K_16_A06","field x","best of n",0,null,"K_08_B3","field x","best of n",0,null,"K_04_D2","field x","best of n",0,null,"K_02_H1","field x","best of n",0,null,"K_01_029","field x","best of n",0]
[null,null,null,null,null,null,null,null,null,null,null,null,null,null,{"$f":"INDEX(tbl_KO_Data[T1 Src Rank],K130) & \". Gr. \" & INDEX(tbl_KO_Data[T1 Src Group],K130)","v":"4. Gr. B"},null,null,null,null,null,null,null,null,null,null,null,null,null,null,null,null,null,null,null,null,null,null,null,null,null,null,null,null,null,null,null,null,null,null,null,null,29,{"$f":"IF(AX132>AX134,AU132,IF(AX132<AX134,AU134,\"\"))","v":""}]
[null,null,null,null,null,null,null,null,null,null,null,null,null,null,null,null,{"$f":"O131","v":"4. Gr. B"},null,null,null,null,{"$f":"IF($V$16,O131,CHOOSE(SIGN(T246-T244)+2,Q244,\"(\"&Q244&\" : \"&Q246&\")\",Q246))","v":"(4. Gr. B : 5. Gr. A)"},null,null,null,null,{"$f":"IF($AA$16,O131,CHOOSE(SIGN(Y246-Y244)+2,V244,\"(\"&V244&\" : \"&V246&\")\",V246))","v":"((4. Gr. B : 5. Gr. A) : (4. Gr. B : 5. Gr. A))"},null,null,null,null,{"$f":"CHOOSE(SIGN(AD116-AD118)+2,AA116,\"(\"&AA116&\" : \"&AA118&\")\",AA118)","v":"(((4. Gr. B : 5. Gr. A) : (4. Gr. B : 5. Gr. A)) : ((4. Gr. B : 5. Gr. A) : (4. Gr. B : 5. Gr. A)))"},null,null,null,null,{"$f":"CHOOSE(SIGN(AI116-AI118)+2,AF116,\"(\"&AF116&\" : \"&AF118&\")\",AF118)","v":"((((4. Gr. B : 5. Gr. A) : (4. Gr. B : 5. Gr. A)) : ((4. Gr. B : 5. Gr. A) : (4. Gr. B : 5. Gr. A))) : (((4. Gr. B : 5. Gr. A) : (4. Gr. B : 5. Gr. A)) : ((4. Gr. B : 5. Gr. A) : (4. Gr. B : 5. Gr. A))))"},null,null,null,null,{"$f":"CHOOSE(SIGN(AN116-AN118)+2,AK116,\"(\"&AK116&\" : \"&AK118&\")\",AK118)","v":"(((((1. Gr. A : 4. Gr. B) : (2. Gr. D : 3. Gr. C)) : ((1. Gr. C : 4. Gr. D) : (2. Gr. B : 3. Gr. A))) : (((1. Gr. B : 4. Gr. C) : (2. Gr. A : 3. Gr. D)) : ((1. Gr. D : 4. Gr. A) : (2. Gr. C : 3. Gr. B)))) : ((((4. Gr. B : 5. Gr. A) : (4. Gr. B : 5. Gr. A)) : ((4. Gr. B : 5. Gr. A) : (4. Gr. B : 5. Gr. A))) : (((4. Gr. B : 5. Gr. A) : (4. Gr. B : 5. Gr. A)) : ((4. Gr. B : 5. Gr. A) : (4. Gr. B : 5. Gr. A)))))"},null,null,null,null,{"$f":"CHOOSE(SIGN(AS134-AS132)+2,AP132,\"(\"&AP132&\" : \"&AP134&\")\",AP134)","v":"((((((1. Gr. A : 4. Gr. B) : (2. Gr. D : 3. Gr. C)) : ((1. Gr. C : 4. Gr. D) : (2. Gr. B : 3. Gr. A))) : (((1. Gr. B : 4. Gr. C) : (2. Gr. A : 3. Gr. D)) : ((1. Gr. D : 4. Gr. A) : (2. Gr. C : 3. Gr. B)))) : ((((4. Gr. B : 5. Gr. A) : (4. Gr. B : 5. Gr. A)) : ((4. Gr. B : 5. Gr. A) : (4. Gr. B : 5. Gr. A))) : (((4. Gr. B : 5. Gr. A) : (4. Gr. B : 5. Gr. A)) : ((4. Gr. B : 5. Gr. A) : (4. Gr. B : 5. Gr. A))))) : (((((4. Gr. B : 5. Gr. A) : (4. Gr. B : 5. Gr. A)) : ((4. Gr. B : 5. Gr. A) : (4. Gr. B : 5. Gr. A))) : (((4. Gr. B : 5. Gr. A) : (4. Gr. B : 5. Gr. A)) : ((4. Gr. B : 5. Gr. A) : (4. Gr. B : 5. Gr. A)))) : ((((4. Gr. B : 5. Gr. A) : (4. Gr. B : 5. Gr. A)) : ((4. Gr. B : 5. Gr. A) : (4. Gr. B : 5. Gr. A))) : (((4. Gr. B : 5. Gr. A) : (4. Gr. B : 5. Gr. A)) : ((4. Gr. B : 5. Gr. A) : (4. Gr. B : 5. Gr. A))))))"}]
[]
[null,null,null,null,null,null,null,null,null,null,null,null,null,null,null,null,{"$f":"O135","v":"5. Gr. A"},null,null,null,null,{"$f":"IF($V$16,O135,CHOOSE(SIGN(T254-T252)+2,Q252,\"(\"&Q252&\" : \"&Q254&\")\",Q254))","v":"(4. Gr. B : 5. Gr. A)"},null,null,null,null,{"$f":"IF($AA$16,O135,CHOOSE(SIGN(Y254-Y252)+2,V252,\"(\"&V252&\" : \"&V254&\")\",V254))","v":"((4. Gr. B : 5. Gr. A) : (4. Gr. B : 5. Gr. A))"},null,null,null,null,{"$f":"CHOOSE(SIGN(AD124-AD126)+2,AA124,\"(\"&AA124&\" : \"&AA126&\")\",AA126)","v":"(((4. Gr. B : 5. Gr. A) : (4. Gr. B : 5. Gr. A)) : ((4. Gr. B : 5. Gr. A) : (4. Gr. B : 5. Gr. A)))"},null,null,null,null,{"$f":"CHOOSE(SIGN(AI124-AI126)+2,AF124,\"(\"&AF124&\" : \"&AF126&\")\",AF126)","v":"((((4. Gr. B : 5. Gr. A) : (4. Gr. B : 5. Gr. A)) : ((4. Gr. B : 5. Gr. A) : (4. Gr. B : 5. Gr. A))) : (((4. Gr. B : 5. Gr. A) : (4. Gr. B : 5. Gr. A)) : ((4. Gr. B : 5. Gr. A) : (4. Gr. B : 5. Gr. A))))"},null,null,null,null,{"$f":"CHOOSE(SIGN(AN124-AN126)+2,AK124,\"(\"&AK124&\" : \"&AK126&\")\",AK126)","v":"(((((4. Gr. B : 5. Gr. A) : (4. Gr. B : 5. Gr. A)) : ((4. Gr. B : 5. Gr. A) : (4. Gr. B : 5. Gr. A))) : (((4. Gr. B : 5. Gr. A) : (4. Gr. B : 5. Gr. A)) : ((4. Gr. B : 5. Gr. A) : (4. Gr. B : 5. Gr. A)))) : ((((4. Gr. B : 5. Gr. A) : (4. Gr. B : 5. Gr. A)) : ((4. Gr. B : 5. Gr. A) : (4. Gr. B : 5. Gr. A))) : (((4. Gr. B : 5. Gr. A) : (4. Gr. B : 5. Gr. A)) : ((4. Gr. B : 5. Gr. A) : (4. Gr. B : 5. Gr. A)))))"},null,null,null,null,{"$f":"CHOOSE(SIGN(AS142-AS140)+2,AP140,\"(\"&AP140&\" : \"&AP142&\")\",AP142)","v":"((((((4. Gr. B : 5. Gr. A) : (4. Gr. B : 5. Gr. A)) : ((4. Gr. B : 5. Gr. A) : (4. Gr. B : 5. Gr. A))) : (((4. Gr. B : 5. Gr. A) : (4. Gr. B : 5. Gr. A)) : ((4. Gr. B : 5. Gr. A) : (4. Gr. B : 5. Gr. A)))) : ((((4. Gr. B : 5. Gr. A) : (4. Gr. B : 5. Gr. A)) : ((4. Gr. B : 5. Gr. A) : (4. Gr. B : 5. Gr. A))) : (((4. Gr. B : 5. Gr. A) : (4. Gr. B : 5. Gr. A)) : ((4. Gr. B : 5. Gr. A) : (4. Gr. B : 5. Gr. A))))) : (((((4. Gr. B : 5. Gr. A) : (4. Gr. B : 5. Gr. A)) : ((4. Gr. B : 5. Gr. A) : (4. Gr. B : 5. Gr. A))) : (((4. Gr. B : 5. Gr. A) : (4. Gr. B : 5. Gr. A)) : ((4. Gr. B : 5. Gr. A) : (4. Gr. B : 5. Gr. A)))) : ((((4. Gr. B : 5. Gr. A) : (4. Gr. B : 5. Gr. A)) : ((4. Gr. B : 5. Gr. A) : (4. Gr. B : 5. Gr. A))) : (((4. Gr. B : 5. Gr. A) : (4. Gr. B : 5. Gr. A)) : ((4. Gr. B : 5. Gr. A) : (4. Gr. B : 5. Gr. A))))))"}]
[null,null,null,null,null,null,null,null,null,null,null,null,null,null,{"$f":"INDEX(tbl_KO_Data[T2 Src Rank],K130) & \". Gr. \" & INDEX(tbl_KO_Data[T2 Src Group],K130)","v":"5. Gr. A"},null,null,null,null,null,null,null,null,null,null,null,null,null,null,null,null,null,null,null,null,null,null,null,null,null,null,null,null,null,null,null,null,null,null,null,null,30,{"$f":"IF(AX132>AX134,AU134,IF(AX132<AX134,AU132,\"\"))","v":""}]
[]
[]
[null,null,null,null,null,null,11,21,41,null,{"$f":"KO_Data_1row+INDEX(D138:I138,KO_Rounds_Ind)","v":295},null,null,null,null,null,"K_64_A41","field x","best of n",0,null,"K_32_A21","field x","best of n",0,null,"K_16_A11","field x","best of n",0,null,"K_08_B6","field x","best of n",0,null,"K_04_D3","field x","best of n",0,null,"K_02_H2","field x","best of n",0,null,"K_01_031","field x","best of n",0]
[null,null,null,null,null,null,null,null,null,null,null,null,null,null,{"$f":"INDEX(tbl_KO_Data[T1 Src Rank],K138) & \". Gr. \" & INDEX(tbl_KO_Data[T1 Src Group],K138)","v":"4. Gr. B"},null,null,null,null,null,null,null,null,null,null,null,null,null,null,null,null,null,null,null,null,null,null,null,null,null,null,null,null,null,null,null,null,null,null,null,null,31,{"$f":"IF(AX140>AX142,AU140,IF(AX140<AX142,AU142,\"\"))","v":""}]
[null,null,null,null,null,null,null,null,null,null,null,null,null,null,null,null,{"$f":"O139","v":"4. Gr. B"},null,null,null,null,{"$f":"IF($V$16,O139,CHOOSE(SIGN(T262-T260)+2,Q260,\"(\"&Q260&\" : \"&Q262&\")\",Q262))","v":"(4. Gr. B : 5. Gr. A)"},null,null,null,null,{"$f":"IF($AA$16,O139,CHOOSE(SIGN(Y262-Y260)+2,V260,\"(\"&V260&\" : \"&V262&\")\",V262))","v":"((4. Gr. B : 5. Gr. A) : (4. Gr. B : 5. Gr. A))"},null,null,null,null,{"$f":"CHOOSE(SIGN(AD132-AD134)+2,AA132,\"(\"&AA132&\" : \"&AA134&\")\",AA134)","v":"(((4. Gr. B : 5. Gr. A) : (4. Gr. B : 5. Gr. A)) : ((4. Gr. B : 5. Gr. A) : (4. Gr. B : 5. Gr. A)))"},null,null,null,null,{"$f":"CHOOSE(SIGN(AI132-AI134)+2,AF132,\"(\"&AF132&\" : \"&AF134&\")\",AF134)","v":"((((4. Gr. B : 5. Gr. A) : (4. Gr. B : 5. Gr. A)) : ((4. Gr. B : 5. Gr. A) : (4. Gr. B : 5. Gr. A))) : (((4. Gr. B : 5. Gr. A) : (4. Gr. B : 5. Gr. A)) : ((4. Gr. B : 5. Gr. A) : (4. Gr. B : 5. Gr. A))))"},null,null,null,null,{"$f":"CHOOSE(SIGN(AN132-AN134)+2,AK132,\"(\"&AK132&\" : \"&AK134&\")\",AK134)","v":"(((((4. Gr. B : 5. Gr. A) : (4. Gr. B : 5. Gr. A)) : ((4. Gr. B : 5. Gr. A) : (4. Gr. B : 5. Gr. A))) : (((4. Gr. B : 5. Gr. A) : (4. Gr. B : 5. Gr. A)) : ((4. Gr. B : 5. Gr. A) : (4. Gr. B : 5. Gr. A)))) : ((((4. Gr. B : 5. Gr. A) : (4. Gr. B : 5. Gr. A)) : ((4. Gr. B : 5. Gr. A) : (4. Gr. B : 5. Gr. A))) : (((4. Gr. B : 5. Gr. A) : (4. Gr. B : 5. Gr. A)) : ((4. Gr. B : 5. Gr. A) : (4. Gr. B : 5. Gr. A)))))"},null,null,null,null,{"$f":"CHOOSE(SIGN(AS132-AS134)+2,AP132,\"(\"&AP132&\" : \"&AP134&\")\",AP134)","v":"((((((1. Gr. A : 4. Gr. B) : (2. Gr. D : 3. Gr. C)) : ((1. Gr. C : 4. Gr. D) : (2. Gr. B : 3. Gr. A))) : (((1. Gr. B : 4. Gr. C) : (2. Gr. A : 3. Gr. D)) : ((1. Gr. D : 4. Gr. A) : (2. Gr. C : 3. Gr. B)))) : ((((4. Gr. B : 5. Gr. A) : (4. Gr. B : 5. Gr. A)) : ((4. Gr. B : 5. Gr. A) : (4. Gr. B : 5. Gr. A))) : (((4. Gr. B : 5. Gr. A) : (4. Gr. B : 5. Gr. A)) : ((4. Gr. B : 5. Gr. A) : (4. Gr. B : 5. Gr. A))))) : (((((4. Gr. B : 5. Gr. A) : (4. Gr. B : 5. Gr. A)) : ((4. Gr. B : 5. Gr. A) : (4. Gr. B : 5. Gr. A))) : (((4. Gr. B : 5. Gr. A) : (4. Gr. B : 5. Gr. A)) : ((4. Gr. B : 5. Gr. A) : (4. Gr. B : 5. Gr. A)))) : ((((4. Gr. B : 5. Gr. A) : (4. Gr. B : 5. Gr. A)) : ((4. Gr. B : 5. Gr. A) : (4. Gr. B : 5. Gr. A))) : (((4. Gr. B : 5. Gr. A) : (4. Gr. B : 5. Gr. A)) : ((4. Gr. B : 5. Gr. A) : (4. Gr. B : 5. Gr. A))))))"}]
[]
[null,null,null,null,null,null,null,null,null,null,null,null,null,null,null,null,{"$f":"O143","v":"5. Gr. A"},null,null,null,null,{"$f":"IF($V$16,O143,CHOOSE(SIGN(T270-T268)+2,Q268,\"(\"&Q268&\" : \"&Q270&\")\",Q270))","v":"(4. Gr. B : 5. Gr. A)"},null,null,null,null,{"$f":"IF($AA$16,O143,CHOOSE(SIGN(Y270-Y268)+2,V268,\"(\"&V268&\" : \"&V270&\")\",V270))","v":"((4. Gr. B : 5. Gr. A) : (4. Gr. B : 5. Gr. A))"},null,null,null,null,{"$f":"CHOOSE(SIGN(AD140-AD142)+2,AA140,\"(\"&AA140&\" : \"&AA142&\")\",AA142)","v":"(((4. Gr. B : 5. Gr. A) : (4. Gr. B : 5. Gr. A)) : ((4. Gr. B : 5. Gr. A) : (4. Gr. B : 5. Gr. A)))"},null,null,null,null,{"$f":"CHOOSE(SIGN(AI140-AI142)+2,AF140,\"(\"&AF140&\" : \"&AF142&\")\",AF142)","v":"((((4. Gr. B : 5. Gr. A) : (4. Gr. B : 5. Gr. A)) : ((4. Gr. B : 5. Gr. A) : (4. Gr. B : 5. Gr. A))) : (((4. Gr. B : 5. Gr. A) : (4. Gr. B : 5. Gr. A)) : ((4. Gr. B : 5. Gr. A) : (4. Gr. B : 5. Gr. A))))"},null,null,null,null,{"$f":"CHOOSE(SIGN(AN140-AN142)+2,AK140,\"(\"&AK140&\" : \"&AK142&\")\",AK142)","v":"(((((4. Gr. B : 5. Gr. A) : (4. Gr. B : 5. Gr. A)) : ((4. Gr. B : 5. Gr. A) : (4. Gr. B : 5. Gr. A))) : (((4. Gr. B : 5. Gr. A) : (4. Gr. B : 5. Gr. A)) : ((4. Gr. B : 5. Gr. A) : (4. Gr. B : 5. Gr. A)))) : ((((4. Gr. B : 5. Gr. A) : (4. Gr. B : 5. Gr. A)) : ((4. Gr. B : 5. Gr. A) : (4. Gr. B : 5. Gr. A))) : (((4. Gr. B : 5. Gr. A) : (4. Gr. B : 5. Gr. A)) : ((4. Gr. B : 5. Gr. A) : (4. Gr. B : 5. Gr. A)))))"},null,null,null,null,{"$f":"CHOOSE(SIGN(AS140-AS142)+2,AP140,\"(\"&AP140&\" : \"&AP142&\")\",AP142)","v":"((((((4. Gr. B : 5. Gr. A) : (4. Gr. B : 5. Gr. A)) : ((4. Gr. B : 5. Gr. A) : (4. Gr. B : 5. Gr. A))) : (((4. Gr. B : 5. Gr. A) : (4. Gr. B : 5. Gr. A)) : ((4. Gr. B : 5. Gr. A) : (4. Gr. B : 5. Gr. A)))) : ((((4. Gr. B : 5. Gr. A) : (4. Gr. B : 5. Gr. A)) : ((4. Gr. B : 5. Gr. A) : (4. Gr. B : 5. Gr. A))) : (((4. Gr. B : 5. Gr. A) : (4. Gr. B : 5. Gr. A)) : ((4. Gr. B : 5. Gr. A) : (4. Gr. B : 5. Gr. A))))) : (((((4. Gr. B : 5. Gr. A) : (4. Gr. B : 5. Gr. A)) : ((4. Gr. B : 5. Gr. A) : (4. Gr. B : 5. Gr. A))) : (((4. Gr. B : 5. Gr. A) : (4. Gr. B : 5. Gr. A)) : ((4. Gr. B : 5. Gr. A) : (4. Gr. B : 5. Gr. A)))) : ((((4. Gr. B : 5. Gr. A) : (4. Gr. B : 5. Gr. A)) : ((4. Gr. B : 5. Gr. A) : (4. Gr. B : 5. Gr. A))) : (((4. Gr. B : 5. Gr. A) : (4. Gr. B : 5. Gr. A)) : ((4. Gr. B : 5. Gr. A) : (4. Gr. B : 5. Gr. A))))))"}]
[null,null,null,null,null,null,null,null,null,null,null,null,null,null,{"$f":"INDEX(tbl_KO_Data[T2 Src Rank],K138) & \". Gr. \" & INDEX(tbl_KO_Data[T2 Src Group],K138)","v":"5. Gr. A"},null,null,null,null,null,null,null,null,null,null,null,null,null,null,null,null,null,null,null,null,null,null,null,null,null,null,null,null,null,null,null,null,null,null,null,null,32,{"$f":"IF(AX140>AX142,AU142,IF(AX140<AX142,AU140,\"\"))","v":""}]
[]
[]
[null,null,null,null,null,null,null,2,4,null,{"$f":"KO_Data_1row+INDEX(D146:I146,KO_Rounds_Ind)","v":295},null,null,null,null,null,"K_64_A04","field x","best of n",0,null,"K_32_A02","field x","best of n",0,null,"K_16_B01","field x","best of n",0,null,"K_08_C1","field x","best of n",0,null,"K_04_E1","field x","best of n",0,null,"K_02_I1","field x","best of n",0,null,"K_01_033","field x","best of n",0]
[null,null,null,null,null,null,null,null,null,null,null,null,null,null,{"$f":"INDEX(tbl_KO_Data[T1 Src Rank],K146) & \". Gr. \" & INDEX(tbl_KO_Data[T1 Src Group],K146)","v":"4. Gr. B"},null,null,null,null,null,null,null,null,null,null,null,null,null,null,null,null,null,null,null,null,null,null,null,null,null,null,null,null,null,null,null,null,null,null,null,null,33,{"$f":"IF(AX148>AX150,AU148,IF(AX148<AX150,AU150,\"\"))","v":""}]
[null,null,null,null,null,null,null,null,null,null,null,null,null,null,null,null,{"$f":"O147","v":"4. Gr. B"},null,null,null,null,{"$f":"IF($V$16,O147,CHOOSE(SIGN(T278-T276)+2,Q276,\"(\"&Q276&\" : \"&Q278&\")\",Q278))","v":"(4. Gr. B : 5. Gr. A)"},null,null,null,null,{"$f":"CHOOSE(SIGN(Y20-Y22)+2,V20,\"(\"&V20&\" : \"&V22&\")\",V22)","v":"((1. Gr. A : 4. Gr. B) : (2. Gr. D : 3. Gr. C))"},null,null,null,null,{"$f":"CHOOSE(SIGN(AD150-AD148)+2,AA148,\"(\"&AA148&\" : \"&AA150&\")\",AA150)","v":"(((1. Gr. A : 4. Gr. B) : (2. Gr. D : 3. Gr. C)) : ((1. Gr. C : 4. Gr. D) : (2. Gr. B : 3. Gr. A)))"},null,null,null,null,{"$f":"CHOOSE(SIGN(AI150-AI148)+2,AF148,\"(\"&AF148&\" : \"&AF150&\")\",AF150)","v":"((((1. Gr. A : 4. Gr. B) : (2. Gr. D : 3. Gr. C)) : ((1. Gr. C : 4. Gr. D) : (2. Gr. B : 3. Gr. A))) : (((1. Gr. B : 4. Gr. C) : (2. Gr. A : 3. Gr. D)) : ((1. Gr. D : 4. Gr. A) : (2. Gr. C : 3. Gr. B))))"},null,null,null,null,{"$f":"CHOOSE(SIGN(AN150-AN148)+2,AK148,\"(\"&AK148&\" : \"&AK150&\")\",AK150)","v":"(((((1. Gr. A : 4. Gr. B) : (2. Gr. D : 3. Gr. C)) : ((1. Gr. C : 4. Gr. D) : (2. Gr. B : 3. Gr. A))) : (((1. Gr. B : 4. Gr. C) : (2. Gr. A : 3. Gr. D)) : ((1. Gr. D : 4. Gr. A) : (2. Gr. C : 3. Gr. B)))) : ((((4. Gr. B : 5. Gr. A) : (4. Gr. B : 5. Gr. A)) : ((4. Gr. B : 5. Gr. A) : (4. Gr. B : 5. Gr. A))) : (((4. Gr. B : 5. Gr. A) : (4. Gr. B : 5. Gr. A)) : ((4. Gr. B : 5. Gr. A) : (4. Gr. B : 5. Gr. A)))))"},null,null,null,null,{"$f":"CHOOSE(SIGN(AS150-AS148)+2,AP148,\"(\"&AP148&\" : \"&AP150&\")\",AP150)","v":"((((((1. Gr. A : 4. Gr. B) : (2. Gr. D : 3. Gr. C)) : ((1. Gr. C : 4. Gr. D) : (2. Gr. B : 3. Gr. A))) : (((1. Gr. B : 4. Gr. C) : (2. Gr. A : 3. Gr. D)) : ((1. Gr. D : 4. Gr. A) : (2. Gr. C : 3. Gr. B)))) : ((((4. Gr. B : 5. Gr. A) : (4. Gr. B : 5. Gr. A)) : ((4. Gr. B : 5. Gr. A) : (4. Gr. B : 5. Gr. A))) : (((4. Gr. B : 5. Gr. A) : (4. Gr. B : 5. Gr. A)) : ((4. Gr. B : 5. Gr. A) : (4. Gr. B : 5. Gr. A))))) : (((((4. Gr. B : 5. Gr. A) : (4. Gr. B : 5. Gr. A)) : ((4. Gr. B : 5. Gr. A) : (4. Gr. B : 5. Gr. A))) : (((4. Gr. B : 5. Gr. A) : (4. Gr. B : 5. Gr. A)) : ((4. Gr. B : 5. Gr. A) : (4. Gr. B : 5. Gr. A)))) : ((((4. Gr. B : 5. Gr. A) : (4. Gr. B : 5. Gr. A)) : ((4. Gr. B : 5. Gr. A) : (4. Gr. B : 5. Gr. A))) : (((4. Gr. B : 5. Gr. A) : (4. Gr. B : 5. Gr. A)) : ((4. Gr. B : 5. Gr. A) : (4. Gr. B : 5. Gr. A))))))"}]
[]
[null,null,null,null,null,null,null,null,null,null,null,null,null,null,null,null,{"$f":"O151","v":"5. Gr. A"},null,null,null,null,{"$f":"IF($V$16,O151,CHOOSE(SIGN(T286-T284)+2,Q284,\"(\"&Q284&\" : \"&Q286&\")\",Q286))","v":"(4. Gr. B : 5. Gr. A)"},null,null,null,null,{"$f":"CHOOSE(SIGN(Y28-Y30)+2,V28,\"(\"&V28&\" : \"&V30&\")\",V30)","v":"((1. Gr. C : 4. Gr. D) : (2. Gr. B : 3. Gr. A))"},null,null,null,null,{"$f":"CHOOSE(SIGN(AD158-AD156)+2,AA156,\"(\"&AA156&\" : \"&AA158&\")\",AA158)","v":"(((1. Gr. B : 4. Gr. C) : (2. Gr. A : 3. Gr. D)) : ((1. Gr. D : 4. Gr. A) : (2. Gr. C : 3. Gr. B)))"},null,null,null,null,{"$f":"CHOOSE(SIGN(AI158-AI156)+2,AF156,\"(\"&AF156&\" : \"&AF158&\")\",AF158)","v":"((((4. Gr. B : 5. Gr. A) : (4. Gr. B : 5. Gr. A)) : ((4. Gr. B : 5. Gr. A) : (4. Gr. B : 5. Gr. A))) : (((4. Gr. B : 5. Gr. A) : (4. Gr. B : 5. Gr. A)) : ((4. Gr. B : 5. Gr. A) : (4. Gr. B : 5. Gr. A))))"},null,null,null,null,{"$f":"CHOOSE(SIGN(AN158-AN156)+2,AK156,\"(\"&AK156&\" : \"&AK158&\")\",AK158)","v":"(((((4. Gr. B : 5. Gr. A) : (4. Gr. B : 5. Gr. A)) : ((4. Gr. B : 5. Gr. A) : (4. Gr. B : 5. Gr. A))) : (((4. Gr. B : 5. Gr. A) : (4. Gr. B : 5. Gr. A)) : ((4. Gr. B : 5. Gr. A) : (4. Gr. B : 5. Gr. A)))) : ((((4. Gr. B : 5. Gr. A) : (4. Gr. B : 5. Gr. A)) : ((4. Gr. B : 5. Gr. A) : (4. Gr. B : 5. Gr. A))) : (((4. Gr. B : 5. Gr. A) : (4. Gr. B : 5. Gr. A)) : ((4. Gr. B : 5. Gr. A) : (4. Gr. B : 5. Gr. A)))))"},null,null,null,null,{"$f":"CHOOSE(SIGN(AS158-AS156)+2,AP156,\"(\"&AP156&\" : \"&AP158&\")\",AP158)","v":"((((((4. Gr. B : 5. Gr. A) : (4. Gr. B : 5. Gr. A)) : ((4. Gr. B : 5. Gr. A) : (4. Gr. B : 5. Gr. A))) : (((4. Gr. B : 5. Gr. A) : (4. Gr. B : 5. Gr. A)) : ((4. Gr. B : 5. Gr. A) : (4. Gr. B : 5. Gr. A)))) : ((((4. Gr. B : 5. Gr. A) : (4. Gr. B : 5. Gr. A)) : ((4. Gr. B : 5. Gr. A) : (4. Gr. B : 5. Gr. A))) : (((4. Gr. B : 5. Gr. A) : (4. Gr. B : 5. Gr. A)) : ((4. Gr. B : 5. Gr. A) : (4. Gr. B : 5. Gr. A))))) : (((((4. Gr. B : 5. Gr. A) : (4. Gr. B : 5. Gr. A)) : ((4. Gr. B : 5. Gr. A) : (4. Gr. B : 5. Gr. A))) : (((4. Gr. B : 5. Gr. A) : (4. Gr. B : 5. Gr. A)) : ((4. Gr. B : 5. Gr. A) : (4. Gr. B : 5. Gr. A)))) : ((((4. Gr. B : 5. Gr. A) : (4. Gr. B : 5. Gr. A)) : ((4. Gr. B : 5. Gr. A) : (4. Gr. B : 5. Gr. A))) : (((4. Gr. B : 5. Gr. A) : (4. Gr. B : 5. Gr. A)) : ((4. Gr. B : 5. Gr. A) : (4. Gr. B : 5. Gr. A))))))"}]
[null,null,null,null,null,null,null,null,null,null,null,null,null,null,{"$f":"INDEX(tbl_KO_Data[T2 Src Rank],K146) & \". Gr. \" & INDEX(tbl_KO_Data[T2 Src Group],K146)","v":"5. Gr. A"},null,null,null,null,null,null,null,null,null,null,null,null,null,null,null,null,null,null,null,null,null,null,null,null,null,null,null,null,null,null,null,null,null,null,null,null,34,{"$f":"IF(AX148>AX150,AU150,IF(AX148<AX150,AU148,\"\"))","v":""}]
[]
[]
[null,null,null,null,null,null,null,31,61,null,{"$f":"KO_Data_1row+INDEX(D154:I154,KO_Rounds_Ind)","v":295},null,null,null,null,null,"K_64_A61","field x","best of n",0,null,"K_32_A31","field x","best of n",0,null,"K_16_B16","field x","best of n",0,null,"K_08_C8","field x","best of n",0,null,"K_04_E4","field x","best of n",0,null,"K_02_I2","field x","best of n",0,null,"K_01_035","field x","best of n",0]
[null,null,null,null,null,null,null,null,null,null,null,null,null,null,{"$f":"INDEX(tbl_KO_Data[T1 Src Rank],K154) & \". Gr. \" & INDEX(tbl_KO_Data[T1 Src Group],K154)","v":"4. Gr. B"},null,null,null,null,null,null,null,null,null,null,null,null,null,null,null,null,null,null,null,null,null,null,null,null,null,null,null,null,null,null,null,null,null,null,null,null,35,{"$f":"IF(AX156>AX158,AU156,IF(AX156<AX158,AU158,\"\"))","v":""}]
[null,null,null,null,null,null,null,null,null,null,null,null,null,null,null,null,{"$f":"O155","v":"4. Gr. B"},null,null,null,null,{"$f":"IF($V$16,O155,CHOOSE(SIGN(T294-T292)+2,Q292,\"(\"&Q292&\" : \"&Q294&\")\",Q294))","v":"(4. Gr. B : 5. Gr. A)"},null,null,null,null,{"$f":"CHOOSE(SIGN(Y36-Y38)+2,V36,\"(\"&V36&\" : \"&V38&\")\",V38)","v":"((1. Gr. B : 4. Gr. C) : (2. Gr. A : 3. Gr. D))"},null,null,null,null,{"$f":"CHOOSE(SIGN(AD166-AD164)+2,AA164,\"(\"&AA164&\" : \"&AA166&\")\",AA166)","v":"(((4. Gr. B : 5. Gr. A) : (4. Gr. B : 5. Gr. A)) : ((4. Gr. B : 5. Gr. A) : (4. Gr. B : 5. Gr. A)))"},null,null,null,null,{"$f":"CHOOSE(SIGN(AI166-AI164)+2,AF164,\"(\"&AF164&\" : \"&AF166&\")\",AF166)","v":"((((4. Gr. B : 5. Gr. A) : (4. Gr. B : 5. Gr. A)) : ((4. Gr. B : 5. Gr. A) : (4. Gr. B : 5. Gr. A))) : (((4. Gr. B : 5. Gr. A) : (4. Gr. B : 5. Gr. A)) : ((4. Gr. B : 5. Gr. A) : (4. Gr. B : 5. Gr. A))))"},null,null,null,null,{"$f":"CHOOSE(SIGN(AN166-AN164)+2,AK164,\"(\"&AK164&\" : \"&AK166&\")\",AK166)","v":"(((((4. Gr. B : 5. Gr. A) : (4. Gr. B : 5. Gr. A)) : ((4. Gr. B : 5. Gr. A) : (4. Gr. B : 5. Gr. A))) : (((4. Gr. B : 5. Gr. A) : (4. Gr. B : 5. Gr. A)) : ((4. Gr. B : 5. Gr. A) : (4. Gr. B : 5. Gr. A)))) : ((((4. Gr. B : 5. Gr. A) : (4. Gr. B : 5. Gr. A)) : ((4. Gr. B : 5. Gr. A) : (4. Gr. B : 5. Gr. A))) : (((4. Gr. B : 5. Gr. A) : (4. Gr. B : 5. Gr. A)) : ((4. Gr. B : 5. Gr. A) : (4. Gr. B : 5. Gr. A)))))"},null,null,null,null,{"$f":"CHOOSE(SIGN(AS148-AS150)+2,AP148,\"(\"&AP148&\" : \"&AP150&\")\",AP150)","v":"((((((1. Gr. A : 4. Gr. B) : (2. Gr. D : 3. Gr. C)) : ((1. Gr. C : 4. Gr. D) : (2. Gr. B : 3. Gr. A))) : (((1. Gr. B : 4. Gr. C) : (2. Gr. A : 3. Gr. D)) : ((1. Gr. D : 4. Gr. A) : (2. Gr. C : 3. Gr. B)))) : ((((4. Gr. B : 5. Gr. A) : (4. Gr. B : 5. Gr. A)) : ((4. Gr. B : 5. Gr. A) : (4. Gr. B : 5. Gr. A))) : (((4. Gr. B : 5. Gr. A) : (4. Gr. B : 5. Gr. A)) : ((4. Gr. B : 5. Gr. A) : (4. Gr. B : 5. Gr. A))))) : (((((4. Gr. B : 5. Gr. A) : (4. Gr. B : 5. Gr. A)) : ((4. Gr. B : 5. Gr. A) : (4. Gr. B : 5. Gr. A))) : (((4. Gr. B : 5. Gr. A) : (4. Gr. B : 5. Gr. A)) : ((4. Gr. B : 5. Gr. A) : (4. Gr. B : 5. Gr. A)))) : ((((4. Gr. B : 5. Gr. A) : (4. Gr. B : 5. Gr. A)) : ((4. Gr. B : 5. Gr. A) : (4. Gr. B : 5. Gr. A))) : (((4. Gr. B : 5. Gr. A) : (4. Gr. B : 5. Gr. A)) : ((4. Gr. B : 5. Gr. A) : (4. Gr. B : 5. Gr. A))))))"}]
[]
[null,null,null,null,null,null,null,null,null,null,null,null,null,null,null,null,{"$f":"O159","v":"5. Gr. A"},null,null,null,null,{"$f":"IF($V$16,O159,CHOOSE(SIGN(T302-T300)+2,Q300,\"(\"&Q300&\" : \"&Q302&\")\",Q302))","v":"(4. Gr. B : 5. Gr. A)"},null,null,null,null,{"$f":"CHOOSE(SIGN(Y44-Y46)+2,V44,\"(\"&V44&\" : \"&V46&\")\",V46)","v":"((1. Gr. D : 4. Gr. A) : (2. Gr. C : 3. Gr. B))"},null,null,null,null,{"$f":"CHOOSE(SIGN(AD174-AD172)+2,AA172,\"(\"&AA172&\" : \"&AA174&\")\",AA174)","v":"(((4. Gr. B : 5. Gr. A) : (4. Gr. B : 5. Gr. A)) : ((4. Gr. B : 5. Gr. A) : (4. Gr. B : 5. Gr. A)))"},null,null,null,null,{"$f":"CHOOSE(SIGN(AI174-AI172)+2,AF172,\"(\"&AF172&\" : \"&AF174&\")\",AF174)","v":"((((4. Gr. B : 5. Gr. A) : (4. Gr. B : 5. Gr. A)) : ((4. Gr. B : 5. Gr. A) : (4. Gr. B : 5. Gr. A))) : (((4. Gr. B : 5. Gr. A) : (4. Gr. B : 5. Gr. A)) : ((4. Gr. B : 5. Gr. A) : (4. Gr. B : 5. Gr. A))))"},null,null,null,null,{"$f":"CHOOSE(SIGN(AN174-AN172)+2,AK172,\"(\"&AK172&\" : \"&AK174&\")\",AK174)","v":"(((((4. Gr. B : 5. Gr. A) : (4. Gr. B : 5. Gr. A)) : ((4. Gr. B : 5. Gr. A) : (4. Gr. B : 5. Gr. A))) : (((4. Gr. B : 5. Gr. A) : (4. Gr. B : 5. Gr. A)) : ((4. Gr. B : 5. Gr. A) : (4. Gr. B : 5. Gr. A)))) : ((((4. Gr. B : 5. Gr. A) : (4. Gr. B : 5. Gr. A)) : ((4. Gr. B : 5. Gr. A) : (4. Gr. B : 5. Gr. A))) : (((4. Gr. B : 5. Gr. A) : (4. Gr. B : 5. Gr. A)) : ((4. Gr. B : 5. Gr. A) : (4. Gr. B : 5. Gr. A)))))"},null,null,null,null,{"$f":"CHOOSE(SIGN(AS156-AS158)+2,AP156,\"(\"&AP156&\" : \"&AP158&\")\",AP158)","v":"((((((4. Gr. B : 5. Gr. A) : (4. Gr. B : 5. Gr. A)) : ((4. Gr. B : 5. Gr. A) : (4. Gr. B : 5. Gr. A))) : (((4. Gr. B : 5. Gr. A) : (4. Gr. B : 5. Gr. A)) : ((4. Gr. B : 5. Gr. A) : (4. Gr. B : 5. Gr. A)))) : ((((4. Gr. B : 5. Gr. A) : (4. Gr. B : 5. Gr. A)) : ((4. Gr. B : 5. Gr. A) : (4. Gr. B : 5. Gr. A))) : (((4. Gr. B : 5. Gr. A) : (4. Gr. B : 5. Gr. A)) : ((4. Gr. B : 5. Gr. A) : (4. Gr. B : 5. Gr. A))))) : (((((4. Gr. B : 5. Gr. A) : (4. Gr. B : 5. Gr. A)) : ((4. Gr. B : 5. Gr. A) : (4. Gr. B : 5. Gr. A))) : (((4. Gr. B : 5. Gr. A) : (4. Gr. B : 5. Gr. A)) : ((4. Gr. B : 5. Gr. A) : (4. Gr. B : 5. Gr. A)))) : ((((4. Gr. B : 5. Gr. A) : (4. Gr. B : 5. Gr. A)) : ((4. Gr. B : 5. Gr. A) : (4. Gr. B : 5. Gr. A))) : (((4. Gr. B : 5. Gr. A) : (4. Gr. B : 5. Gr. A)) : ((4. Gr. B : 5. Gr. A) : (4. Gr. B : 5. Gr. A))))))"}]
[null,null,null,null,null,null,null,null,null,null,null,null,null,null,{"$f":"INDEX(tbl_KO_Data[T2 Src Rank],K154) & \". Gr. \" & INDEX(tbl_KO_Data[T2 Src Group],K154)","v":"5. Gr. A"},null,null,null,null,null,null,null,null,null,null,null,null,null,null,null,null,null,null,null,null,null,null,null,null,null,null,null,null,null,null,null,null,null,null,null,null,36,{"$f":"IF(AX156>AX158,AU158,IF(AX156<AX158,AU156,\"\"))","v":""}]
[]
[]
[null,null,null,null,null,null,null,15,29,null,{"$f":"KO_Data_1row+INDEX(D162:I162,KO_Rounds_Ind)","v":295},null,null,null,null,null,"K_64_A29","field x","best of n",0,null,"K_32_A15","field x","best of n",0,null,"K_16_B08","field x","best of n",0,null,"K_08_C4","field x","best of n",0,null,"K_04_E2","field x","best of n",0,null,"K_02_J1","field x","best of n",0,null,"K_01_037","field x","best of n",0]
[null,null,null,null,null,null,null,null,null,null,null,null,null,null,{"$f":"INDEX(tbl_KO_Data[T1 Src Rank],K162) & \". Gr. \" & INDEX(tbl_KO_Data[T1 Src Group],K162)","v":"4. Gr. B"},null,null,null,null,null,null,null,null,null,null,null,null,null,null,null,null,null,null,null,null,null,null,null,null,null,null,null,null,null,null,null,null,null,null,null,null,37,{"$f":"IF(AX164>AX166,AU164,IF(AX164<AX166,AU166,\"\"))","v":""}]
[null,null,null,null,null,null,null,null,null,null,null,null,null,null,null,null,{"$f":"O163","v":"4. Gr. B"},null,null,null,null,{"$f":"IF($V$16,O163,CHOOSE(SIGN(T310-T308)+2,Q308,\"(\"&Q308&\" : \"&Q310&\")\",Q310))","v":"(4. Gr. B : 5. Gr. A)"},null,null,null,null,{"$f":"CHOOSE(SIGN(Y52-Y54)+2,V52,\"(\"&V52&\" : \"&V54&\")\",V54)","v":"((4. Gr. B : 5. Gr. A) : (4. Gr. B : 5. Gr. A))"},null,null,null,null,{"$f":"CHOOSE(SIGN(AD182-AD180)+2,AA180,\"(\"&AA180&\" : \"&AA182&\")\",AA182)","v":"(((4. Gr. B : 5. Gr. A) : (4. Gr. B : 5. Gr. A)) : ((4. Gr. B : 5. Gr. A) : (4. Gr. B : 5. Gr. A)))"},null,null,null,null,{"$f":"CHOOSE(SIGN(AI182-AI180)+2,AF180,\"(\"&AF180&\" : \"&AF182&\")\",AF182)","v":"((((4. Gr. B : 5. Gr. A) : (4. Gr. B : 5. Gr. A)) : ((4. Gr. B : 5. Gr. A) : (4. Gr. B : 5. Gr. A))) : (((4. Gr. B : 5. Gr. A) : (4. Gr. B : 5. Gr. A)) : ((4. Gr. B : 5. Gr. A) : (4. Gr. B : 5. Gr. A))))"},null,null,null,null,{"$f":"CHOOSE(SIGN(AN148-AN150)+2,AK148,\"(\"&AK148&\" : \"&AK150&\")\",AK150)","v":"(((((1. Gr. A : 4. Gr. B) : (2. Gr. D : 3. Gr. C)) : ((1. Gr. C : 4. Gr. D) : (2. Gr. B : 3. Gr. A))) : (((1. Gr. B : 4. Gr. C) : (2. Gr. A : 3. Gr. D)) : ((1. Gr. D : 4. Gr. A) : (2. Gr. C : 3. Gr. B)))) : ((((4. Gr. B : 5. Gr. A) : (4. Gr. B : 5. Gr. A)) : ((4. Gr. B : 5. Gr. A) : (4. Gr. B : 5. Gr. A))) : (((4. Gr. B : 5. Gr. A) : (4. Gr. B : 5. Gr. A)) : ((4. Gr. B : 5. Gr. A) : (4. Gr. B : 5. Gr. A)))))"},null,null,null,null,{"$f":"CHOOSE(SIGN(AS166-AS164)+2,AP164,\"(\"&AP164&\" : \"&AP166&\")\",AP166)","v":"((((((1. Gr. A : 4. Gr. B) : (2. Gr. D : 3. Gr. C)) : ((1. Gr. C : 4. Gr. D) : (2. Gr. B : 3. Gr. A))) : (((1. Gr. B : 4. Gr. C) : (2. Gr. A : 3. Gr. D)) : ((1. Gr. D : 4. Gr. A) : (2. Gr. C : 3. Gr. B)))) : ((((4. Gr. B : 5. Gr. A) : (4. Gr. B : 5. Gr. A)) : ((4. Gr. B : 5. Gr. A) : (4. Gr. B : 5. Gr. A))) : (((4. Gr. B : 5. Gr. A) : (4. Gr. B : 5. Gr. A)) : ((4. Gr. B : 5. Gr. A) : (4. Gr. B : 5. Gr. A))))) : (((((4. Gr. B : 5. Gr. A) : (4. Gr. B : 5. Gr. A)) : ((4. Gr. B : 5. Gr. A) : (4. Gr. B : 5. Gr. A))) : (((4. Gr. B : 5. Gr. A) : (4. Gr. B : 5. Gr. A)) : ((4. Gr. B : 5. Gr. A) : (4. Gr. B : 5. Gr. A)))) : ((((4. Gr. B : 5. Gr. A) : (4. Gr. B : 5. Gr. A)) : ((4. Gr. B : 5. Gr. A) : (4. Gr. B : 5. Gr. A))) : (((4. Gr. B : 5. Gr. A) : (4. Gr. B : 5. Gr. A)) : ((4. Gr. B : 5. Gr. A) : (4. Gr. B : 5. Gr. A))))))"}]
[]
[null,null,null,null,null,null,null,null,null,null,null,null,null,null,null,null,{"$f":"O167","v":"5. Gr. A"},null,null,null,null,{"$f":"IF($V$16,O167,CHOOSE(SIGN(T318-T316)+2,Q316,\"(\"&Q316&\" : \"&Q318&\")\",Q318))","v":"(4. Gr. B : 5. Gr. A)"},null,null,null,null,{"$f":"CHOOSE(SIGN(Y60-Y62)+2,V60,\"(\"&V60&\" : \"&V62&\")\",V62)","v":"((4. Gr. B : 5. Gr. A) : (4. Gr. B : 5. Gr. A))"},null,null,null,null,{"$f":"CHOOSE(SIGN(AD190-AD188)+2,AA188,\"(\"&AA188&\" : \"&AA190&\")\",AA190)","v":"(((4. Gr. B : 5. Gr. A) : (4. Gr. B : 5. Gr. A)) : ((4. Gr. B : 5. Gr. A) : (4. Gr. B : 5. Gr. A)))"},null,null,null,null,{"$f":"CHOOSE(SIGN(AI190-AI188)+2,AF188,\"(\"&AF188&\" : \"&AF190&\")\",AF190)","v":"((((4. Gr. B : 5. Gr. A) : (4. Gr. B : 5. Gr. A)) : ((4. Gr. B : 5. Gr. A) : (4. Gr. B : 5. Gr. A))) : (((4. Gr. B : 5. Gr. A) : (4. Gr. B : 5. Gr. A)) : ((4. Gr. B : 5. Gr. A) : (4. Gr. B : 5. Gr. A))))"},null,null,null,null,{"$f":"CHOOSE(SIGN(AN156-AN158)+2,AK156,\"(\"&AK156&\" : \"&AK158&\")\",AK158)","v":"(((((4. Gr. B : 5. Gr. A) : (4. Gr. B : 5. Gr. A)) : ((4. Gr. B : 5. Gr. A) : (4. Gr. B : 5. Gr. A))) : (((4. Gr. B : 5. Gr. A) : (4. Gr. B : 5. Gr. A)) : ((4. Gr. B : 5. Gr. A) : (4. Gr. B : 5. Gr. A)))) : ((((4. Gr. B : 5. Gr. A) : (4. Gr. B : 5. Gr. A)) : ((4. Gr. B : 5. Gr. A) : (4. Gr. B : 5. Gr. A))) : (((4. Gr. B : 5. Gr. A) : (4. Gr. B : 5. Gr. A)) : ((4. Gr. B : 5. Gr. A) : (4. Gr. B : 5. Gr. A)))))"},null,null,null,null,{"$f":"CHOOSE(SIGN(AS174-AS172)+2,AP172,\"(\"&AP172&\" : \"&AP174&\")\",AP174)","v":"((((((4. Gr. B : 5. Gr. A) : (4. Gr. B : 5. Gr. A)) : ((4. Gr. B : 5. Gr. A) : (4. Gr. B : 5. Gr. A))) : (((4. Gr. B : 5. Gr. A) : (4. Gr. B : 5. Gr. A)) : ((4. Gr. B : 5. Gr. A) : (4. Gr. B : 5. Gr. A)))) : ((((4. Gr. B : 5. Gr. A) : (4. Gr. B : 5. Gr. A)) : ((4. Gr. B : 5. Gr. A) : (4. Gr. B : 5. Gr. A))) : (((4. Gr. B : 5. Gr. A) : (4. Gr. B : 5. Gr. A)) : ((4. Gr. B : 5. Gr. A) : (4. Gr. B : 5. Gr. A))))) : (((((4. Gr. B : 5. Gr. A) : (4. Gr. B : 5. Gr. A)) : ((4. Gr. B : 5. Gr. A) : (4. Gr. B : 5. Gr. A))) : (((4. Gr. B : 5. Gr. A) : (4. Gr. B : 5. Gr. A)) : ((4. Gr. B : 5. Gr. A) : (4. Gr. B : 5. Gr. A)))) : ((((4. Gr. B : 5. Gr. A) : (4. Gr. B : 5. Gr. A)) : ((4. Gr. B : 5. Gr. A) : (4. Gr. B : 5. Gr. A))) : (((4. Gr. B : 5. Gr. A) : (4. Gr. B : 5. Gr. A)) : ((4. Gr. B : 5. Gr. A) : (4. Gr. B : 5. Gr. A))))))"}]
[null,null,null,null,null,null,null,null,null,null,null,null,null,null,{"$f":"INDEX(tbl_KO_Data[T2 Src Rank],K162) & \". Gr. \" & INDEX(tbl_KO_Data[T2 Src Group],K162)","v":"5. Gr. A"},null,null,null,null,null,null,null,null,null,null,null,null,null,null,null,null,null,null,null,null,null,null,null,null,null,null,null,null,null,null,null,null,null,null,null,null,38,{"$f":"IF(AX164>AX166,AU166,IF(AX164<AX166,AU164,\"\"))","v":""}]
[]
[]
[null,null,null,null,null,null,null,18,36,null,{"$f":"KO_Data_1row+INDEX(D170:I170,KO_Rounds_Ind)","v":295},null,null,null,null,null,"K_64_A36","field x","best of n",0,null,"K_32_A18","field x","best of n",0,null,"K_16_B09","field x","best of n",0,null,"K_08_C5","field x","best of n",0,null,"K_04_E3","field x","best of n",0,null,"K_02_J2","field x","best of n",0,null,"K_01_039","field x","best of n",0]
[null,null,null,null,null,null,null,null,null,null,null,null,null,null,{"$f":"INDEX(tbl_KO_Data[T1 Src Rank],K170) & \". Gr. \" & INDEX(tbl_KO_Data[T1 Src Group],K170)","v":"4. Gr. B"},null,null,null,null,null,null,null,null,null,null,null,null,null,null,null,null,null,null,null,null,null,null,null,null,null,null,null,null,null,null,null,null,null,null,null,null,39,{"$f":"IF(AX172>AX174,AU172,IF(AX172<AX174,AU174,\"\"))","v":""}]
[null,null,null,null,null,null,null,null,null,null,null,null,null,null,null,null,{"$f":"O171","v":"4. Gr. B"},null,null,null,null,{"$f":"IF($V$16,O171,CHOOSE(SIGN(T326-T324)+2,Q324,\"(\"&Q324&\" : \"&Q326&\")\",Q326))","v":"(4. Gr. B : 5. Gr. A)"},null,null,null,null,{"$f":"CHOOSE(SIGN(Y68-Y70)+2,V68,\"(\"&V68&\" : \"&V70&\")\",V70)","v":"((4. Gr. B : 5. Gr. A) : (4. Gr. B : 5. Gr. A))"},null,null,null,null,{"$f":"CHOOSE(SIGN(AD198-AD196)+2,AA196,\"(\"&AA196&\" : \"&AA198&\")\",AA198)","v":"(((4. Gr. B : 5. Gr. A) : (4. Gr. B : 5. Gr. A)) : ((4. Gr. B : 5. Gr. A) : (4. Gr. B : 5. Gr. A)))"},null,null,null,null,{"$f":"CHOOSE(SIGN(AI198-AI196)+2,AF196,\"(\"&AF196&\" : \"&AF198&\")\",AF198)","v":"((((4. Gr. B : 5. Gr. A) : (4. Gr. B : 5. Gr. A)) : ((4. Gr. B : 5. Gr. A) : (4. Gr. B : 5. Gr. A))) : (((4. Gr. B : 5. Gr. A) : (4. Gr. B : 5. Gr. A)) : ((4. Gr. B : 5. Gr. A) : (4. Gr. B : 5. Gr. A))))"},null,null,null,null,{"$f":"CHOOSE(SIGN(AN164-AN166)+2,AK164,\"(\"&AK164&\" : \"&AK166&\")\",AK166)","v":"(((((4. Gr. B : 5. Gr. A) : (4. Gr. B : 5. Gr. A)) : ((4. Gr. B : 5. Gr. A) : (4. Gr. B : 5. Gr. A))) : (((4. Gr. B : 5. Gr. A) : (4. Gr. B : 5. Gr. A)) : ((4. Gr. B : 5. Gr. A) : (4. Gr. B : 5. Gr. A)))) : ((((4. Gr. B : 5. Gr. A) : (4. Gr. B : 5. Gr. A)) : ((4. Gr. B : 5. Gr. A) : (4. Gr. B : 5. Gr. A))) : (((4. Gr. B : 5. Gr. A) : (4. Gr. B : 5. Gr. A)) : ((4. Gr. B : 5. Gr. A) : (4. Gr. B : 5. Gr. A)))))"},null,null,null,null,{"$f":"CHOOSE(SIGN(AS164-AS166)+2,AP164,\"(\"&AP164&\" : \"&AP166&\")\",AP166)","v":"((((((1. Gr. A : 4. Gr. B) : (2. Gr. D : 3. Gr. C)) : ((1. Gr. C : 4. Gr. D) : (2. Gr. B : 3. Gr. A))) : (((1. Gr. B : 4. Gr. C) : (2. Gr. A : 3. Gr. D)) : ((1. Gr. D : 4. Gr. A) : (2. Gr. C : 3. Gr. B)))) : ((((4. Gr. B : 5. Gr. A) : (4. Gr. B : 5. Gr. A)) : ((4. Gr. B : 5. Gr. A) : (4. Gr. B : 5. Gr. A))) : (((4. Gr. B : 5. Gr. A) : (4. Gr. B : 5. Gr. A)) : ((4. Gr. B : 5. Gr. A) : (4. Gr. B : 5. Gr. A))))) : (((((4. Gr. B : 5. Gr. A) : (4. Gr. B : 5. Gr. A)) : ((4. Gr. B : 5. Gr. A) : (4. Gr. B : 5. Gr. A))) : (((4. Gr. B : 5. Gr. A) : (4. Gr. B : 5. Gr. A)) : ((4. Gr. B : 5. Gr. A) : (4. Gr. B : 5. Gr. A)))) : ((((4. Gr. B : 5. Gr. A) : (4. Gr. B : 5. Gr. A)) : ((4. Gr. B : 5. Gr. A) : (4. Gr. B : 5. Gr. A))) : (((4. Gr. B : 5. Gr. A) : (4. Gr. B : 5. Gr. A)) : ((4. Gr. B : 5. Gr. A) : (4. Gr. B : 5. Gr. A))))))"}]
[]
[null,null,null,null,null,null,null,null,null,null,null,null,null,null,null,null,{"$f":"O175","v":"5. Gr. A"},null,null,null,null,{"$f":"IF($V$16,O175,CHOOSE(SIGN(T334-T332)+2,Q332,\"(\"&Q332&\" : \"&Q334&\")\",Q334))","v":"(4. Gr. B : 5. Gr. A)"},null,null,null,null,{"$f":"CHOOSE(SIGN(Y76-Y78)+2,V76,\"(\"&V76&\" : \"&V78&\")\",V78)","v":"((4. Gr. B : 5. Gr. A) : (4. Gr. B : 5. Gr. A))"},null,null,null,null,{"$f":"CHOOSE(SIGN(AD206-AD204)+2,AA204,\"(\"&AA204&\" : \"&AA206&\")\",AA206)","v":"(((4. Gr. B : 5. Gr. A) : (4. Gr. B : 5. Gr. A)) : ((4. Gr. B : 5. Gr. A) : (4. Gr. B : 5. Gr. A)))"},null,null,null,null,{"$f":"CHOOSE(SIGN(AI206-AI204)+2,AF204,\"(\"&AF204&\" : \"&AF206&\")\",AF206)","v":"((((4. Gr. B : 5. Gr. A) : (4. Gr. B : 5. Gr. A)) : ((4. Gr. B : 5. Gr. A) : (4. Gr. B : 5. Gr. A))) : (((4. Gr. B : 5. Gr. A) : (4. Gr. B : 5. Gr. A)) : ((4. Gr. B : 5. Gr. A) : (4. Gr. B : 5. Gr. A))))"},null,null,null,null,{"$f":"CHOOSE(SIGN(AN172-AN174)+2,AK172,\"(\"&AK172&\" : \"&AK174&\")\",AK174)","v":"(((((4. Gr. B : 5. Gr. A) : (4. Gr. B : 5. Gr. A)) : ((4. Gr. B : 5. Gr. A) : (4. Gr. B : 5. Gr. A))) : (((4. Gr. B : 5. Gr. A) : (4. Gr. B : 5. Gr. A)) : ((4. Gr. B : 5. Gr. A) : (4. Gr. B : 5. Gr. A)))) : ((((4. Gr. B : 5. Gr. A) : (4. Gr. B : 5. Gr. A)) : ((4. Gr. B : 5. Gr. A) : (4. Gr. B : 5. Gr. A))) : (((4. Gr. B : 5. Gr. A) : (4. Gr. B : 5. Gr. A)) : ((4. Gr. B : 5. Gr. A) : (4. Gr. B : 5. Gr. A)))))"},null,null,null,null,{"$f":"CHOOSE(SIGN(AS172-AS174)+2,AP172,\"(\"&AP172&\" : \"&AP174&\")\",AP174)","v":"((((((4. Gr. B : 5. Gr. A) : (4. Gr. B : 5. Gr. A)) : ((4. Gr. B : 5. Gr. A) : (4. Gr. B : 5. Gr. A))) : (((4. Gr. B : 5. Gr. A) : (4. Gr. B : 5. Gr. A)) : ((4. Gr. B : 5. Gr. A) : (4. Gr. B : 5. Gr. A)))) : ((((4. Gr. B : 5. Gr. A) : (4. Gr. B : 5. Gr. A)) : ((4. Gr. B : 5. Gr. A) : (4. Gr. B : 5. Gr. A))) : (((4. Gr. B : 5. Gr. A) : (4. Gr. B : 5. Gr. A)) : ((4. Gr. B : 5. Gr. A) : (4. Gr. B : 5. Gr. A))))) : (((((4. Gr. B : 5. Gr. A) : (4. Gr. B : 5. Gr. A)) : ((4. Gr. B : 5. Gr. A) : (4. Gr. B : 5. Gr. A))) : (((4. Gr. B : 5. Gr. A) : (4. Gr. B : 5. Gr. A)) : ((4. Gr. B : 5. Gr. A) : (4. Gr. B : 5. Gr. A)))) : ((((4. Gr. B : 5. Gr. A) : (4. Gr. B : 5. Gr. A)) : ((4. Gr. B : 5. Gr. A) : (4. Gr. B : 5. Gr. A))) : (((4. Gr. B : 5. Gr. A) : (4. Gr. B : 5. Gr. A)) : ((4. Gr. B : 5. Gr. A) : (4. Gr. B : 5. Gr. A))))))"}]
[null,null,null,null,null,null,null,null,null,null,null,null,null,null,{"$f":"INDEX(tbl_KO_Data[T2 Src Rank],K170) & \". Gr. \" & INDEX(tbl_KO_Data[T2 Src Group],K170)","v":"5. Gr. A"},null,null,null,null,null,null,null,null,null,null,null,null,null,null,null,null,null,null,null,null,null,null,null,null,null,null,null,null,null,null,null,null,null,null,null,null,40,{"$f":"IF(AX172>AX174,AU174,IF(AX172<AX174,AU172,\"\"))","v":""}]
[]
[]
[null,null,null,null,null,null,null,7,13,null,{"$f":"KO_Data_1row+INDEX(D178:I178,KO_Rounds_Ind)","v":295},null,null,null,null,null,"K_64_A13","field x","best of n",0,null,"K_32_A07","field x","best of n",0,null,"K_16_B04","field x","best of n",0,null,"K_08_C2","field x","best of n",0,null,"K_04_F1","field x","best of n",0,null,"K_02_K1","field x","best of n",0,null,"K_01_041","field x","best of n",0]
[null,null,null,null,null,null,null,null,null,null,null,null,null,null,{"$f":"INDEX(tbl_KO_Data[T1 Src Rank],K178) & \". Gr. \" & INDEX(tbl_KO_Data[T1 Src Group],K178)","v":"4. Gr. B"},null,null,null,null,null,null,null,null,null,null,null,null,null,null,null,null,null,null,null,null,null,null,null,null,null,null,null,null,null,null,null,null,null,null,null,null,41,{"$f":"IF(AX180>AX182,AU180,IF(AX180<AX182,AU182,\"\"))","v":""}]
[null,null,null,null,null,null,null,null,null,null,null,null,null,null,null,null,{"$f":"O179","v":"4. Gr. B"},null,null,null,null,{"$f":"IF($V$16,O179,CHOOSE(SIGN(T342-T340)+2,Q340,\"(\"&Q340&\" : \"&Q342&\")\",Q342))","v":"(4. Gr. B : 5. Gr. A)"},null,null,null,null,{"$f":"CHOOSE(SIGN(Y84-Y86)+2,V84,\"(\"&V84&\" : \"&V86&\")\",V86)","v":"((4. Gr. B : 5. Gr. A) : (4. Gr. B : 5. Gr. A))"},null,null,null,null,{"$f":"CHOOSE(SIGN(AD214-AD212)+2,AA212,\"(\"&AA212&\" : \"&AA214&\")\",AA214)","v":"(((4. Gr. B : 5. Gr. A) : (4. Gr. B : 5. Gr. A)) : ((4. Gr. B : 5. Gr. A) : (4. Gr. B : 5. Gr. A)))"},null,null,null,null,{"$f":"CHOOSE(SIGN(AI148-AI150)+2,AF148,\"(\"&AF148&\" : \"&AF150&\")\",AF150)","v":"((((1. Gr. A : 4. Gr. B) : (2. Gr. D : 3. Gr. C)) : ((1. Gr. C : 4. Gr. D) : (2. Gr. B : 3. Gr. A))) : (((1. Gr. B : 4. Gr. C) : (2. Gr. A : 3. Gr. D)) : ((1. Gr. D : 4. Gr. A) : (2. Gr. C : 3. Gr. B))))"},null,null,null,null,{"$f":"CHOOSE(SIGN(AN182-AN180)+2,AK180,\"(\"&AK180&\" : \"&AK182&\")\",AK182)","v":"(((((1. Gr. A : 4. Gr. B) : (2. Gr. D : 3. Gr. C)) : ((1. Gr. C : 4. Gr. D) : (2. Gr. B : 3. Gr. A))) : (((1. Gr. B : 4. Gr. C) : (2. Gr. A : 3. Gr. D)) : ((1. Gr. D : 4. Gr. A) : (2. Gr. C : 3. Gr. B)))) : ((((4. Gr. B : 5. Gr. A) : (4. Gr. B : 5. Gr. A)) : ((4. Gr. B : 5. Gr. A) : (4. Gr. B : 5. Gr. A))) : (((4. Gr. B : 5. Gr. A) : (4. Gr. B : 5. Gr. A)) : ((4. Gr. B : 5. Gr. A) : (4. Gr. B : 5. Gr. A)))))"},null,null,null,null,{"$f":"CHOOSE(SIGN(AS182-AS180)+2,AP180,\"(\"&AP180&\" : \"&AP182&\")\",AP182)","v":"((((((1. Gr. A : 4. Gr. B) : (2. Gr. D : 3. Gr. C)) : ((1. Gr. C : 4. Gr. D) : (2. Gr. B : 3. Gr. A))) : (((1. Gr. B : 4. Gr. C) : (2. Gr. A : 3. Gr. D)) : ((1. Gr. D : 4. Gr. A) : (2. Gr. C : 3. Gr. B)))) : ((((4. Gr. B : 5. Gr. A) : (4. Gr. B : 5. Gr. A)) : ((4. Gr. B : 5. Gr. A) : (4. Gr. B : 5. Gr. A))) : (((4. Gr. B : 5. Gr. A) : (4. Gr. B : 5. Gr. A)) : ((4. Gr. B : 5. Gr. A) : (4. Gr. B : 5. Gr. A))))) : (((((4. Gr. B : 5. Gr. A) : (4. Gr. B : 5. Gr. A)) : ((4. Gr. B : 5. Gr. A) : (4. Gr. B : 5. Gr. A))) : (((4. Gr. B : 5. Gr. A) : (4. Gr. B : 5. Gr. A)) : ((4. Gr. B : 5. Gr. A) : (4. Gr. B : 5. Gr. A)))) : ((((4. Gr. B : 5. Gr. A) : (4. Gr. B : 5. Gr. A)) : ((4. Gr. B : 5. Gr. A) : (4. Gr. B : 5. Gr. A))) : (((4. Gr. B : 5. Gr. A) : (4. Gr. B : 5. Gr. A)) : ((4. Gr. B : 5. Gr. A) : (4. Gr. B : 5. Gr. A))))))"}]
[]
[null,null,null,null,null,null,null,null,null,null,null,null,null,null,null,null,{"$f":"O183","v":"5. Gr. A"},null,null,null,null,{"$f":"IF($V$16,O183,CHOOSE(SIGN(T350-T348)+2,Q348,\"(\"&Q348&\" : \"&Q350&\")\",Q350))","v":"(4. Gr. B : 5. Gr. A)"},null,null,null,null,{"$f":"CHOOSE(SIGN(Y92-Y94)+2,V92,\"(\"&V92&\" : \"&V94&\")\",V94)","v":"((4. Gr. B : 5. Gr. A) : (4. Gr. B : 5. Gr. A))"},null,null,null,null,{"$f":"CHOOSE(SIGN(AD222-AD220)+2,AA220,\"(\"&AA220&\" : \"&AA222&\")\",AA222)","v":"(((4. Gr. B : 5. Gr. A) : (4. Gr. B : 5. Gr. A)) : ((4. Gr. B : 5. Gr. A) : (4. Gr. B : 5. Gr. A)))"},null,null,null,null,{"$f":"CHOOSE(SIGN(AI156-AI158)+2,AF156,\"(\"&AF156&\" : \"&AF158&\")\",AF158)","v":"((((4. Gr. B : 5. Gr. A) : (4. Gr. B : 5. Gr. A)) : ((4. Gr. B : 5. Gr. A) : (4. Gr. B : 5. Gr. A))) : (((4. Gr. B : 5. Gr. A) : (4. Gr. B : 5. Gr. A)) : ((4. Gr. B : 5. Gr. A) : (4. Gr. B : 5. Gr. A))))"},null,null,null,null,{"$f":"CHOOSE(SIGN(AN190-AN188)+2,AK188,\"(\"&AK188&\" : \"&AK190&\")\",AK190)","v":"(((((4. Gr. B : 5. Gr. A) : (4. Gr. B : 5. Gr. A)) : ((4. Gr. B : 5. Gr. A) : (4. Gr. B : 5. Gr. A))) : (((4. Gr. B : 5. Gr. A) : (4. Gr. B : 5. Gr. A)) : ((4. Gr. B : 5. Gr. A) : (4. Gr. B : 5. Gr. A)))) : ((((4. Gr. B : 5. Gr. A) : (4. Gr. B : 5. Gr. A)) : ((4. Gr. B : 5. Gr. A) : (4. Gr. B : 5. Gr. A))) : (((4. Gr. B : 5. Gr. A) : (4. Gr. B : 5. Gr. A)) : ((4. Gr. B : 5. Gr. A) : (4. Gr. B : 5. Gr. A)))))"},null,null,null,null,{"$f":"CHOOSE(SIGN(AS190-AS188)+2,AP188,\"(\"&AP188&\" : \"&AP190&\")\",AP190)","v":"((((((4. Gr. B : 5. Gr. A) : (4. Gr. B : 5. Gr. A)) : ((4. Gr. B : 5. Gr. A) : (4. Gr. B : 5. Gr. A))) : (((4. Gr. B : 5. Gr. A) : (4. Gr. B : 5. Gr. A)) : ((4. Gr. B : 5. Gr. A) : (4. Gr. B : 5. Gr. A)))) : ((((4. Gr. B : 5. Gr. A) : (4. Gr. B : 5. Gr. A)) : ((4. Gr. B : 5. Gr. A) : (4. Gr. B : 5. Gr. A))) : (((4. Gr. B : 5. Gr. A) : (4. Gr. B : 5. Gr. A)) : ((4. Gr. B : 5. Gr. A) : (4. Gr. B : 5. Gr. A))))) : (((((4. Gr. B : 5. Gr. A) : (4. Gr. B : 5. Gr. A)) : ((4. Gr. B : 5. Gr. A) : (4. Gr. B : 5. Gr. A))) : (((4. Gr. B : 5. Gr. A) : (4. Gr. B : 5. Gr. A)) : ((4. Gr. B : 5. Gr. A) : (4. Gr. B : 5. Gr. A)))) : ((((4. Gr. B : 5. Gr. A) : (4. Gr. B : 5. Gr. A)) : ((4. Gr. B : 5. Gr. A) : (4. Gr. B : 5. Gr. A))) : (((4. Gr. B : 5. Gr. A) : (4. Gr. B : 5. Gr. A)) : ((4. Gr. B : 5. Gr. A) : (4. Gr. B : 5. Gr. A))))))"}]
[null,null,null,null,null,null,null,null,null,null,null,null,null,null,{"$f":"INDEX(tbl_KO_Data[T2 Src Rank],K178) & \". Gr. \" & INDEX(tbl_KO_Data[T2 Src Group],K178)","v":"5. Gr. A"},null,null,null,null,null,null,null,null,null,null,null,null,null,null,null,null,null,null,null,null,null,null,null,null,null,null,null,null,null,null,null,null,null,null,null,null,42,{"$f":"IF(AX180>AX182,AU182,IF(AX180<AX182,AU180,\"\"))","v":""}]
[]
[]
[null,null,null,null,null,null,null,26,52,null,{"$f":"KO_Data_1row+INDEX(D186:I186,KO_Rounds_Ind)","v":295},null,null,null,null,null,"K_64_A52","field x","best of n",0,null,"K_32_A26","field x","best of n",0,null,"K_16_B13","field x","best of n",0,null,"K_08_C7","field x","best of n",0,null,"K_04_F4","field x","best of n",0,null,"K_02_K2","field x","best of n",0,null,"K_01_043","field x","best of n",0]
[null,null,null,null,null,null,null,null,null,null,null,null,null,null,{"$f":"INDEX(tbl_KO_Data[T1 Src Rank],K186) & \". Gr. \" & INDEX(tbl_KO_Data[T1 Src Group],K186)","v":"4. Gr. B"},null,null,null,null,null,null,null,null,null,null,null,null,null,null,null,null,null,null,null,null,null,null,null,null,null,null,null,null,null,null,null,null,null,null,null,null,43,{"$f":"IF(AX188>AX190,AU188,IF(AX188<AX190,AU190,\"\"))","v":""}]
[null,null,null,null,null,null,null,null,null,null,null,null,null,null,null,null,{"$f":"O187","v":"4. Gr. B"},null,null,null,null,{"$f":"IF($V$16,O187,CHOOSE(SIGN(T358-T356)+2,Q356,\"(\"&Q356&\" : \"&Q358&\")\",Q358))","v":"(4. Gr. B : 5. Gr. A)"},null,null,null,null,{"$f":"CHOOSE(SIGN(Y100-Y102)+2,V100,\"(\"&V100&\" : \"&V102&\")\",V102)","v":"((4. Gr. B : 5. Gr. A) : (4. Gr. B : 5. Gr. A))"},null,null,null,null,{"$f":"CHOOSE(SIGN(AD230-AD228)+2,AA228,\"(\"&AA228&\" : \"&AA230&\")\",AA230)","v":"(((4. Gr. B : 5. Gr. A) : (4. Gr. B : 5. Gr. A)) : ((4. Gr. B : 5. Gr. A) : (4. Gr. B : 5. Gr. A)))"},null,null,null,null,{"$f":"CHOOSE(SIGN(AI164-AI166)+2,AF164,\"(\"&AF164&\" : \"&AF166&\")\",AF166)","v":"((((4. Gr. B : 5. Gr. A) : (4. Gr. B : 5. Gr. A)) : ((4. Gr. B : 5. Gr. A) : (4. Gr. B : 5. Gr. A))) : (((4. Gr. B : 5. Gr. A) : (4. Gr. B : 5. Gr. A)) : ((4. Gr. B : 5. Gr. A) : (4. Gr. B : 5. Gr. A))))"},null,null,null,null,{"$f":"CHOOSE(SIGN(AN198-AN196)+2,AK196,\"(\"&AK196&\" : \"&AK198&\")\",AK198)","v":"(((((4. Gr. B : 5. Gr. A) : (4. Gr. B : 5. Gr. A)) : ((4. Gr. B : 5. Gr. A) : (4. Gr. B : 5. Gr. A))) : (((4. Gr. B : 5. Gr. A) : (4. Gr. B : 5. Gr. A)) : ((4. Gr. B : 5. Gr. A) : (4. Gr. B : 5. Gr. A)))) : ((((4. Gr. B : 5. Gr. A) : (4. Gr. B : 5. Gr. A)) : ((4. Gr. B : 5. Gr. A) : (4. Gr. B : 5. Gr. A))) : (((4. Gr. B : 5. Gr. A) : (4. Gr. B : 5. Gr. A)) : ((4. Gr. B : 5. Gr. A) : (4. Gr. B : 5. Gr. A)))))"},null,null,null,null,{"$f":"CHOOSE(SIGN(AS180-AS182)+2,AP180,\"(\"&AP180&\" : \"&AP182&\")\",AP182)","v":"((((((1. Gr. A : 4. Gr. B) : (2. Gr. D : 3. Gr. C)) : ((1. Gr. C : 4. Gr. D) : (2. Gr. B : 3. Gr. A))) : (((1. Gr. B : 4. Gr. C) : (2. Gr. A : 3. Gr. D)) : ((1. Gr. D : 4. Gr. A) : (2. Gr. C : 3. Gr. B)))) : ((((4. Gr. B : 5. Gr. A) : (4. Gr. B : 5. Gr. A)) : ((4. Gr. B : 5. Gr. A) : (4. Gr. B : 5. Gr. A))) : (((4. Gr. B : 5. Gr. A) : (4. Gr. B : 5. Gr. A)) : ((4. Gr. B : 5. Gr. A) : (4. Gr. B : 5. Gr. A))))) : (((((4. Gr. B : 5. Gr. A) : (4. Gr. B : 5. Gr. A)) : ((4. Gr. B : 5. Gr. A) : (4. Gr. B : 5. Gr. A))) : (((4. Gr. B : 5. Gr. A) : (4. Gr. B : 5. Gr. A)) : ((4. Gr. B : 5. Gr. A) : (4. Gr. B : 5. Gr. A)))) : ((((4. Gr. B : 5. Gr. A) : (4. Gr. B : 5. Gr. A)) : ((4. Gr. B : 5. Gr. A) : (4. Gr. B : 5. Gr. A))) : (((4. Gr. B : 5. Gr. A) : (4. Gr. B : 5. Gr. A)) : ((4. Gr. B : 5. Gr. A) : (4. Gr. B : 5. Gr. A))))))"}]
[]
[null,null,null,null,null,null,null,null,null,null,null,null,null,null,null,null,{"$f":"O191","v":"5. Gr. A"},null,null,null,null,{"$f":"IF($V$16,O191,CHOOSE(SIGN(T366-T364)+2,Q364,\"(\"&Q364&\" : \"&Q366&\")\",Q366))","v":"(4. Gr. B : 5. Gr. A)"},null,null,null,null,{"$f":"CHOOSE(SIGN(Y108-Y110)+2,V108,\"(\"&V108&\" : \"&V110&\")\",V110)","v":"((4. Gr. B : 5. Gr. A) : (4. Gr. B : 5. Gr. A))"},null,null,null,null,{"$f":"CHOOSE(SIGN(AD238-AD236)+2,AA236,\"(\"&AA236&\" : \"&AA238&\")\",AA238)","v":"(((4. Gr. B : 5. Gr. A) : (4. Gr. B : 5. Gr. A)) : ((4. Gr. B : 5. Gr. A) : (4. Gr. B : 5. Gr. A)))"},null,null,null,null,{"$f":"CHOOSE(SIGN(AI172-AI174)+2,AF172,\"(\"&AF172&\" : \"&AF174&\")\",AF174)","v":"((((4. Gr. B : 5. Gr. A) : (4. Gr. B : 5. Gr. A)) : ((4. Gr. B : 5. Gr. A) : (4. Gr. B : 5. Gr. A))) : (((4. Gr. B : 5. Gr. A) : (4. Gr. B : 5. Gr. A)) : ((4. Gr. B : 5. Gr. A) : (4. Gr. B : 5. Gr. A))))"},null,null,null,null,{"$f":"CHOOSE(SIGN(AN206-AN204)+2,AK204,\"(\"&AK204&\" : \"&AK206&\")\",AK206)","v":"(((((4. Gr. B : 5. Gr. A) : (4. Gr. B : 5. Gr. A)) : ((4. Gr. B : 5. Gr. A) : (4. Gr. B : 5. Gr. A))) : (((4. Gr. B : 5. Gr. A) : (4. Gr. B : 5. Gr. A)) : ((4. Gr. B : 5. Gr. A) : (4. Gr. B : 5. Gr. A)))) : ((((4. Gr. B : 5. Gr. A) : (4. Gr. B : 5. Gr. A)) : ((4. Gr. B : 5. Gr. A) : (4. Gr. B : 5. Gr. A))) : (((4. Gr. B : 5. Gr. A) : (4. Gr. B : 5. Gr. A)) : ((4. Gr. B : 5. Gr. A) : (4. Gr. B : 5. Gr. A)))))"},null,null,null,null,{"$f":"CHOOSE(SIGN(AS188-AS190)+2,AP188,\"(\"&AP188&\" : \"&AP190&\")\",AP190)","v":"((((((4. Gr. B : 5. Gr. A) : (4. Gr. B : 5. Gr. A)) : ((4. Gr. B : 5. Gr. A) : (4. Gr. B : 5. Gr. A))) : (((4. Gr. B : 5. Gr. A) : (4. Gr. B : 5. Gr. A)) : ((4. Gr. B : 5. Gr. A) : (4. Gr. B : 5. Gr. A)))) : ((((4. Gr. B : 5. Gr. A) : (4. Gr. B : 5. Gr. A)) : ((4. Gr. B : 5. Gr. A) : (4. Gr. B : 5. Gr. A))) : (((4. Gr. B : 5. Gr. A) : (4. Gr. B : 5. Gr. A)) : ((4. Gr. B : 5. Gr. A) : (4. Gr. B : 5. Gr. A))))) : (((((4. Gr. B : 5. Gr. A) : (4. Gr. B : 5. Gr. A)) : ((4. Gr. B : 5. Gr. A) : (4. Gr. B : 5. Gr. A))) : (((4. Gr. B : 5. Gr. A) : (4. Gr. B : 5. Gr. A)) : ((4. Gr. B : 5. Gr. A) : (4. Gr. B : 5. Gr. A)))) : ((((4. Gr. B : 5. Gr. A) : (4. Gr. B : 5. Gr. A)) : ((4. Gr. B : 5. Gr. A) : (4. Gr. B : 5. Gr. A))) : (((4. Gr. B : 5. Gr. A) : (4. Gr. B : 5. Gr. A)) : ((4. Gr. B : 5. Gr. A) : (4. Gr. B : 5. Gr. A))))))"}]
[null,null,null,null,null,null,null,null,null,null,null,null,null,null,{"$f":"INDEX(tbl_KO_Data[T2 Src Rank],K186) & \". Gr. \" & INDEX(tbl_KO_Data[T2 Src Group],K186)","v":"5. Gr. A"},null,null,null,null,null,null,null,null,null,null,null,null,null,null,null,null,null,null,null,null,null,null,null,null,null,null,null,null,null,null,null,null,null,null,null,null,44,{"$f":"IF(AX188>AX190,AU190,IF(AX188<AX190,AU188,\"\"))","v":""}]
[]
[]
[null,null,null,null,null,null,null,10,20,null,{"$f":"KO_Data_1row+INDEX(D194:I194,KO_Rounds_Ind)","v":295},null,null,null,null,null,"K_64_A20","field x","best of n",0,null,"K_32_A10","field x","best of n",0,null,"K_16_B05","field x","best of n",0,null,"K_08_C3","field x","best of n",0,null,"K_04_F2","field x","best of n",0,null,"K_02_L1","field x","best of n",0,null,"K_01_045","field x","best of n",0]
[null,null,null,null,null,null,null,null,null,null,null,null,null,null,{"$f":"INDEX(tbl_KO_Data[T1 Src Rank],K194) & \". Gr. \" & INDEX(tbl_KO_Data[T1 Src Group],K194)","v":"4. Gr. B"},null,null,null,null,null,null,null,null,null,null,null,null,null,null,null,null,null,null,null,null,null,null,null,null,null,null,null,null,null,null,null,null,null,null,null,null,45,{"$f":"IF(AX196>AX198,AU196,IF(AX196<AX198,AU198,\"\"))","v":""}]
[null,null,null,null,null,null,null,null,null,null,null,null,null,null,null,null,{"$f":"O195","v":"4. Gr. B"},null,null,null,null,{"$f":"IF($V$16,O195,CHOOSE(SIGN(T374-T372)+2,Q372,\"(\"&Q372&\" : \"&Q374&\")\",Q374))","v":"(4. Gr. B : 5. Gr. A)"},null,null,null,null,{"$f":"CHOOSE(SIGN(Y116-Y118)+2,V116,\"(\"&V116&\" : \"&V118&\")\",V118)","v":"((4. Gr. B : 5. Gr. A) : (4. Gr. B : 5. Gr. A))"},null,null,null,null,{"$f":"CHOOSE(SIGN(AD246-AD244)+2,AA244,\"(\"&AA244&\" : \"&AA246&\")\",AA246)","v":"(((4. Gr. B : 5. Gr. A) : (4. Gr. B : 5. Gr. A)) : ((4. Gr. B : 5. Gr. A) : (4. Gr. B : 5. Gr. A)))"},null,null,null,null,{"$f":"CHOOSE(SIGN(AI180-AI182)+2,AF180,\"(\"&AF180&\" : \"&AF182&\")\",AF182)","v":"((((4. Gr. B : 5. Gr. A) : (4. Gr. B : 5. Gr. A)) : ((4. Gr. B : 5. Gr. A) : (4. Gr. B : 5. Gr. A))) : (((4. Gr. B : 5. Gr. A) : (4. Gr. B : 5. Gr. A)) : ((4. Gr. B : 5. Gr. A) : (4. Gr. B : 5. Gr. A))))"},null,null,null,null,{"$f":"CHOOSE(SIGN(AN180-AN182)+2,AK180,\"(\"&AK180&\" : \"&AK182&\")\",AK182)","v":"(((((1. Gr. A : 4. Gr. B) : (2. Gr. D : 3. Gr. C)) : ((1. Gr. C : 4. Gr. D) : (2. Gr. B : 3. Gr. A))) : (((1. Gr. B : 4. Gr. C) : (2. Gr. A : 3. Gr. D)) : ((1. Gr. D : 4. Gr. A) : (2. Gr. C : 3. Gr. B)))) : ((((4. Gr. B : 5. Gr. A) : (4. Gr. B : 5. Gr. A)) : ((4. Gr. B : 5. Gr. A) : (4. Gr. B : 5. Gr. A))) : (((4. Gr. B : 5. Gr. A) : (4. Gr. B : 5. Gr. A)) : ((4. Gr. B : 5. Gr. A) : (4. Gr. B : 5. Gr. A)))))"},null,null,null,null,{"$f":"CHOOSE(SIGN(AS198-AS196)+2,AP196,\"(\"&AP196&\" : \"&AP198&\")\",AP198)","v":"((((((1. Gr. A : 4. Gr. B) : (2. Gr. D : 3. Gr. C)) : ((1. Gr. C : 4. Gr. D) : (2. Gr. B : 3. Gr. A))) : (((1. Gr. B : 4. Gr. C) : (2. Gr. A : 3. Gr. D)) : ((1. Gr. D : 4. Gr. A) : (2. Gr. C : 3. Gr. B)))) : ((((4. Gr. B : 5. Gr. A) : (4. Gr. B : 5. Gr. A)) : ((4. Gr. B : 5. Gr. A) : (4. Gr. B : 5. Gr. A))) : (((4. Gr. B : 5. Gr. A) : (4. Gr. B : 5. Gr. A)) : ((4. Gr. B : 5. Gr. A) : (4. Gr. B : 5. Gr. A))))) : (((((4. Gr. B : 5. Gr. A) : (4. Gr. B : 5. Gr. A)) : ((4. Gr. B : 5. Gr. A) : (4. Gr. B : 5. Gr. A))) : (((4. Gr. B : 5. Gr. A) : (4. Gr. B : 5. Gr. A)) : ((4. Gr. B : 5. Gr. A) : (4. Gr. B : 5. Gr. A)))) : ((((4. Gr. B : 5. Gr. A) : (4. Gr. B : 5. Gr. A)) : ((4. Gr. B : 5. Gr. A) : (4. Gr. B : 5. Gr. A))) : (((4. Gr. B : 5. Gr. A) : (4. Gr. B : 5. Gr. A)) : ((4. Gr. B : 5. Gr. A) : (4. Gr. B : 5. Gr. A))))))"}]
[]
[null,null,null,null,null,null,null,null,null,null,null,null,null,null,null,null,{"$f":"O199","v":"5. Gr. A"},null,null,null,null,{"$f":"IF($V$16,O199,CHOOSE(SIGN(T382-T380)+2,Q380,\"(\"&Q380&\" : \"&Q382&\")\",Q382))","v":"(4. Gr. B : 5. Gr. A)"},null,null,null,null,{"$f":"CHOOSE(SIGN(Y124-Y126)+2,V124,\"(\"&V124&\" : \"&V126&\")\",V126)","v":"((4. Gr. B : 5. Gr. A) : (4. Gr. B : 5. Gr. A))"},null,null,null,null,{"$f":"CHOOSE(SIGN(AD254-AD252)+2,AA252,\"(\"&AA252&\" : \"&AA254&\")\",AA254)","v":"(((4. Gr. B : 5. Gr. A) : (4. Gr. B : 5. Gr. A)) : ((4. Gr. B : 5. Gr. A) : (4. Gr. B : 5. Gr. A)))"},null,null,null,null,{"$f":"CHOOSE(SIGN(AI188-AI190)+2,AF188,\"(\"&AF188&\" : \"&AF190&\")\",AF190)","v":"((((4. Gr. B : 5. Gr. A) : (4. Gr. B : 5. Gr. A)) : ((4. Gr. B : 5. Gr. A) : (4. Gr. B : 5. Gr. A))) : (((4. Gr. B : 5. Gr. A) : (4. Gr. B : 5. Gr. A)) : ((4. Gr. B : 5. Gr. A) : (4. Gr. B : 5. Gr. A))))"},null,null,null,null,{"$f":"CHOOSE(SIGN(AN188-AN190)+2,AK188,\"(\"&AK188&\" : \"&AK190&\")\",AK190)","v":"(((((4. Gr. B : 5. Gr. A) : (4. Gr. B : 5. Gr. A)) : ((4. Gr. B : 5. Gr. A) : (4. Gr. B : 5. Gr. A))) : (((4. Gr. B : 5. Gr. A) : (4. Gr. B : 5. Gr. A)) : ((4. Gr. B : 5. Gr. A) : (4. Gr. B : 5. Gr. A)))) : ((((4. Gr. B : 5. Gr. A) : (4. Gr. B : 5. Gr. A)) : ((4. Gr. B : 5. Gr. A) : (4. Gr. B : 5. Gr. A))) : (((4. Gr. B : 5. Gr. A) : (4. Gr. B : 5. Gr. A)) : ((4. Gr. B : 5. Gr. A) : (4. Gr. B : 5. Gr. A)))))"},null,null,null,null,{"$f":"CHOOSE(SIGN(AS206-AS204)+2,AP204,\"(\"&AP204&\" : \"&AP206&\")\",AP206)","v":"((((((4. Gr. B : 5. Gr. A) : (4. Gr. B : 5. Gr. A)) : ((4. Gr. B : 5. Gr. A) : (4. Gr. B : 5. Gr. A))) : (((4. Gr. B : 5. Gr. A) : (4. Gr. B : 5. Gr. A)) : ((4. Gr. B : 5. Gr. A) : (4. Gr. B : 5. Gr. A)))) : ((((4. Gr. B : 5. Gr. A) : (4. Gr. B : 5. Gr. A)) : ((4. Gr. B : 5. Gr. A) : (4. Gr. B : 5. Gr. A))) : (((4. Gr. B : 5. Gr. A) : (4. Gr. B : 5. Gr. A)) : ((4. Gr. B : 5. Gr. A) : (4. Gr. B : 5. Gr. A))))) : (((((4. Gr. B : 5. Gr. A) : (4. Gr. B : 5. Gr. A)) : ((4. Gr. B : 5. Gr. A) : (4. Gr. B : 5. Gr. A))) : (((4. Gr. B : 5. Gr. A) : (4. Gr. B : 5. Gr. A)) : ((4. Gr. B : 5. Gr. A) : (4. Gr. B : 5. Gr. A)))) : ((((4. Gr. B : 5. Gr. A) : (4. Gr. B : 5. Gr. A)) : ((4. Gr. B : 5. Gr. A) : (4. Gr. B : 5. Gr. A))) : (((4. Gr. B : 5. Gr. A) : (4. Gr. B : 5. Gr. A)) : ((4. Gr. B : 5. Gr. A) : (4. Gr. B : 5. Gr. A))))))"}]
[null,null,null,null,null,null,null,null,null,null,null,null,null,null,{"$f":"INDEX(tbl_KO_Data[T2 Src Rank],K194) & \". Gr. \" & INDEX(tbl_KO_Data[T2 Src Group],K194)","v":"5. Gr. A"},null,null,null,null,null,null,null,null,null,null,null,null,null,null,null,null,null,null,null,null,null,null,null,null,null,null,null,null,null,null,null,null,null,null,null,null,46,{"$f":"IF(AX196>AX198,AU198,IF(AX196<AX198,AU196,\"\"))","v":""}]
[]
[]
[null,null,null,null,null,null,null,23,45,null,{"$f":"KO_Data_1row+INDEX(D202:I202,KO_Rounds_Ind)","v":295},null,null,null,null,null,"K_64_A45","field x","best of n",0,null,"K_32_A23","field x","best of n",0,null,"K_16_B12","field x","best of n",0,null,"K_08_C6","field x","best of n",0,null,"K_04_F3","field x","best of n",0,null,"K_02_L2","field x","best of n",0,null,"K_01_047","field x","best of n",0]
[null,null,null,null,null,null,null,null,null,null,null,null,null,null,{"$f":"INDEX(tbl_KO_Data[T1 Src Rank],K202) & \". Gr. \" & INDEX(tbl_KO_Data[T1 Src Group],K202)","v":"4. Gr. B"},null,null,null,null,null,null,null,null,null,null,null,null,null,null,null,null,null,null,null,null,null,null,null,null,null,null,null,null,null,null,null,null,null,null,null,null,47,{"$f":"IF(AX204>AX206,AU204,IF(AX204<AX206,AU206,\"\"))","v":""}]
[null,null,null,null,null,null,null,null,null,null,null,null,null,null,null,null,{"$f":"O203","v":"4. Gr. B"},null,null,null,null,{"$f":"IF($V$16,O203,CHOOSE(SIGN(T390-T388)+2,Q388,\"(\"&Q388&\" : \"&Q390&\")\",Q390))","v":"(4. Gr. B : 5. Gr. A)"},null,null,null,null,{"$f":"CHOOSE(SIGN(Y132-Y134)+2,V132,\"(\"&V132&\" : \"&V134&\")\",V134)","v":"((4. Gr. B : 5. Gr. A) : (4. Gr. B : 5. Gr. A))"},null,null,null,null,{"$f":"CHOOSE(SIGN(AD262-AD260)+2,AA260,\"(\"&AA260&\" : \"&AA262&\")\",AA262)","v":"(((4. Gr. B : 5. Gr. A) : (4. Gr. B : 5. Gr. A)) : ((4. Gr. B : 5. Gr. A) : (4. Gr. B : 5. Gr. A)))"},null,null,null,null,{"$f":"CHOOSE(SIGN(AI196-AI198)+2,AF196,\"(\"&AF196&\" : \"&AF198&\")\",AF198)","v":"((((4. Gr. B : 5. Gr. A) : (4. Gr. B : 5. Gr. A)) : ((4. Gr. B : 5. Gr. A) : (4. Gr. B : 5. Gr. A))) : (((4. Gr. B : 5. Gr. A) : (4. Gr. B : 5. Gr. A)) : ((4. Gr. B : 5. Gr. A) : (4. Gr. B : 5. Gr. A))))"},null,null,null,null,{"$f":"CHOOSE(SIGN(AN196-AN198)+2,AK196,\"(\"&AK196&\" : \"&AK198&\")\",AK198)","v":"(((((4. Gr. B : 5. Gr. A) : (4. Gr. B : 5. Gr. A)) : ((4. Gr. B : 5. Gr. A) : (4. Gr. B : 5. Gr. A))) : (((4. Gr. B : 5. Gr. A) : (4. Gr. B : 5. Gr. A)) : ((4. Gr. B : 5. Gr. A) : (4. Gr. B : 5. Gr. A)))) : ((((4. Gr. B : 5. Gr. A) : (4. Gr. B : 5. Gr. A)) : ((4. Gr. B : 5. Gr. A) : (4. Gr. B : 5. Gr. A))) : (((4. Gr. B : 5. Gr. A) : (4. Gr. B : 5. Gr. A)) : ((4. Gr. B : 5. Gr. A) : (4. Gr. B : 5. Gr. A)))))"},null,null,null,null,{"$f":"CHOOSE(SIGN(AS196-AS198)+2,AP196,\"(\"&AP196&\" : \"&AP198&\")\",AP198)","v":"((((((1. Gr. A : 4. Gr. B) : (2. Gr. D : 3. Gr. C)) : ((1. Gr. C : 4. Gr. D) : (2. Gr. B : 3. Gr. A))) : (((1. Gr. B : 4. Gr. C) : (2. Gr. A : 3. Gr. D)) : ((1. Gr. D : 4. Gr. A) : (2. Gr. C : 3. Gr. B)))) : ((((4. Gr. B : 5. Gr. A) : (4. Gr. B : 5. Gr. A)) : ((4. Gr. B : 5. Gr. A) : (4. Gr. B : 5. Gr. A))) : (((4. Gr. B : 5. Gr. A) : (4. Gr. B : 5. Gr. A)) : ((4. Gr. B : 5. Gr. A) : (4. Gr. B : 5. Gr. A))))) : (((((4. Gr. B : 5. Gr. A) : (4. Gr. B : 5. Gr. A)) : ((4. Gr. B : 5. Gr. A) : (4. Gr. B : 5. Gr. A))) : (((4. Gr. B : 5. Gr. A) : (4. Gr. B : 5. Gr. A)) : ((4. Gr. B : 5. Gr. A) : (4. Gr. B : 5. Gr. A)))) : ((((4. Gr. B : 5. Gr. A) : (4. Gr. B : 5. Gr. A)) : ((4. Gr. B : 5. Gr. A) : (4. Gr. B : 5. Gr. A))) : (((4. Gr. B : 5. Gr. A) : (4. Gr. B : 5. Gr. A)) : ((4. Gr. B : 5. Gr. A) : (4. Gr. B : 5. Gr. A))))))"}]
[]
[null,null,null,null,null,null,null,null,null,null,null,null,null,null,null,null,{"$f":"O207","v":"5. Gr. A"},null,null,null,null,{"$f":"IF($V$16,O207,CHOOSE(SIGN(T398-T396)+2,Q396,\"(\"&Q396&\" : \"&Q398&\")\",Q398))","v":"(4. Gr. B : 5. Gr. A)"},null,null,null,null,{"$f":"CHOOSE(SIGN(Y140-Y142)+2,V140,\"(\"&V140&\" : \"&V142&\")\",V142)","v":"((4. Gr. B : 5. Gr. A) : (4. Gr. B : 5. Gr. A))"},null,null,null,null,{"$f":"CHOOSE(SIGN(AD270-AD268)+2,AA268,\"(\"&AA268&\" : \"&AA270&\")\",AA270)","v":"(((4. Gr. B : 5. Gr. A) : (4. Gr. B : 5. Gr. A)) : ((4. Gr. B : 5. Gr. A) : (4. Gr. B : 5. Gr. A)))"},null,null,null,null,{"$f":"CHOOSE(SIGN(AI204-AI206)+2,AF204,\"(\"&AF204&\" : \"&AF206&\")\",AF206)","v":"((((4. Gr. B : 5. Gr. A) : (4. Gr. B : 5. Gr. A)) : ((4. Gr. B : 5. Gr. A) : (4. Gr. B : 5. Gr. A))) : (((4. Gr. B : 5. Gr. A) : (4. Gr. B : 5. Gr. A)) : ((4. Gr. B : 5. Gr. A) : (4. Gr. B : 5. Gr. A))))"},null,null,null,null,{"$f":"CHOOSE(SIGN(AN204-AN206)+2,AK204,\"(\"&AK204&\" : \"&AK206&\")\",AK206)","v":"(((((4. Gr. B : 5. Gr. A) : (4. Gr. B : 5. Gr. A)) : ((4. Gr. B : 5. Gr. A) : (4. Gr. B : 5. Gr. A))) : (((4. Gr. B : 5. Gr. A) : (4. Gr. B : 5. Gr. A)) : ((4. Gr. B : 5. Gr. A) : (4. Gr. B : 5. Gr. A)))) : ((((4. Gr. B : 5. Gr. A) : (4. Gr. B : 5. Gr. A)) : ((4. Gr. B : 5. Gr. A) : (4. Gr. B : 5. Gr. A))) : (((4. Gr. B : 5. Gr. A) : (4. Gr. B : 5. Gr. A)) : ((4. Gr. B : 5. Gr. A) : (4. Gr. B : 5. Gr. A)))))"},null,null,null,null,{"$f":"CHOOSE(SIGN(AS204-AS206)+2,AP204,\"(\"&AP204&\" : \"&AP206&\")\",AP206)","v":"((((((4. Gr. B : 5. Gr. A) : (4. Gr. B : 5. Gr. A)) : ((4. Gr. B : 5. Gr. A) : (4. Gr. B : 5. Gr. A))) : (((4. Gr. B : 5. Gr. A) : (4. Gr. B : 5. Gr. A)) : ((4. Gr. B : 5. Gr. A) : (4. Gr. B : 5. Gr. A)))) : ((((4. Gr. B : 5. Gr. A) : (4. Gr. B : 5. Gr. A)) : ((4. Gr. B : 5. Gr. A) : (4. Gr. B : 5. Gr. A))) : (((4. Gr. B : 5. Gr. A) : (4. Gr. B : 5. Gr. A)) : ((4. Gr. B : 5. Gr. A) : (4. Gr. B : 5. Gr. A))))) : (((((4. Gr. B : 5. Gr. A) : (4. Gr. B : 5. Gr. A)) : ((4. Gr. B : 5. Gr. A) : (4. Gr. B : 5. Gr. A))) : (((4. Gr. B : 5. Gr. A) : (4. Gr. B : 5. Gr. A)) : ((4. Gr. B : 5. Gr. A) : (4. Gr. B : 5. Gr. A)))) : ((((4. Gr. B : 5. Gr. A) : (4. Gr. B : 5. Gr. A)) : ((4. Gr. B : 5. Gr. A) : (4. Gr. B : 5. Gr. A))) : (((4. Gr. B : 5. Gr. A) : (4. Gr. B : 5. Gr. A)) : ((4. Gr. B : 5. Gr. A) : (4. Gr. B : 5. Gr. A))))))"}]
[null,null,null,null,null,null,null,null,null,null,null,null,null,null,{"$f":"INDEX(tbl_KO_Data[T2 Src Rank],K202) & \". Gr. \" & INDEX(tbl_KO_Data[T2 Src Group],K202)","v":"5. Gr. A"},null,null,null,null,null,null,null,null,null,null,null,null,null,null,null,null,null,null,null,null,null,null,null,null,null,null,null,null,null,null,null,null,null,null,null,null,48,{"$f":"IF(AX204>AX206,AU206,IF(AX204<AX206,AU204,\"\"))","v":""}]
[]
[]
[null,null,null,null,null,null,null,3,5,null,{"$f":"KO_Data_1row+INDEX(D210:I210,KO_Rounds_Ind)","v":295},null,null,null,null,null,"K_64_A05","field x","best of n",0,null,"K_32_A03","field x","best of n",0,null,"K_16_B02","field x","best of n",0,null,"K_08_D1","field x","best of n",0,null,"K_04_G1","field x","best of n",0,null,"K_02_M1","field x","best of n",0,null,"K_01_049","field x","best of n",0]
[null,null,null,null,null,null,null,null,null,null,null,null,null,null,{"$f":"INDEX(tbl_KO_Data[T1 Src Rank],K210) & \". Gr. \" & INDEX(tbl_KO_Data[T1 Src Group],K210)","v":"4. Gr. B"},null,null,null,null,null,null,null,null,null,null,null,null,null,null,null,null,null,null,null,null,null,null,null,null,null,null,null,null,null,null,null,null,null,null,null,null,49,{"$f":"IF(AX212>AX214,AU212,IF(AX212<AX214,AU214,\"\"))","v":""}]
[null,null,null,null,null,null,null,null,null,null,null,null,null,null,null,null,{"$f":"O211","v":"4. Gr. B"},null,null,null,null,{"$f":"IF($V$16,O211,CHOOSE(SIGN(T406-T404)+2,Q404,\"(\"&Q404&\" : \"&Q406&\")\",Q406))","v":"(4. Gr. B : 5. Gr. A)"},null,null,null,null,{"$f":"CHOOSE(SIGN(Y148-Y150)+2,V148,\"(\"&V148&\" : \"&V150&\")\",V150)","v":"((4. Gr. B : 5. Gr. A) : (4. Gr. B : 5. Gr. A))"},null,null,null,null,{"$f":"CHOOSE(SIGN(AD148-AD150)+2,AA148,\"(\"&AA148&\" : \"&AA150&\")\",AA150)","v":"(((1. Gr. A : 4. Gr. B) : (2. Gr. D : 3. Gr. C)) : ((1. Gr. C : 4. Gr. D) : (2. Gr. B : 3. Gr. A)))"},null,null,null,null,{"$f":"CHOOSE(SIGN(AI214-AI212)+2,AF212,\"(\"&AF212&\" : \"&AF214&\")\",AF214)","v":"((((1. Gr. A : 4. Gr. B) : (2. Gr. D : 3. Gr. C)) : ((1. Gr. C : 4. Gr. D) : (2. Gr. B : 3. Gr. A))) : (((1. Gr. B : 4. Gr. C) : (2. Gr. A : 3. Gr. D)) : ((1. Gr. D : 4. Gr. A) : (2. Gr. C : 3. Gr. B))))"},null,null,null,null,{"$f":"CHOOSE(SIGN(AN214-AN212)+2,AK212,\"(\"&AK212&\" : \"&AK214&\")\",AK214)","v":"(((((1. Gr. A : 4. Gr. B) : (2. Gr. D : 3. Gr. C)) : ((1. Gr. C : 4. Gr. D) : (2. Gr. B : 3. Gr. A))) : (((1. Gr. B : 4. Gr. C) : (2. Gr. A : 3. Gr. D)) : ((1. Gr. D : 4. Gr. A) : (2. Gr. C : 3. Gr. B)))) : ((((4. Gr. B : 5. Gr. A) : (4. Gr. B : 5. Gr. A)) : ((4. Gr. B : 5. Gr. A) : (4. Gr. B : 5. Gr. A))) : (((4. Gr. B : 5. Gr. A) : (4. Gr. B : 5. Gr. A)) : ((4. Gr. B : 5. Gr. A) : (4. Gr. B : 5. Gr. A)))))"},null,null,null,null,{"$f":"CHOOSE(SIGN(AS214-AS212)+2,AP212,\"(\"&AP212&\" : \"&AP214&\")\",AP214)","v":"((((((1. Gr. A : 4. Gr. B) : (2. Gr. D : 3. Gr. C)) : ((1. Gr. C : 4. Gr. D) : (2. Gr. B : 3. Gr. A))) : (((1. Gr. B : 4. Gr. C) : (2. Gr. A : 3. Gr. D)) : ((1. Gr. D : 4. Gr. A) : (2. Gr. C : 3. Gr. B)))) : ((((4. Gr. B : 5. Gr. A) : (4. Gr. B : 5. Gr. A)) : ((4. Gr. B : 5. Gr. A) : (4. Gr. B : 5. Gr. A))) : (((4. Gr. B : 5. Gr. A) : (4. Gr. B : 5. Gr. A)) : ((4. Gr. B : 5. Gr. A) : (4. Gr. B : 5. Gr. A))))) : (((((4. Gr. B : 5. Gr. A) : (4. Gr. B : 5. Gr. A)) : ((4. Gr. B : 5. Gr. A) : (4. Gr. B : 5. Gr. A))) : (((4. Gr. B : 5. Gr. A) : (4. Gr. B : 5. Gr. A)) : ((4. Gr. B : 5. Gr. A) : (4. Gr. B : 5. Gr. A)))) : ((((4. Gr. B : 5. Gr. A) : (4. Gr. B : 5. Gr. A)) : ((4. Gr. B : 5. Gr. A) : (4. Gr. B : 5. Gr. A))) : (((4. Gr. B : 5. Gr. A) : (4. Gr. B : 5. Gr. A)) : ((4. Gr. B : 5. Gr. A) : (4. Gr. B : 5. Gr. A))))))"}]
[]
[null,null,null,null,null,null,null,null,null,null,null,null,null,null,null,null,{"$f":"O215","v":"5. Gr. A"},null,null,null,null,{"$f":"IF($V$16,O215,CHOOSE(SIGN(T414-T412)+2,Q412,\"(\"&Q412&\" : \"&Q414&\")\",Q414))","v":"(4. Gr. B : 5. Gr. A)"},null,null,null,null,{"$f":"CHOOSE(SIGN(Y156-Y158)+2,V156,\"(\"&V156&\" : \"&V158&\")\",V158)","v":"((4. Gr. B : 5. Gr. A) : (4. Gr. B : 5. Gr. A))"},null,null,null,null,{"$f":"CHOOSE(SIGN(AD156-AD158)+2,AA156,\"(\"&AA156&\" : \"&AA158&\")\",AA158)","v":"(((1. Gr. B : 4. Gr. C) : (2. Gr. A : 3. Gr. D)) : ((1. Gr. D : 4. Gr. A) : (2. Gr. C : 3. Gr. B)))"},null,null,null,null,{"$f":"CHOOSE(SIGN(AI222-AI220)+2,AF220,\"(\"&AF220&\" : \"&AF222&\")\",AF222)","v":"((((4. Gr. B : 5. Gr. A) : (4. Gr. B : 5. Gr. A)) : ((4. Gr. B : 5. Gr. A) : (4. Gr. B : 5. Gr. A))) : (((4. Gr. B : 5. Gr. A) : (4. Gr. B : 5. Gr. A)) : ((4. Gr. B : 5. Gr. A) : (4. Gr. B : 5. Gr. A))))"},null,null,null,null,{"$f":"CHOOSE(SIGN(AN222-AN220)+2,AK220,\"(\"&AK220&\" : \"&AK222&\")\",AK222)","v":"(((((4. Gr. B : 5. Gr. A) : (4. Gr. B : 5. Gr. A)) : ((4. Gr. B : 5. Gr. A) : (4. Gr. B : 5. Gr. A))) : (((4. Gr. B : 5. Gr. A) : (4. Gr. B : 5. Gr. A)) : ((4. Gr. B : 5. Gr. A) : (4. Gr. B : 5. Gr. A)))) : ((((4. Gr. B : 5. Gr. A) : (4. Gr. B : 5. Gr. A)) : ((4. Gr. B : 5. Gr. A) : (4. Gr. B : 5. Gr. A))) : (((4. Gr. B : 5. Gr. A) : (4. Gr. B : 5. Gr. A)) : ((4. Gr. B : 5. Gr. A) : (4. Gr. B : 5. Gr. A)))))"},null,null,null,null,{"$f":"CHOOSE(SIGN(AS222-AS220)+2,AP220,\"(\"&AP220&\" : \"&AP222&\")\",AP222)","v":"((((((4. Gr. B : 5. Gr. A) : (4. Gr. B : 5. Gr. A)) : ((4. Gr. B : 5. Gr. A) : (4. Gr. B : 5. Gr. A))) : (((4. Gr. B : 5. Gr. A) : (4. Gr. B : 5. Gr. A)) : ((4. Gr. B : 5. Gr. A) : (4. Gr. B : 5. Gr. A)))) : ((((4. Gr. B : 5. Gr. A) : (4. Gr. B : 5. Gr. A)) : ((4. Gr. B : 5. Gr. A) : (4. Gr. B : 5. Gr. A))) : (((4. Gr. B : 5. Gr. A) : (4. Gr. B : 5. Gr. A)) : ((4. Gr. B : 5. Gr. A) : (4. Gr. B : 5. Gr. A))))) : (((((4. Gr. B : 5. Gr. A) : (4. Gr. B : 5. Gr. A)) : ((4. Gr. B : 5. Gr. A) : (4. Gr. B : 5. Gr. A))) : (((4. Gr. B : 5. Gr. A) : (4. Gr. B : 5. Gr. A)) : ((4. Gr. B : 5. Gr. A) : (4. Gr. B : 5. Gr. A)))) : ((((4. Gr. B : 5. Gr. A) : (4. Gr. B : 5. Gr. A)) : ((4. Gr. B : 5. Gr. A) : (4. Gr. B : 5. Gr. A))) : (((4. Gr. B : 5. Gr. A) : (4. Gr. B : 5. Gr. A)) : ((4. Gr. B : 5. Gr. A) : (4. Gr. B : 5. Gr. A))))))"}]
[null,null,null,null,null,null,null,null,null,null,null,null,null,null,{"$f":"INDEX(tbl_KO_Data[T2 Src Rank],K210) & \". Gr. \" & INDEX(tbl_KO_Data[T2 Src Group],K210)","v":"5. Gr. A"},null,null,null,null,null,null,null,null,null,null,null,null,null,null,null,null,null,null,null,null,null,null,null,null,null,null,null,null,null,null,null,null,null,null,null,null,50,{"$f":"IF(AX212>AX214,AU214,IF(AX212<AX214,AU212,\"\"))","v":""}]
[]
[]
[null,null,null,null,null,null,null,30,60,null,{"$f":"KO_Data_1row+INDEX(D218:I218,KO_Rounds_Ind)","v":295},null,null,null,null,null,"K_64_A60","field x","best of n",0,null,"K_32_A30","field x","best of n",0,null,"K_16_B15","field x","best of n",0,null,"K_08_D8","field x","best of n",0,null,"K_04_G4","field x","best of n",0,null,"K_02_M2","field x","best of n",0,null,"K_01_051","field x","best of n",0]
[null,null,null,null,null,null,null,null,null,null,null,null,null,null,{"$f":"INDEX(tbl_KO_Data[T1 Src Rank],K218) & \". Gr. \" & INDEX(tbl_KO_Data[T1 Src Group],K218)","v":"4. Gr. B"},null,null,null,null,null,null,null,null,null,null,null,null,null,null,null,null,null,null,null,null,null,null,null,null,null,null,null,null,null,null,null,null,null,null,null,null,51,{"$f":"IF(AX220>AX222,AU220,IF(AX220<AX222,AU222,\"\"))","v":""}]
[null,null,null,null,null,null,null,null,null,null,null,null,null,null,null,null,{"$f":"O219","v":"4. Gr. B"},null,null,null,null,{"$f":"IF($V$16,O219,CHOOSE(SIGN(T422-T420)+2,Q420,\"(\"&Q420&\" : \"&Q422&\")\",Q422))","v":"(4. Gr. B : 5. Gr. A)"},null,null,null,null,{"$f":"CHOOSE(SIGN(Y164-Y166)+2,V164,\"(\"&V164&\" : \"&V166&\")\",V166)","v":"((4. Gr. B : 5. Gr. A) : (4. Gr. B : 5. Gr. A))"},null,null,null,null,{"$f":"CHOOSE(SIGN(AD164-AD166)+2,AA164,\"(\"&AA164&\" : \"&AA166&\")\",AA166)","v":"(((4. Gr. B : 5. Gr. A) : (4. Gr. B : 5. Gr. A)) : ((4. Gr. B : 5. Gr. A) : (4. Gr. B : 5. Gr. A)))"},null,null,null,null,{"$f":"CHOOSE(SIGN(AI230-AI228)+2,AF228,\"(\"&AF228&\" : \"&AF230&\")\",AF230)","v":"((((4. Gr. B : 5. Gr. A) : (4. Gr. B : 5. Gr. A)) : ((4. Gr. B : 5. Gr. A) : (4. Gr. B : 5. Gr. A))) : (((4. Gr. B : 5. Gr. A) : (4. Gr. B : 5. Gr. A)) : ((4. Gr. B : 5. Gr. A) : (4. Gr. B : 5. Gr. A))))"},null,null,null,null,{"$f":"CHOOSE(SIGN(AN230-AN228)+2,AK228,\"(\"&AK228&\" : \"&AK230&\")\",AK230)","v":"(((((4. Gr. B : 5. Gr. A) : (4. Gr. B : 5. Gr. A)) : ((4. Gr. B : 5. Gr. A) : (4. Gr. B : 5. Gr. A))) : (((4. Gr. B : 5. Gr. A) : (4. Gr. B : 5. Gr. A)) : ((4. Gr. B : 5. Gr. A) : (4. Gr. B : 5. Gr. A)))) : ((((4. Gr. B : 5. Gr. A) : (4. Gr. B : 5. Gr. A)) : ((4. Gr. B : 5. Gr. A) : (4. Gr. B : 5. Gr. A))) : (((4. Gr. B : 5. Gr. A) : (4. Gr. B : 5. Gr. A)) : ((4. Gr. B : 5. Gr. A) : (4. Gr. B : 5. Gr. A)))))"},null,null,null,null,{"$f":"CHOOSE(SIGN(AS212-AS214)+2,AP212,\"(\"&AP212&\" : \"&AP214&\")\",AP214)","v":"((((((1. Gr. A : 4. Gr. B) : (2. Gr. D : 3. Gr. C)) : ((1. Gr. C : 4. Gr. D) : (2. Gr. B : 3. Gr. A))) : (((1. Gr. B : 4. Gr. C) : (2. Gr. A : 3. Gr. D)) : ((1. Gr. D : 4. Gr. A) : (2. Gr. C : 3. Gr. B)))) : ((((4. Gr. B : 5. Gr. A) : (4. Gr. B : 5. Gr. A)) : ((4. Gr. B : 5. Gr. A) : (4. Gr. B : 5. Gr. A))) : (((4. Gr. B : 5. Gr. A) : (4. Gr. B : 5. Gr. A)) : ((4. Gr. B : 5. Gr. A) : (4. Gr. B : 5. Gr. A))))) : (((((4. Gr. B : 5. Gr. A) : (4. Gr. B : 5. Gr. A)) : ((4. Gr. B : 5. Gr. A) : (4. Gr. B : 5. Gr. A))) : (((4. Gr. B : 5. Gr. A) : (4. Gr. B : 5. Gr. A)) : ((4. Gr. B : 5. Gr. A) : (4. Gr. B : 5. Gr. A)))) : ((((4. Gr. B : 5. Gr. A) : (4. Gr. B : 5. Gr. A)) : ((4. Gr. B : 5. Gr. A) : (4. Gr. B : 5. Gr. A))) : (((4. Gr. B : 5. Gr. A) : (4. Gr. B : 5. Gr. A)) : ((4. Gr. B : 5. Gr. A) : (4. Gr. B : 5. Gr. A))))))"}]
[]
[null,null,null,null,null,null,null,null,null,null,null,null,null,null,null,null,{"$f":"O223","v":"5. Gr. A"},null,null,null,null,{"$f":"IF($V$16,O223,CHOOSE(SIGN(T430-T428)+2,Q428,\"(\"&Q428&\" : \"&Q430&\")\",Q430))","v":"(4. Gr. B : 5. Gr. A)"},null,null,null,null,{"$f":"CHOOSE(SIGN(Y172-Y174)+2,V172,\"(\"&V172&\" : \"&V174&\")\",V174)","v":"((4. Gr. B : 5. Gr. A) : (4. Gr. B : 5. Gr. A))"},null,null,null,null,{"$f":"CHOOSE(SIGN(AD172-AD174)+2,AA172,\"(\"&AA172&\" : \"&AA174&\")\",AA174)","v":"(((4. Gr. B : 5. Gr. A) : (4. Gr. B : 5. Gr. A)) : ((4. Gr. B : 5. Gr. A) : (4. Gr. B : 5. Gr. A)))"},null,null,null,null,{"$f":"CHOOSE(SIGN(AI238-AI236)+2,AF236,\"(\"&AF236&\" : \"&AF238&\")\",AF238)","v":"((((4. Gr. B : 5. Gr. A) : (4. Gr. B : 5. Gr. A)) : ((4. Gr. B : 5. Gr. A) : (4. Gr. B : 5. Gr. A))) : (((4. Gr. B : 5. Gr. A) : (4. Gr. B : 5. Gr. A)) : ((4. Gr. B : 5. Gr. A) : (4. Gr. B : 5. Gr. A))))"},null,null,null,null,{"$f":"CHOOSE(SIGN(AN238-AN236)+2,AK236,\"(\"&AK236&\" : \"&AK238&\")\",AK238)","v":"(((((4. Gr. B : 5. Gr. A) : (4. Gr. B : 5. Gr. A)) : ((4. Gr. B : 5. Gr. A) : (4. Gr. B : 5. Gr. A))) : (((4. Gr. B : 5. Gr. A) : (4. Gr. B : 5. Gr. A)) : ((4. Gr. B : 5. Gr. A) : (4. Gr. B : 5. Gr. A)))) : ((((4. Gr. B : 5. Gr. A) : (4. Gr. B : 5. Gr. A)) : ((4. Gr. B : 5. Gr. A) : (4. Gr. B : 5. Gr. A))) : (((4. Gr. B : 5. Gr. A) : (4. Gr. B : 5. Gr. A)) : ((4. Gr. B : 5. Gr. A) : (4. Gr. B : 5. Gr. A)))))"},null,null,null,null,{"$f":"CHOOSE(SIGN(AS220-AS222)+2,AP220,\"(\"&AP220&\" : \"&AP222&\")\",AP222)","v":"((((((4. Gr. B : 5. Gr. A) : (4. Gr. B : 5. Gr. A)) : ((4. Gr. B : 5. Gr. A) : (4. Gr. B : 5. Gr. A))) : (((4. Gr. B : 5. Gr. A) : (4. Gr. B : 5. Gr. A)) : ((4. Gr. B : 5. Gr. A) : (4. Gr. B : 5. Gr. A)))) : ((((4. Gr. B : 5. Gr. A) : (4. Gr. B : 5. Gr. A)) : ((4. Gr. B : 5. Gr. A) : (4. Gr. B : 5. Gr. A))) : (((4. Gr. B : 5. Gr. A) : (4. Gr. B : 5. Gr. A)) : ((4. Gr. B : 5. Gr. A) : (4. Gr. B : 5. Gr. A))))) : (((((4. Gr. B : 5. Gr. A) : (4. Gr. B : 5. Gr. A)) : ((4. Gr. B : 5. Gr. A) : (4. Gr. B : 5. Gr. A))) : (((4. Gr. B : 5. Gr. A) : (4. Gr. B : 5. Gr. A)) : ((4. Gr. B : 5. Gr. A) : (4. Gr. B : 5. Gr. A)))) : ((((4. Gr. B : 5. Gr. A) : (4. Gr. B : 5. Gr. A)) : ((4. Gr. B : 5. Gr. A) : (4. Gr. B : 5. Gr. A))) : (((4. Gr. B : 5. Gr. A) : (4. Gr. B : 5. Gr. A)) : ((4. Gr. B : 5. Gr. A) : (4. Gr. B : 5. Gr. A))))))"}]
[null,null,null,null,null,null,null,null,null,null,null,null,null,null,{"$f":"INDEX(tbl_KO_Data[T2 Src Rank],K218) & \". Gr. \" & INDEX(tbl_KO_Data[T2 Src Group],K218)","v":"5. Gr. A"},null,null,null,null,null,null,null,null,null,null,null,null,null,null,null,null,null,null,null,null,null,null,null,null,null,null,null,null,null,null,null,null,null,null,null,null,52,{"$f":"IF(AX220>AX222,AU222,IF(AX220<AX222,AU220,\"\"))","v":""}]
[]
[]
[null,null,null,null,null,null,null,14,28,null,{"$f":"KO_Data_1row+INDEX(D226:I226,KO_Rounds_Ind)","v":295},null,null,null,null,null,"K_64_A28","field x","best of n",0,null,"K_32_A14","field x","best of n",0,null,"K_16_B07","field x","best of n",0,null,"K_08_D4","field x","best of n",0,null,"K_04_G2","field x","best of n",0,null,"K_02_N1","field x","best of n",0,null,"K_01_053","field x","best of n",0]
[null,null,null,null,null,null,null,null,null,null,null,null,null,null,{"$f":"INDEX(tbl_KO_Data[T1 Src Rank],K226) & \". Gr. \" & INDEX(tbl_KO_Data[T1 Src Group],K226)","v":"4. Gr. B"},null,null,null,null,null,null,null,null,null,null,null,null,null,null,null,null,null,null,null,null,null,null,null,null,null,null,null,null,null,null,null,null,null,null,null,null,53,{"$f":"IF(AX228>AX230,AU228,IF(AX228<AX230,AU230,\"\"))","v":""}]
[null,null,null,null,null,null,null,null,null,null,null,null,null,null,null,null,{"$f":"O227","v":"4. Gr. B"},null,null,null,null,{"$f":"IF($V$16,O227,CHOOSE(SIGN(T438-T436)+2,Q436,\"(\"&Q436&\" : \"&Q438&\")\",Q438))","v":"(4. Gr. B : 5. Gr. A)"},null,null,null,null,{"$f":"CHOOSE(SIGN(Y180-Y182)+2,V180,\"(\"&V180&\" : \"&V182&\")\",V182)","v":"((4. Gr. B : 5. Gr. A) : (4. Gr. B : 5. Gr. A))"},null,null,null,null,{"$f":"CHOOSE(SIGN(AD180-AD182)+2,AA180,\"(\"&AA180&\" : \"&AA182&\")\",AA182)","v":"(((4. Gr. B : 5. Gr. A) : (4. Gr. B : 5. Gr. A)) : ((4. Gr. B : 5. Gr. A) : (4. Gr. B : 5. Gr. A)))"},null,null,null,null,{"$f":"CHOOSE(SIGN(AI246-AI244)+2,AF244,\"(\"&AF244&\" : \"&AF246&\")\",AF246)","v":"((((4. Gr. B : 5. Gr. A) : (4. Gr. B : 5. Gr. A)) : ((4. Gr. B : 5. Gr. A) : (4. Gr. B : 5. Gr. A))) : (((4. Gr. B : 5. Gr. A) : (4. Gr. B : 5. Gr. A)) : ((4. Gr. B : 5. Gr. A) : (4. Gr. B : 5. Gr. A))))"},null,null,null,null,{"$f":"CHOOSE(SIGN(AN212-AN214)+2,AK212,\"(\"&AK212&\" : \"&AK214&\")\",AK214)","v":"(((((1. Gr. A : 4. Gr. B) : (2. Gr. D : 3. Gr. C)) : ((1. Gr. C : 4. Gr. D) : (2. Gr. B : 3. Gr. A))) : (((1. Gr. B : 4. Gr. C) : (2. Gr. A : 3. Gr. D)) : ((1. Gr. D : 4. Gr. A) : (2. Gr. C : 3. Gr. B)))) : ((((4. Gr. B : 5. Gr. A) : (4. Gr. B : 5. Gr. A)) : ((4. Gr. B : 5. Gr. A) : (4. Gr. B : 5. Gr. A))) : (((4. Gr. B : 5. Gr. A) : (4. Gr. B : 5. Gr. A)) : ((4. Gr. B : 5. Gr. A) : (4. Gr. B : 5. Gr. A)))))"},null,null,null,null,{"$f":"CHOOSE(SIGN(AS230-AS228)+2,AP228,\"(\"&AP228&\" : \"&AP230&\")\",AP230)","v":"((((((1. Gr. A : 4. Gr. B) : (2. Gr. D : 3. Gr. C)) : ((1. Gr. C : 4. Gr. D) : (2. Gr. B : 3. Gr. A))) : (((1. Gr. B : 4. Gr. C) : (2. Gr. A : 3. Gr. D)) : ((1. Gr. D : 4. Gr. A) : (2. Gr. C : 3. Gr. B)))) : ((((4. Gr. B : 5. Gr. A) : (4. Gr. B : 5. Gr. A)) : ((4. Gr. B : 5. Gr. A) : (4. Gr. B : 5. Gr. A))) : (((4. Gr. B : 5. Gr. A) : (4. Gr. B : 5. Gr. A)) : ((4. Gr. B : 5. Gr. A) : (4. Gr. B : 5. Gr. A))))) : (((((4. Gr. B : 5. Gr. A) : (4. Gr. B : 5. Gr. A)) : ((4. Gr. B : 5. Gr. A) : (4. Gr. B : 5. Gr. A))) : (((4. Gr. B : 5. Gr. A) : (4. Gr. B : 5. Gr. A)) : ((4. Gr. B : 5. Gr. A) : (4. Gr. B : 5. Gr. A)))) : ((((4. Gr. B : 5. Gr. A) : (4. Gr. B : 5. Gr. A)) : ((4. Gr. B : 5. Gr. A) : (4. Gr. B : 5. Gr. A))) : (((4. Gr. B : 5. Gr. A) : (4. Gr. B : 5. Gr. A)) : ((4. Gr. B : 5. Gr. A) : (4. Gr. B : 5. Gr. A))))))"}]
[]
[null,null,null,null,null,null,null,null,null,null,null,null,null,null,null,null,{"$f":"O231","v":"5. Gr. A"},null,null,null,null,{"$f":"IF($V$16,O231,CHOOSE(SIGN(T446-T444)+2,Q444,\"(\"&Q444&\" : \"&Q446&\")\",Q446))","v":"(4. Gr. B : 5. Gr. A)"},null,null,null,null,{"$f":"CHOOSE(SIGN(Y188-Y190)+2,V188,\"(\"&V188&\" : \"&V190&\")\",V190)","v":"((4. Gr. B : 5. Gr. A) : (4. Gr. B : 5. Gr. A))"},null,null,null,null,{"$f":"CHOOSE(SIGN(AD188-AD190)+2,AA188,\"(\"&AA188&\" : \"&AA190&\")\",AA190)","v":"(((4. Gr. B : 5. Gr. A) : (4. Gr. B : 5. Gr. A)) : ((4. Gr. B : 5. Gr. A) : (4. Gr. B : 5. Gr. A)))"},null,null,null,null,{"$f":"CHOOSE(SIGN(AI254-AI252)+2,AF252,\"(\"&AF252&\" : \"&AF254&\")\",AF254)","v":"((((4. Gr. B : 5. Gr. A) : (4. Gr. B : 5. Gr. A)) : ((4. Gr. B : 5. Gr. A) : (4. Gr. B : 5. Gr. A))) : (((4. Gr. B : 5. Gr. A) : (4. Gr. B : 5. Gr. A)) : ((4. Gr. B : 5. Gr. A) : (4. Gr. B : 5. Gr. A))))"},null,null,null,null,{"$f":"CHOOSE(SIGN(AN220-AN222)+2,AK220,\"(\"&AK220&\" : \"&AK222&\")\",AK222)","v":"(((((4. Gr. B : 5. Gr. A) : (4. Gr. B : 5. Gr. A)) : ((4. Gr. B : 5. Gr. A) : (4. Gr. B : 5. Gr. A))) : (((4. Gr. B : 5. Gr. A) : (4. Gr. B : 5. Gr. A)) : ((4. Gr. B : 5. Gr. A) : (4. Gr. B : 5. Gr. A)))) : ((((4. Gr. B : 5. Gr. A) : (4. Gr. B : 5. Gr. A)) : ((4. Gr. B : 5. Gr. A) : (4. Gr. B : 5. Gr. A))) : (((4. Gr. B : 5. Gr. A) : (4. Gr. B : 5. Gr. A)) : ((4. Gr. B : 5. Gr. A) : (4. Gr. B : 5. Gr. A)))))"},null,null,null,null,{"$f":"CHOOSE(SIGN(AS238-AS236)+2,AP236,\"(\"&AP236&\" : \"&AP238&\")\",AP238)","v":"((((((4. Gr. B : 5. Gr. A) : (4. Gr. B : 5. Gr. A)) : ((4. Gr. B : 5. Gr. A) : (4. Gr. B : 5. Gr. A))) : (((4. Gr. B : 5. Gr. A) : (4. Gr. B : 5. Gr. A)) : ((4. Gr. B : 5. Gr. A) : (4. Gr. B : 5. Gr. A)))) : ((((4. Gr. B : 5. Gr. A) : (4. Gr. B : 5. Gr. A)) : ((4. Gr. B : 5. Gr. A) : (4. Gr. B : 5. Gr. A))) : (((4. Gr. B : 5. Gr. A) : (4. Gr. B : 5. Gr. A)) : ((4. Gr. B : 5. Gr. A) : (4. Gr. B : 5. Gr. A))))) : (((((4. Gr. B : 5. Gr. A) : (4. Gr. B : 5. Gr. A)) : ((4. Gr. B : 5. Gr. A) : (4. Gr. B : 5. Gr. A))) : (((4. Gr. B : 5. Gr. A) : (4. Gr. B : 5. Gr. A)) : ((4. Gr. B : 5. Gr. A) : (4. Gr. B : 5. Gr. A)))) : ((((4. Gr. B : 5. Gr. A) : (4. Gr. B : 5. Gr. A)) : ((4. Gr. B : 5. Gr. A) : (4. Gr. B : 5. Gr. A))) : (((4. Gr. B : 5. Gr. A) : (4. Gr. B : 5. Gr. A)) : ((4. Gr. B : 5. Gr. A) : (4. Gr. B : 5. Gr. A))))))"}]
[null,null,null,null,null,null,null,null,null,null,null,null,null,null,{"$f":"INDEX(tbl_KO_Data[T2 Src Rank],K226) & \". Gr. \" & INDEX(tbl_KO_Data[T2 Src Group],K226)","v":"5. Gr. A"},null,null,null,null,null,null,null,null,null,null,null,null,null,null,null,null,null,null,null,null,null,null,null,null,null,null,null,null,null,null,null,null,null,null,null,null,54,{"$f":"IF(AX228>AX230,AU230,IF(AX228<AX230,AU228,\"\"))","v":""}]
[]
[]
[null,null,null,null,null,null,null,19,37,null,{"$f":"KO_Data_1row+INDEX(D234:I234,KO_Rounds_Ind)","v":295},null,null,null,null,null,"K_64_A37","field x","best of n",0,null,"K_32_A19","field x","best of n",0,null,"K_16_B10","field x","best of n",0,null,"K_08_D5","field x","best of n",0,null,"K_04_G3","field x","best of n",0,null,"K_02_N2","field x","best of n",0,null,"K_01_055","field x","best of n",0]
[null,null,null,null,null,null,null,null,null,null,null,null,null,null,{"$f":"INDEX(tbl_KO_Data[T1 Src Rank],K234) & \". Gr. \" & INDEX(tbl_KO_Data[T1 Src Group],K234)","v":"4. Gr. B"},null,null,null,null,null,null,null,null,null,null,null,null,null,null,null,null,null,null,null,null,null,null,null,null,null,null,null,null,null,null,null,null,null,null,null,null,55,{"$f":"IF(AX236>AX238,AU236,IF(AX236<AX238,AU238,\"\"))","v":""}]
[null,null,null,null,null,null,null,null,null,null,null,null,null,null,null,null,{"$f":"O235","v":"4. Gr. B"},null,null,null,null,{"$f":"IF($V$16,O235,CHOOSE(SIGN(T454-T452)+2,Q452,\"(\"&Q452&\" : \"&Q454&\")\",Q454))","v":"(4. Gr. B : 5. Gr. A)"},null,null,null,null,{"$f":"CHOOSE(SIGN(Y196-Y198)+2,V196,\"(\"&V196&\" : \"&V198&\")\",V198)","v":"((4. Gr. B : 5. Gr. A) : (4. Gr. B : 5. Gr. A))"},null,null,null,null,{"$f":"CHOOSE(SIGN(AD196-AD198)+2,AA196,\"(\"&AA196&\" : \"&AA198&\")\",AA198)","v":"(((4. Gr. B : 5. Gr. A) : (4. Gr. B : 5. Gr. A)) : ((4. Gr. B : 5. Gr. A) : (4. Gr. B : 5. Gr. A)))"},null,null,null,null,{"$f":"CHOOSE(SIGN(AI262-AI260)+2,AF260,\"(\"&AF260&\" : \"&AF262&\")\",AF262)","v":"((((4. Gr. B : 5. Gr. A) : (4. Gr. B : 5. Gr. A)) : ((4. Gr. B : 5. Gr. A) : (4. Gr. B : 5. Gr. A))) : (((4. Gr. B : 5. Gr. A) : (4. Gr. B : 5. Gr. A)) : ((4. Gr. B : 5. Gr. A) : (4. Gr. B : 5. Gr. A))))"},null,null,null,null,{"$f":"CHOOSE(SIGN(AN228-AN230)+2,AK228,\"(\"&AK228&\" : \"&AK230&\")\",AK230)","v":"(((((4. Gr. B : 5. Gr. A) : (4. Gr. B : 5. Gr. A)) : ((4. Gr. B : 5. Gr. A) : (4. Gr. B : 5. Gr. A))) : (((4. Gr. B : 5. Gr. A) : (4. Gr. B : 5. Gr. A)) : ((4. Gr. B : 5. Gr. A) : (4. Gr. B : 5. Gr. A)))) : ((((4. Gr. B : 5. Gr. A) : (4. Gr. B : 5. Gr. A)) : ((4. Gr. B : 5. Gr. A) : (4. Gr. B : 5. Gr. A))) : (((4. Gr. B : 5. Gr. A) : (4. Gr. B : 5. Gr. A)) : ((4. Gr. B : 5. Gr. A) : (4. Gr. B : 5. Gr. A)))))"},null,null,null,null,{"$f":"CHOOSE(SIGN(AS228-AS230)+2,AP228,\"(\"&AP228&\" : \"&AP230&\")\",AP230)","v":"((((((1. Gr. A : 4. Gr. B) : (2. Gr. D : 3. Gr. C)) : ((1. Gr. C : 4. Gr. D) : (2. Gr. B : 3. Gr. A))) : (((1. Gr. B : 4. Gr. C) : (2. Gr. A : 3. Gr. D)) : ((1. Gr. D : 4. Gr. A) : (2. Gr. C : 3. Gr. B)))) : ((((4. Gr. B : 5. Gr. A) : (4. Gr. B : 5. Gr. A)) : ((4. Gr. B : 5. Gr. A) : (4. Gr. B : 5. Gr. A))) : (((4. Gr. B : 5. Gr. A) : (4. Gr. B : 5. Gr. A)) : ((4. Gr. B : 5. Gr. A) : (4. Gr. B : 5. Gr. A))))) : (((((4. Gr. B : 5. Gr. A) : (4. Gr. B : 5. Gr. A)) : ((4. Gr. B : 5. Gr. A) : (4. Gr. B : 5. Gr. A))) : (((4. Gr. B : 5. Gr. A) : (4. Gr. B : 5. Gr. A)) : ((4. Gr. B : 5. Gr. A) : (4. Gr. B : 5. Gr. A)))) : ((((4. Gr. B : 5. Gr. A) : (4. Gr. B : 5. Gr. A)) : ((4. Gr. B : 5. Gr. A) : (4. Gr. B : 5. Gr. A))) : (((4. Gr. B : 5. Gr. A) : (4. Gr. B : 5. Gr. A)) : ((4. Gr. B : 5. Gr. A) : (4. Gr. B : 5. Gr. A))))))"}]
[]
[null,null,null,null,null,null,null,null,null,null,null,null,null,null,null,null,{"$f":"O239","v":"5. Gr. A"},null,null,null,null,{"$f":"IF($V$16,O239,CHOOSE(SIGN(T462-T460)+2,Q460,\"(\"&Q460&\" : \"&Q462&\")\",Q462))","v":"(4. Gr. B : 5. Gr. A)"},null,null,null,null,{"$f":"CHOOSE(SIGN(Y204-Y206)+2,V204,\"(\"&V204&\" : \"&V206&\")\",V206)","v":"((4. Gr. B : 5. Gr. A) : (4. Gr. B : 5. Gr. A))"},null,null,null,null,{"$f":"CHOOSE(SIGN(AD204-AD206)+2,AA204,\"(\"&AA204&\" : \"&AA206&\")\",AA206)","v":"(((4. Gr. B : 5. Gr. A) : (4. Gr. B : 5. Gr. A)) : ((4. Gr. B : 5. Gr. A) : (4. Gr. B : 5. Gr. A)))"},null,null,null,null,{"$f":"CHOOSE(SIGN(AI270-AI268)+2,AF268,\"(\"&AF268&\" : \"&AF270&\")\",AF270)","v":"((((4. Gr. B : 5. Gr. A) : (4. Gr. B : 5. Gr. A)) : ((4. Gr. B : 5. Gr. A) : (4. Gr. B : 5. Gr. A))) : (((4. Gr. B : 5. Gr. A) : (4. Gr. B : 5. Gr. A)) : ((4. Gr. B : 5. Gr. A) : (4. Gr. B : 5. Gr. A))))"},null,null,null,null,{"$f":"CHOOSE(SIGN(AN236-AN238)+2,AK236,\"(\"&AK236&\" : \"&AK238&\")\",AK238)","v":"(((((4. Gr. B : 5. Gr. A) : (4. Gr. B : 5. Gr. A)) : ((4. Gr. B : 5. Gr. A) : (4. Gr. B : 5. Gr. A))) : (((4. Gr. B : 5. Gr. A) : (4. Gr. B : 5. Gr. A)) : ((4. Gr. B : 5. Gr. A) : (4. Gr. B : 5. Gr. A)))) : ((((4. Gr. B : 5. Gr. A) : (4. Gr. B : 5. Gr. A)) : ((4. Gr. B : 5. Gr. A) : (4. Gr. B : 5. Gr. A))) : (((4. Gr. B : 5. Gr. A) : (4. Gr. B : 5. Gr. A)) : ((4. Gr. B : 5. Gr. A) : (4. Gr. B : 5. Gr. A)))))"},null,null,null,null,{"$f":"CHOOSE(SIGN(AS236-AS238)+2,AP236,\"(\"&AP236&\" : \"&AP238&\")\",AP238)","v":"((((((4. Gr. B : 5. Gr. A) : (4. Gr. B : 5. Gr. A)) : ((4. Gr. B : 5. Gr. A) : (4. Gr. B : 5. Gr. A))) : (((4. Gr. B : 5. Gr. A) : (4. Gr. B : 5. Gr. A)) : ((4. Gr. B : 5. Gr. A) : (4. Gr. B : 5. Gr. A)))) : ((((4. Gr. B : 5. Gr. A) : (4. Gr. B : 5. Gr. A)) : ((4. Gr. B : 5. Gr. A) : (4. Gr. B : 5. Gr. A))) : (((4. Gr. B : 5. Gr. A) : (4. Gr. B : 5. Gr. A)) : ((4. Gr. B : 5. Gr. A) : (4. Gr. B : 5. Gr. A))))) : (((((4. Gr. B : 5. Gr. A) : (4. Gr. B : 5. Gr. A)) : ((4. Gr. B : 5. Gr. A) : (4. Gr. B : 5. Gr. A))) : (((4. Gr. B : 5. Gr. A) : (4. Gr. B : 5. Gr. A)) : ((4. Gr. B : 5. Gr. A) : (4. Gr. B : 5. Gr. A)))) : ((((4. Gr. B : 5. Gr. A) : (4. Gr. B : 5. Gr. A)) : ((4. Gr. B : 5. Gr. A) : (4. Gr. B : 5. Gr. A))) : (((4. Gr. B : 5. Gr. A) : (4. Gr. B : 5. Gr. A)) : ((4. Gr. B : 5. Gr. A) : (4. Gr. B : 5. Gr. A))))))"}]
[null,null,null,null,null,null,null,null,null,null,null,null,null,null,{"$f":"INDEX(tbl_KO_Data[T2 Src Rank],K234) & \". Gr. \" & INDEX(tbl_KO_Data[T2 Src Group],K234)","v":"5. Gr. A"},null,null,null,null,null,null,null,null,null,null,null,null,null,null,null,null,null,null,null,null,null,null,null,null,null,null,null,null,null,null,null,null,null,null,null,null,56,{"$f":"IF(AX236>AX238,AU238,IF(AX236<AX238,AU236,\"\"))","v":""}]
[]
[]
[null,null,null,null,null,null,null,6,12,null,{"$f":"KO_Data_1row+INDEX(D242:I242,KO_Rounds_Ind)","v":295},null,null,null,null,null,"K_64_A12","field x","best of n",0,null,"K_32_A06","field x","best of n",0,null,"K_16_B03","field x","best of n",0,null,"K_08_D2","field x","best of n",0,null,"K_04_H1","field x","best of n",0,null,"K_02_O1","field x","best of n",0,null,"K_01_057","field x","best of n",0]
[null,null,null,null,null,null,null,null,null,null,null,null,null,null,{"$f":"INDEX(tbl_KO_Data[T1 Src Rank],K242) & \". Gr. \" & INDEX(tbl_KO_Data[T1 Src Group],K242)","v":"4. Gr. B"},null,null,null,null,null,null,null,null,null,null,null,null,null,null,null,null,null,null,null,null,null,null,null,null,null,null,null,null,null,null,null,null,null,null,null,null,57,{"$f":"IF(AX244>AX246,AU244,IF(AX244<AX246,AU246,\"\"))","v":""}]
[null,null,null,null,null,null,null,null,null,null,null,null,null,null,null,null,{"$f":"O243","v":"4. Gr. B"},null,null,null,null,{"$f":"IF($V$16,O243,CHOOSE(SIGN(T470-T468)+2,Q468,\"(\"&Q468&\" : \"&Q470&\")\",Q470))","v":"(4. Gr. B : 5. Gr. A)"},null,null,null,null,{"$f":"CHOOSE(SIGN(Y212-Y214)+2,V212,\"(\"&V212&\" : \"&V214&\")\",V214)","v":"((4. Gr. B : 5. Gr. A) : (4. Gr. B : 5. Gr. A))"},null,null,null,null,{"$f":"CHOOSE(SIGN(AD212-AD214)+2,AA212,\"(\"&AA212&\" : \"&AA214&\")\",AA214)","v":"(((4. Gr. B : 5. Gr. A) : (4. Gr. B : 5. Gr. A)) : ((4. Gr. B : 5. Gr. A) : (4. Gr. B : 5. Gr. A)))"},null,null,null,null,{"$f":"CHOOSE(SIGN(AI212-AI214)+2,AF212,\"(\"&AF212&\" : \"&AF214&\")\",AF214)","v":"((((1. Gr. A : 4. Gr. B) : (2. Gr. D : 3. Gr. C)) : ((1. Gr. C : 4. Gr. D) : (2. Gr. B : 3. Gr. A))) : (((1. Gr. B : 4. Gr. C) : (2. Gr. A : 3. Gr. D)) : ((1. Gr. D : 4. Gr. A) : (2. Gr. C : 3. Gr. B))))"},null,null,null,null,{"$f":"CHOOSE(SIGN(AN246-AN244)+2,AK244,\"(\"&AK244&\" : \"&AK246&\")\",AK246)","v":"(((((1. Gr. A : 4. Gr. B) : (2. Gr. D : 3. Gr. C)) : ((1. Gr. C : 4. Gr. D) : (2. Gr. B : 3. Gr. A))) : (((1. Gr. B : 4. Gr. C) : (2. Gr. A : 3. Gr. D)) : ((1. Gr. D : 4. Gr. A) : (2. Gr. C : 3. Gr. B)))) : ((((4. Gr. B : 5. Gr. A) : (4. Gr. B : 5. Gr. A)) : ((4. Gr. B : 5. Gr. A) : (4. Gr. B : 5. Gr. A))) : (((4. Gr. B : 5. Gr. A) : (4. Gr. B : 5. Gr. A)) : ((4. Gr. B : 5. Gr. A) : (4. Gr. B : 5. Gr. A)))))"},null,null,null,null,{"$f":"CHOOSE(SIGN(AS246-AS244)+2,AP244,\"(\"&AP244&\" : \"&AP246&\")\",AP246)","v":"((((((1. Gr. A : 4. Gr. B) : (2. Gr. D : 3. Gr. C)) : ((1. Gr. C : 4. Gr. D) : (2. Gr. B : 3. Gr. A))) : (((1. Gr. B : 4. Gr. C) : (2. Gr. A : 3. Gr. D)) : ((1. Gr. D : 4. Gr. A) : (2. Gr. C : 3. Gr. B)))) : ((((4. Gr. B : 5. Gr. A) : (4. Gr. B : 5. Gr. A)) : ((4. Gr. B : 5. Gr. A) : (4. Gr. B : 5. Gr. A))) : (((4. Gr. B : 5. Gr. A) : (4. Gr. B : 5. Gr. A)) : ((4. Gr. B : 5. Gr. A) : (4. Gr. B : 5. Gr. A))))) : (((((4. Gr. B : 5. Gr. A) : (4. Gr. B : 5. Gr. A)) : ((4. Gr. B : 5. Gr. A) : (4. Gr. B : 5. Gr. A))) : (((4. Gr. B : 5. Gr. A) : (4. Gr. B : 5. Gr. A)) : ((4. Gr. B : 5. Gr. A) : (4. Gr. B : 5. Gr. A)))) : ((((4. Gr. B : 5. Gr. A) : (4. Gr. B : 5. Gr. A)) : ((4. Gr. B : 5. Gr. A) : (4. Gr. B : 5. Gr. A))) : (((4. Gr. B : 5. Gr. A) : (4. Gr. B : 5. Gr. A)) : ((4. Gr. B : 5. Gr. A) : (4. Gr. B : 5. Gr. A))))))"}]
[]
[null,null,null,null,null,null,null,null,null,null,null,null,null,null,null,null,{"$f":"O247","v":"5. Gr. A"},null,null,null,null,{"$f":"IF($V$16,O247,CHOOSE(SIGN(T478-T476)+2,Q476,\"(\"&Q476&\" : \"&Q478&\")\",Q478))","v":"(4. Gr. B : 5. Gr. A)"},null,null,null,null,{"$f":"CHOOSE(SIGN(Y220-Y222)+2,V220,\"(\"&V220&\" : \"&V222&\")\",V222)","v":"((4. Gr. B : 5. Gr. A) : (4. Gr. B : 5. Gr. A))"},null,null,null,null,{"$f":"CHOOSE(SIGN(AD220-AD222)+2,AA220,\"(\"&AA220&\" : \"&AA222&\")\",AA222)","v":"(((4. Gr. B : 5. Gr. A) : (4. Gr. B : 5. Gr. A)) : ((4. Gr. B : 5. Gr. A) : (4. Gr. B : 5. Gr. A)))"},null,null,null,null,{"$f":"CHOOSE(SIGN(AI220-AI222)+2,AF220,\"(\"&AF220&\" : \"&AF222&\")\",AF222)","v":"((((4. Gr. B : 5. Gr. A) : (4. Gr. B : 5. Gr. A)) : ((4. Gr. B : 5. Gr. A) : (4. Gr. B : 5. Gr. A))) : (((4. Gr. B : 5. Gr. A) : (4. Gr. B : 5. Gr. A)) : ((4. Gr. B : 5. Gr. A) : (4. Gr. B : 5. Gr. A))))"},null,null,null,null,{"$f":"CHOOSE(SIGN(AN254-AN252)+2,AK252,\"(\"&AK252&\" : \"&AK254&\")\",AK254)","v":"(((((4. Gr. B : 5. Gr. A) : (4. Gr. B : 5. Gr. A)) : ((4. Gr. B : 5. Gr. A) : (4. Gr. B : 5. Gr. A))) : (((4. Gr. B : 5. Gr. A) : (4. Gr. B : 5. Gr. A)) : ((4. Gr. B : 5. Gr. A) : (4. Gr. B : 5. Gr. A)))) : ((((4. Gr. B : 5. Gr. A) : (4. Gr. B : 5. Gr. A)) : ((4. Gr. B : 5. Gr. A) : (4. Gr. B : 5. Gr. A))) : (((4. Gr. B : 5. Gr. A) : (4. Gr. B : 5. Gr. A)) : ((4. Gr. B : 5. Gr. A) : (4. Gr. B : 5. Gr. A)))))"},null,null,null,null,{"$f":"CHOOSE(SIGN(AS254-AS252)+2,AP252,\"(\"&AP252&\" : \"&AP254&\")\",AP254)","v":"((((((4. Gr. B : 5. Gr. A) : (4. Gr. B : 5. Gr. A)) : ((4. Gr. B : 5. Gr. A) : (4. Gr. B : 5. Gr. A))) : (((4. Gr. B : 5. Gr. A) : (4. Gr. B : 5. Gr. A)) : ((4. Gr. B : 5. Gr. A) : (4. Gr. B : 5. Gr. A)))) : ((((4. Gr. B : 5. Gr. A) : (4. Gr. B : 5. Gr. A)) : ((4. Gr. B : 5. Gr. A) : (4. Gr. B : 5. Gr. A))) : (((4. Gr. B : 5. Gr. A) : (4. Gr. B : 5. Gr. A)) : ((4. Gr. B : 5. Gr. A) : (4. Gr. B : 5. Gr. A))))) : (((((4. Gr. B : 5. Gr. A) : (4. Gr. B : 5. Gr. A)) : ((4. Gr. B : 5. Gr. A) : (4. Gr. B : 5. Gr. A))) : (((4. Gr. B : 5. Gr. A) : (4. Gr. B : 5. Gr. A)) : ((4. Gr. B : 5. Gr. A) : (4. Gr. B : 5. Gr. A)))) : ((((4. Gr. B : 5. Gr. A) : (4. Gr. B : 5. Gr. A)) : ((4. Gr. B : 5. Gr. A) : (4. Gr. B : 5. Gr. A))) : (((4. Gr. B : 5. Gr. A) : (4. Gr. B : 5. Gr. A)) : ((4. Gr. B : 5. Gr. A) : (4. Gr. B : 5. Gr. A))))))"}]
[null,null,null,null,null,null,null,null,null,null,null,null,null,null,{"$f":"INDEX(tbl_KO_Data[T2 Src Rank],K242) & \". Gr. \" & INDEX(tbl_KO_Data[T2 Src Group],K242)","v":"5. Gr. A"},null,null,null,null,null,null,null,null,null,null,null,null,null,null,null,null,null,null,null,null,null,null,null,null,null,null,null,null,null,null,null,null,null,null,null,null,58,{"$f":"IF(AX244>AX246,AU246,IF(AX244<AX246,AU244,\"\"))","v":""}]
[]
[]
[null,null,null,null,null,null,null,27,53,null,{"$f":"KO_Data_1row+INDEX(D250:I250,KO_Rounds_Ind)","v":295},null,null,null,null,null,"K_64_A53","field x","best of n",0,null,"K_32_A27","field x","best of n",0,null,"K_16_B14","field x","best of n",0,null,"K_08_D7","field x","best of n",0,null,"K_04_H4","field x","best of n",0,null,"K_02_O2","field x","best of n",0,null,"K_01_059","field x","best of n",0]
[null,null,null,null,null,null,null,null,null,null,null,null,null,null,{"$f":"INDEX(tbl_KO_Data[T1 Src Rank],K250) & \". Gr. \" & INDEX(tbl_KO_Data[T1 Src Group],K250)","v":"4. Gr. B"},null,null,null,null,null,null,null,null,null,null,null,null,null,null,null,null,null,null,null,null,null,null,null,null,null,null,null,null,null,null,null,null,null,null,null,null,59,{"$f":"IF(AX252>AX254,AU252,IF(AX252<AX254,AU254,\"\"))","v":""}]
[null,null,null,null,null,null,null,null,null,null,null,null,null,null,null,null,{"$f":"O251","v":"4. Gr. B"},null,null,null,null,{"$f":"IF($V$16,O251,CHOOSE(SIGN(T486-T484)+2,Q484,\"(\"&Q484&\" : \"&Q486&\")\",Q486))","v":"(4. Gr. B : 5. Gr. A)"},null,null,null,null,{"$f":"CHOOSE(SIGN(Y228-Y230)+2,V228,\"(\"&V228&\" : \"&V230&\")\",V230)","v":"((4. Gr. B : 5. Gr. A) : (4. Gr. B : 5. Gr. A))"},null,null,null,null,{"$f":"CHOOSE(SIGN(AD228-AD230)+2,AA228,\"(\"&AA228&\" : \"&AA230&\")\",AA230)","v":"(((4. Gr. B : 5. Gr. A) : (4. Gr. B : 5. Gr. A)) : ((4. Gr. B : 5. Gr. A) : (4. Gr. B : 5. Gr. A)))"},null,null,null,null,{"$f":"CHOOSE(SIGN(AI228-AI230)+2,AF228,\"(\"&AF228&\" : \"&AF230&\")\",AF230)","v":"((((4. Gr. B : 5. Gr. A) : (4. Gr. B : 5. Gr. A)) : ((4. Gr. B : 5. Gr. A) : (4. Gr. B : 5. Gr. A))) : (((4. Gr. B : 5. Gr. A) : (4. Gr. B : 5. Gr. A)) : ((4. Gr. B : 5. Gr. A) : (4. Gr. B : 5. Gr. A))))"},null,null,null,null,{"$f":"CHOOSE(SIGN(AN262-AN260)+2,AK260,\"(\"&AK260&\" : \"&AK262&\")\",AK262)","v":"(((((4. Gr. B : 5. Gr. A) : (4. Gr. B : 5. Gr. A)) : ((4. Gr. B : 5. Gr. A) : (4. Gr. B : 5. Gr. A))) : (((4. Gr. B : 5. Gr. A) : (4. Gr. B : 5. Gr. A)) : ((4. Gr. B : 5. Gr. A) : (4. Gr. B : 5. Gr. A)))) : ((((4. Gr. B : 5. Gr. A) : (4. Gr. B : 5. Gr. A)) : ((4. Gr. B : 5. Gr. A) : (4. Gr. B : 5. Gr. A))) : (((4. Gr. B : 5. Gr. A) : (4. Gr. B : 5. Gr. A)) : ((4. Gr. B : 5. Gr. A) : (4. Gr. B : 5. Gr. A)))))"},null,null,null,null,{"$f":"CHOOSE(SIGN(AS244-AS246)+2,AP244,\"(\"&AP244&\" : \"&AP246&\")\",AP246)","v":"((((((1. Gr. A : 4. Gr. B) : (2. Gr. D : 3. Gr. C)) : ((1. Gr. C : 4. Gr. D) : (2. Gr. B : 3. Gr. A))) : (((1. Gr. B : 4. Gr. C) : (2. Gr. A : 3. Gr. D)) : ((1. Gr. D : 4. Gr. A) : (2. Gr. C : 3. Gr. B)))) : ((((4. Gr. B : 5. Gr. A) : (4. Gr. B : 5. Gr. A)) : ((4. Gr. B : 5. Gr. A) : (4. Gr. B : 5. Gr. A))) : (((4. Gr. B : 5. Gr. A) : (4. Gr. B : 5. Gr. A)) : ((4. Gr. B : 5. Gr. A) : (4. Gr. B : 5. Gr. A))))) : (((((4. Gr. B : 5. Gr. A) : (4. Gr. B : 5. Gr. A)) : ((4. Gr. B : 5. Gr. A) : (4. Gr. B : 5. Gr. A))) : (((4. Gr. B : 5. Gr. A) : (4. Gr. B : 5. Gr. A)) : ((4. Gr. B : 5. Gr. A) : (4. Gr. B : 5. Gr. A)))) : ((((4. Gr. B : 5. Gr. A) : (4. Gr. B : 5. Gr. A)) : ((4. Gr. B : 5. Gr. A) : (4. Gr. B : 5. Gr. A))) : (((4. Gr. B : 5. Gr. A) : (4. Gr. B : 5. Gr. A)) : ((4. Gr. B : 5. Gr. A) : (4. Gr. B : 5. Gr. A))))))"}]
[]
[null,null,null,null,null,null,null,null,null,null,null,null,null,null,null,null,{"$f":"O255","v":"5. Gr. A"},null,null,null,null,{"$f":"IF($V$16,O255,CHOOSE(SIGN(T494-T492)+2,Q492,\"(\"&Q492&\" : \"&Q494&\")\",Q494))","v":"(4. Gr. B : 5. Gr. A)"},null,null,null,null,{"$f":"CHOOSE(SIGN(Y236-Y238)+2,V236,\"(\"&V236&\" : \"&V238&\")\",V238)","v":"((4. Gr. B : 5. Gr. A) : (4. Gr. B : 5. Gr. A))"},null,null,null,null,{"$f":"CHOOSE(SIGN(AD236-AD238)+2,AA236,\"(\"&AA236&\" : \"&AA238&\")\",AA238)","v":"(((4. Gr. B : 5. Gr. A) : (4. Gr. B : 5. Gr. A)) : ((4. Gr. B : 5. Gr. A) : (4. Gr. B : 5. Gr. A)))"},null,null,null,null,{"$f":"CHOOSE(SIGN(AI236-AI238)+2,AF236,\"(\"&AF236&\" : \"&AF238&\")\",AF238)","v":"((((4. Gr. B : 5. Gr. A) : (4. Gr. B : 5. Gr. A)) : ((4. Gr. B : 5. Gr. A) : (4. Gr. B : 5. Gr. A))) : (((4. Gr. B : 5. Gr. A) : (4. Gr. B : 5. Gr. A)) : ((4. Gr. B : 5. Gr. A) : (4. Gr. B : 5. Gr. A))))"},null,null,null,null,{"$f":"CHOOSE(SIGN(AN270-AN268)+2,AK268,\"(\"&AK268&\" : \"&AK270&\")\",AK270)","v":"(((((4. Gr. B : 5. Gr. A) : (4. Gr. B : 5. Gr. A)) : ((4. Gr. B : 5. Gr. A) : (4. Gr. B : 5. Gr. A))) : (((4. Gr. B : 5. Gr. A) : (4. Gr. B : 5. Gr. A)) : ((4. Gr. B : 5. Gr. A) : (4. Gr. B : 5. Gr. A)))) : ((((4. Gr. B : 5. Gr. A) : (4. Gr. B : 5. Gr. A)) : ((4. Gr. B : 5. Gr. A) : (4. Gr. B : 5. Gr. A))) : (((4. Gr. B : 5. Gr. A) : (4. Gr. B : 5. Gr. A)) : ((4. Gr. B : 5. Gr. A) : (4. Gr. B : 5. Gr. A)))))"},null,null,null,null,{"$f":"CHOOSE(SIGN(AS252-AS254)+2,AP252,\"(\"&AP252&\" : \"&AP254&\")\",AP254)","v":"((((((4. Gr. B : 5. Gr. A) : (4. Gr. B : 5. Gr. A)) : ((4. Gr. B : 5. Gr. A) : (4. Gr. B : 5. Gr. A))) : (((4. Gr. B : 5. Gr. A) : (4. Gr. B : 5. Gr. A)) : ((4. Gr. B : 5. Gr. A) : (4. Gr. B : 5. Gr. A)))) : ((((4. Gr. B : 5. Gr. A) : (4. Gr. B : 5. Gr. A)) : ((4. Gr. B : 5. Gr. A) : (4. Gr. B : 5. Gr. A))) : (((4. Gr. B : 5. Gr. A) : (4. Gr. B : 5. Gr. A)) : ((4. Gr. B : 5. Gr. A) : (4. Gr. B : 5. Gr. A))))) : (((((4. Gr. B : 5. Gr. A) : (4. Gr. B : 5. Gr. A)) : ((4. Gr. B : 5. Gr. A) : (4. Gr. B : 5. Gr. A))) : (((4. Gr. B : 5. Gr. A) : (4. Gr. B : 5. Gr. A)) : ((4. Gr. B : 5. Gr. A) : (4. Gr. B : 5. Gr. A)))) : ((((4. Gr. B : 5. Gr. A) : (4. Gr. B : 5. Gr. A)) : ((4. Gr. B : 5. Gr. A) : (4. Gr. B : 5. Gr. A))) : (((4. Gr. B : 5. Gr. A) : (4. Gr. B : 5. Gr. A)) : ((4. Gr. B : 5. Gr. A) : (4. Gr. B : 5. Gr. A))))))"}]
[null,null,null,null,null,null,null,null,null,null,null,null,null,null,{"$f":"INDEX(tbl_KO_Data[T2 Src Rank],K250) & \". Gr. \" & INDEX(tbl_KO_Data[T2 Src Group],K250)","v":"5. Gr. A"},null,null,null,null,null,null,null,null,null,null,null,null,null,null,null,null,null,null,null,null,null,null,null,null,null,null,null,null,null,null,null,null,null,null,null,null,60,{"$f":"IF(AX252>AX254,AU254,IF(AX252<AX254,AU252,\"\"))","v":""}]
[]
[]
[null,null,null,null,null,null,null,11,21,null,{"$f":"KO_Data_1row+INDEX(D258:I258,KO_Rounds_Ind)","v":295},null,null,null,null,null,"K_64_A21","field x","best of n",0,null,"K_32_A11","field x","best of n",0,null,"K_16_B06","field x","best of n",0,null,"K_08_D3","field x","best of n",0,null,"K_04_H2","field x","best of n",0,null,"K_02_P1","field x","best of n",0,null,"K_01_061","field x","best of n",0]
[null,null,null,null,null,null,null,null,null,null,null,null,null,null,{"$f":"INDEX(tbl_KO_Data[T1 Src Rank],K258) & \". Gr. \" & INDEX(tbl_KO_Data[T1 Src Group],K258)","v":"4. Gr. B"},null,null,null,null,null,null,null,null,null,null,null,null,null,null,null,null,null,null,null,null,null,null,null,null,null,null,null,null,null,null,null,null,null,null,null,null,61,{"$f":"IF(AX260>AX262,AU260,IF(AX260<AX262,AU262,\"\"))","v":""}]
[null,null,null,null,null,null,null,null,null,null,null,null,null,null,null,null,{"$f":"O259","v":"4. Gr. B"},null,null,null,null,{"$f":"IF($V$16,O259,CHOOSE(SIGN(T502-T500)+2,Q500,\"(\"&Q500&\" : \"&Q502&\")\",Q502))","v":"(4. Gr. B : 5. Gr. A)"},null,null,null,null,{"$f":"CHOOSE(SIGN(Y244-Y246)+2,V244,\"(\"&V244&\" : \"&V246&\")\",V246)","v":"((4. Gr. B : 5. Gr. A) : (4. Gr. B : 5. Gr. A))"},null,null,null,null,{"$f":"CHOOSE(SIGN(AD244-AD246)+2,AA244,\"(\"&AA244&\" : \"&AA246&\")\",AA246)","v":"(((4. Gr. B : 5. Gr. A) : (4. Gr. B : 5. Gr. A)) : ((4. Gr. B : 5. Gr. A) : (4. Gr. B : 5. Gr. A)))"},null,null,null,null,{"$f":"CHOOSE(SIGN(AI244-AI246)+2,AF244,\"(\"&AF244&\" : \"&AF246&\")\",AF246)","v":"((((4. Gr. B : 5. Gr. A) : (4. Gr. B : 5. Gr. A)) : ((4. Gr. B : 5. Gr. A) : (4. Gr. B : 5. Gr. A))) : (((4. Gr. B : 5. Gr. A) : (4. Gr. B : 5. Gr. A)) : ((4. Gr. B : 5. Gr. A) : (4. Gr. B : 5. Gr. A))))"},null,null,null,null,{"$f":"CHOOSE(SIGN(AN244-AN246)+2,AK244,\"(\"&AK244&\" : \"&AK246&\")\",AK246)","v":"(((((1. Gr. A : 4. Gr. B) : (2. Gr. D : 3. Gr. C)) : ((1. Gr. C : 4. Gr. D) : (2. Gr. B : 3. Gr. A))) : (((1. Gr. B : 4. Gr. C) : (2. Gr. A : 3. Gr. D)) : ((1. Gr. D : 4. Gr. A) : (2. Gr. C : 3. Gr. B)))) : ((((4. Gr. B : 5. Gr. A) : (4. Gr. B : 5. Gr. A)) : ((4. Gr. B : 5. Gr. A) : (4. Gr. B : 5. Gr. A))) : (((4. Gr. B : 5. Gr. A) : (4. Gr. B : 5. Gr. A)) : ((4. Gr. B : 5. Gr. A) : (4. Gr. B : 5. Gr. A)))))"},null,null,null,null,{"$f":"CHOOSE(SIGN(AS262-AS260)+2,AP260,\"(\"&AP260&\" : \"&AP262&\")\",AP262)","v":"((((((1. Gr. A : 4. Gr. B) : (2. Gr. D : 3. Gr. C)) : ((1. Gr. C : 4. Gr. D) : (2. Gr. B : 3. Gr. A))) : (((1. Gr. B : 4. Gr. C) : (2. Gr. A : 3. Gr. D)) : ((1. Gr. D : 4. Gr. A) : (2. Gr. C : 3. Gr. B)))) : ((((4. Gr. B : 5. Gr. A) : (4. Gr. B : 5. Gr. A)) : ((4. Gr. B : 5. Gr. A) : (4. Gr. B : 5. Gr. A))) : (((4. Gr. B : 5. Gr. A) : (4. Gr. B : 5. Gr. A)) : ((4. Gr. B : 5. Gr. A) : (4. Gr. B : 5. Gr. A))))) : (((((4. Gr. B : 5. Gr. A) : (4. Gr. B : 5. Gr. A)) : ((4. Gr. B : 5. Gr. A) : (4. Gr. B : 5. Gr. A))) : (((4. Gr. B : 5. Gr. A) : (4. Gr. B : 5. Gr. A)) : ((4. Gr. B : 5. Gr. A) : (4. Gr. B : 5. Gr. A)))) : ((((4. Gr. B : 5. Gr. A) : (4. Gr. B : 5. Gr. A)) : ((4. Gr. B : 5. Gr. A) : (4. Gr. B : 5. Gr. A))) : (((4. Gr. B : 5. Gr. A) : (4. Gr. B : 5. Gr. A)) : ((4. Gr. B : 5. Gr. A) : (4. Gr. B : 5. Gr. A))))))"}]
[]
[null,null,null,null,null,null,null,null,null,null,null,null,null,null,null,null,{"$f":"O263","v":"5. Gr. A"},null,null,null,null,{"$f":"IF($V$16,O263,CHOOSE(SIGN(T510-T508)+2,Q508,\"(\"&Q508&\" : \"&Q510&\")\",Q510))","v":"(4. Gr. B : 5. Gr. A)"},null,null,null,null,{"$f":"CHOOSE(SIGN(Y252-Y254)+2,V252,\"(\"&V252&\" : \"&V254&\")\",V254)","v":"((4. Gr. B : 5. Gr. A) : (4. Gr. B : 5. Gr. A))"},null,null,null,null,{"$f":"CHOOSE(SIGN(AD252-AD254)+2,AA252,\"(\"&AA252&\" : \"&AA254&\")\",AA254)","v":"(((4. Gr. B : 5. Gr. A) : (4. Gr. B : 5. Gr. A)) : ((4. Gr. B : 5. Gr. A) : (4. Gr. B : 5. Gr. A)))"},null,null,null,null,{"$f":"CHOOSE(SIGN(AI252-AI254)+2,AF252,\"(\"&AF252&\" : \"&AF254&\")\",AF254)","v":"((((4. Gr. B : 5. Gr. A) : (4. Gr. B : 5. Gr. A)) : ((4. Gr. B : 5. Gr. A) : (4. Gr. B : 5. Gr. A))) : (((4. Gr. B : 5. Gr. A) : (4. Gr. B : 5. Gr. A)) : ((4. Gr. B : 5. Gr. A) : (4. Gr. B : 5. Gr. A))))"},null,null,null,null,{"$f":"CHOOSE(SIGN(AN252-AN254)+2,AK252,\"(\"&AK252&\" : \"&AK254&\")\",AK254)","v":"(((((4. Gr. B : 5. Gr. A) : (4. Gr. B : 5. Gr. A)) : ((4. Gr. B : 5. Gr. A) : (4. Gr. B : 5. Gr. A))) : (((4. Gr. B : 5. Gr. A) : (4. Gr. B : 5. Gr. A)) : ((4. Gr. B : 5. Gr. A) : (4. Gr. B : 5. Gr. A)))) : ((((4. Gr. B : 5. Gr. A) : (4. Gr. B : 5. Gr. A)) : ((4. Gr. B : 5. Gr. A) : (4. Gr. B : 5. Gr. A))) : (((4. Gr. B : 5. Gr. A) : (4. Gr. B : 5. Gr. A)) : ((4. Gr. B : 5. Gr. A) : (4. Gr. B : 5. Gr. A)))))"},null,null,null,null,{"$f":"CHOOSE(SIGN(AS270-AS268)+2,AP268,\"(\"&AP268&\" : \"&AP270&\")\",AP270)","v":"((((((4. Gr. B : 5. Gr. A) : (4. Gr. B : 5. Gr. A)) : ((4. Gr. B : 5. Gr. A) : (4. Gr. B : 5. Gr. A))) : (((4. Gr. B : 5. Gr. A) : (4. Gr. B : 5. Gr. A)) : ((4. Gr. B : 5. Gr. A) : (4. Gr. B : 5. Gr. A)))) : ((((4. Gr. B : 5. Gr. A) : (4. Gr. B : 5. Gr. A)) : ((4. Gr. B : 5. Gr. A) : (4. Gr. B : 5. Gr. A))) : (((4. Gr. B : 5. Gr. A) : (4. Gr. B : 5. Gr. A)) : ((4. Gr. B : 5. Gr. A) : (4. Gr. B : 5. Gr. A))))) : (((((4. Gr. B : 5. Gr. A) : (4. Gr. B : 5. Gr. A)) : ((4. Gr. B : 5. Gr. A) : (4. Gr. B : 5. Gr. A))) : (((4. Gr. B : 5. Gr. A) : (4. Gr. B : 5. Gr. A)) : ((4. Gr. B : 5. Gr. A) : (4. Gr. B : 5. Gr. A)))) : ((((4. Gr. B : 5. Gr. A) : (4. Gr. B : 5. Gr. A)) : ((4. Gr. B : 5. Gr. A) : (4. Gr. B : 5. Gr. A))) : (((4. Gr. B : 5. Gr. A) : (4. Gr. B : 5. Gr. A)) : ((4. Gr. B : 5. Gr. A) : (4. Gr. B : 5. Gr. A))))))"}]
[null,null,null,null,null,null,null,null,null,null,null,null,null,null,{"$f":"INDEX(tbl_KO_Data[T2 Src Rank],K258) & \". Gr. \" & INDEX(tbl_KO_Data[T2 Src Group],K258)","v":"5. Gr. A"},null,null,null,null,null,null,null,null,null,null,null,null,null,null,null,null,null,null,null,null,null,null,null,null,null,null,null,null,null,null,null,null,null,null,null,null,62,{"$f":"IF(AX260>AX262,AU262,IF(AX260<AX262,AU260,\"\"))","v":""}]
[]
[]
[null,null,null,null,null,null,null,22,44,null,{"$f":"KO_Data_1row+INDEX(D266:I266,KO_Rounds_Ind)","v":295},null,null,null,null,null,"K_64_A44","field x","best of n",0,null,"K_32_A22","field x","best of n",0,null,"K_16_B11","field x","best of n",0,null,"K_08_D6","field x","best of n",0,null,"K_04_H3","field x","best of n",0,null,"K_02_P2","field x","best of n",0,null,"K_01_063","field x","best of n",0]
[null,null,null,null,null,null,null,null,null,null,null,null,null,null,{"$f":"INDEX(tbl_KO_Data[T1 Src Rank],K266) & \". Gr. \" & INDEX(tbl_KO_Data[T1 Src Group],K266)","v":"4. Gr. B"},null,null,null,null,null,null,null,null,null,null,null,null,null,null,null,null,null,null,null,null,null,null,null,null,null,null,null,null,null,null,null,null,null,null,null,null,63,{"$f":"IF(AX268>AX270,AU268,IF(AX268<AX270,AU270,\"\"))","v":""}]
[null,null,null,null,null,null,null,null,null,null,null,null,null,null,null,null,{"$f":"O267","v":"4. Gr. B"},null,null,null,null,{"$f":"IF($V$16,O267,CHOOSE(SIGN(T518-T516)+2,Q516,\"(\"&Q516&\" : \"&Q518&\")\",Q518))","v":"(4. Gr. B : 5. Gr. A)"},null,null,null,null,{"$f":"CHOOSE(SIGN(Y260-Y262)+2,V260,\"(\"&V260&\" : \"&V262&\")\",V262)","v":"((4. Gr. B : 5. Gr. A) : (4. Gr. B : 5. Gr. A))"},null,null,null,null,{"$f":"CHOOSE(SIGN(AD260-AD262)+2,AA260,\"(\"&AA260&\" : \"&AA262&\")\",AA262)","v":"(((4. Gr. B : 5. Gr. A) : (4. Gr. B : 5. Gr. A)) : ((4. Gr. B : 5. Gr. A) : (4. Gr. B : 5. Gr. A)))"},null,null,null,null,{"$f":"CHOOSE(SIGN(AI260-AI262)+2,AF260,\"(\"&AF260&\" : \"&AF262&\")\",AF262)","v":"((((4. Gr. B : 5. Gr. A) : (4. Gr. B : 5. Gr. A)) : ((4. Gr. B : 5. Gr. A) : (4. Gr. B : 5. Gr. A))) : (((4. Gr. B : 5. Gr. A) : (4. Gr. B : 5. Gr. A)) : ((4. Gr. B : 5. Gr. A) : (4. Gr. B : 5. Gr. A))))"},null,null,null,null,{"$f":"CHOOSE(SIGN(AN260-AN262)+2,AK260,\"(\"&AK260&\" : \"&AK262&\")\",AK262)","v":"(((((4. Gr. B : 5. Gr. A) : (4. Gr. B : 5. Gr. A)) : ((4. Gr. B : 5. Gr. A) : (4. Gr. B : 5. Gr. A))) : (((4. Gr. B : 5. Gr. A) : (4. Gr. B : 5. Gr. A)) : ((4. Gr. B : 5. Gr. A) : (4. Gr. B : 5. Gr. A)))) : ((((4. Gr. B : 5. Gr. A) : (4. Gr. B : 5. Gr. A)) : ((4. Gr. B : 5. Gr. A) : (4. Gr. B : 5. Gr. A))) : (((4. Gr. B : 5. Gr. A) : (4. Gr. B : 5. Gr. A)) : ((4. Gr. B : 5. Gr. A) : (4. Gr. B : 5. Gr. A)))))"},null,null,null,null,{"$f":"CHOOSE(SIGN(AS260-AS262)+2,AP260,\"(\"&AP260&\" : \"&AP262&\")\",AP262)","v":"((((((1. Gr. A : 4. Gr. B) : (2. Gr. D : 3. Gr. C)) : ((1. Gr. C : 4. Gr. D) : (2. Gr. B : 3. Gr. A))) : (((1. Gr. B : 4. Gr. C) : (2. Gr. A : 3. Gr. D)) : ((1. Gr. D : 4. Gr. A) : (2. Gr. C : 3. Gr. B)))) : ((((4. Gr. B : 5. Gr. A) : (4. Gr. B : 5. Gr. A)) : ((4. Gr. B : 5. Gr. A) : (4. Gr. B : 5. Gr. A))) : (((4. Gr. B : 5. Gr. A) : (4. Gr. B : 5. Gr. A)) : ((4. Gr. B : 5. Gr. A) : (4. Gr. B : 5. Gr. A))))) : (((((4. Gr. B : 5. Gr. A) : (4. Gr. B : 5. Gr. A)) : ((4. Gr. B : 5. Gr. A) : (4. Gr. B : 5. Gr. A))) : (((4. Gr. B : 5. Gr. A) : (4. Gr. B : 5. Gr. A)) : ((4. Gr. B : 5. Gr. A) : (4. Gr. B : 5. Gr. A)))) : ((((4. Gr. B : 5. Gr. A) : (4. Gr. B : 5. Gr. A)) : ((4. Gr. B : 5. Gr. A) : (4. Gr. B : 5. Gr. A))) : (((4. Gr. B : 5. Gr. A) : (4. Gr. B : 5. Gr. A)) : ((4. Gr. B : 5. Gr. A) : (4. Gr. B : 5. Gr. A))))))"}]
[]
[null,null,null,null,null,null,null,null,null,null,null,null,null,null,null,null,{"$f":"O271","v":"5. Gr. A"},null,null,null,null,{"$f":"IF($V$16,O271,CHOOSE(SIGN(T526-T524)+2,Q524,\"(\"&Q524&\" : \"&Q526&\")\",Q526))","v":"(4. Gr. B : 5. Gr. A)"},null,null,null,null,{"$f":"CHOOSE(SIGN(Y268-Y270)+2,V268,\"(\"&V268&\" : \"&V270&\")\",V270)","v":"((4. Gr. B : 5. Gr. A) : (4. Gr. B : 5. Gr. A))"},null,null,null,null,{"$f":"CHOOSE(SIGN(AD268-AD270)+2,AA268,\"(\"&AA268&\" : \"&AA270&\")\",AA270)","v":"(((4. Gr. B : 5. Gr. A) : (4. Gr. B : 5. Gr. A)) : ((4. Gr. B : 5. Gr. A) : (4. Gr. B : 5. Gr. A)))"},null,null,null,null,{"$f":"CHOOSE(SIGN(AI268-AI270)+2,AF268,\"(\"&AF268&\" : \"&AF270&\")\",AF270)","v":"((((4. Gr. B : 5. Gr. A) : (4. Gr. B : 5. Gr. A)) : ((4. Gr. B : 5. Gr. A) : (4. Gr. B : 5. Gr. A))) : (((4. Gr. B : 5. Gr. A) : (4. Gr. B : 5. Gr. A)) : ((4. Gr. B : 5. Gr. A) : (4. Gr. B : 5. Gr. A))))"},null,null,null,null,{"$f":"CHOOSE(SIGN(AN268-AN270)+2,AK268,\"(\"&AK268&\" : \"&AK270&\")\",AK270)","v":"(((((4. Gr. B : 5. Gr. A) : (4. Gr. B : 5. Gr. A)) : ((4. Gr. B : 5. Gr. A) : (4. Gr. B : 5. Gr. A))) : (((4. Gr. B : 5. Gr. A) : (4. Gr. B : 5. Gr. A)) : ((4. Gr. B : 5. Gr. A) : (4. Gr. B : 5. Gr. A)))) : ((((4. Gr. B : 5. Gr. A) : (4. Gr. B : 5. Gr. A)) : ((4. Gr. B : 5. Gr. A) : (4. Gr. B : 5. Gr. A))) : (((4. Gr. B : 5. Gr. A) : (4. Gr. B : 5. Gr. A)) : ((4. Gr. B : 5. Gr. A) : (4. Gr. B : 5. Gr. A)))))"},null,null,null,null,{"$f":"CHOOSE(SIGN(AS268-AS270)+2,AP268,\"(\"&AP268&\" : \"&AP270&\")\",AP270)","v":"((((((4. Gr. B : 5. Gr. A) : (4. Gr. B : 5. Gr. A)) : ((4. Gr. B : 5. Gr. A) : (4. Gr. B : 5. Gr. A))) : (((4. Gr. B : 5. Gr. A) : (4. Gr. B : 5. Gr. A)) : ((4. Gr. B : 5. Gr. A) : (4. Gr. B : 5. Gr. A)))) : ((((4. Gr. B : 5. Gr. A) : (4. Gr. B : 5. Gr. A)) : ((4. Gr. B : 5. Gr. A) : (4. Gr. B : 5. Gr. A))) : (((4. Gr. B : 5. Gr. A) : (4. Gr. B : 5. Gr. A)) : ((4. Gr. B : 5. Gr. A) : (4. Gr. B : 5. Gr. A))))) : (((((4. Gr. B : 5. Gr. A) : (4. Gr. B : 5. Gr. A)) : ((4. Gr. B : 5. Gr. A) : (4. Gr. B : 5. Gr. A))) : (((4. Gr. B : 5. Gr. A) : (4. Gr. B : 5. Gr. A)) : ((4. Gr. B : 5. Gr. A) : (4. Gr. B : 5. Gr. A)))) : ((((4. Gr. B : 5. Gr. A) : (4. Gr. B : 5. Gr. A)) : ((4. Gr. B : 5. Gr. A) : (4. Gr. B : 5. Gr. A))) : (((4. Gr. B : 5. Gr. A) : (4. Gr. B : 5. Gr. A)) : ((4. Gr. B : 5. Gr. A) : (4. Gr. B : 5. Gr. A))))))"}]
[null,null,null,null,null,null,null,null,null,null,null,null,null,null,{"$f":"INDEX(tbl_KO_Data[T2 Src Rank],K266) & \". Gr. \" & INDEX(tbl_KO_Data[T2 Src Group],K266)","v":"5. Gr. A"},null,null,null,null,null,null,null,null,null,null,null,null,null,null,null,null,null,null,null,null,null,null,null,null,null,null,null,null,null,null,null,null,null,null,null,null,64,{"$f":"IF(AX268>AX270,AU270,IF(AX268<AX270,AU268,\"\"))","v":""}]
[]
[]
[null,null,null,null,null,null,null,null,2,null,{"$f":"KO_Data_1row+INDEX(D274:I274,KO_Rounds_Ind)","v":295},null,null,null,null,null,"K_64_A02","field x","best of n",0,null,"K_32_B01","field x","best of n",0,null,"K_16_C01","field x","best of n",0,null,"K_08_E1","field x","best of n",0,null,"K_04_I1","field x","best of n",0,null,"K_02_Q1","field x","best of n",0,null,"K_01_065","field x","best of n",0]
[null,null,null,null,null,null,null,null,null,null,null,null,null,null,{"$f":"INDEX(tbl_KO_Data[T1 Src Rank],K274) & \". Gr. \" & INDEX(tbl_KO_Data[T1 Src Group],K274)","v":"4. Gr. B"},null,null,null,null,null,null,null,null,null,null,null,null,null,null,null,null,null,null,null,null,null,null,null,null,null,null,null,null,null,null,null,null,null,null,null,null,65,{"$f":"IF(AX276>AX278,AU276,IF(AX276<AX278,AU278,\"\"))","v":""}]
[null,null,null,null,null,null,null,null,null,null,null,null,null,null,null,null,{"$f":"O275","v":"4. Gr. B"},null,null,null,null,{"$f":"CHOOSE(SIGN(T20-T22)+2,Q20,\"(\"&Q20&\" : \"&Q22&\")\",Q22)","v":"(1. Gr. A : 4. Gr. B)"},null,null,null,null,{"$f":"CHOOSE(SIGN(Y278-Y276)+2,V276,\"(\"&V276&\" : \"&V278&\")\",V278)","v":"((1. Gr. A : 4. Gr. B) : (2. Gr. D : 3. Gr. C))"},null,null,null,null,{"$f":"CHOOSE(SIGN(AD278-AD276)+2,AA276,\"(\"&AA276&\" : \"&AA278&\")\",AA278)","v":"(((1. Gr. A : 4. Gr. B) : (2. Gr. D : 3. Gr. C)) : ((1. Gr. C : 4. Gr. D) : (2. Gr. B : 3. Gr. A)))"},null,null,null,null,{"$f":"CHOOSE(SIGN(AI278-AI276)+2,AF276,\"(\"&AF276&\" : \"&AF278&\")\",AF278)","v":"((((1. Gr. A : 4. Gr. B) : (2. Gr. D : 3. Gr. C)) : ((1. Gr. C : 4. Gr. D) : (2. Gr. B : 3. Gr. A))) : (((1. Gr. B : 4. Gr. C) : (2. Gr. A : 3. Gr. D)) : ((1. Gr. D : 4. Gr. A) : (2. Gr. C : 3. Gr. B))))"},null,null,null,null,{"$f":"CHOOSE(SIGN(AN278-AN276)+2,AK276,\"(\"&AK276&\" : \"&AK278&\")\",AK278)","v":"(((((1. Gr. A : 4. Gr. B) : (2. Gr. D : 3. Gr. C)) : ((1. Gr. C : 4. Gr. D) : (2. Gr. B : 3. Gr. A))) : (((1. Gr. B : 4. Gr. C) : (2. Gr. A : 3. Gr. D)) : ((1. Gr. D : 4. Gr. A) : (2. Gr. C : 3. Gr. B)))) : ((((4. Gr. B : 5. Gr. A) : (4. Gr. B : 5. Gr. A)) : ((4. Gr. B : 5. Gr. A) : (4. Gr. B : 5. Gr. A))) : (((4. Gr. B : 5. Gr. A) : (4. Gr. B : 5. Gr. A)) : ((4. Gr. B : 5. Gr. A) : (4. Gr. B : 5. Gr. A)))))"},null,null,null,null,{"$f":"CHOOSE(SIGN(AS278-AS276)+2,AP276,\"(\"&AP276&\" : \"&AP278&\")\",AP278)","v":"((((((1. Gr. A : 4. Gr. B) : (2. Gr. D : 3. Gr. C)) : ((1. Gr. C : 4. Gr. D) : (2. Gr. B : 3. Gr. A))) : (((1. Gr. B : 4. Gr. C) : (2. Gr. A : 3. Gr. D)) : ((1. Gr. D : 4. Gr. A) : (2. Gr. C : 3. Gr. B)))) : ((((4. Gr. B : 5. Gr. A) : (4. Gr. B : 5. Gr. A)) : ((4. Gr. B : 5. Gr. A) : (4. Gr. B : 5. Gr. A))) : (((4. Gr. B : 5. Gr. A) : (4. Gr. B : 5. Gr. A)) : ((4. Gr. B : 5. Gr. A) : (4. Gr. B : 5. Gr. A))))) : (((((4. Gr. B : 5. Gr. A) : (4. Gr. B : 5. Gr. A)) : ((4. Gr. B : 5. Gr. A) : (4. Gr. B : 5. Gr. A))) : (((4. Gr. B : 5. Gr. A) : (4. Gr. B : 5. Gr. A)) : ((4. Gr. B : 5. Gr. A) : (4. Gr. B : 5. Gr. A)))) : ((((4. Gr. B : 5. Gr. A) : (4. Gr. B : 5. Gr. A)) : ((4. Gr. B : 5. Gr. A) : (4. Gr. B : 5. Gr. A))) : (((4. Gr. B : 5. Gr. A) : (4. Gr. B : 5. Gr. A)) : ((4. Gr. B : 5. Gr. A) : (4. Gr. B : 5. Gr. A))))))"}]
[]
[null,null,null,null,null,null,null,null,null,null,null,null,null,null,null,null,{"$f":"O279","v":"5. Gr. A"},null,null,null,null,{"$f":"CHOOSE(SIGN(T28-T30)+2,Q28,\"(\"&Q28&\" : \"&Q30&\")\",Q30)","v":"(2. Gr. D : 3. Gr. C)"},null,null,null,null,{"$f":"CHOOSE(SIGN(Y286-Y284)+2,V284,\"(\"&V284&\" : \"&V286&\")\",V286)","v":"((1. Gr. C : 4. Gr. D) : (2. Gr. B : 3. Gr. A))"},null,null,null,null,{"$f":"CHOOSE(SIGN(AD286-AD284)+2,AA284,\"(\"&AA284&\" : \"&AA286&\")\",AA286)","v":"(((1. Gr. B : 4. Gr. C) : (2. Gr. A : 3. Gr. D)) : ((1. Gr. D : 4. Gr. A) : (2. Gr. C : 3. Gr. B)))"},null,null,null,null,{"$f":"CHOOSE(SIGN(AI286-AI284)+2,AF284,\"(\"&AF284&\" : \"&AF286&\")\",AF286)","v":"((((4. Gr. B : 5. Gr. A) : (4. Gr. B : 5. Gr. A)) : ((4. Gr. B : 5. Gr. A) : (4. Gr. B : 5. Gr. A))) : (((4. Gr. B : 5. Gr. A) : (4. Gr. B : 5. Gr. A)) : ((4. Gr. B : 5. Gr. A) : (4. Gr. B : 5. Gr. A))))"},null,null,null,null,{"$f":"CHOOSE(SIGN(AN286-AN284)+2,AK284,\"(\"&AK284&\" : \"&AK286&\")\",AK286)","v":"(((((4. Gr. B : 5. Gr. A) : (4. Gr. B : 5. Gr. A)) : ((4. Gr. B : 5. Gr. A) : (4. Gr. B : 5. Gr. A))) : (((4. Gr. B : 5. Gr. A) : (4. Gr. B : 5. Gr. A)) : ((4. Gr. B : 5. Gr. A) : (4. Gr. B : 5. Gr. A)))) : ((((4. Gr. B : 5. Gr. A) : (4. Gr. B : 5. Gr. A)) : ((4. Gr. B : 5. Gr. A) : (4. Gr. B : 5. Gr. A))) : (((4. Gr. B : 5. Gr. A) : (4. Gr. B : 5. Gr. A)) : ((4. Gr. B : 5. Gr. A) : (4. Gr. B : 5. Gr. A)))))"},null,null,null,null,{"$f":"CHOOSE(SIGN(AS286-AS284)+2,AP284,\"(\"&AP284&\" : \"&AP286&\")\",AP286)","v":"((((((4. Gr. B : 5. Gr. A) : (4. Gr. B : 5. Gr. A)) : ((4. Gr. B : 5. Gr. A) : (4. Gr. B : 5. Gr. A))) : (((4. Gr. B : 5. Gr. A) : (4. Gr. B : 5. Gr. A)) : ((4. Gr. B : 5. Gr. A) : (4. Gr. B : 5. Gr. A)))) : ((((4. Gr. B : 5. Gr. A) : (4. Gr. B : 5. Gr. A)) : ((4. Gr. B : 5. Gr. A) : (4. Gr. B : 5. Gr. A))) : (((4. Gr. B : 5. Gr. A) : (4. Gr. B : 5. Gr. A)) : ((4. Gr. B : 5. Gr. A) : (4. Gr. B : 5. Gr. A))))) : (((((4. Gr. B : 5. Gr. A) : (4. Gr. B : 5. Gr. A)) : ((4. Gr. B : 5. Gr. A) : (4. Gr. B : 5. Gr. A))) : (((4. Gr. B : 5. Gr. A) : (4. Gr. B : 5. Gr. A)) : ((4. Gr. B : 5. Gr. A) : (4. Gr. B : 5. Gr. A)))) : ((((4. Gr. B : 5. Gr. A) : (4. Gr. B : 5. Gr. A)) : ((4. Gr. B : 5. Gr. A) : (4. Gr. B : 5. Gr. A))) : (((4. Gr. B : 5. Gr. A) : (4. Gr. B : 5. Gr. A)) : ((4. Gr. B : 5. Gr. A) : (4. Gr. B : 5. Gr. A))))))"}]
[null,null,null,null,null,null,null,null,null,null,null,null,null,null,{"$f":"INDEX(tbl_KO_Data[T2 Src Rank],K274) & \". Gr. \" & INDEX(tbl_KO_Data[T2 Src Group],K274)","v":"5. Gr. A"},null,null,null,null,null,null,null,null,null,null,null,null,null,null,null,null,null,null,null,null,null,null,null,null,null,null,null,null,null,null,null,null,null,null,null,null,66,{"$f":"IF(AX276>AX278,AU278,IF(AX276<AX278,AU276,\"\"))","v":""}]
[]
[]
[null,null,null,null,null,null,null,null,63,null,{"$f":"KO_Data_1row+INDEX(D282:I282,KO_Rounds_Ind)","v":295},null,null,null,null,null,"K_64_A63","field x","best of n",0,null,"K_32_B32","field x","best of n",0,null,"K_16_C16","field x","best of n",0,null,"K_08_E8","field x","best of n",0,null,"K_04_I4","field x","best of n",0,null,"K_02_Q2","field x","best of n",0,null,"K_01_067","field x","best of n",0]
[null,null,null,null,null,null,null,null,null,null,null,null,null,null,{"$f":"INDEX(tbl_KO_Data[T1 Src Rank],K282) & \". Gr. \" & INDEX(tbl_KO_Data[T1 Src Group],K282)","v":"4. Gr. B"},null,null,null,null,null,null,null,null,null,null,null,null,null,null,null,null,null,null,null,null,null,null,null,null,null,null,null,null,null,null,null,null,null,null,null,null,67,{"$f":"IF(AX284>AX286,AU284,IF(AX284<AX286,AU286,\"\"))","v":""}]
[null,null,null,null,null,null,null,null,null,null,null,null,null,null,null,null,{"$f":"O283","v":"4. Gr. B"},null,null,null,null,{"$f":"CHOOSE(SIGN(T36-T38)+2,Q36,\"(\"&Q36&\" : \"&Q38&\")\",Q38)","v":"(1. Gr. C : 4. Gr. D)"},null,null,null,null,{"$f":"CHOOSE(SIGN(Y294-Y292)+2,V292,\"(\"&V292&\" : \"&V294&\")\",V294)","v":"((1. Gr. B : 4. Gr. C) : (2. Gr. A : 3. Gr. D))"},null,null,null,null,{"$f":"CHOOSE(SIGN(AD294-AD292)+2,AA292,\"(\"&AA292&\" : \"&AA294&\")\",AA294)","v":"(((4. Gr. B : 5. Gr. A) : (4. Gr. B : 5. Gr. A)) : ((4. Gr. B : 5. Gr. A) : (4. Gr. B : 5. Gr. A)))"},null,null,null,null,{"$f":"CHOOSE(SIGN(AI294-AI292)+2,AF292,\"(\"&AF292&\" : \"&AF294&\")\",AF294)","v":"((((4. Gr. B : 5. Gr. A) : (4. Gr. B : 5. Gr. A)) : ((4. Gr. B : 5. Gr. A) : (4. Gr. B : 5. Gr. A))) : (((4. Gr. B : 5. Gr. A) : (4. Gr. B : 5. Gr. A)) : ((4. Gr. B : 5. Gr. A) : (4. Gr. B : 5. Gr. A))))"},null,null,null,null,{"$f":"CHOOSE(SIGN(AN294-AN292)+2,AK292,\"(\"&AK292&\" : \"&AK294&\")\",AK294)","v":"(((((4. Gr. B : 5. Gr. A) : (4. Gr. B : 5. Gr. A)) : ((4. Gr. B : 5. Gr. A) : (4. Gr. B : 5. Gr. A))) : (((4. Gr. B : 5. Gr. A) : (4. Gr. B : 5. Gr. A)) : ((4. Gr. B : 5. Gr. A) : (4. Gr. B : 5. Gr. A)))) : ((((4. Gr. B : 5. Gr. A) : (4. Gr. B : 5. Gr. A)) : ((4. Gr. B : 5. Gr. A) : (4. Gr. B : 5. Gr. A))) : (((4. Gr. B : 5. Gr. A) : (4. Gr. B : 5. Gr. A)) : ((4. Gr. B : 5. Gr. A) : (4. Gr. B : 5. Gr. A)))))"},null,null,null,null,{"$f":"CHOOSE(SIGN(AS276-AS278)+2,AP276,\"(\"&AP276&\" : \"&AP278&\")\",AP278)","v":"((((((1. Gr. A : 4. Gr. B) : (2. Gr. D : 3. Gr. C)) : ((1. Gr. C : 4. Gr. D) : (2. Gr. B : 3. Gr. A))) : (((1. Gr. B : 4. Gr. C) : (2. Gr. A : 3. Gr. D)) : ((1. Gr. D : 4. Gr. A) : (2. Gr. C : 3. Gr. B)))) : ((((4. Gr. B : 5. Gr. A) : (4. Gr. B : 5. Gr. A)) : ((4. Gr. B : 5. Gr. A) : (4. Gr. B : 5. Gr. A))) : (((4. Gr. B : 5. Gr. A) : (4. Gr. B : 5. Gr. A)) : ((4. Gr. B : 5. Gr. A) : (4. Gr. B : 5. Gr. A))))) : (((((4. Gr. B : 5. Gr. A) : (4. Gr. B : 5. Gr. A)) : ((4. Gr. B : 5. Gr. A) : (4. Gr. B : 5. Gr. A))) : (((4. Gr. B : 5. Gr. A) : (4. Gr. B : 5. Gr. A)) : ((4. Gr. B : 5. Gr. A) : (4. Gr. B : 5. Gr. A)))) : ((((4. Gr. B : 5. Gr. A) : (4. Gr. B : 5. Gr. A)) : ((4. Gr. B : 5. Gr. A) : (4. Gr. B : 5. Gr. A))) : (((4. Gr. B : 5. Gr. A) : (4. Gr. B : 5. Gr. A)) : ((4. Gr. B : 5. Gr. A) : (4. Gr. B : 5. Gr. A))))))"}]
[]
[null,null,null,null,null,null,null,null,null,null,null,null,null,null,null,null,{"$f":"O287","v":"5. Gr. A"},null,null,null,null,{"$f":"CHOOSE(SIGN(T44-T46)+2,Q44,\"(\"&Q44&\" : \"&Q46&\")\",Q46)","v":"(2. Gr. B : 3. Gr. A)"},null,null,null,null,{"$f":"CHOOSE(SIGN(Y302-Y300)+2,V300,\"(\"&V300&\" : \"&V302&\")\",V302)","v":"((1. Gr. D : 4. Gr. A) : (2. Gr. C : 3. Gr. B))"},null,null,null,null,{"$f":"CHOOSE(SIGN(AD302-AD300)+2,AA300,\"(\"&AA300&\" : \"&AA302&\")\",AA302)","v":"(((4. Gr. B : 5. Gr. A) : (4. Gr. B : 5. Gr. A)) : ((4. Gr. B : 5. Gr. A) : (4. Gr. B : 5. Gr. A)))"},null,null,null,null,{"$f":"CHOOSE(SIGN(AI302-AI300)+2,AF300,\"(\"&AF300&\" : \"&AF302&\")\",AF302)","v":"((((4. Gr. B : 5. Gr. A) : (4. Gr. B : 5. Gr. A)) : ((4. Gr. B : 5. Gr. A) : (4. Gr. B : 5. Gr. A))) : (((4. Gr. B : 5. Gr. A) : (4. Gr. B : 5. Gr. A)) : ((4. Gr. B : 5. Gr. A) : (4. Gr. B : 5. Gr. A))))"},null,null,null,null,{"$f":"CHOOSE(SIGN(AN302-AN300)+2,AK300,\"(\"&AK300&\" : \"&AK302&\")\",AK302)","v":"(((((4. Gr. B : 5. Gr. A) : (4. Gr. B : 5. Gr. A)) : ((4. Gr. B : 5. Gr. A) : (4. Gr. B : 5. Gr. A))) : (((4. Gr. B : 5. Gr. A) : (4. Gr. B : 5. Gr. A)) : ((4. Gr. B : 5. Gr. A) : (4. Gr. B : 5. Gr. A)))) : ((((4. Gr. B : 5. Gr. A) : (4. Gr. B : 5. Gr. A)) : ((4. Gr. B : 5. Gr. A) : (4. Gr. B : 5. Gr. A))) : (((4. Gr. B : 5. Gr. A) : (4. Gr. B : 5. Gr. A)) : ((4. Gr. B : 5. Gr. A) : (4. Gr. B : 5. Gr. A)))))"},null,null,null,null,{"$f":"CHOOSE(SIGN(AS284-AS286)+2,AP284,\"(\"&AP284&\" : \"&AP286&\")\",AP286)","v":"((((((4. Gr. B : 5. Gr. A) : (4. Gr. B : 5. Gr. A)) : ((4. Gr. B : 5. Gr. A) : (4. Gr. B : 5. Gr. A))) : (((4. Gr. B : 5. Gr. A) : (4. Gr. B : 5. Gr. A)) : ((4. Gr. B : 5. Gr. A) : (4. Gr. B : 5. Gr. A)))) : ((((4. Gr. B : 5. Gr. A) : (4. Gr. B : 5. Gr. A)) : ((4. Gr. B : 5. Gr. A) : (4. Gr. B : 5. Gr. A))) : (((4. Gr. B : 5. Gr. A) : (4. Gr. B : 5. Gr. A)) : ((4. Gr. B : 5. Gr. A) : (4. Gr. B : 5. Gr. A))))) : (((((4. Gr. B : 5. Gr. A) : (4. Gr. B : 5. Gr. A)) : ((4. Gr. B : 5. Gr. A) : (4. Gr. B : 5. Gr. A))) : (((4. Gr. B : 5. Gr. A) : (4. Gr. B : 5. Gr. A)) : ((4. Gr. B : 5. Gr. A) : (4. Gr. B : 5. Gr. A)))) : ((((4. Gr. B : 5. Gr. A) : (4. Gr. B : 5. Gr. A)) : ((4. Gr. B : 5. Gr. A) : (4. Gr. B : 5. Gr. A))) : (((4. Gr. B : 5. Gr. A) : (4. Gr. B : 5. Gr. A)) : ((4. Gr. B : 5. Gr. A) : (4. Gr. B : 5. Gr. A))))))"}]
[null,null,null,null,null,null,null,null,null,null,null,null,null,null,{"$f":"INDEX(tbl_KO_Data[T2 Src Rank],K282) & \". Gr. \" & INDEX(tbl_KO_Data[T2 Src Group],K282)","v":"5. Gr. A"},null,null,null,null,null,null,null,null,null,null,null,null,null,null,null,null,null,null,null,null,null,null,null,null,null,null,null,null,null,null,null,null,null,null,null,null,68,{"$f":"IF(AX284>AX286,AU286,IF(AX284<AX286,AU284,\"\"))","v":""}]
[]
[]
[null,null,null,null,null,null,null,null,31,null,{"$f":"KO_Data_1row+INDEX(D290:I290,KO_Rounds_Ind)","v":295},null,null,null,null,null,"K_64_A31","field x","best of n",0,null,"K_32_B16","field x","best of n",0,null,"K_16_C08","field x","best of n",0,null,"K_08_E4","field x","best of n",0,null,"K_04_I2","field x","best of n",0,null,"K_02_R1","field x","best of n",0,null,"K_01_069","field x","best of n",0]
[null,null,null,null,null,null,null,null,null,null,null,null,null,null,{"$f":"INDEX(tbl_KO_Data[T1 Src Rank],K290) & \". Gr. \" & INDEX(tbl_KO_Data[T1 Src Group],K290)","v":"4. Gr. B"},null,null,null,null,null,null,null,null,null,null,null,null,null,null,null,null,null,null,null,null,null,null,null,null,null,null,null,null,null,null,null,null,null,null,null,null,69,{"$f":"IF(AX292>AX294,AU292,IF(AX292<AX294,AU294,\"\"))","v":""}]
[null,null,null,null,null,null,null,null,null,null,null,null,null,null,null,null,{"$f":"O291","v":"4. Gr. B"},null,null,null,null,{"$f":"CHOOSE(SIGN(T52-T54)+2,Q52,\"(\"&Q52&\" : \"&Q54&\")\",Q54)","v":"(1. Gr. B : 4. Gr. C)"},null,null,null,null,{"$f":"CHOOSE(SIGN(Y310-Y308)+2,V308,\"(\"&V308&\" : \"&V310&\")\",V310)","v":"((4. Gr. B : 5. Gr. A) : (4. Gr. B : 5. Gr. A))"},null,null,null,null,{"$f":"CHOOSE(SIGN(AD310-AD308)+2,AA308,\"(\"&AA308&\" : \"&AA310&\")\",AA310)","v":"(((4. Gr. B : 5. Gr. A) : (4. Gr. B : 5. Gr. A)) : ((4. Gr. B : 5. Gr. A) : (4. Gr. B : 5. Gr. A)))"},null,null,null,null,{"$f":"CHOOSE(SIGN(AI310-AI308)+2,AF308,\"(\"&AF308&\" : \"&AF310&\")\",AF310)","v":"((((4. Gr. B : 5. Gr. A) : (4. Gr. B : 5. Gr. A)) : ((4. Gr. B : 5. Gr. A) : (4. Gr. B : 5. Gr. A))) : (((4. Gr. B : 5. Gr. A) : (4. Gr. B : 5. Gr. A)) : ((4. Gr. B : 5. Gr. A) : (4. Gr. B : 5. Gr. A))))"},null,null,null,null,{"$f":"CHOOSE(SIGN(AN276-AN278)+2,AK276,\"(\"&AK276&\" : \"&AK278&\")\",AK278)","v":"(((((1. Gr. A : 4. Gr. B) : (2. Gr. D : 3. Gr. C)) : ((1. Gr. C : 4. Gr. D) : (2. Gr. B : 3. Gr. A))) : (((1. Gr. B : 4. Gr. C) : (2. Gr. A : 3. Gr. D)) : ((1. Gr. D : 4. Gr. A) : (2. Gr. C : 3. Gr. B)))) : ((((4. Gr. B : 5. Gr. A) : (4. Gr. B : 5. Gr. A)) : ((4. Gr. B : 5. Gr. A) : (4. Gr. B : 5. Gr. A))) : (((4. Gr. B : 5. Gr. A) : (4. Gr. B : 5. Gr. A)) : ((4. Gr. B : 5. Gr. A) : (4. Gr. B : 5. Gr. A)))))"},null,null,null,null,{"$f":"CHOOSE(SIGN(AS294-AS292)+2,AP292,\"(\"&AP292&\" : \"&AP294&\")\",AP294)","v":"((((((1. Gr. A : 4. Gr. B) : (2. Gr. D : 3. Gr. C)) : ((1. Gr. C : 4. Gr. D) : (2. Gr. B : 3. Gr. A))) : (((1. Gr. B : 4. Gr. C) : (2. Gr. A : 3. Gr. D)) : ((1. Gr. D : 4. Gr. A) : (2. Gr. C : 3. Gr. B)))) : ((((4. Gr. B : 5. Gr. A) : (4. Gr. B : 5. Gr. A)) : ((4. Gr. B : 5. Gr. A) : (4. Gr. B : 5. Gr. A))) : (((4. Gr. B : 5. Gr. A) : (4. Gr. B : 5. Gr. A)) : ((4. Gr. B : 5. Gr. A) : (4. Gr. B : 5. Gr. A))))) : (((((4. Gr. B : 5. Gr. A) : (4. Gr. B : 5. Gr. A)) : ((4. Gr. B : 5. Gr. A) : (4. Gr. B : 5. Gr. A))) : (((4. Gr. B : 5. Gr. A) : (4. Gr. B : 5. Gr. A)) : ((4. Gr. B : 5. Gr. A) : (4. Gr. B : 5. Gr. A)))) : ((((4. Gr. B : 5. Gr. A) : (4. Gr. B : 5. Gr. A)) : ((4. Gr. B : 5. Gr. A) : (4. Gr. B : 5. Gr. A))) : (((4. Gr. B : 5. Gr. A) : (4. Gr. B : 5. Gr. A)) : ((4. Gr. B : 5. Gr. A) : (4. Gr. B : 5. Gr. A))))))"}]
[]
[null,null,null,null,null,null,null,null,null,null,null,null,null,null,null,null,{"$f":"O295","v":"5. Gr. A"},null,null,null,null,{"$f":"CHOOSE(SIGN(T60-T62)+2,Q60,\"(\"&Q60&\" : \"&Q62&\")\",Q62)","v":"(2. Gr. A : 3. Gr. D)"},null,null,null,null,{"$f":"CHOOSE(SIGN(Y318-Y316)+2,V316,\"(\"&V316&\" : \"&V318&\")\",V318)","v":"((4. Gr. B : 5. Gr. A) : (4. Gr. B : 5. Gr. A))"},null,null,null,null,{"$f":"CHOOSE(SIGN(AD318-AD316)+2,AA316,\"(\"&AA316&\" : \"&AA318&\")\",AA318)","v":"(((4. Gr. B : 5. Gr. A) : (4. Gr. B : 5. Gr. A)) : ((4. Gr. B : 5. Gr. A) : (4. Gr. B : 5. Gr. A)))"},null,null,null,null,{"$f":"CHOOSE(SIGN(AI318-AI316)+2,AF316,\"(\"&AF316&\" : \"&AF318&\")\",AF318)","v":"((((4. Gr. B : 5. Gr. A) : (4. Gr. B : 5. Gr. A)) : ((4. Gr. B : 5. Gr. A) : (4. Gr. B : 5. Gr. A))) : (((4. Gr. B : 5. Gr. A) : (4. Gr. B : 5. Gr. A)) : ((4. Gr. B : 5. Gr. A) : (4. Gr. B : 5. Gr. A))))"},null,null,null,null,{"$f":"CHOOSE(SIGN(AN284-AN286)+2,AK284,\"(\"&AK284&\" : \"&AK286&\")\",AK286)","v":"(((((4. Gr. B : 5. Gr. A) : (4. Gr. B : 5. Gr. A)) : ((4. Gr. B : 5. Gr. A) : (4. Gr. B : 5. Gr. A))) : (((4. Gr. B : 5. Gr. A) : (4. Gr. B : 5. Gr. A)) : ((4. Gr. B : 5. Gr. A) : (4. Gr. B : 5. Gr. A)))) : ((((4. Gr. B : 5. Gr. A) : (4. Gr. B : 5. Gr. A)) : ((4. Gr. B : 5. Gr. A) : (4. Gr. B : 5. Gr. A))) : (((4. Gr. B : 5. Gr. A) : (4. Gr. B : 5. Gr. A)) : ((4. Gr. B : 5. Gr. A) : (4. Gr. B : 5. Gr. A)))))"},null,null,null,null,{"$f":"CHOOSE(SIGN(AS302-AS300)+2,AP300,\"(\"&AP300&\" : \"&AP302&\")\",AP302)","v":"((((((4. Gr. B : 5. Gr. A) : (4. Gr. B : 5. Gr. A)) : ((4. Gr. B : 5. Gr. A) : (4. Gr. B : 5. Gr. A))) : (((4. Gr. B : 5. Gr. A) : (4. Gr. B : 5. Gr. A)) : ((4. Gr. B : 5. Gr. A) : (4. Gr. B : 5. Gr. A)))) : ((((4. Gr. B : 5. Gr. A) : (4. Gr. B : 5. Gr. A)) : ((4. Gr. B : 5. Gr. A) : (4. Gr. B : 5. Gr. A))) : (((4. Gr. B : 5. Gr. A) : (4. Gr. B : 5. Gr. A)) : ((4. Gr. B : 5. Gr. A) : (4. Gr. B : 5. Gr. A))))) : (((((4. Gr. B : 5. Gr. A) : (4. Gr. B : 5. Gr. A)) : ((4. Gr. B : 5. Gr. A) : (4. Gr. B : 5. Gr. A))) : (((4. Gr. B : 5. Gr. A) : (4. Gr. B : 5. Gr. A)) : ((4. Gr. B : 5. Gr. A) : (4. Gr. B : 5. Gr. A)))) : ((((4. Gr. B : 5. Gr. A) : (4. Gr. B : 5. Gr. A)) : ((4. Gr. B : 5. Gr. A) : (4. Gr. B : 5. Gr. A))) : (((4. Gr. B : 5. Gr. A) : (4. Gr. B : 5. Gr. A)) : ((4. Gr. B : 5. Gr. A) : (4. Gr. B : 5. Gr. A))))))"}]
[null,null,null,null,null,null,null,null,null,null,null,null,null,null,{"$f":"INDEX(tbl_KO_Data[T2 Src Rank],K290) & \". Gr. \" & INDEX(tbl_KO_Data[T2 Src Group],K290)","v":"5. Gr. A"},null,null,null,null,null,null,null,null,null,null,null,null,null,null,null,null,null,null,null,null,null,null,null,null,null,null,null,null,null,null,null,null,null,null,null,null,70,{"$f":"IF(AX292>AX294,AU294,IF(AX292<AX294,AU292,\"\"))","v":""}]
[]
[]
[null,null,null,null,null,null,null,null,34,null,{"$f":"KO_Data_1row+INDEX(D298:I298,KO_Rounds_Ind)","v":295},null,null,null,null,null,"K_64_A34","field x","best of n",0,null,"K_32_B17","field x","best of n",0,null,"K_16_C09","field x","best of n",0,null,"K_08_E5","field x","best of n",0,null,"K_04_I3","field x","best of n",0,null,"K_02_R2","field x","best of n",0,null,"K_01_071","field x","best of n",0]
[null,null,null,null,null,null,null,null,null,null,null,null,null,null,{"$f":"INDEX(tbl_KO_Data[T1 Src Rank],K298) & \". Gr. \" & INDEX(tbl_KO_Data[T1 Src Group],K298)","v":"4. Gr. B"},null,null,null,null,null,null,null,null,null,null,null,null,null,null,null,null,null,null,null,null,null,null,null,null,null,null,null,null,null,null,null,null,null,null,null,null,71,{"$f":"IF(AX300>AX302,AU300,IF(AX300<AX302,AU302,\"\"))","v":""}]
[null,null,null,null,null,null,null,null,null,null,null,null,null,null,null,null,{"$f":"O299","v":"4. Gr. B"},null,null,null,null,{"$f":"CHOOSE(SIGN(T68-T70)+2,Q68,\"(\"&Q68&\" : \"&Q70&\")\",Q70)","v":"(1. Gr. D : 4. Gr. A)"},null,null,null,null,{"$f":"CHOOSE(SIGN(Y326-Y324)+2,V324,\"(\"&V324&\" : \"&V326&\")\",V326)","v":"((4. Gr. B : 5. Gr. A) : (4. Gr. B : 5. Gr. A))"},null,null,null,null,{"$f":"CHOOSE(SIGN(AD326-AD324)+2,AA324,\"(\"&AA324&\" : \"&AA326&\")\",AA326)","v":"(((4. Gr. B : 5. Gr. A) : (4. Gr. B : 5. Gr. A)) : ((4. Gr. B : 5. Gr. A) : (4. Gr. B : 5. Gr. A)))"},null,null,null,null,{"$f":"CHOOSE(SIGN(AI326-AI324)+2,AF324,\"(\"&AF324&\" : \"&AF326&\")\",AF326)","v":"((((4. Gr. B : 5. Gr. A) : (4. Gr. B : 5. Gr. A)) : ((4. Gr. B : 5. Gr. A) : (4. Gr. B : 5. Gr. A))) : (((4. Gr. B : 5. Gr. A) : (4. Gr. B : 5. Gr. A)) : ((4. Gr. B : 5. Gr. A) : (4. Gr. B : 5. Gr. A))))"},null,null,null,null,{"$f":"CHOOSE(SIGN(AN292-AN294)+2,AK292,\"(\"&AK292&\" : \"&AK294&\")\",AK294)","v":"(((((4. Gr. B : 5. Gr. A) : (4. Gr. B : 5. Gr. A)) : ((4. Gr. B : 5. Gr. A) : (4. Gr. B : 5. Gr. A))) : (((4. Gr. B : 5. Gr. A) : (4. Gr. B : 5. Gr. A)) : ((4. Gr. B : 5. Gr. A) : (4. Gr. B : 5. Gr. A)))) : ((((4. Gr. B : 5. Gr. A) : (4. Gr. B : 5. Gr. A)) : ((4. Gr. B : 5. Gr. A) : (4. Gr. B : 5. Gr. A))) : (((4. Gr. B : 5. Gr. A) : (4. Gr. B : 5. Gr. A)) : ((4. Gr. B : 5. Gr. A) : (4. Gr. B : 5. Gr. A)))))"},null,null,null,null,{"$f":"CHOOSE(SIGN(AS292-AS294)+2,AP292,\"(\"&AP292&\" : \"&AP294&\")\",AP294)","v":"((((((1. Gr. A : 4. Gr. B) : (2. Gr. D : 3. Gr. C)) : ((1. Gr. C : 4. Gr. D) : (2. Gr. B : 3. Gr. A))) : (((1. Gr. B : 4. Gr. C) : (2. Gr. A : 3. Gr. D)) : ((1. Gr. D : 4. Gr. A) : (2. Gr. C : 3. Gr. B)))) : ((((4. Gr. B : 5. Gr. A) : (4. Gr. B : 5. Gr. A)) : ((4. Gr. B : 5. Gr. A) : (4. Gr. B : 5. Gr. A))) : (((4. Gr. B : 5. Gr. A) : (4. Gr. B : 5. Gr. A)) : ((4. Gr. B : 5. Gr. A) : (4. Gr. B : 5. Gr. A))))) : (((((4. Gr. B : 5. Gr. A) : (4. Gr. B : 5. Gr. A)) : ((4. Gr. B : 5. Gr. A) : (4. Gr. B : 5. Gr. A))) : (((4. Gr. B : 5. Gr. A) : (4. Gr. B : 5. Gr. A)) : ((4. Gr. B : 5. Gr. A) : (4. Gr. B : 5. Gr. A)))) : ((((4. Gr. B : 5. Gr. A) : (4. Gr. B : 5. Gr. A)) : ((4. Gr. B : 5. Gr. A) : (4. Gr. B : 5. Gr. A))) : (((4. Gr. B : 5. Gr. A) : (4. Gr. B : 5. Gr. A)) : ((4. Gr. B : 5. Gr. A) : (4. Gr. B : 5. Gr. A))))))"}]
[]
[null,null,null,null,null,null,null,null,null,null,null,null,null,null,null,null,{"$f":"O303","v":"5. Gr. A"},null,null,null,null,{"$f":"CHOOSE(SIGN(T76-T78)+2,Q76,\"(\"&Q76&\" : \"&Q78&\")\",Q78)","v":"(2. Gr. C : 3. Gr. B)"},null,null,null,null,{"$f":"CHOOSE(SIGN(Y334-Y332)+2,V332,\"(\"&V332&\" : \"&V334&\")\",V334)","v":"((4. Gr. B : 5. Gr. A) : (4. Gr. B : 5. Gr. A))"},null,null,null,null,{"$f":"CHOOSE(SIGN(AD334-AD332)+2,AA332,\"(\"&AA332&\" : \"&AA334&\")\",AA334)","v":"(((4. Gr. B : 5. Gr. A) : (4. Gr. B : 5. Gr. A)) : ((4. Gr. B : 5. Gr. A) : (4. Gr. B : 5. Gr. A)))"},null,null,null,null,{"$f":"CHOOSE(SIGN(AI334-AI332)+2,AF332,\"(\"&AF332&\" : \"&AF334&\")\",AF334)","v":"((((4. Gr. B : 5. Gr. A) : (4. Gr. B : 5. Gr. A)) : ((4. Gr. B : 5. Gr. A) : (4. Gr. B : 5. Gr. A))) : (((4. Gr. B : 5. Gr. A) : (4. Gr. B : 5. Gr. A)) : ((4. Gr. B : 5. Gr. A) : (4. Gr. B : 5. Gr. A))))"},null,null,null,null,{"$f":"CHOOSE(SIGN(AN300-AN302)+2,AK300,\"(\"&AK300&\" : \"&AK302&\")\",AK302)","v":"(((((4. Gr. B : 5. Gr. A) : (4. Gr. B : 5. Gr. A)) : ((4. Gr. B : 5. Gr. A) : (4. Gr. B : 5. Gr. A))) : (((4. Gr. B : 5. Gr. A) : (4. Gr. B : 5. Gr. A)) : ((4. Gr. B : 5. Gr. A) : (4. Gr. B : 5. Gr. A)))) : ((((4. Gr. B : 5. Gr. A) : (4. Gr. B : 5. Gr. A)) : ((4. Gr. B : 5. Gr. A) : (4. Gr. B : 5. Gr. A))) : (((4. Gr. B : 5. Gr. A) : (4. Gr. B : 5. Gr. A)) : ((4. Gr. B : 5. Gr. A) : (4. Gr. B : 5. Gr. A)))))"},null,null,null,null,{"$f":"CHOOSE(SIGN(AS300-AS302)+2,AP300,\"(\"&AP300&\" : \"&AP302&\")\",AP302)","v":"((((((4. Gr. B : 5. Gr. A) : (4. Gr. B : 5. Gr. A)) : ((4. Gr. B : 5. Gr. A) : (4. Gr. B : 5. Gr. A))) : (((4. Gr. B : 5. Gr. A) : (4. Gr. B : 5. Gr. A)) : ((4. Gr. B : 5. Gr. A) : (4. Gr. B : 5. Gr. A)))) : ((((4. Gr. B : 5. Gr. A) : (4. Gr. B : 5. Gr. A)) : ((4. Gr. B : 5. Gr. A) : (4. Gr. B : 5. Gr. A))) : (((4. Gr. B : 5. Gr. A) : (4. Gr. B : 5. Gr. A)) : ((4. Gr. B : 5. Gr. A) : (4. Gr. B : 5. Gr. A))))) : (((((4. Gr. B : 5. Gr. A) : (4. Gr. B : 5. Gr. A)) : ((4. Gr. B : 5. Gr. A) : (4. Gr. B : 5. Gr. A))) : (((4. Gr. B : 5. Gr. A) : (4. Gr. B : 5. Gr. A)) : ((4. Gr. B : 5. Gr. A) : (4. Gr. B : 5. Gr. A)))) : ((((4. Gr. B : 5. Gr. A) : (4. Gr. B : 5. Gr. A)) : ((4. Gr. B : 5. Gr. A) : (4. Gr. B : 5. Gr. A))) : (((4. Gr. B : 5. Gr. A) : (4. Gr. B : 5. Gr. A)) : ((4. Gr. B : 5. Gr. A) : (4. Gr. B : 5. Gr. A))))))"}]
[null,null,null,null,null,null,null,null,null,null,null,null,null,null,{"$f":"INDEX(tbl_KO_Data[T2 Src Rank],K298) & \". Gr. \" & INDEX(tbl_KO_Data[T2 Src Group],K298)","v":"5. Gr. A"},null,null,null,null,null,null,null,null,null,null,null,null,null,null,null,null,null,null,null,null,null,null,null,null,null,null,null,null,null,null,null,null,null,null,null,null,72,{"$f":"IF(AX300>AX302,AU302,IF(AX300<AX302,AU300,\"\"))","v":""}]
[]
[]
[null,null,null,null,null,null,null,null,15,null,{"$f":"KO_Data_1row+INDEX(D306:I306,KO_Rounds_Ind)","v":295},null,null,null,null,null,"K_64_A15","field x","best of n",0,null,"K_32_B08","field x","best of n",0,null,"K_16_C04","field x","best of n",0,null,"K_08_E2","field x","best of n",0,null,"K_04_J1","field x","best of n",0,null,"K_02_S1","field x","best of n",0,null,"K_01_073","field x","best of n",0]
[null,null,null,null,null,null,null,null,null,null,null,null,null,null,{"$f":"INDEX(tbl_KO_Data[T1 Src Rank],K306) & \". Gr. \" & INDEX(tbl_KO_Data[T1 Src Group],K306)","v":"4. Gr. B"},null,null,null,null,null,null,null,null,null,null,null,null,null,null,null,null,null,null,null,null,null,null,null,null,null,null,null,null,null,null,null,null,null,null,null,null,73,{"$f":"IF(AX308>AX310,AU308,IF(AX308<AX310,AU310,\"\"))","v":""}]
[null,null,null,null,null,null,null,null,null,null,null,null,null,null,null,null,{"$f":"O307","v":"4. Gr. B"},null,null,null,null,{"$f":"CHOOSE(SIGN(T84-T86)+2,Q84,\"(\"&Q84&\" : \"&Q86&\")\",Q86)","v":"(4. Gr. B : 5. Gr. A)"},null,null,null,null,{"$f":"CHOOSE(SIGN(Y342-Y340)+2,V340,\"(\"&V340&\" : \"&V342&\")\",V342)","v":"((4. Gr. B : 5. Gr. A) : (4. Gr. B : 5. Gr. A))"},null,null,null,null,{"$f":"CHOOSE(SIGN(AD342-AD340)+2,AA340,\"(\"&AA340&\" : \"&AA342&\")\",AA342)","v":"(((4. Gr. B : 5. Gr. A) : (4. Gr. B : 5. Gr. A)) : ((4. Gr. B : 5. Gr. A) : (4. Gr. B : 5. Gr. A)))"},null,null,null,null,{"$f":"CHOOSE(SIGN(AI276-AI278)+2,AF276,\"(\"&AF276&\" : \"&AF278&\")\",AF278)","v":"((((1. Gr. A : 4. Gr. B) : (2. Gr. D : 3. Gr. C)) : ((1. Gr. C : 4. Gr. D) : (2. Gr. B : 3. Gr. A))) : (((1. Gr. B : 4. Gr. C) : (2. Gr. A : 3. Gr. D)) : ((1. Gr. D : 4. Gr. A) : (2. Gr. C : 3. Gr. B))))"},null,null,null,null,{"$f":"CHOOSE(SIGN(AN310-AN308)+2,AK308,\"(\"&AK308&\" : \"&AK310&\")\",AK310)","v":"(((((1. Gr. A : 4. Gr. B) : (2. Gr. D : 3. Gr. C)) : ((1. Gr. C : 4. Gr. D) : (2. Gr. B : 3. Gr. A))) : (((1. Gr. B : 4. Gr. C) : (2. Gr. A : 3. Gr. D)) : ((1. Gr. D : 4. Gr. A) : (2. Gr. C : 3. Gr. B)))) : ((((4. Gr. B : 5. Gr. A) : (4. Gr. B : 5. Gr. A)) : ((4. Gr. B : 5. Gr. A) : (4. Gr. B : 5. Gr. A))) : (((4. Gr. B : 5. Gr. A) : (4. Gr. B : 5. Gr. A)) : ((4. Gr. B : 5. Gr. A) : (4. Gr. B : 5. Gr. A)))))"},null,null,null,null,{"$f":"CHOOSE(SIGN(AS310-AS308)+2,AP308,\"(\"&AP308&\" : \"&AP310&\")\",AP310)","v":"((((((1. Gr. A : 4. Gr. B) : (2. Gr. D : 3. Gr. C)) : ((1. Gr. C : 4. Gr. D) : (2. Gr. B : 3. Gr. A))) : (((1. Gr. B : 4. Gr. C) : (2. Gr. A : 3. Gr. D)) : ((1. Gr. D : 4. Gr. A) : (2. Gr. C : 3. Gr. B)))) : ((((4. Gr. B : 5. Gr. A) : (4. Gr. B : 5. Gr. A)) : ((4. Gr. B : 5. Gr. A) : (4. Gr. B : 5. Gr. A))) : (((4. Gr. B : 5. Gr. A) : (4. Gr. B : 5. Gr. A)) : ((4. Gr. B : 5. Gr. A) : (4. Gr. B : 5. Gr. A))))) : (((((4. Gr. B : 5. Gr. A) : (4. Gr. B : 5. Gr. A)) : ((4. Gr. B : 5. Gr. A) : (4. Gr. B : 5. Gr. A))) : (((4. Gr. B : 5. Gr. A) : (4. Gr. B : 5. Gr. A)) : ((4. Gr. B : 5. Gr. A) : (4. Gr. B : 5. Gr. A)))) : ((((4. Gr. B : 5. Gr. A) : (4. Gr. B : 5. Gr. A)) : ((4. Gr. B : 5. Gr. A) : (4. Gr. B : 5. Gr. A))) : (((4. Gr. B : 5. Gr. A) : (4. Gr. B : 5. Gr. A)) : ((4. Gr. B : 5. Gr. A) : (4. Gr. B : 5. Gr. A))))))"}]
[]
[null,null,null,null,null,null,null,null,null,null,null,null,null,null,null,null,{"$f":"O311","v":"5. Gr. A"},null,null,null,null,{"$f":"CHOOSE(SIGN(T92-T94)+2,Q92,\"(\"&Q92&\" : \"&Q94&\")\",Q94)","v":"(4. Gr. B : 5. Gr. A)"},null,null,null,null,{"$f":"CHOOSE(SIGN(Y350-Y348)+2,V348,\"(\"&V348&\" : \"&V350&\")\",V350)","v":"((4. Gr. B : 5. Gr. A) : (4. Gr. B : 5. Gr. A))"},null,null,null,null,{"$f":"CHOOSE(SIGN(AD350-AD348)+2,AA348,\"(\"&AA348&\" : \"&AA350&\")\",AA350)","v":"(((4. Gr. B : 5. Gr. A) : (4. Gr. B : 5. Gr. A)) : ((4. Gr. B : 5. Gr. A) : (4. Gr. B : 5. Gr. A)))"},null,null,null,null,{"$f":"CHOOSE(SIGN(AI284-AI286)+2,AF284,\"(\"&AF284&\" : \"&AF286&\")\",AF286)","v":"((((4. Gr. B : 5. Gr. A) : (4. Gr. B : 5. Gr. A)) : ((4. Gr. B : 5. Gr. A) : (4. Gr. B : 5. Gr. A))) : (((4. Gr. B : 5. Gr. A) : (4. Gr. B : 5. Gr. A)) : ((4. Gr. B : 5. Gr. A) : (4. Gr. B : 5. Gr. A))))"},null,null,null,null,{"$f":"CHOOSE(SIGN(AN318-AN316)+2,AK316,\"(\"&AK316&\" : \"&AK318&\")\",AK318)","v":"(((((4. Gr. B : 5. Gr. A) : (4. Gr. B : 5. Gr. A)) : ((4. Gr. B : 5. Gr. A) : (4. Gr. B : 5. Gr. A))) : (((4. Gr. B : 5. Gr. A) : (4. Gr. B : 5. Gr. A)) : ((4. Gr. B : 5. Gr. A) : (4. Gr. B : 5. Gr. A)))) : ((((4. Gr. B : 5. Gr. A) : (4. Gr. B : 5. Gr. A)) : ((4. Gr. B : 5. Gr. A) : (4. Gr. B : 5. Gr. A))) : (((4. Gr. B : 5. Gr. A) : (4. Gr. B : 5. Gr. A)) : ((4. Gr. B : 5. Gr. A) : (4. Gr. B : 5. Gr. A)))))"},null,null,null,null,{"$f":"CHOOSE(SIGN(AS318-AS316)+2,AP316,\"(\"&AP316&\" : \"&AP318&\")\",AP318)","v":"((((((4. Gr. B : 5. Gr. A) : (4. Gr. B : 5. Gr. A)) : ((4. Gr. B : 5. Gr. A) : (4. Gr. B : 5. Gr. A))) : (((4. Gr. B : 5. Gr. A) : (4. Gr. B : 5. Gr. A)) : ((4. Gr. B : 5. Gr. A) : (4. Gr. B : 5. Gr. A)))) : ((((4. Gr. B : 5. Gr. A) : (4. Gr. B : 5. Gr. A)) : ((4. Gr. B : 5. Gr. A) : (4. Gr. B : 5. Gr. A))) : (((4. Gr. B : 5. Gr. A) : (4. Gr. B : 5. Gr. A)) : ((4. Gr. B : 5. Gr. A) : (4. Gr. B : 5. Gr. A))))) : (((((4. Gr. B : 5. Gr. A) : (4. Gr. B : 5. Gr. A)) : ((4. Gr. B : 5. Gr. A) : (4. Gr. B : 5. Gr. A))) : (((4. Gr. B : 5. Gr. A) : (4. Gr. B : 5. Gr. A)) : ((4. Gr. B : 5. Gr. A) : (4. Gr. B : 5. Gr. A)))) : ((((4. Gr. B : 5. Gr. A) : (4. Gr. B : 5. Gr. A)) : ((4. Gr. B : 5. Gr. A) : (4. Gr. B : 5. Gr. A))) : (((4. Gr. B : 5. Gr. A) : (4. Gr. B : 5. Gr. A)) : ((4. Gr. B : 5. Gr. A) : (4. Gr. B : 5. Gr. A))))))"}]
[null,null,null,null,null,null,null,null,null,null,null,null,null,null,{"$f":"INDEX(tbl_KO_Data[T2 Src Rank],K306) & \". Gr. \" & INDEX(tbl_KO_Data[T2 Src Group],K306)","v":"5. Gr. A"},null,null,null,null,null,null,null,null,null,null,null,null,null,null,null,null,null,null,null,null,null,null,null,null,null,null,null,null,null,null,null,null,null,null,null,null,74,{"$f":"IF(AX308>AX310,AU310,IF(AX308<AX310,AU308,\"\"))","v":""}]
[]
[]
[null,null,null,null,null,null,null,null,50,null,{"$f":"KO_Data_1row+INDEX(D314:I314,KO_Rounds_Ind)","v":295},null,null,null,null,null,"K_64_A50","field x","best of n",0,null,"K_32_B25","field x","best of n",0,null,"K_16_C13","field x","best of n",0,null,"K_08_E7","field x","best of n",0,null,"K_04_J4","field x","best of n",0,null,"K_02_S2","field x","best of n",0,null,"K_01_075","field x","best of n",0]
[null,null,null,null,null,null,null,null,null,null,null,null,null,null,{"$f":"INDEX(tbl_KO_Data[T1 Src Rank],K314) & \". Gr. \" & INDEX(tbl_KO_Data[T1 Src Group],K314)","v":"4. Gr. B"},null,null,null,null,null,null,null,null,null,null,null,null,null,null,null,null,null,null,null,null,null,null,null,null,null,null,null,null,null,null,null,null,null,null,null,null,75,{"$f":"IF(AX316>AX318,AU316,IF(AX316<AX318,AU318,\"\"))","v":""}]
[null,null,null,null,null,null,null,null,null,null,null,null,null,null,null,null,{"$f":"O315","v":"4. Gr. B"},null,null,null,null,{"$f":"CHOOSE(SIGN(T100-T102)+2,Q100,\"(\"&Q100&\" : \"&Q102&\")\",Q102)","v":"(4. Gr. B : 5. Gr. A)"},null,null,null,null,{"$f":"CHOOSE(SIGN(Y358-Y356)+2,V356,\"(\"&V356&\" : \"&V358&\")\",V358)","v":"((4. Gr. B : 5. Gr. A) : (4. Gr. B : 5. Gr. A))"},null,null,null,null,{"$f":"CHOOSE(SIGN(AD358-AD356)+2,AA356,\"(\"&AA356&\" : \"&AA358&\")\",AA358)","v":"(((4. Gr. B : 5. Gr. A) : (4. Gr. B : 5. Gr. A)) : ((4. Gr. B : 5. Gr. A) : (4. Gr. B : 5. Gr. A)))"},null,null,null,null,{"$f":"CHOOSE(SIGN(AI292-AI294)+2,AF292,\"(\"&AF292&\" : \"&AF294&\")\",AF294)","v":"((((4. Gr. B : 5. Gr. A) : (4. Gr. B : 5. Gr. A)) : ((4. Gr. B : 5. Gr. A) : (4. Gr. B : 5. Gr. A))) : (((4. Gr. B : 5. Gr. A) : (4. Gr. B : 5. Gr. A)) : ((4. Gr. B : 5. Gr. A) : (4. Gr. B : 5. Gr. A))))"},null,null,null,null,{"$f":"CHOOSE(SIGN(AN326-AN324)+2,AK324,\"(\"&AK324&\" : \"&AK326&\")\",AK326)","v":"(((((4. Gr. B : 5. Gr. A) : (4. Gr. B : 5. Gr. A)) : ((4. Gr. B : 5. Gr. A) : (4. Gr. B : 5. Gr. A))) : (((4. Gr. B : 5. Gr. A) : (4. Gr. B : 5. Gr. A)) : ((4. Gr. B : 5. Gr. A) : (4. Gr. B : 5. Gr. A)))) : ((((4. Gr. B : 5. Gr. A) : (4. Gr. B : 5. Gr. A)) : ((4. Gr. B : 5. Gr. A) : (4. Gr. B : 5. Gr. A))) : (((4. Gr. B : 5. Gr. A) : (4. Gr. B : 5. Gr. A)) : ((4. Gr. B : 5. Gr. A) : (4. Gr. B : 5. Gr. A)))))"},null,null,null,null,{"$f":"CHOOSE(SIGN(AS308-AS310)+2,AP308,\"(\"&AP308&\" : \"&AP310&\")\",AP310)","v":"((((((1. Gr. A : 4. Gr. B) : (2. Gr. D : 3. Gr. C)) : ((1. Gr. C : 4. Gr. D) : (2. Gr. B : 3. Gr. A))) : (((1. Gr. B : 4. Gr. C) : (2. Gr. A : 3. Gr. D)) : ((1. Gr. D : 4. Gr. A) : (2. Gr. C : 3. Gr. B)))) : ((((4. Gr. B : 5. Gr. A) : (4. Gr. B : 5. Gr. A)) : ((4. Gr. B : 5. Gr. A) : (4. Gr. B : 5. Gr. A))) : (((4. Gr. B : 5. Gr. A) : (4. Gr. B : 5. Gr. A)) : ((4. Gr. B : 5. Gr. A) : (4. Gr. B : 5. Gr. A))))) : (((((4. Gr. B : 5. Gr. A) : (4. Gr. B : 5. Gr. A)) : ((4. Gr. B : 5. Gr. A) : (4. Gr. B : 5. Gr. A))) : (((4. Gr. B : 5. Gr. A) : (4. Gr. B : 5. Gr. A)) : ((4. Gr. B : 5. Gr. A) : (4. Gr. B : 5. Gr. A)))) : ((((4. Gr. B : 5. Gr. A) : (4. Gr. B : 5. Gr. A)) : ((4. Gr. B : 5. Gr. A) : (4. Gr. B : 5. Gr. A))) : (((4. Gr. B : 5. Gr. A) : (4. Gr. B : 5. Gr. A)) : ((4. Gr. B : 5. Gr. A) : (4. Gr. B : 5. Gr. A))))))"}]
[]
[null,null,null,null,null,null,null,null,null,null,null,null,null,null,null,null,{"$f":"O319","v":"5. Gr. A"},null,null,null,null,{"$f":"CHOOSE(SIGN(T108-T110)+2,Q108,\"(\"&Q108&\" : \"&Q110&\")\",Q110)","v":"(4. Gr. B : 5. Gr. A)"},null,null,null,null,{"$f":"CHOOSE(SIGN(Y366-Y364)+2,V364,\"(\"&V364&\" : \"&V366&\")\",V366)","v":"((4. Gr. B : 5. Gr. A) : (4. Gr. B : 5. Gr. A))"},null,null,null,null,{"$f":"CHOOSE(SIGN(AD366-AD364)+2,AA364,\"(\"&AA364&\" : \"&AA366&\")\",AA366)","v":"(((4. Gr. B : 5. Gr. A) : (4. Gr. B : 5. Gr. A)) : ((4. Gr. B : 5. Gr. A) : (4. Gr. B : 5. Gr. A)))"},null,null,null,null,{"$f":"CHOOSE(SIGN(AI300-AI302)+2,AF300,\"(\"&AF300&\" : \"&AF302&\")\",AF302)","v":"((((4. Gr. B : 5. Gr. A) : (4. Gr. B : 5. Gr. A)) : ((4. Gr. B : 5. Gr. A) : (4. Gr. B : 5. Gr. A))) : (((4. Gr. B : 5. Gr. A) : (4. Gr. B : 5. Gr. A)) : ((4. Gr. B : 5. Gr. A) : (4. Gr. B : 5. Gr. A))))"},null,null,null,null,{"$f":"CHOOSE(SIGN(AN334-AN332)+2,AK332,\"(\"&AK332&\" : \"&AK334&\")\",AK334)","v":"(((((4. Gr. B : 5. Gr. A) : (4. Gr. B : 5. Gr. A)) : ((4. Gr. B : 5. Gr. A) : (4. Gr. B : 5. Gr. A))) : (((4. Gr. B : 5. Gr. A) : (4. Gr. B : 5. Gr. A)) : ((4. Gr. B : 5. Gr. A) : (4. Gr. B : 5. Gr. A)))) : ((((4. Gr. B : 5. Gr. A) : (4. Gr. B : 5. Gr. A)) : ((4. Gr. B : 5. Gr. A) : (4. Gr. B : 5. Gr. A))) : (((4. Gr. B : 5. Gr. A) : (4. Gr. B : 5. Gr. A)) : ((4. Gr. B : 5. Gr. A) : (4. Gr. B : 5. Gr. A)))))"},null,null,null,null,{"$f":"CHOOSE(SIGN(AS316-AS318)+2,AP316,\"(\"&AP316&\" : \"&AP318&\")\",AP318)","v":"((((((4. Gr. B : 5. Gr. A) : (4. Gr. B : 5. Gr. A)) : ((4. Gr. B : 5. Gr. A) : (4. Gr. B : 5. Gr. A))) : (((4. Gr. B : 5. Gr. A) : (4. Gr. B : 5. Gr. A)) : ((4. Gr. B : 5. Gr. A) : (4. Gr. B : 5. Gr. A)))) : ((((4. Gr. B : 5. Gr. A) : (4. Gr. B : 5. Gr. A)) : ((4. Gr. B : 5. Gr. A) : (4. Gr. B : 5. Gr. A))) : (((4. Gr. B : 5. Gr. A) : (4. Gr. B : 5. Gr. A)) : ((4. Gr. B : 5. Gr. A) : (4. Gr. B : 5. Gr. A))))) : (((((4. Gr. B : 5. Gr. A) : (4. Gr. B : 5. Gr. A)) : ((4. Gr. B : 5. Gr. A) : (4. Gr. B : 5. Gr. A))) : (((4. Gr. B : 5. Gr. A) : (4. Gr. B : 5. Gr. A)) : ((4. Gr. B : 5. Gr. A) : (4. Gr. B : 5. Gr. A)))) : ((((4. Gr. B : 5. Gr. A) : (4. Gr. B : 5. Gr. A)) : ((4. Gr. B : 5. Gr. A) : (4. Gr. B : 5. Gr. A))) : (((4. Gr. B : 5. Gr. A) : (4. Gr. B : 5. Gr. A)) : ((4. Gr. B : 5. Gr. A) : (4. Gr. B : 5. Gr. A))))))"}]
[null,null,null,null,null,null,null,null,null,null,null,null,null,null,{"$f":"INDEX(tbl_KO_Data[T2 Src Rank],K314) & \". Gr. \" & INDEX(tbl_KO_Data[T2 Src Group],K314)","v":"5. Gr. A"},null,null,null,null,null,null,null,null,null,null,null,null,null,null,null,null,null,null,null,null,null,null,null,null,null,null,null,null,null,null,null,null,null,null,null,null,76,{"$f":"IF(AX316>AX318,AU318,IF(AX316<AX318,AU316,\"\"))","v":""}]
[]
[]
[null,null,null,null,null,null,null,null,18,null,{"$f":"KO_Data_1row+INDEX(D322:I322,KO_Rounds_Ind)","v":295},null,null,null,null,null,"K_64_A18","field x","best of n",0,null,"K_32_B09","field x","best of n",0,null,"K_16_C05","field x","best of n",0,null,"K_08_E3","field x","best of n",0,null,"K_04_J2","field x","best of n",0,null,"K_02_T1","field x","best of n",0,null,"K_01_077","field x","best of n",0]
[null,null,null,null,null,null,null,null,null,null,null,null,null,null,{"$f":"INDEX(tbl_KO_Data[T1 Src Rank],K322) & \". Gr. \" & INDEX(tbl_KO_Data[T1 Src Group],K322)","v":"4. Gr. B"},null,null,null,null,null,null,null,null,null,null,null,null,null,null,null,null,null,null,null,null,null,null,null,null,null,null,null,null,null,null,null,null,null,null,null,null,77,{"$f":"IF(AX324>AX326,AU324,IF(AX324<AX326,AU326,\"\"))","v":""}]
[null,null,null,null,null,null,null,null,null,null,null,null,null,null,null,null,{"$f":"O323","v":"4. Gr. B"},null,null,null,null,{"$f":"CHOOSE(SIGN(T116-T118)+2,Q116,\"(\"&Q116&\" : \"&Q118&\")\",Q118)","v":"(4. Gr. B : 5. Gr. A)"},null,null,null,null,{"$f":"CHOOSE(SIGN(Y374-Y372)+2,V372,\"(\"&V372&\" : \"&V374&\")\",V374)","v":"((4. Gr. B : 5. Gr. A) : (4. Gr. B : 5. Gr. A))"},null,null,null,null,{"$f":"CHOOSE(SIGN(AD374-AD372)+2,AA372,\"(\"&AA372&\" : \"&AA374&\")\",AA374)","v":"(((4. Gr. B : 5. Gr. A) : (4. Gr. B : 5. Gr. A)) : ((4. Gr. B : 5. Gr. A) : (4. Gr. B : 5. Gr. A)))"},null,null,null,null,{"$f":"CHOOSE(SIGN(AI308-AI310)+2,AF308,\"(\"&AF308&\" : \"&AF310&\")\",AF310)","v":"((((4. Gr. B : 5. Gr. A) : (4. Gr. B : 5. Gr. A)) : ((4. Gr. B : 5. Gr. A) : (4. Gr. B : 5. Gr. A))) : (((4. Gr. B : 5. Gr. A) : (4. Gr. B : 5. Gr. A)) : ((4. Gr. B : 5. Gr. A) : (4. Gr. B : 5. Gr. A))))"},null,null,null,null,{"$f":"CHOOSE(SIGN(AN308-AN310)+2,AK308,\"(\"&AK308&\" : \"&AK310&\")\",AK310)","v":"(((((1. Gr. A : 4. Gr. B) : (2. Gr. D : 3. Gr. C)) : ((1. Gr. C : 4. Gr. D) : (2. Gr. B : 3. Gr. A))) : (((1. Gr. B : 4. Gr. C) : (2. Gr. A : 3. Gr. D)) : ((1. Gr. D : 4. Gr. A) : (2. Gr. C : 3. Gr. B)))) : ((((4. Gr. B : 5. Gr. A) : (4. Gr. B : 5. Gr. A)) : ((4. Gr. B : 5. Gr. A) : (4. Gr. B : 5. Gr. A))) : (((4. Gr. B : 5. Gr. A) : (4. Gr. B : 5. Gr. A)) : ((4. Gr. B : 5. Gr. A) : (4. Gr. B : 5. Gr. A)))))"},null,null,null,null,{"$f":"CHOOSE(SIGN(AS326-AS324)+2,AP324,\"(\"&AP324&\" : \"&AP326&\")\",AP326)","v":"((((((1. Gr. A : 4. Gr. B) : (2. Gr. D : 3. Gr. C)) : ((1. Gr. C : 4. Gr. D) : (2. Gr. B : 3. Gr. A))) : (((1. Gr. B : 4. Gr. C) : (2. Gr. A : 3. Gr. D)) : ((1. Gr. D : 4. Gr. A) : (2. Gr. C : 3. Gr. B)))) : ((((4. Gr. B : 5. Gr. A) : (4. Gr. B : 5. Gr. A)) : ((4. Gr. B : 5. Gr. A) : (4. Gr. B : 5. Gr. A))) : (((4. Gr. B : 5. Gr. A) : (4. Gr. B : 5. Gr. A)) : ((4. Gr. B : 5. Gr. A) : (4. Gr. B : 5. Gr. A))))) : (((((4. Gr. B : 5. Gr. A) : (4. Gr. B : 5. Gr. A)) : ((4. Gr. B : 5. Gr. A) : (4. Gr. B : 5. Gr. A))) : (((4. Gr. B : 5. Gr. A) : (4. Gr. B : 5. Gr. A)) : ((4. Gr. B : 5. Gr. A) : (4. Gr. B : 5. Gr. A)))) : ((((4. Gr. B : 5. Gr. A) : (4. Gr. B : 5. Gr. A)) : ((4. Gr. B : 5. Gr. A) : (4. Gr. B : 5. Gr. A))) : (((4. Gr. B : 5. Gr. A) : (4. Gr. B : 5. Gr. A)) : ((4. Gr. B : 5. Gr. A) : (4. Gr. B : 5. Gr. A))))))"}]
[]
[null,null,null,null,null,null,null,null,null,null,null,null,null,null,null,null,{"$f":"O327","v":"5. Gr. A"},null,null,null,null,{"$f":"CHOOSE(SIGN(T124-T126)+2,Q124,\"(\"&Q124&\" : \"&Q126&\")\",Q126)","v":"(4. Gr. B : 5. Gr. A)"},null,null,null,null,{"$f":"CHOOSE(SIGN(Y382-Y380)+2,V380,\"(\"&V380&\" : \"&V382&\")\",V382)","v":"((4. Gr. B : 5. Gr. A) : (4. Gr. B : 5. Gr. A))"},null,null,null,null,{"$f":"CHOOSE(SIGN(AD382-AD380)+2,AA380,\"(\"&AA380&\" : \"&AA382&\")\",AA382)","v":"(((4. Gr. B : 5. Gr. A) : (4. Gr. B : 5. Gr. A)) : ((4. Gr. B : 5. Gr. A) : (4. Gr. B : 5. Gr. A)))"},null,null,null,null,{"$f":"CHOOSE(SIGN(AI316-AI318)+2,AF316,\"(\"&AF316&\" : \"&AF318&\")\",AF318)","v":"((((4. Gr. B : 5. Gr. A) : (4. Gr. B : 5. Gr. A)) : ((4. Gr. B : 5. Gr. A) : (4. Gr. B : 5. Gr. A))) : (((4. Gr. B : 5. Gr. A) : (4. Gr. B : 5. Gr. A)) : ((4. Gr. B : 5. Gr. A) : (4. Gr. B : 5. Gr. A))))"},null,null,null,null,{"$f":"CHOOSE(SIGN(AN316-AN318)+2,AK316,\"(\"&AK316&\" : \"&AK318&\")\",AK318)","v":"(((((4. Gr. B : 5. Gr. A) : (4. Gr. B : 5. Gr. A)) : ((4. Gr. B : 5. Gr. A) : (4. Gr. B : 5. Gr. A))) : (((4. Gr. B : 5. Gr. A) : (4. Gr. B : 5. Gr. A)) : ((4. Gr. B : 5. Gr. A) : (4. Gr. B : 5. Gr. A)))) : ((((4. Gr. B : 5. Gr. A) : (4. Gr. B : 5. Gr. A)) : ((4. Gr. B : 5. Gr. A) : (4. Gr. B : 5. Gr. A))) : (((4. Gr. B : 5. Gr. A) : (4. Gr. B : 5. Gr. A)) : ((4. Gr. B : 5. Gr. A) : (4. Gr. B : 5. Gr. A)))))"},null,null,null,null,{"$f":"CHOOSE(SIGN(AS334-AS332)+2,AP332,\"(\"&AP332&\" : \"&AP334&\")\",AP334)","v":"((((((4. Gr. B : 5. Gr. A) : (4. Gr. B : 5. Gr. A)) : ((4. Gr. B : 5. Gr. A) : (4. Gr. B : 5. Gr. A))) : (((4. Gr. B : 5. Gr. A) : (4. Gr. B : 5. Gr. A)) : ((4. Gr. B : 5. Gr. A) : (4. Gr. B : 5. Gr. A)))) : ((((4. Gr. B : 5. Gr. A) : (4. Gr. B : 5. Gr. A)) : ((4. Gr. B : 5. Gr. A) : (4. Gr. B : 5. Gr. A))) : (((4. Gr. B : 5. Gr. A) : (4. Gr. B : 5. Gr. A)) : ((4. Gr. B : 5. Gr. A) : (4. Gr. B : 5. Gr. A))))) : (((((4. Gr. B : 5. Gr. A) : (4. Gr. B : 5. Gr. A)) : ((4. Gr. B : 5. Gr. A) : (4. Gr. B : 5. Gr. A))) : (((4. Gr. B : 5. Gr. A) : (4. Gr. B : 5. Gr. A)) : ((4. Gr. B : 5. Gr. A) : (4. Gr. B : 5. Gr. A)))) : ((((4. Gr. B : 5. Gr. A) : (4. Gr. B : 5. Gr. A)) : ((4. Gr. B : 5. Gr. A) : (4. Gr. B : 5. Gr. A))) : (((4. Gr. B : 5. Gr. A) : (4. Gr. B : 5. Gr. A)) : ((4. Gr. B : 5. Gr. A) : (4. Gr. B : 5. Gr. A))))))"}]
[null,null,null,null,null,null,null,null,null,null,null,null,null,null,{"$f":"INDEX(tbl_KO_Data[T2 Src Rank],K322) & \". Gr. \" & INDEX(tbl_KO_Data[T2 Src Group],K322)","v":"5. Gr. A"},null,null,null,null,null,null,null,null,null,null,null,null,null,null,null,null,null,null,null,null,null,null,null,null,null,null,null,null,null,null,null,null,null,null,null,null,78,{"$f":"IF(AX324>AX326,AU326,IF(AX324<AX326,AU324,\"\"))","v":""}]
[]
[]
[null,null,null,null,null,null,null,null,47,null,{"$f":"KO_Data_1row+INDEX(D330:I330,KO_Rounds_Ind)","v":295},null,null,null,null,null,"K_64_A47","field x","best of n",0,null,"K_32_B24","field x","best of n",0,null,"K_16_C12","field x","best of n",0,null,"K_08_E6","field x","best of n",0,null,"K_04_J3","field x","best of n",0,null,"K_02_T2","field x","best of n",0,null,"K_01_079","field x","best of n",0]
[null,null,null,null,null,null,null,null,null,null,null,null,null,null,{"$f":"INDEX(tbl_KO_Data[T1 Src Rank],K330) & \". Gr. \" & INDEX(tbl_KO_Data[T1 Src Group],K330)","v":"4. Gr. B"},null,null,null,null,null,null,null,null,null,null,null,null,null,null,null,null,null,null,null,null,null,null,null,null,null,null,null,null,null,null,null,null,null,null,null,null,79,{"$f":"IF(AX332>AX334,AU332,IF(AX332<AX334,AU334,\"\"))","v":""}]
[null,null,null,null,null,null,null,null,null,null,null,null,null,null,null,null,{"$f":"O331","v":"4. Gr. B"},null,null,null,null,{"$f":"CHOOSE(SIGN(T132-T134)+2,Q132,\"(\"&Q132&\" : \"&Q134&\")\",Q134)","v":"(4. Gr. B : 5. Gr. A)"},null,null,null,null,{"$f":"CHOOSE(SIGN(Y390-Y388)+2,V388,\"(\"&V388&\" : \"&V390&\")\",V390)","v":"((4. Gr. B : 5. Gr. A) : (4. Gr. B : 5. Gr. A))"},null,null,null,null,{"$f":"CHOOSE(SIGN(AD390-AD388)+2,AA388,\"(\"&AA388&\" : \"&AA390&\")\",AA390)","v":"(((4. Gr. B : 5. Gr. A) : (4. Gr. B : 5. Gr. A)) : ((4. Gr. B : 5. Gr. A) : (4. Gr. B : 5. Gr. A)))"},null,null,null,null,{"$f":"CHOOSE(SIGN(AI324-AI326)+2,AF324,\"(\"&AF324&\" : \"&AF326&\")\",AF326)","v":"((((4. Gr. B : 5. Gr. A) : (4. Gr. B : 5. Gr. A)) : ((4. Gr. B : 5. Gr. A) : (4. Gr. B : 5. Gr. A))) : (((4. Gr. B : 5. Gr. A) : (4. Gr. B : 5. Gr. A)) : ((4. Gr. B : 5. Gr. A) : (4. Gr. B : 5. Gr. A))))"},null,null,null,null,{"$f":"CHOOSE(SIGN(AN324-AN326)+2,AK324,\"(\"&AK324&\" : \"&AK326&\")\",AK326)","v":"(((((4. Gr. B : 5. Gr. A) : (4. Gr. B : 5. Gr. A)) : ((4. Gr. B : 5. Gr. A) : (4. Gr. B : 5. Gr. A))) : (((4. Gr. B : 5. Gr. A) : (4. Gr. B : 5. Gr. A)) : ((4. Gr. B : 5. Gr. A) : (4. Gr. B : 5. Gr. A)))) : ((((4. Gr. B : 5. Gr. A) : (4. Gr. B : 5. Gr. A)) : ((4. Gr. B : 5. Gr. A) : (4. Gr. B : 5. Gr. A))) : (((4. Gr. B : 5. Gr. A) : (4. Gr. B : 5. Gr. A)) : ((4. Gr. B : 5. Gr. A) : (4. Gr. B : 5. Gr. A)))))"},null,null,null,null,{"$f":"CHOOSE(SIGN(AS324-AS326)+2,AP324,\"(\"&AP324&\" : \"&AP326&\")\",AP326)","v":"((((((1. Gr. A : 4. Gr. B) : (2. Gr. D : 3. Gr. C)) : ((1. Gr. C : 4. Gr. D) : (2. Gr. B : 3. Gr. A))) : (((1. Gr. B : 4. Gr. C) : (2. Gr. A : 3. Gr. D)) : ((1. Gr. D : 4. Gr. A) : (2. Gr. C : 3. Gr. B)))) : ((((4. Gr. B : 5. Gr. A) : (4. Gr. B : 5. Gr. A)) : ((4. Gr. B : 5. Gr. A) : (4. Gr. B : 5. Gr. A))) : (((4. Gr. B : 5. Gr. A) : (4. Gr. B : 5. Gr. A)) : ((4. Gr. B : 5. Gr. A) : (4. Gr. B : 5. Gr. A))))) : (((((4. Gr. B : 5. Gr. A) : (4. Gr. B : 5. Gr. A)) : ((4. Gr. B : 5. Gr. A) : (4. Gr. B : 5. Gr. A))) : (((4. Gr. B : 5. Gr. A) : (4. Gr. B : 5. Gr. A)) : ((4. Gr. B : 5. Gr. A) : (4. Gr. B : 5. Gr. A)))) : ((((4. Gr. B : 5. Gr. A) : (4. Gr. B : 5. Gr. A)) : ((4. Gr. B : 5. Gr. A) : (4. Gr. B : 5. Gr. A))) : (((4. Gr. B : 5. Gr. A) : (4. Gr. B : 5. Gr. A)) : ((4. Gr. B : 5. Gr. A) : (4. Gr. B : 5. Gr. A))))))"}]
[]
[null,null,null,null,null,null,null,null,null,null,null,null,null,null,null,null,{"$f":"O335","v":"5. Gr. A"},null,null,null,null,{"$f":"CHOOSE(SIGN(T140-T142)+2,Q140,\"(\"&Q140&\" : \"&Q142&\")\",Q142)","v":"(4. Gr. B : 5. Gr. A)"},null,null,null,null,{"$f":"CHOOSE(SIGN(Y398-Y396)+2,V396,\"(\"&V396&\" : \"&V398&\")\",V398)","v":"((4. Gr. B : 5. Gr. A) : (4. Gr. B : 5. Gr. A))"},null,null,null,null,{"$f":"CHOOSE(SIGN(AD398-AD396)+2,AA396,\"(\"&AA396&\" : \"&AA398&\")\",AA398)","v":"(((4. Gr. B : 5. Gr. A) : (4. Gr. B : 5. Gr. A)) : ((4. Gr. B : 5. Gr. A) : (4. Gr. B : 5. Gr. A)))"},null,null,null,null,{"$f":"CHOOSE(SIGN(AI332-AI334)+2,AF332,\"(\"&AF332&\" : \"&AF334&\")\",AF334)","v":"((((4. Gr. B : 5. Gr. A) : (4. Gr. B : 5. Gr. A)) : ((4. Gr. B : 5. Gr. A) : (4. Gr. B : 5. Gr. A))) : (((4. Gr. B : 5. Gr. A) : (4. Gr. B : 5. Gr. A)) : ((4. Gr. B : 5. Gr. A) : (4. Gr. B : 5. Gr. A))))"},null,null,null,null,{"$f":"CHOOSE(SIGN(AN332-AN334)+2,AK332,\"(\"&AK332&\" : \"&AK334&\")\",AK334)","v":"(((((4. Gr. B : 5. Gr. A) : (4. Gr. B : 5. Gr. A)) : ((4. Gr. B : 5. Gr. A) : (4. Gr. B : 5. Gr. A))) : (((4. Gr. B : 5. Gr. A) : (4. Gr. B : 5. Gr. A)) : ((4. Gr. B : 5. Gr. A) : (4. Gr. B : 5. Gr. A)))) : ((((4. Gr. B : 5. Gr. A) : (4. Gr. B : 5. Gr. A)) : ((4. Gr. B : 5. Gr. A) : (4. Gr. B : 5. Gr. A))) : (((4. Gr. B : 5. Gr. A) : (4. Gr. B : 5. Gr. A)) : ((4. Gr. B : 5. Gr. A) : (4. Gr. B : 5. Gr. A)))))"},null,null,null,null,{"$f":"CHOOSE(SIGN(AS332-AS334)+2,AP332,\"(\"&AP332&\" : \"&AP334&\")\",AP334)","v":"((((((4. Gr. B : 5. Gr. A) : (4. Gr. B : 5. Gr. A)) : ((4. Gr. B : 5. Gr. A) : (4. Gr. B : 5. Gr. A))) : (((4. Gr. B : 5. Gr. A) : (4. Gr. B : 5. Gr. A)) : ((4. Gr. B : 5. Gr. A) : (4. Gr. B : 5. Gr. A)))) : ((((4. Gr. B : 5. Gr. A) : (4. Gr. B : 5. Gr. A)) : ((4. Gr. B : 5. Gr. A) : (4. Gr. B : 5. Gr. A))) : (((4. Gr. B : 5. Gr. A) : (4. Gr. B : 5. Gr. A)) : ((4. Gr. B : 5. Gr. A) : (4. Gr. B : 5. Gr. A))))) : (((((4. Gr. B : 5. Gr. A) : (4. Gr. B : 5. Gr. A)) : ((4. Gr. B : 5. Gr. A) : (4. Gr. B : 5. Gr. A))) : (((4. Gr. B : 5. Gr. A) : (4. Gr. B : 5. Gr. A)) : ((4. Gr. B : 5. Gr. A) : (4. Gr. B : 5. Gr. A)))) : ((((4. Gr. B : 5. Gr. A) : (4. Gr. B : 5. Gr. A)) : ((4. Gr. B : 5. Gr. A) : (4. Gr. B : 5. Gr. A))) : (((4. Gr. B : 5. Gr. A) : (4. Gr. B : 5. Gr. A)) : ((4. Gr. B : 5. Gr. A) : (4. Gr. B : 5. Gr. A))))))"}]
[null,null,null,null,null,null,null,null,null,null,null,null,null,null,{"$f":"INDEX(tbl_KO_Data[T2 Src Rank],K330) & \". Gr. \" & INDEX(tbl_KO_Data[T2 Src Group],K330)","v":"5. Gr. A"},null,null,null,null,null,null,null,null,null,null,null,null,null,null,null,null,null,null,null,null,null,null,null,null,null,null,null,null,null,null,null,null,null,null,null,null,80,{"$f":"IF(AX332>AX334,AU334,IF(AX332<AX334,AU332,\"\"))","v":""}]
[]
[]
[null,null,null,null,null,null,null,null,7,null,{"$f":"KO_Data_1row+INDEX(D338:I338,KO_Rounds_Ind)","v":295},null,null,null,null,null,"K_64_A07","field x","best of n",0,null,"K_32_B04","field x","best of n",0,null,"K_16_C02","field x","best of n",0,null,"K_08_F1","field x","best of n",0,null,"K_04_K1","field x","best of n",0,null,"K_02_U1","field x","best of n",0,null,"K_01_081","field x","best of n",0]
[null,null,null,null,null,null,null,null,null,null,null,null,null,null,{"$f":"INDEX(tbl_KO_Data[T1 Src Rank],K338) & \". Gr. \" & INDEX(tbl_KO_Data[T1 Src Group],K338)","v":"4. Gr. B"},null,null,null,null,null,null,null,null,null,null,null,null,null,null,null,null,null,null,null,null,null,null,null,null,null,null,null,null,null,null,null,null,null,null,null,null,81,{"$f":"IF(AX340>AX342,AU340,IF(AX340<AX342,AU342,\"\"))","v":""}]
[null,null,null,null,null,null,null,null,null,null,null,null,null,null,null,null,{"$f":"O339","v":"4. Gr. B"},null,null,null,null,{"$f":"CHOOSE(SIGN(T148-T150)+2,Q148,\"(\"&Q148&\" : \"&Q150&\")\",Q150)","v":"(4. Gr. B : 5. Gr. A)"},null,null,null,null,{"$f":"CHOOSE(SIGN(Y406-Y404)+2,V404,\"(\"&V404&\" : \"&V406&\")\",V406)","v":"((4. Gr. B : 5. Gr. A) : (4. Gr. B : 5. Gr. A))"},null,null,null,null,{"$f":"CHOOSE(SIGN(AD276-AD278)+2,AA276,\"(\"&AA276&\" : \"&AA278&\")\",AA278)","v":"(((1. Gr. A : 4. Gr. B) : (2. Gr. D : 3. Gr. C)) : ((1. Gr. C : 4. Gr. D) : (2. Gr. B : 3. Gr. A)))"},null,null,null,null,{"$f":"CHOOSE(SIGN(AI342-AI340)+2,AF340,\"(\"&AF340&\" : \"&AF342&\")\",AF342)","v":"((((1. Gr. A : 4. Gr. B) : (2. Gr. D : 3. Gr. C)) : ((1. Gr. C : 4. Gr. D) : (2. Gr. B : 3. Gr. A))) : (((1. Gr. B : 4. Gr. C) : (2. Gr. A : 3. Gr. D)) : ((1. Gr. D : 4. Gr. A) : (2. Gr. C : 3. Gr. B))))"},null,null,null,null,{"$f":"CHOOSE(SIGN(AN342-AN340)+2,AK340,\"(\"&AK340&\" : \"&AK342&\")\",AK342)","v":"(((((1. Gr. A : 4. Gr. B) : (2. Gr. D : 3. Gr. C)) : ((1. Gr. C : 4. Gr. D) : (2. Gr. B : 3. Gr. A))) : (((1. Gr. B : 4. Gr. C) : (2. Gr. A : 3. Gr. D)) : ((1. Gr. D : 4. Gr. A) : (2. Gr. C : 3. Gr. B)))) : ((((4. Gr. B : 5. Gr. A) : (4. Gr. B : 5. Gr. A)) : ((4. Gr. B : 5. Gr. A) : (4. Gr. B : 5. Gr. A))) : (((4. Gr. B : 5. Gr. A) : (4. Gr. B : 5. Gr. A)) : ((4. Gr. B : 5. Gr. A) : (4. Gr. B : 5. Gr. A)))))"},null,null,null,null,{"$f":"CHOOSE(SIGN(AS342-AS340)+2,AP340,\"(\"&AP340&\" : \"&AP342&\")\",AP342)","v":"((((((1. Gr. A : 4. Gr. B) : (2. Gr. D : 3. Gr. C)) : ((1. Gr. C : 4. Gr. D) : (2. Gr. B : 3. Gr. A))) : (((1. Gr. B : 4. Gr. C) : (2. Gr. A : 3. Gr. D)) : ((1. Gr. D : 4. Gr. A) : (2. Gr. C : 3. Gr. B)))) : ((((4. Gr. B : 5. Gr. A) : (4. Gr. B : 5. Gr. A)) : ((4. Gr. B : 5. Gr. A) : (4. Gr. B : 5. Gr. A))) : (((4. Gr. B : 5. Gr. A) : (4. Gr. B : 5. Gr. A)) : ((4. Gr. B : 5. Gr. A) : (4. Gr. B : 5. Gr. A))))) : (((((4. Gr. B : 5. Gr. A) : (4. Gr. B : 5. Gr. A)) : ((4. Gr. B : 5. Gr. A) : (4. Gr. B : 5. Gr. A))) : (((4. Gr. B : 5. Gr. A) : (4. Gr. B : 5. Gr. A)) : ((4. Gr. B : 5. Gr. A) : (4. Gr. B : 5. Gr. A)))) : ((((4. Gr. B : 5. Gr. A) : (4. Gr. B : 5. Gr. A)) : ((4. Gr. B : 5. Gr. A) : (4. Gr. B : 5. Gr. A))) : (((4. Gr. B : 5. Gr. A) : (4. Gr. B : 5. Gr. A)) : ((4. Gr. B : 5. Gr. A) : (4. Gr. B : 5. Gr. A))))))"}]
[]
[null,null,null,null,null,null,null,null,null,null,null,null,null,null,null,null,{"$f":"O343","v":"5. Gr. A"},null,null,null,null,{"$f":"CHOOSE(SIGN(T156-T158)+2,Q156,\"(\"&Q156&\" : \"&Q158&\")\",Q158)","v":"(4. Gr. B : 5. Gr. A)"},null,null,null,null,{"$f":"CHOOSE(SIGN(Y414-Y412)+2,V412,\"(\"&V412&\" : \"&V414&\")\",V414)","v":"((4. Gr. B : 5. Gr. A) : (4. Gr. B : 5. Gr. A))"},null,null,null,null,{"$f":"CHOOSE(SIGN(AD284-AD286)+2,AA284,\"(\"&AA284&\" : \"&AA286&\")\",AA286)","v":"(((1. Gr. B : 4. Gr. C) : (2. Gr. A : 3. Gr. D)) : ((1. Gr. D : 4. Gr. A) : (2. Gr. C : 3. Gr. B)))"},null,null,null,null,{"$f":"CHOOSE(SIGN(AI350-AI348)+2,AF348,\"(\"&AF348&\" : \"&AF350&\")\",AF350)","v":"((((4. Gr. B : 5. Gr. A) : (4. Gr. B : 5. Gr. A)) : ((4. Gr. B : 5. Gr. A) : (4. Gr. B : 5. Gr. A))) : (((4. Gr. B : 5. Gr. A) : (4. Gr. B : 5. Gr. A)) : ((4. Gr. B : 5. Gr. A) : (4. Gr. B : 5. Gr. A))))"},null,null,null,null,{"$f":"CHOOSE(SIGN(AN350-AN348)+2,AK348,\"(\"&AK348&\" : \"&AK350&\")\",AK350)","v":"(((((4. Gr. B : 5. Gr. A) : (4. Gr. B : 5. Gr. A)) : ((4. Gr. B : 5. Gr. A) : (4. Gr. B : 5. Gr. A))) : (((4. Gr. B : 5. Gr. A) : (4. Gr. B : 5. Gr. A)) : ((4. Gr. B : 5. Gr. A) : (4. Gr. B : 5. Gr. A)))) : ((((4. Gr. B : 5. Gr. A) : (4. Gr. B : 5. Gr. A)) : ((4. Gr. B : 5. Gr. A) : (4. Gr. B : 5. Gr. A))) : (((4. Gr. B : 5. Gr. A) : (4. Gr. B : 5. Gr. A)) : ((4. Gr. B : 5. Gr. A) : (4. Gr. B : 5. Gr. A)))))"},null,null,null,null,{"$f":"CHOOSE(SIGN(AS350-AS348)+2,AP348,\"(\"&AP348&\" : \"&AP350&\")\",AP350)","v":"((((((4. Gr. B : 5. Gr. A) : (4. Gr. B : 5. Gr. A)) : ((4. Gr. B : 5. Gr. A) : (4. Gr. B : 5. Gr. A))) : (((4. Gr. B : 5. Gr. A) : (4. Gr. B : 5. Gr. A)) : ((4. Gr. B : 5. Gr. A) : (4. Gr. B : 5. Gr. A)))) : ((((4. Gr. B : 5. Gr. A) : (4. Gr. B : 5. Gr. A)) : ((4. Gr. B : 5. Gr. A) : (4. Gr. B : 5. Gr. A))) : (((4. Gr. B : 5. Gr. A) : (4. Gr. B : 5. Gr. A)) : ((4. Gr. B : 5. Gr. A) : (4. Gr. B : 5. Gr. A))))) : (((((4. Gr. B : 5. Gr. A) : (4. Gr. B : 5. Gr. A)) : ((4. Gr. B : 5. Gr. A) : (4. Gr. B : 5. Gr. A))) : (((4. Gr. B : 5. Gr. A) : (4. Gr. B : 5. Gr. A)) : ((4. Gr. B : 5. Gr. A) : (4. Gr. B : 5. Gr. A)))) : ((((4. Gr. B : 5. Gr. A) : (4. Gr. B : 5. Gr. A)) : ((4. Gr. B : 5. Gr. A) : (4. Gr. B : 5. Gr. A))) : (((4. Gr. B : 5. Gr. A) : (4. Gr. B : 5. Gr. A)) : ((4. Gr. B : 5. Gr. A) : (4. Gr. B : 5. Gr. A))))))"}]
[null,null,null,null,null,null,null,null,null,null,null,null,null,null,{"$f":"INDEX(tbl_KO_Data[T2 Src Rank],K338) & \". Gr. \" & INDEX(tbl_KO_Data[T2 Src Group],K338)","v":"5. Gr. A"},null,null,null,null,null,null,null,null,null,null,null,null,null,null,null,null,null,null,null,null,null,null,null,null,null,null,null,null,null,null,null,null,null,null,null,null,82,{"$f":"IF(AX340>AX342,AU342,IF(AX340<AX342,AU340,\"\"))","v":""}]
[]
[]
[null,null,null,null,null,null,null,null,58,null,{"$f":"KO_Data_1row+INDEX(D346:I346,KO_Rounds_Ind)","v":295},null,null,null,null,null,"K_64_A58","field x","best of n",0,null,"K_32_B29","field x","best of n",0,null,"K_16_C15","field x","best of n",0,null,"K_08_F8","field x","best of n",0,null,"K_04_K4","field x","best of n",0,null,"K_02_U2","field x","best of n",0,null,"K_01_083","field x","best of n",0]
[null,null,null,null,null,null,null,null,null,null,null,null,null,null,{"$f":"INDEX(tbl_KO_Data[T1 Src Rank],K346) & \". Gr. \" & INDEX(tbl_KO_Data[T1 Src Group],K346)","v":"4. Gr. B"},null,null,null,null,null,null,null,null,null,null,null,null,null,null,null,null,null,null,null,null,null,null,null,null,null,null,null,null,null,null,null,null,null,null,null,null,83,{"$f":"IF(AX348>AX350,AU348,IF(AX348<AX350,AU350,\"\"))","v":""}]
[null,null,null,null,null,null,null,null,null,null,null,null,null,null,null,null,{"$f":"O347","v":"4. Gr. B"},null,null,null,null,{"$f":"CHOOSE(SIGN(T164-T166)+2,Q164,\"(\"&Q164&\" : \"&Q166&\")\",Q166)","v":"(4. Gr. B : 5. Gr. A)"},null,null,null,null,{"$f":"CHOOSE(SIGN(Y422-Y420)+2,V420,\"(\"&V420&\" : \"&V422&\")\",V422)","v":"((4. Gr. B : 5. Gr. A) : (4. Gr. B : 5. Gr. A))"},null,null,null,null,{"$f":"CHOOSE(SIGN(AD292-AD294)+2,AA292,\"(\"&AA292&\" : \"&AA294&\")\",AA294)","v":"(((4. Gr. B : 5. Gr. A) : (4. Gr. B : 5. Gr. A)) : ((4. Gr. B : 5. Gr. A) : (4. Gr. B : 5. Gr. A)))"},null,null,null,null,{"$f":"CHOOSE(SIGN(AI358-AI356)+2,AF356,\"(\"&AF356&\" : \"&AF358&\")\",AF358)","v":"((((4. Gr. B : 5. Gr. A) : (4. Gr. B : 5. Gr. A)) : ((4. Gr. B : 5. Gr. A) : (4. Gr. B : 5. Gr. A))) : (((4. Gr. B : 5. Gr. A) : (4. Gr. B : 5. Gr. A)) : ((4. Gr. B : 5. Gr. A) : (4. Gr. B : 5. Gr. A))))"},null,null,null,null,{"$f":"CHOOSE(SIGN(AN358-AN356)+2,AK356,\"(\"&AK356&\" : \"&AK358&\")\",AK358)","v":"(((((4. Gr. B : 5. Gr. A) : (4. Gr. B : 5. Gr. A)) : ((4. Gr. B : 5. Gr. A) : (4. Gr. B : 5. Gr. A))) : (((4. Gr. B : 5. Gr. A) : (4. Gr. B : 5. Gr. A)) : ((4. Gr. B : 5. Gr. A) : (4. Gr. B : 5. Gr. A)))) : ((((4. Gr. B : 5. Gr. A) : (4. Gr. B : 5. Gr. A)) : ((4. Gr. B : 5. Gr. A) : (4. Gr. B : 5. Gr. A))) : (((4. Gr. B : 5. Gr. A) : (4. Gr. B : 5. Gr. A)) : ((4. Gr. B : 5. Gr. A) : (4. Gr. B : 5. Gr. A)))))"},null,null,null,null,{"$f":"CHOOSE(SIGN(AS340-AS342)+2,AP340,\"(\"&AP340&\" : \"&AP342&\")\",AP342)","v":"((((((1. Gr. A : 4. Gr. B) : (2. Gr. D : 3. Gr. C)) : ((1. Gr. C : 4. Gr. D) : (2. Gr. B : 3. Gr. A))) : (((1. Gr. B : 4. Gr. C) : (2. Gr. A : 3. Gr. D)) : ((1. Gr. D : 4. Gr. A) : (2. Gr. C : 3. Gr. B)))) : ((((4. Gr. B : 5. Gr. A) : (4. Gr. B : 5. Gr. A)) : ((4. Gr. B : 5. Gr. A) : (4. Gr. B : 5. Gr. A))) : (((4. Gr. B : 5. Gr. A) : (4. Gr. B : 5. Gr. A)) : ((4. Gr. B : 5. Gr. A) : (4. Gr. B : 5. Gr. A))))) : (((((4. Gr. B : 5. Gr. A) : (4. Gr. B : 5. Gr. A)) : ((4. Gr. B : 5. Gr. A) : (4. Gr. B : 5. Gr. A))) : (((4. Gr. B : 5. Gr. A) : (4. Gr. B : 5. Gr. A)) : ((4. Gr. B : 5. Gr. A) : (4. Gr. B : 5. Gr. A)))) : ((((4. Gr. B : 5. Gr. A) : (4. Gr. B : 5. Gr. A)) : ((4. Gr. B : 5. Gr. A) : (4. Gr. B : 5. Gr. A))) : (((4. Gr. B : 5. Gr. A) : (4. Gr. B : 5. Gr. A)) : ((4. Gr. B : 5. Gr. A) : (4. Gr. B : 5. Gr. A))))))"}]
[]
[null,null,null,null,null,null,null,null,null,null,null,null,null,null,null,null,{"$f":"O351","v":"5. Gr. A"},null,null,null,null,{"$f":"CHOOSE(SIGN(T172-T174)+2,Q172,\"(\"&Q172&\" : \"&Q174&\")\",Q174)","v":"(4. Gr. B : 5. Gr. A)"},null,null,null,null,{"$f":"CHOOSE(SIGN(Y430-Y428)+2,V428,\"(\"&V428&\" : \"&V430&\")\",V430)","v":"((4. Gr. B : 5. Gr. A) : (4. Gr. B : 5. Gr. A))"},null,null,null,null,{"$f":"CHOOSE(SIGN(AD300-AD302)+2,AA300,\"(\"&AA300&\" : \"&AA302&\")\",AA302)","v":"(((4. Gr. B : 5. Gr. A) : (4. Gr. B : 5. Gr. A)) : ((4. Gr. B : 5. Gr. A) : (4. Gr. B : 5. Gr. A)))"},null,null,null,null,{"$f":"CHOOSE(SIGN(AI366-AI364)+2,AF364,\"(\"&AF364&\" : \"&AF366&\")\",AF366)","v":"((((4. Gr. B : 5. Gr. A) : (4. Gr. B : 5. Gr. A)) : ((4. Gr. B : 5. Gr. A) : (4. Gr. B : 5. Gr. A))) : (((4. Gr. B : 5. Gr. A) : (4. Gr. B : 5. Gr. A)) : ((4. Gr. B : 5. Gr. A) : (4. Gr. B : 5. Gr. A))))"},null,null,null,null,{"$f":"CHOOSE(SIGN(AN366-AN364)+2,AK364,\"(\"&AK364&\" : \"&AK366&\")\",AK366)","v":"(((((4. Gr. B : 5. Gr. A) : (4. Gr. B : 5. Gr. A)) : ((4. Gr. B : 5. Gr. A) : (4. Gr. B : 5. Gr. A))) : (((4. Gr. B : 5. Gr. A) : (4. Gr. B : 5. Gr. A)) : ((4. Gr. B : 5. Gr. A) : (4. Gr. B : 5. Gr. A)))) : ((((4. Gr. B : 5. Gr. A) : (4. Gr. B : 5. Gr. A)) : ((4. Gr. B : 5. Gr. A) : (4. Gr. B : 5. Gr. A))) : (((4. Gr. B : 5. Gr. A) : (4. Gr. B : 5. Gr. A)) : ((4. Gr. B : 5. Gr. A) : (4. Gr. B : 5. Gr. A)))))"},null,null,null,null,{"$f":"CHOOSE(SIGN(AS348-AS350)+2,AP348,\"(\"&AP348&\" : \"&AP350&\")\",AP350)","v":"((((((4. Gr. B : 5. Gr. A) : (4. Gr. B : 5. Gr. A)) : ((4. Gr. B : 5. Gr. A) : (4. Gr. B : 5. Gr. A))) : (((4. Gr. B : 5. Gr. A) : (4. Gr. B : 5. Gr. A)) : ((4. Gr. B : 5. Gr. A) : (4. Gr. B : 5. Gr. A)))) : ((((4. Gr. B : 5. Gr. A) : (4. Gr. B : 5. Gr. A)) : ((4. Gr. B : 5. Gr. A) : (4. Gr. B : 5. Gr. A))) : (((4. Gr. B : 5. Gr. A) : (4. Gr. B : 5. Gr. A)) : ((4. Gr. B : 5. Gr. A) : (4. Gr. B : 5. Gr. A))))) : (((((4. Gr. B : 5. Gr. A) : (4. Gr. B : 5. Gr. A)) : ((4. Gr. B : 5. Gr. A) : (4. Gr. B : 5. Gr. A))) : (((4. Gr. B : 5. Gr. A) : (4. Gr. B : 5. Gr. A)) : ((4. Gr. B : 5. Gr. A) : (4. Gr. B : 5. Gr. A)))) : ((((4. Gr. B : 5. Gr. A) : (4. Gr. B : 5. Gr. A)) : ((4. Gr. B : 5. Gr. A) : (4. Gr. B : 5. Gr. A))) : (((4. Gr. B : 5. Gr. A) : (4. Gr. B : 5. Gr. A)) : ((4. Gr. B : 5. Gr. A) : (4. Gr. B : 5. Gr. A))))))"}]
[null,null,null,null,null,null,null,null,null,null,null,null,null,null,{"$f":"INDEX(tbl_KO_Data[T2 Src Rank],K346) & \". Gr. \" & INDEX(tbl_KO_Data[T2 Src Group],K346)","v":"5. Gr. A"},null,null,null,null,null,null,null,null,null,null,null,null,null,null,null,null,null,null,null,null,null,null,null,null,null,null,null,null,null,null,null,null,null,null,null,null,84,{"$f":"IF(AX348>AX350,AU350,IF(AX348<AX350,AU348,\"\"))","v":""}]
[]
[]
[null,null,null,null,null,null,null,null,26,null,{"$f":"KO_Data_1row+INDEX(D354:I354,KO_Rounds_Ind)","v":295},null,null,null,null,null,"K_64_A26","field x","best of n",0,null,"K_32_B13","field x","best of n",0,null,"K_16_C07","field x","best of n",0,null,"K_08_F4","field x","best of n",0,null,"K_04_K2","field x","best of n",0,null,"K_02_V1","field x","best of n",0,null,"K_01_085","field x","best of n",0]
[null,null,null,null,null,null,null,null,null,null,null,null,null,null,{"$f":"INDEX(tbl_KO_Data[T1 Src Rank],K354) & \". Gr. \" & INDEX(tbl_KO_Data[T1 Src Group],K354)","v":"4. Gr. B"},null,null,null,null,null,null,null,null,null,null,null,null,null,null,null,null,null,null,null,null,null,null,null,null,null,null,null,null,null,null,null,null,null,null,null,null,85,{"$f":"IF(AX356>AX358,AU356,IF(AX356<AX358,AU358,\"\"))","v":""}]
[null,null,null,null,null,null,null,null,null,null,null,null,null,null,null,null,{"$f":"O355","v":"4. Gr. B"},null,null,null,null,{"$f":"CHOOSE(SIGN(T180-T182)+2,Q180,\"(\"&Q180&\" : \"&Q182&\")\",Q182)","v":"(4. Gr. B : 5. Gr. A)"},null,null,null,null,{"$f":"CHOOSE(SIGN(Y438-Y436)+2,V436,\"(\"&V436&\" : \"&V438&\")\",V438)","v":"((4. Gr. B : 5. Gr. A) : (4. Gr. B : 5. Gr. A))"},null,null,null,null,{"$f":"CHOOSE(SIGN(AD308-AD310)+2,AA308,\"(\"&AA308&\" : \"&AA310&\")\",AA310)","v":"(((4. Gr. B : 5. Gr. A) : (4. Gr. B : 5. Gr. A)) : ((4. Gr. B : 5. Gr. A) : (4. Gr. B : 5. Gr. A)))"},null,null,null,null,{"$f":"CHOOSE(SIGN(AI374-AI372)+2,AF372,\"(\"&AF372&\" : \"&AF374&\")\",AF374)","v":"((((4. Gr. B : 5. Gr. A) : (4. Gr. B : 5. Gr. A)) : ((4. Gr. B : 5. Gr. A) : (4. Gr. B : 5. Gr. A))) : (((4. Gr. B : 5. Gr. A) : (4. Gr. B : 5. Gr. A)) : ((4. Gr. B : 5. Gr. A) : (4. Gr. B : 5. Gr. A))))"},null,null,null,null,{"$f":"CHOOSE(SIGN(AN340-AN342)+2,AK340,\"(\"&AK340&\" : \"&AK342&\")\",AK342)","v":"(((((1. Gr. A : 4. Gr. B) : (2. Gr. D : 3. Gr. C)) : ((1. Gr. C : 4. Gr. D) : (2. Gr. B : 3. Gr. A))) : (((1. Gr. B : 4. Gr. C) : (2. Gr. A : 3. Gr. D)) : ((1. Gr. D : 4. Gr. A) : (2. Gr. C : 3. Gr. B)))) : ((((4. Gr. B : 5. Gr. A) : (4. Gr. B : 5. Gr. A)) : ((4. Gr. B : 5. Gr. A) : (4. Gr. B : 5. Gr. A))) : (((4. Gr. B : 5. Gr. A) : (4. Gr. B : 5. Gr. A)) : ((4. Gr. B : 5. Gr. A) : (4. Gr. B : 5. Gr. A)))))"},null,null,null,null,{"$f":"CHOOSE(SIGN(AS358-AS356)+2,AP356,\"(\"&AP356&\" : \"&AP358&\")\",AP358)","v":"((((((1. Gr. A : 4. Gr. B) : (2. Gr. D : 3. Gr. C)) : ((1. Gr. C : 4. Gr. D) : (2. Gr. B : 3. Gr. A))) : (((1. Gr. B : 4. Gr. C) : (2. Gr. A : 3. Gr. D)) : ((1. Gr. D : 4. Gr. A) : (2. Gr. C : 3. Gr. B)))) : ((((4. Gr. B : 5. Gr. A) : (4. Gr. B : 5. Gr. A)) : ((4. Gr. B : 5. Gr. A) : (4. Gr. B : 5. Gr. A))) : (((4. Gr. B : 5. Gr. A) : (4. Gr. B : 5. Gr. A)) : ((4. Gr. B : 5. Gr. A) : (4. Gr. B : 5. Gr. A))))) : (((((4. Gr. B : 5. Gr. A) : (4. Gr. B : 5. Gr. A)) : ((4. Gr. B : 5. Gr. A) : (4. Gr. B : 5. Gr. A))) : (((4. Gr. B : 5. Gr. A) : (4. Gr. B : 5. Gr. A)) : ((4. Gr. B : 5. Gr. A) : (4. Gr. B : 5. Gr. A)))) : ((((4. Gr. B : 5. Gr. A) : (4. Gr. B : 5. Gr. A)) : ((4. Gr. B : 5. Gr. A) : (4. Gr. B : 5. Gr. A))) : (((4. Gr. B : 5. Gr. A) : (4. Gr. B : 5. Gr. A)) : ((4. Gr. B : 5. Gr. A) : (4. Gr. B : 5. Gr. A))))))"}]
[]
[null,null,null,null,null,null,null,null,null,null,null,null,null,null,null,null,{"$f":"O359","v":"5. Gr. A"},null,null,null,null,{"$f":"CHOOSE(SIGN(T188-T190)+2,Q188,\"(\"&Q188&\" : \"&Q190&\")\",Q190)","v":"(4. Gr. B : 5. Gr. A)"},null,null,null,null,{"$f":"CHOOSE(SIGN(Y446-Y444)+2,V444,\"(\"&V444&\" : \"&V446&\")\",V446)","v":"((4. Gr. B : 5. Gr. A) : (4. Gr. B : 5. Gr. A))"},null,null,null,null,{"$f":"CHOOSE(SIGN(AD316-AD318)+2,AA316,\"(\"&AA316&\" : \"&AA318&\")\",AA318)","v":"(((4. Gr. B : 5. Gr. A) : (4. Gr. B : 5. Gr. A)) : ((4. Gr. B : 5. Gr. A) : (4. Gr. B : 5. Gr. A)))"},null,null,null,null,{"$f":"CHOOSE(SIGN(AI382-AI380)+2,AF380,\"(\"&AF380&\" : \"&AF382&\")\",AF382)","v":"((((4. Gr. B : 5. Gr. A) : (4. Gr. B : 5. Gr. A)) : ((4. Gr. B : 5. Gr. A) : (4. Gr. B : 5. Gr. A))) : (((4. Gr. B : 5. Gr. A) : (4. Gr. B : 5. Gr. A)) : ((4. Gr. B : 5. Gr. A) : (4. Gr. B : 5. Gr. A))))"},null,null,null,null,{"$f":"CHOOSE(SIGN(AN348-AN350)+2,AK348,\"(\"&AK348&\" : \"&AK350&\")\",AK350)","v":"(((((4. Gr. B : 5. Gr. A) : (4. Gr. B : 5. Gr. A)) : ((4. Gr. B : 5. Gr. A) : (4. Gr. B : 5. Gr. A))) : (((4. Gr. B : 5. Gr. A) : (4. Gr. B : 5. Gr. A)) : ((4. Gr. B : 5. Gr. A) : (4. Gr. B : 5. Gr. A)))) : ((((4. Gr. B : 5. Gr. A) : (4. Gr. B : 5. Gr. A)) : ((4. Gr. B : 5. Gr. A) : (4. Gr. B : 5. Gr. A))) : (((4. Gr. B : 5. Gr. A) : (4. Gr. B : 5. Gr. A)) : ((4. Gr. B : 5. Gr. A) : (4. Gr. B : 5. Gr. A)))))"},null,null,null,null,{"$f":"CHOOSE(SIGN(AS366-AS364)+2,AP364,\"(\"&AP364&\" : \"&AP366&\")\",AP366)","v":"((((((4. Gr. B : 5. Gr. A) : (4. Gr. B : 5. Gr. A)) : ((4. Gr. B : 5. Gr. A) : (4. Gr. B : 5. Gr. A))) : (((4. Gr. B : 5. Gr. A) : (4. Gr. B : 5. Gr. A)) : ((4. Gr. B : 5. Gr. A) : (4. Gr. B : 5. Gr. A)))) : ((((4. Gr. B : 5. Gr. A) : (4. Gr. B : 5. Gr. A)) : ((4. Gr. B : 5. Gr. A) : (4. Gr. B : 5. Gr. A))) : (((4. Gr. B : 5. Gr. A) : (4. Gr. B : 5. Gr. A)) : ((4. Gr. B : 5. Gr. A) : (4. Gr. B : 5. Gr. A))))) : (((((4. Gr. B : 5. Gr. A) : (4. Gr. B : 5. Gr. A)) : ((4. Gr. B : 5. Gr. A) : (4. Gr. B : 5. Gr. A))) : (((4. Gr. B : 5. Gr. A) : (4. Gr. B : 5. Gr. A)) : ((4. Gr. B : 5. Gr. A) : (4. Gr. B : 5. Gr. A)))) : ((((4. Gr. B : 5. Gr. A) : (4. Gr. B : 5. Gr. A)) : ((4. Gr. B : 5. Gr. A) : (4. Gr. B : 5. Gr. A))) : (((4. Gr. B : 5. Gr. A) : (4. Gr. B : 5. Gr. A)) : ((4. Gr. B : 5. Gr. A) : (4. Gr. B : 5. Gr. A))))))"}]
[null,null,null,null,null,null,null,null,null,null,null,null,null,null,{"$f":"INDEX(tbl_KO_Data[T2 Src Rank],K354) & \". Gr. \" & INDEX(tbl_KO_Data[T2 Src Group],K354)","v":"5. Gr. A"},null,null,null,null,null,null,null,null,null,null,null,null,null,null,null,null,null,null,null,null,null,null,null,null,null,null,null,null,null,null,null,null,null,null,null,null,86,{"$f":"IF(AX356>AX358,AU358,IF(AX356<AX358,AU356,\"\"))","v":""}]
[]
[]
[null,null,null,null,null,null,null,null,39,null,{"$f":"KO_Data_1row+INDEX(D362:I362,KO_Rounds_Ind)","v":295},null,null,null,null,null,"K_64_A39","field x","best of n",0,null,"K_32_B20","field x","best of n",0,null,"K_16_C10","field x","best of n",0,null,"K_08_F5","field x","best of n",0,null,"K_04_K3","field x","best of n",0,null,"K_02_V2","field x","best of n",0,null,"K_01_087","field x","best of n",0]
[null,null,null,null,null,null,null,null,null,null,null,null,null,null,{"$f":"INDEX(tbl_KO_Data[T1 Src Rank],K362) & \". Gr. \" & INDEX(tbl_KO_Data[T1 Src Group],K362)","v":"4. Gr. B"},null,null,null,null,null,null,null,null,null,null,null,null,null,null,null,null,null,null,null,null,null,null,null,null,null,null,null,null,null,null,null,null,null,null,null,null,87,{"$f":"IF(AX364>AX366,AU364,IF(AX364<AX366,AU366,\"\"))","v":""}]
[null,null,null,null,null,null,null,null,null,null,null,null,null,null,null,null,{"$f":"O363","v":"4. Gr. B"},null,null,null,null,{"$f":"CHOOSE(SIGN(T196-T198)+2,Q196,\"(\"&Q196&\" : \"&Q198&\")\",Q198)","v":"(4. Gr. B : 5. Gr. A)"},null,null,null,null,{"$f":"CHOOSE(SIGN(Y454-Y452)+2,V452,\"(\"&V452&\" : \"&V454&\")\",V454)","v":"((4. Gr. B : 5. Gr. A) : (4. Gr. B : 5. Gr. A))"},null,null,null,null,{"$f":"CHOOSE(SIGN(AD324-AD326)+2,AA324,\"(\"&AA324&\" : \"&AA326&\")\",AA326)","v":"(((4. Gr. B : 5. Gr. A) : (4. Gr. B : 5. Gr. A)) : ((4. Gr. B : 5. Gr. A) : (4. Gr. B : 5. Gr. A)))"},null,null,null,null,{"$f":"CHOOSE(SIGN(AI390-AI388)+2,AF388,\"(\"&AF388&\" : \"&AF390&\")\",AF390)","v":"((((4. Gr. B : 5. Gr. A) : (4. Gr. B : 5. Gr. A)) : ((4. Gr. B : 5. Gr. A) : (4. Gr. B : 5. Gr. A))) : (((4. Gr. B : 5. Gr. A) : (4. Gr. B : 5. Gr. A)) : ((4. Gr. B : 5. Gr. A) : (4. Gr. B : 5. Gr. A))))"},null,null,null,null,{"$f":"CHOOSE(SIGN(AN356-AN358)+2,AK356,\"(\"&AK356&\" : \"&AK358&\")\",AK358)","v":"(((((4. Gr. B : 5. Gr. A) : (4. Gr. B : 5. Gr. A)) : ((4. Gr. B : 5. Gr. A) : (4. Gr. B : 5. Gr. A))) : (((4. Gr. B : 5. Gr. A) : (4. Gr. B : 5. Gr. A)) : ((4. Gr. B : 5. Gr. A) : (4. Gr. B : 5. Gr. A)))) : ((((4. Gr. B : 5. Gr. A) : (4. Gr. B : 5. Gr. A)) : ((4. Gr. B : 5. Gr. A) : (4. Gr. B : 5. Gr. A))) : (((4. Gr. B : 5. Gr. A) : (4. Gr. B : 5. Gr. A)) : ((4. Gr. B : 5. Gr. A) : (4. Gr. B : 5. Gr. A)))))"},null,null,null,null,{"$f":"CHOOSE(SIGN(AS356-AS358)+2,AP356,\"(\"&AP356&\" : \"&AP358&\")\",AP358)","v":"((((((1. Gr. A : 4. Gr. B) : (2. Gr. D : 3. Gr. C)) : ((1. Gr. C : 4. Gr. D) : (2. Gr. B : 3. Gr. A))) : (((1. Gr. B : 4. Gr. C) : (2. Gr. A : 3. Gr. D)) : ((1. Gr. D : 4. Gr. A) : (2. Gr. C : 3. Gr. B)))) : ((((4. Gr. B : 5. Gr. A) : (4. Gr. B : 5. Gr. A)) : ((4. Gr. B : 5. Gr. A) : (4. Gr. B : 5. Gr. A))) : (((4. Gr. B : 5. Gr. A) : (4. Gr. B : 5. Gr. A)) : ((4. Gr. B : 5. Gr. A) : (4. Gr. B : 5. Gr. A))))) : (((((4. Gr. B : 5. Gr. A) : (4. Gr. B : 5. Gr. A)) : ((4. Gr. B : 5. Gr. A) : (4. Gr. B : 5. Gr. A))) : (((4. Gr. B : 5. Gr. A) : (4. Gr. B : 5. Gr. A)) : ((4. Gr. B : 5. Gr. A) : (4. Gr. B : 5. Gr. A)))) : ((((4. Gr. B : 5. Gr. A) : (4. Gr. B : 5. Gr. A)) : ((4. Gr. B : 5. Gr. A) : (4. Gr. B : 5. Gr. A))) : (((4. Gr. B : 5. Gr. A) : (4. Gr. B : 5. Gr. A)) : ((4. Gr. B : 5. Gr. A) : (4. Gr. B : 5. Gr. A))))))"}]
[]
[null,null,null,null,null,null,null,null,null,null,null,null,null,null,null,null,{"$f":"O367","v":"5. Gr. A"},null,null,null,null,{"$f":"CHOOSE(SIGN(T204-T206)+2,Q204,\"(\"&Q204&\" : \"&Q206&\")\",Q206)","v":"(4. Gr. B : 5. Gr. A)"},null,null,null,null,{"$f":"CHOOSE(SIGN(Y462-Y460)+2,V460,\"(\"&V460&\" : \"&V462&\")\",V462)","v":"((4. Gr. B : 5. Gr. A) : (4. Gr. B : 5. Gr. A))"},null,null,null,null,{"$f":"CHOOSE(SIGN(AD332-AD334)+2,AA332,\"(\"&AA332&\" : \"&AA334&\")\",AA334)","v":"(((4. Gr. B : 5. Gr. A) : (4. Gr. B : 5. Gr. A)) : ((4. Gr. B : 5. Gr. A) : (4. Gr. B : 5. Gr. A)))"},null,null,null,null,{"$f":"CHOOSE(SIGN(AI398-AI396)+2,AF396,\"(\"&AF396&\" : \"&AF398&\")\",AF398)","v":"((((4. Gr. B : 5. Gr. A) : (4. Gr. B : 5. Gr. A)) : ((4. Gr. B : 5. Gr. A) : (4. Gr. B : 5. Gr. A))) : (((4. Gr. B : 5. Gr. A) : (4. Gr. B : 5. Gr. A)) : ((4. Gr. B : 5. Gr. A) : (4. Gr. B : 5. Gr. A))))"},null,null,null,null,{"$f":"CHOOSE(SIGN(AN364-AN366)+2,AK364,\"(\"&AK364&\" : \"&AK366&\")\",AK366)","v":"(((((4. Gr. B : 5. Gr. A) : (4. Gr. B : 5. Gr. A)) : ((4. Gr. B : 5. Gr. A) : (4. Gr. B : 5. Gr. A))) : (((4. Gr. B : 5. Gr. A) : (4. Gr. B : 5. Gr. A)) : ((4. Gr. B : 5. Gr. A) : (4. Gr. B : 5. Gr. A)))) : ((((4. Gr. B : 5. Gr. A) : (4. Gr. B : 5. Gr. A)) : ((4. Gr. B : 5. Gr. A) : (4. Gr. B : 5. Gr. A))) : (((4. Gr. B : 5. Gr. A) : (4. Gr. B : 5. Gr. A)) : ((4. Gr. B : 5. Gr. A) : (4. Gr. B : 5. Gr. A)))))"},null,null,null,null,{"$f":"CHOOSE(SIGN(AS364-AS366)+2,AP364,\"(\"&AP364&\" : \"&AP366&\")\",AP366)","v":"((((((4. Gr. B : 5. Gr. A) : (4. Gr. B : 5. Gr. A)) : ((4. Gr. B : 5. Gr. A) : (4. Gr. B : 5. Gr. A))) : (((4. Gr. B : 5. Gr. A) : (4. Gr. B : 5. Gr. A)) : ((4. Gr. B : 5. Gr. A) : (4. Gr. B : 5. Gr. A)))) : ((((4. Gr. B : 5. Gr. A) : (4. Gr. B : 5. Gr. A)) : ((4. Gr. B : 5. Gr. A) : (4. Gr. B : 5. Gr. A))) : (((4. Gr. B : 5. Gr. A) : (4. Gr. B : 5. Gr. A)) : ((4. Gr. B : 5. Gr. A) : (4. Gr. B : 5. Gr. A))))) : (((((4. Gr. B : 5. Gr. A) : (4. Gr. B : 5. Gr. A)) : ((4. Gr. B : 5. Gr. A) : (4. Gr. B : 5. Gr. A))) : (((4. Gr. B : 5. Gr. A) : (4. Gr. B : 5. Gr. A)) : ((4. Gr. B : 5. Gr. A) : (4. Gr. B : 5. Gr. A)))) : ((((4. Gr. B : 5. Gr. A) : (4. Gr. B : 5. Gr. A)) : ((4. Gr. B : 5. Gr. A) : (4. Gr. B : 5. Gr. A))) : (((4. Gr. B : 5. Gr. A) : (4. Gr. B : 5. Gr. A)) : ((4. Gr. B : 5. Gr. A) : (4. Gr. B : 5. Gr. A))))))"}]
[null,null,null,null,null,null,null,null,null,null,null,null,null,null,{"$f":"INDEX(tbl_KO_Data[T2 Src Rank],K362) & \". Gr. \" & INDEX(tbl_KO_Data[T2 Src Group],K362)","v":"5. Gr. A"},null,null,null,null,null,null,null,null,null,null,null,null,null,null,null,null,null,null,null,null,null,null,null,null,null,null,null,null,null,null,null,null,null,null,null,null,88,{"$f":"IF(AX364>AX366,AU366,IF(AX364<AX366,AU364,\"\"))","v":""}]
[]
[]
[null,null,null,null,null,null,null,null,10,null,{"$f":"KO_Data_1row+INDEX(D370:I370,KO_Rounds_Ind)","v":295},null,null,null,null,null,"K_64_A10","field x","best of n",0,null,"K_32_B05","field x","best of n",0,null,"K_16_C03","field x","best of n",0,null,"K_08_F2","field x","best of n",0,null,"K_04_L1","field x","best of n",0,null,"K_02_W1","field x","best of n",0,null,"K_01_089","field x","best of n",0]
[null,null,null,null,null,null,null,null,null,null,null,null,null,null,{"$f":"INDEX(tbl_KO_Data[T1 Src Rank],K370) & \". Gr. \" & INDEX(tbl_KO_Data[T1 Src Group],K370)","v":"4. Gr. B"},null,null,null,null,null,null,null,null,null,null,null,null,null,null,null,null,null,null,null,null,null,null,null,null,null,null,null,null,null,null,null,null,null,null,null,null,89,{"$f":"IF(AX372>AX374,AU372,IF(AX372<AX374,AU374,\"\"))","v":""}]
[null,null,null,null,null,null,null,null,null,null,null,null,null,null,null,null,{"$f":"O371","v":"4. Gr. B"},null,null,null,null,{"$f":"CHOOSE(SIGN(T212-T214)+2,Q212,\"(\"&Q212&\" : \"&Q214&\")\",Q214)","v":"(4. Gr. B : 5. Gr. A)"},null,null,null,null,{"$f":"CHOOSE(SIGN(Y470-Y468)+2,V468,\"(\"&V468&\" : \"&V470&\")\",V470)","v":"((4. Gr. B : 5. Gr. A) : (4. Gr. B : 5. Gr. A))"},null,null,null,null,{"$f":"CHOOSE(SIGN(AD340-AD342)+2,AA340,\"(\"&AA340&\" : \"&AA342&\")\",AA342)","v":"(((4. Gr. B : 5. Gr. A) : (4. Gr. B : 5. Gr. A)) : ((4. Gr. B : 5. Gr. A) : (4. Gr. B : 5. Gr. A)))"},null,null,null,null,{"$f":"CHOOSE(SIGN(AI340-AI342)+2,AF340,\"(\"&AF340&\" : \"&AF342&\")\",AF342)","v":"((((1. Gr. A : 4. Gr. B) : (2. Gr. D : 3. Gr. C)) : ((1. Gr. C : 4. Gr. D) : (2. Gr. B : 3. Gr. A))) : (((1. Gr. B : 4. Gr. C) : (2. Gr. A : 3. Gr. D)) : ((1. Gr. D : 4. Gr. A) : (2. Gr. C : 3. Gr. B))))"},null,null,null,null,{"$f":"CHOOSE(SIGN(AN374-AN372)+2,AK372,\"(\"&AK372&\" : \"&AK374&\")\",AK374)","v":"(((((1. Gr. A : 4. Gr. B) : (2. Gr. D : 3. Gr. C)) : ((1. Gr. C : 4. Gr. D) : (2. Gr. B : 3. Gr. A))) : (((1. Gr. B : 4. Gr. C) : (2. Gr. A : 3. Gr. D)) : ((1. Gr. D : 4. Gr. A) : (2. Gr. C : 3. Gr. B)))) : ((((4. Gr. B : 5. Gr. A) : (4. Gr. B : 5. Gr. A)) : ((4. Gr. B : 5. Gr. A) : (4. Gr. B : 5. Gr. A))) : (((4. Gr. B : 5. Gr. A) : (4. Gr. B : 5. Gr. A)) : ((4. Gr. B : 5. Gr. A) : (4. Gr. B : 5. Gr. A)))))"},null,null,null,null,{"$f":"CHOOSE(SIGN(AS374-AS372)+2,AP372,\"(\"&AP372&\" : \"&AP374&\")\",AP374)","v":"((((((1. Gr. A : 4. Gr. B) : (2. Gr. D : 3. Gr. C)) : ((1. Gr. C : 4. Gr. D) : (2. Gr. B : 3. Gr. A))) : (((1. Gr. B : 4. Gr. C) : (2. Gr. A : 3. Gr. D)) : ((1. Gr. D : 4. Gr. A) : (2. Gr. C : 3. Gr. B)))) : ((((4. Gr. B : 5. Gr. A) : (4. Gr. B : 5. Gr. A)) : ((4. Gr. B : 5. Gr. A) : (4. Gr. B : 5. Gr. A))) : (((4. Gr. B : 5. Gr. A) : (4. Gr. B : 5. Gr. A)) : ((4. Gr. B : 5. Gr. A) : (4. Gr. B : 5. Gr. A))))) : (((((4. Gr. B : 5. Gr. A) : (4. Gr. B : 5. Gr. A)) : ((4. Gr. B : 5. Gr. A) : (4. Gr. B : 5. Gr. A))) : (((4. Gr. B : 5. Gr. A) : (4. Gr. B : 5. Gr. A)) : ((4. Gr. B : 5. Gr. A) : (4. Gr. B : 5. Gr. A)))) : ((((4. Gr. B : 5. Gr. A) : (4. Gr. B : 5. Gr. A)) : ((4. Gr. B : 5. Gr. A) : (4. Gr. B : 5. Gr. A))) : (((4. Gr. B : 5. Gr. A) : (4. Gr. B : 5. Gr. A)) : ((4. Gr. B : 5. Gr. A) : (4. Gr. B : 5. Gr. A))))))"}]
[]
[null,null,null,null,null,null,null,null,null,null,null,null,null,null,null,null,{"$f":"O375","v":"5. Gr. A"},null,null,null,null,{"$f":"CHOOSE(SIGN(T220-T222)+2,Q220,\"(\"&Q220&\" : \"&Q222&\")\",Q222)","v":"(4. Gr. B : 5. Gr. A)"},null,null,null,null,{"$f":"CHOOSE(SIGN(Y478-Y476)+2,V476,\"(\"&V476&\" : \"&V478&\")\",V478)","v":"((4. Gr. B : 5. Gr. A) : (4. Gr. B : 5. Gr. A))"},null,null,null,null,{"$f":"CHOOSE(SIGN(AD348-AD350)+2,AA348,\"(\"&AA348&\" : \"&AA350&\")\",AA350)","v":"(((4. Gr. B : 5. Gr. A) : (4. Gr. B : 5. Gr. A)) : ((4. Gr. B : 5. Gr. A) : (4. Gr. B : 5. Gr. A)))"},null,null,null,null,{"$f":"CHOOSE(SIGN(AI348-AI350)+2,AF348,\"(\"&AF348&\" : \"&AF350&\")\",AF350)","v":"((((4. Gr. B : 5. Gr. A) : (4. Gr. B : 5. Gr. A)) : ((4. Gr. B : 5. Gr. A) : (4. Gr. B : 5. Gr. A))) : (((4. Gr. B : 5. Gr. A) : (4. Gr. B : 5. Gr. A)) : ((4. Gr. B : 5. Gr. A) : (4. Gr. B : 5. Gr. A))))"},null,null,null,null,{"$f":"CHOOSE(SIGN(AN382-AN380)+2,AK380,\"(\"&AK380&\" : \"&AK382&\")\",AK382)","v":"(((((4. Gr. B : 5. Gr. A) : (4. Gr. B : 5. Gr. A)) : ((4. Gr. B : 5. Gr. A) : (4. Gr. B : 5. Gr. A))) : (((4. Gr. B : 5. Gr. A) : (4. Gr. B : 5. Gr. A)) : ((4. Gr. B : 5. Gr. A) : (4. Gr. B : 5. Gr. A)))) : ((((4. Gr. B : 5. Gr. A) : (4. Gr. B : 5. Gr. A)) : ((4. Gr. B : 5. Gr. A) : (4. Gr. B : 5. Gr. A))) : (((4. Gr. B : 5. Gr. A) : (4. Gr. B : 5. Gr. A)) : ((4. Gr. B : 5. Gr. A) : (4. Gr. B : 5. Gr. A)))))"},null,null,null,null,{"$f":"CHOOSE(SIGN(AS382-AS380)+2,AP380,\"(\"&AP380&\" : \"&AP382&\")\",AP382)","v":"((((((4. Gr. B : 5. Gr. A) : (4. Gr. B : 5. Gr. A)) : ((4. Gr. B : 5. Gr. A) : (4. Gr. B : 5. Gr. A))) : (((4. Gr. B : 5. Gr. A) : (4. Gr. B : 5. Gr. A)) : ((4. Gr. B : 5. Gr. A) : (4. Gr. B : 5. Gr. A)))) : ((((4. Gr. B : 5. Gr. A) : (4. Gr. B : 5. Gr. A)) : ((4. Gr. B : 5. Gr. A) : (4. Gr. B : 5. Gr. A))) : (((4. Gr. B : 5. Gr. A) : (4. Gr. B : 5. Gr. A)) : ((4. Gr. B : 5. Gr. A) : (4. Gr. B : 5. Gr. A))))) : (((((4. Gr. B : 5. Gr. A) : (4. Gr. B : 5. Gr. A)) : ((4. Gr. B : 5. Gr. A) : (4. Gr. B : 5. Gr. A))) : (((4. Gr. B : 5. Gr. A) : (4. Gr. B : 5. Gr. A)) : ((4. Gr. B : 5. Gr. A) : (4. Gr. B : 5. Gr. A)))) : ((((4. Gr. B : 5. Gr. A) : (4. Gr. B : 5. Gr. A)) : ((4. Gr. B : 5. Gr. A) : (4. Gr. B : 5. Gr. A))) : (((4. Gr. B : 5. Gr. A) : (4. Gr. B : 5. Gr. A)) : ((4. Gr. B : 5. Gr. A) : (4. Gr. B : 5. Gr. A))))))"}]
[null,null,null,null,null,null,null,null,null,null,null,null,null,null,{"$f":"INDEX(tbl_KO_Data[T2 Src Rank],K370) & \". Gr. \" & INDEX(tbl_KO_Data[T2 Src Group],K370)","v":"5. Gr. A"},null,null,null,null,null,null,null,null,null,null,null,null,null,null,null,null,null,null,null,null,null,null,null,null,null,null,null,null,null,null,null,null,null,null,null,null,90,{"$f":"IF(AX372>AX374,AU374,IF(AX372<AX374,AU372,\"\"))","v":""}]
[]
[]
[null,null,null,null,null,null,null,null,55,null,{"$f":"KO_Data_1row+INDEX(D378:I378,KO_Rounds_Ind)","v":295},null,null,null,null,null,"K_64_A55","field x","best of n",0,null,"K_32_B28","field x","best of n",0,null,"K_16_C14","field x","best of n",0,null,"K_08_F7","field x","best of n",0,null,"K_04_L4","field x","best of n",0,null,"K_02_W2","field x","best of n",0,null,"K_01_091","field x","best of n",0]
[null,null,null,null,null,null,null,null,null,null,null,null,null,null,{"$f":"INDEX(tbl_KO_Data[T1 Src Rank],K378) & \". Gr. \" & INDEX(tbl_KO_Data[T1 Src Group],K378)","v":"4. Gr. B"},null,null,null,null,null,null,null,null,null,null,null,null,null,null,null,null,null,null,null,null,null,null,null,null,null,null,null,null,null,null,null,null,null,null,null,null,91,{"$f":"IF(AX380>AX382,AU380,IF(AX380<AX382,AU382,\"\"))","v":""}]
[null,null,null,null,null,null,null,null,null,null,null,null,null,null,null,null,{"$f":"O379","v":"4. Gr. B"},null,null,null,null,{"$f":"CHOOSE(SIGN(T228-T230)+2,Q228,\"(\"&Q228&\" : \"&Q230&\")\",Q230)","v":"(4. Gr. B : 5. Gr. A)"},null,null,null,null,{"$f":"CHOOSE(SIGN(Y486-Y484)+2,V484,\"(\"&V484&\" : \"&V486&\")\",V486)","v":"((4. Gr. B : 5. Gr. A) : (4. Gr. B : 5. Gr. A))"},null,null,null,null,{"$f":"CHOOSE(SIGN(AD356-AD358)+2,AA356,\"(\"&AA356&\" : \"&AA358&\")\",AA358)","v":"(((4. Gr. B : 5. Gr. A) : (4. Gr. B : 5. Gr. A)) : ((4. Gr. B : 5. Gr. A) : (4. Gr. B : 5. Gr. A)))"},null,null,null,null,{"$f":"CHOOSE(SIGN(AI356-AI358)+2,AF356,\"(\"&AF356&\" : \"&AF358&\")\",AF358)","v":"((((4. Gr. B : 5. Gr. A) : (4. Gr. B : 5. Gr. A)) : ((4. Gr. B : 5. Gr. A) : (4. Gr. B : 5. Gr. A))) : (((4. Gr. B : 5. Gr. A) : (4. Gr. B : 5. Gr. A)) : ((4. Gr. B : 5. Gr. A) : (4. Gr. B : 5. Gr. A))))"},null,null,null,null,{"$f":"CHOOSE(SIGN(AN390-AN388)+2,AK388,\"(\"&AK388&\" : \"&AK390&\")\",AK390)","v":"(((((4. Gr. B : 5. Gr. A) : (4. Gr. B : 5. Gr. A)) : ((4. Gr. B : 5. Gr. A) : (4. Gr. B : 5. Gr. A))) : (((4. Gr. B : 5. Gr. A) : (4. Gr. B : 5. Gr. A)) : ((4. Gr. B : 5. Gr. A) : (4. Gr. B : 5. Gr. A)))) : ((((4. Gr. B : 5. Gr. A) : (4. Gr. B : 5. Gr. A)) : ((4. Gr. B : 5. Gr. A) : (4. Gr. B : 5. Gr. A))) : (((4. Gr. B : 5. Gr. A) : (4. Gr. B : 5. Gr. A)) : ((4. Gr. B : 5. Gr. A) : (4. Gr. B : 5. Gr. A)))))"},null,null,null,null,{"$f":"CHOOSE(SIGN(AS372-AS374)+2,AP372,\"(\"&AP372&\" : \"&AP374&\")\",AP374)","v":"((((((1. Gr. A : 4. Gr. B) : (2. Gr. D : 3. Gr. C)) : ((1. Gr. C : 4. Gr. D) : (2. Gr. B : 3. Gr. A))) : (((1. Gr. B : 4. Gr. C) : (2. Gr. A : 3. Gr. D)) : ((1. Gr. D : 4. Gr. A) : (2. Gr. C : 3. Gr. B)))) : ((((4. Gr. B : 5. Gr. A) : (4. Gr. B : 5. Gr. A)) : ((4. Gr. B : 5. Gr. A) : (4. Gr. B : 5. Gr. A))) : (((4. Gr. B : 5. Gr. A) : (4. Gr. B : 5. Gr. A)) : ((4. Gr. B : 5. Gr. A) : (4. Gr. B : 5. Gr. A))))) : (((((4. Gr. B : 5. Gr. A) : (4. Gr. B : 5. Gr. A)) : ((4. Gr. B : 5. Gr. A) : (4. Gr. B : 5. Gr. A))) : (((4. Gr. B : 5. Gr. A) : (4. Gr. B : 5. Gr. A)) : ((4. Gr. B : 5. Gr. A) : (4. Gr. B : 5. Gr. A)))) : ((((4. Gr. B : 5. Gr. A) : (4. Gr. B : 5. Gr. A)) : ((4. Gr. B : 5. Gr. A) : (4. Gr. B : 5. Gr. A))) : (((4. Gr. B : 5. Gr. A) : (4. Gr. B : 5. Gr. A)) : ((4. Gr. B : 5. Gr. A) : (4. Gr. B : 5. Gr. A))))))"}]
[]
[null,null,null,null,null,null,null,null,null,null,null,null,null,null,null,null,{"$f":"O383","v":"5. Gr. A"},null,null,null,null,{"$f":"CHOOSE(SIGN(T236-T238)+2,Q236,\"(\"&Q236&\" : \"&Q238&\")\",Q238)","v":"(4. Gr. B : 5. Gr. A)"},null,null,null,null,{"$f":"CHOOSE(SIGN(Y494-Y492)+2,V492,\"(\"&V492&\" : \"&V494&\")\",V494)","v":"((4. Gr. B : 5. Gr. A) : (4. Gr. B : 5. Gr. A))"},null,null,null,null,{"$f":"CHOOSE(SIGN(AD364-AD366)+2,AA364,\"(\"&AA364&\" : \"&AA366&\")\",AA366)","v":"(((4. Gr. B : 5. Gr. A) : (4. Gr. B : 5. Gr. A)) : ((4. Gr. B : 5. Gr. A) : (4. Gr. B : 5. Gr. A)))"},null,null,null,null,{"$f":"CHOOSE(SIGN(AI364-AI366)+2,AF364,\"(\"&AF364&\" : \"&AF366&\")\",AF366)","v":"((((4. Gr. B : 5. Gr. A) : (4. Gr. B : 5. Gr. A)) : ((4. Gr. B : 5. Gr. A) : (4. Gr. B : 5. Gr. A))) : (((4. Gr. B : 5. Gr. A) : (4. Gr. B : 5. Gr. A)) : ((4. Gr. B : 5. Gr. A) : (4. Gr. B : 5. Gr. A))))"},null,null,null,null,{"$f":"CHOOSE(SIGN(AN398-AN396)+2,AK396,\"(\"&AK396&\" : \"&AK398&\")\",AK398)","v":"(((((4. Gr. B : 5. Gr. A) : (4. Gr. B : 5. Gr. A)) : ((4. Gr. B : 5. Gr. A) : (4. Gr. B : 5. Gr. A))) : (((4. Gr. B : 5. Gr. A) : (4. Gr. B : 5. Gr. A)) : ((4. Gr. B : 5. Gr. A) : (4. Gr. B : 5. Gr. A)))) : ((((4. Gr. B : 5. Gr. A) : (4. Gr. B : 5. Gr. A)) : ((4. Gr. B : 5. Gr. A) : (4. Gr. B : 5. Gr. A))) : (((4. Gr. B : 5. Gr. A) : (4. Gr. B : 5. Gr. A)) : ((4. Gr. B : 5. Gr. A) : (4. Gr. B : 5. Gr. A)))))"},null,null,null,null,{"$f":"CHOOSE(SIGN(AS380-AS382)+2,AP380,\"(\"&AP380&\" : \"&AP382&\")\",AP382)","v":"((((((4. Gr. B : 5. Gr. A) : (4. Gr. B : 5. Gr. A)) : ((4. Gr. B : 5. Gr. A) : (4. Gr. B : 5. Gr. A))) : (((4. Gr. B : 5. Gr. A) : (4. Gr. B : 5. Gr. A)) : ((4. Gr. B : 5. Gr. A) : (4. Gr. B : 5. Gr. A)))) : ((((4. Gr. B : 5. Gr. A) : (4. Gr. B : 5. Gr. A)) : ((4. Gr. B : 5. Gr. A) : (4. Gr. B : 5. Gr. A))) : (((4. Gr. B : 5. Gr. A) : (4. Gr. B : 5. Gr. A)) : ((4. Gr. B : 5. Gr. A) : (4. Gr. B : 5. Gr. A))))) : (((((4. Gr. B : 5. Gr. A) : (4. Gr. B : 5. Gr. A)) : ((4. Gr. B : 5. Gr. A) : (4. Gr. B : 5. Gr. A))) : (((4. Gr. B : 5. Gr. A) : (4. Gr. B : 5. Gr. A)) : ((4. Gr. B : 5. Gr. A) : (4. Gr. B : 5. Gr. A)))) : ((((4. Gr. B : 5. Gr. A) : (4. Gr. B : 5. Gr. A)) : ((4. Gr. B : 5. Gr. A) : (4. Gr. B : 5. Gr. A))) : (((4. Gr. B : 5. Gr. A) : (4. Gr. B : 5. Gr. A)) : ((4. Gr. B : 5. Gr. A) : (4. Gr. B : 5. Gr. A))))))"}]
[null,null,null,null,null,null,null,null,null,null,null,null,null,null,{"$f":"INDEX(tbl_KO_Data[T2 Src Rank],K378) & \". Gr. \" & INDEX(tbl_KO_Data[T2 Src Group],K378)","v":"5. Gr. A"},null,null,null,null,null,null,null,null,null,null,null,null,null,null,null,null,null,null,null,null,null,null,null,null,null,null,null,null,null,null,null,null,null,null,null,null,92,{"$f":"IF(AX380>AX382,AU382,IF(AX380<AX382,AU380,\"\"))","v":""}]
[]
[]
[null,null,null,null,null,null,null,null,23,null,{"$f":"KO_Data_1row+INDEX(D386:I386,KO_Rounds_Ind)","v":295},null,null,null,null,null,"K_64_A23","field x","best of n",0,null,"K_32_B12","field x","best of n",0,null,"K_16_C06","field x","best of n",0,null,"K_08_F3","field x","best of n",0,null,"K_04_L2","field x","best of n",0,null,"K_02_X1","field x","best of n",0,null,"K_01_093","field x","best of n",0]
[null,null,null,null,null,null,null,null,null,null,null,null,null,null,{"$f":"INDEX(tbl_KO_Data[T1 Src Rank],K386) & \". Gr. \" & INDEX(tbl_KO_Data[T1 Src Group],K386)","v":"4. Gr. B"},null,null,null,null,null,null,null,null,null,null,null,null,null,null,null,null,null,null,null,null,null,null,null,null,null,null,null,null,null,null,null,null,null,null,null,null,93,{"$f":"IF(AX388>AX390,AU388,IF(AX388<AX390,AU390,\"\"))","v":""}]
[null,null,null,null,null,null,null,null,null,null,null,null,null,null,null,null,{"$f":"O387","v":"4. Gr. B"},null,null,null,null,{"$f":"CHOOSE(SIGN(T244-T246)+2,Q244,\"(\"&Q244&\" : \"&Q246&\")\",Q246)","v":"(4. Gr. B : 5. Gr. A)"},null,null,null,null,{"$f":"CHOOSE(SIGN(Y502-Y500)+2,V500,\"(\"&V500&\" : \"&V502&\")\",V502)","v":"((4. Gr. B : 5. Gr. A) : (4. Gr. B : 5. Gr. A))"},null,null,null,null,{"$f":"CHOOSE(SIGN(AD372-AD374)+2,AA372,\"(\"&AA372&\" : \"&AA374&\")\",AA374)","v":"(((4. Gr. B : 5. Gr. A) : (4. Gr. B : 5. Gr. A)) : ((4. Gr. B : 5. Gr. A) : (4. Gr. B : 5. Gr. A)))"},null,null,null,null,{"$f":"CHOOSE(SIGN(AI372-AI374)+2,AF372,\"(\"&AF372&\" : \"&AF374&\")\",AF374)","v":"((((4. Gr. B : 5. Gr. A) : (4. Gr. B : 5. Gr. A)) : ((4. Gr. B : 5. Gr. A) : (4. Gr. B : 5. Gr. A))) : (((4. Gr. B : 5. Gr. A) : (4. Gr. B : 5. Gr. A)) : ((4. Gr. B : 5. Gr. A) : (4. Gr. B : 5. Gr. A))))"},null,null,null,null,{"$f":"CHOOSE(SIGN(AN372-AN374)+2,AK372,\"(\"&AK372&\" : \"&AK374&\")\",AK374)","v":"(((((1. Gr. A : 4. Gr. B) : (2. Gr. D : 3. Gr. C)) : ((1. Gr. C : 4. Gr. D) : (2. Gr. B : 3. Gr. A))) : (((1. Gr. B : 4. Gr. C) : (2. Gr. A : 3. Gr. D)) : ((1. Gr. D : 4. Gr. A) : (2. Gr. C : 3. Gr. B)))) : ((((4. Gr. B : 5. Gr. A) : (4. Gr. B : 5. Gr. A)) : ((4. Gr. B : 5. Gr. A) : (4. Gr. B : 5. Gr. A))) : (((4. Gr. B : 5. Gr. A) : (4. Gr. B : 5. Gr. A)) : ((4. Gr. B : 5. Gr. A) : (4. Gr. B : 5. Gr. A)))))"},null,null,null,null,{"$f":"CHOOSE(SIGN(AS390-AS388)+2,AP388,\"(\"&AP388&\" : \"&AP390&\")\",AP390)","v":"((((((1. Gr. A : 4. Gr. B) : (2. Gr. D : 3. Gr. C)) : ((1. Gr. C : 4. Gr. D) : (2. Gr. B : 3. Gr. A))) : (((1. Gr. B : 4. Gr. C) : (2. Gr. A : 3. Gr. D)) : ((1. Gr. D : 4. Gr. A) : (2. Gr. C : 3. Gr. B)))) : ((((4. Gr. B : 5. Gr. A) : (4. Gr. B : 5. Gr. A)) : ((4. Gr. B : 5. Gr. A) : (4. Gr. B : 5. Gr. A))) : (((4. Gr. B : 5. Gr. A) : (4. Gr. B : 5. Gr. A)) : ((4. Gr. B : 5. Gr. A) : (4. Gr. B : 5. Gr. A))))) : (((((4. Gr. B : 5. Gr. A) : (4. Gr. B : 5. Gr. A)) : ((4. Gr. B : 5. Gr. A) : (4. Gr. B : 5. Gr. A))) : (((4. Gr. B : 5. Gr. A) : (4. Gr. B : 5. Gr. A)) : ((4. Gr. B : 5. Gr. A) : (4. Gr. B : 5. Gr. A)))) : ((((4. Gr. B : 5. Gr. A) : (4. Gr. B : 5. Gr. A)) : ((4. Gr. B : 5. Gr. A) : (4. Gr. B : 5. Gr. A))) : (((4. Gr. B : 5. Gr. A) : (4. Gr. B : 5. Gr. A)) : ((4. Gr. B : 5. Gr. A) : (4. Gr. B : 5. Gr. A))))))"}]
[]
[null,null,null,null,null,null,null,null,null,null,null,null,null,null,null,null,{"$f":"O391","v":"5. Gr. A"},null,null,null,null,{"$f":"CHOOSE(SIGN(T252-T254)+2,Q252,\"(\"&Q252&\" : \"&Q254&\")\",Q254)","v":"(4. Gr. B : 5. Gr. A)"},null,null,null,null,{"$f":"CHOOSE(SIGN(Y510-Y508)+2,V508,\"(\"&V508&\" : \"&V510&\")\",V510)","v":"((4. Gr. B : 5. Gr. A) : (4. Gr. B : 5. Gr. A))"},null,null,null,null,{"$f":"CHOOSE(SIGN(AD380-AD382)+2,AA380,\"(\"&AA380&\" : \"&AA382&\")\",AA382)","v":"(((4. Gr. B : 5. Gr. A) : (4. Gr. B : 5. Gr. A)) : ((4. Gr. B : 5. Gr. A) : (4. Gr. B : 5. Gr. A)))"},null,null,null,null,{"$f":"CHOOSE(SIGN(AI380-AI382)+2,AF380,\"(\"&AF380&\" : \"&AF382&\")\",AF382)","v":"((((4. Gr. B : 5. Gr. A) : (4. Gr. B : 5. Gr. A)) : ((4. Gr. B : 5. Gr. A) : (4. Gr. B : 5. Gr. A))) : (((4. Gr. B : 5. Gr. A) : (4. Gr. B : 5. Gr. A)) : ((4. Gr. B : 5. Gr. A) : (4. Gr. B : 5. Gr. A))))"},null,null,null,null,{"$f":"CHOOSE(SIGN(AN380-AN382)+2,AK380,\"(\"&AK380&\" : \"&AK382&\")\",AK382)","v":"(((((4. Gr. B : 5. Gr. A) : (4. Gr. B : 5. Gr. A)) : ((4. Gr. B : 5. Gr. A) : (4. Gr. B : 5. Gr. A))) : (((4. Gr. B : 5. Gr. A) : (4. Gr. B : 5. Gr. A)) : ((4. Gr. B : 5. Gr. A) : (4. Gr. B : 5. Gr. A)))) : ((((4. Gr. B : 5. Gr. A) : (4. Gr. B : 5. Gr. A)) : ((4. Gr. B : 5. Gr. A) : (4. Gr. B : 5. Gr. A))) : (((4. Gr. B : 5. Gr. A) : (4. Gr. B : 5. Gr. A)) : ((4. Gr. B : 5. Gr. A) : (4. Gr. B : 5. Gr. A)))))"},null,null,null,null,{"$f":"CHOOSE(SIGN(AS398-AS396)+2,AP396,\"(\"&AP396&\" : \"&AP398&\")\",AP398)","v":"((((((4. Gr. B : 5. Gr. A) : (4. Gr. B : 5. Gr. A)) : ((4. Gr. B : 5. Gr. A) : (4. Gr. B : 5. Gr. A))) : (((4. Gr. B : 5. Gr. A) : (4. Gr. B : 5. Gr. A)) : ((4. Gr. B : 5. Gr. A) : (4. Gr. B : 5. Gr. A)))) : ((((4. Gr. B : 5. Gr. A) : (4. Gr. B : 5. Gr. A)) : ((4. Gr. B : 5. Gr. A) : (4. Gr. B : 5. Gr. A))) : (((4. Gr. B : 5. Gr. A) : (4. Gr. B : 5. Gr. A)) : ((4. Gr. B : 5. Gr. A) : (4. Gr. B : 5. Gr. A))))) : (((((4. Gr. B : 5. Gr. A) : (4. Gr. B : 5. Gr. A)) : ((4. Gr. B : 5. Gr. A) : (4. Gr. B : 5. Gr. A))) : (((4. Gr. B : 5. Gr. A) : (4. Gr. B : 5. Gr. A)) : ((4. Gr. B : 5. Gr. A) : (4. Gr. B : 5. Gr. A)))) : ((((4. Gr. B : 5. Gr. A) : (4. Gr. B : 5. Gr. A)) : ((4. Gr. B : 5. Gr. A) : (4. Gr. B : 5. Gr. A))) : (((4. Gr. B : 5. Gr. A) : (4. Gr. B : 5. Gr. A)) : ((4. Gr. B : 5. Gr. A) : (4. Gr. B : 5. Gr. A))))))"}]
[null,null,null,null,null,null,null,null,null,null,null,null,null,null,{"$f":"INDEX(tbl_KO_Data[T2 Src Rank],K386) & \". Gr. \" & INDEX(tbl_KO_Data[T2 Src Group],K386)","v":"5. Gr. A"},null,null,null,null,null,null,null,null,null,null,null,null,null,null,null,null,null,null,null,null,null,null,null,null,null,null,null,null,null,null,null,null,null,null,null,null,94,{"$f":"IF(AX388>AX390,AU390,IF(AX388<AX390,AU388,\"\"))","v":""}]
[]
[]
[null,null,null,null,null,null,null,null,42,null,{"$f":"KO_Data_1row+INDEX(D394:I394,KO_Rounds_Ind)","v":295},null,null,null,null,null,"K_64_A42","field x","best of n",0,null,"K_32_B21","field x","best of n",0,null,"K_16_C11","field x","best of n",0,null,"K_08_F6","field x","best of n",0,null,"K_04_L3","field x","best of n",0,null,"K_02_X2","field x","best of n",0,null,"K_01_095","field x","best of n",0]
[null,null,null,null,null,null,null,null,null,null,null,null,null,null,{"$f":"INDEX(tbl_KO_Data[T1 Src Rank],K394) & \". Gr. \" & INDEX(tbl_KO_Data[T1 Src Group],K394)","v":"4. Gr. B"},null,null,null,null,null,null,null,null,null,null,null,null,null,null,null,null,null,null,null,null,null,null,null,null,null,null,null,null,null,null,null,null,null,null,null,null,95,{"$f":"IF(AX396>AX398,AU396,IF(AX396<AX398,AU398,\"\"))","v":""}]
[null,null,null,null,null,null,null,null,null,null,null,null,null,null,null,null,{"$f":"O395","v":"4. Gr. B"},null,null,null,null,{"$f":"CHOOSE(SIGN(T260-T262)+2,Q260,\"(\"&Q260&\" : \"&Q262&\")\",Q262)","v":"(4. Gr. B : 5. Gr. A)"},null,null,null,null,{"$f":"CHOOSE(SIGN(Y518-Y516)+2,V516,\"(\"&V516&\" : \"&V518&\")\",V518)","v":"((4. Gr. B : 5. Gr. A) : (4. Gr. B : 5. Gr. A))"},null,null,null,null,{"$f":"CHOOSE(SIGN(AD388-AD390)+2,AA388,\"(\"&AA388&\" : \"&AA390&\")\",AA390)","v":"(((4. Gr. B : 5. Gr. A) : (4. Gr. B : 5. Gr. A)) : ((4. Gr. B : 5. Gr. A) : (4. Gr. B : 5. Gr. A)))"},null,null,null,null,{"$f":"CHOOSE(SIGN(AI388-AI390)+2,AF388,\"(\"&AF388&\" : \"&AF390&\")\",AF390)","v":"((((4. Gr. B : 5. Gr. A) : (4. Gr. B : 5. Gr. A)) : ((4. Gr. B : 5. Gr. A) : (4. Gr. B : 5. Gr. A))) : (((4. Gr. B : 5. Gr. A) : (4. Gr. B : 5. Gr. A)) : ((4. Gr. B : 5. Gr. A) : (4. Gr. B : 5. Gr. A))))"},null,null,null,null,{"$f":"CHOOSE(SIGN(AN388-AN390)+2,AK388,\"(\"&AK388&\" : \"&AK390&\")\",AK390)","v":"(((((4. Gr. B : 5. Gr. A) : (4. Gr. B : 5. Gr. A)) : ((4. Gr. B : 5. Gr. A) : (4. Gr. B : 5. Gr. A))) : (((4. Gr. B : 5. Gr. A) : (4. Gr. B : 5. Gr. A)) : ((4. Gr. B : 5. Gr. A) : (4. Gr. B : 5. Gr. A)))) : ((((4. Gr. B : 5. Gr. A) : (4. Gr. B : 5. Gr. A)) : ((4. Gr. B : 5. Gr. A) : (4. Gr. B : 5. Gr. A))) : (((4. Gr. B : 5. Gr. A) : (4. Gr. B : 5. Gr. A)) : ((4. Gr. B : 5. Gr. A) : (4. Gr. B : 5. Gr. A)))))"},null,null,null,null,{"$f":"CHOOSE(SIGN(AS388-AS390)+2,AP388,\"(\"&AP388&\" : \"&AP390&\")\",AP390)","v":"((((((1. Gr. A : 4. Gr. B) : (2. Gr. D : 3. Gr. C)) : ((1. Gr. C : 4. Gr. D) : (2. Gr. B : 3. Gr. A))) : (((1. Gr. B : 4. Gr. C) : (2. Gr. A : 3. Gr. D)) : ((1. Gr. D : 4. Gr. A) : (2. Gr. C : 3. Gr. B)))) : ((((4. Gr. B : 5. Gr. A) : (4. Gr. B : 5. Gr. A)) : ((4. Gr. B : 5. Gr. A) : (4. Gr. B : 5. Gr. A))) : (((4. Gr. B : 5. Gr. A) : (4. Gr. B : 5. Gr. A)) : ((4. Gr. B : 5. Gr. A) : (4. Gr. B : 5. Gr. A))))) : (((((4. Gr. B : 5. Gr. A) : (4. Gr. B : 5. Gr. A)) : ((4. Gr. B : 5. Gr. A) : (4. Gr. B : 5. Gr. A))) : (((4. Gr. B : 5. Gr. A) : (4. Gr. B : 5. Gr. A)) : ((4. Gr. B : 5. Gr. A) : (4. Gr. B : 5. Gr. A)))) : ((((4. Gr. B : 5. Gr. A) : (4. Gr. B : 5. Gr. A)) : ((4. Gr. B : 5. Gr. A) : (4. Gr. B : 5. Gr. A))) : (((4. Gr. B : 5. Gr. A) : (4. Gr. B : 5. Gr. A)) : ((4. Gr. B : 5. Gr. A) : (4. Gr. B : 5. Gr. A))))))"}]
[]
[null,null,null,null,null,null,null,null,null,null,null,null,null,null,null,null,{"$f":"O399","v":"5. Gr. A"},null,null,null,null,{"$f":"CHOOSE(SIGN(T268-T270)+2,Q268,\"(\"&Q268&\" : \"&Q270&\")\",Q270)","v":"(4. Gr. B : 5. Gr. A)"},null,null,null,null,{"$f":"CHOOSE(SIGN(Y526-Y524)+2,V524,\"(\"&V524&\" : \"&V526&\")\",V526)","v":"((4. Gr. B : 5. Gr. A) : (4. Gr. B : 5. Gr. A))"},null,null,null,null,{"$f":"CHOOSE(SIGN(AD396-AD398)+2,AA396,\"(\"&AA396&\" : \"&AA398&\")\",AA398)","v":"(((4. Gr. B : 5. Gr. A) : (4. Gr. B : 5. Gr. A)) : ((4. Gr. B : 5. Gr. A) : (4. Gr. B : 5. Gr. A)))"},null,null,null,null,{"$f":"CHOOSE(SIGN(AI396-AI398)+2,AF396,\"(\"&AF396&\" : \"&AF398&\")\",AF398)","v":"((((4. Gr. B : 5. Gr. A) : (4. Gr. B : 5. Gr. A)) : ((4. Gr. B : 5. Gr. A) : (4. Gr. B : 5. Gr. A))) : (((4. Gr. B : 5. Gr. A) : (4. Gr. B : 5. Gr. A)) : ((4. Gr. B : 5. Gr. A) : (4. Gr. B : 5. Gr. A))))"},null,null,null,null,{"$f":"CHOOSE(SIGN(AN396-AN398)+2,AK396,\"(\"&AK396&\" : \"&AK398&\")\",AK398)","v":"(((((4. Gr. B : 5. Gr. A) : (4. Gr. B : 5. Gr. A)) : ((4. Gr. B : 5. Gr. A) : (4. Gr. B : 5. Gr. A))) : (((4. Gr. B : 5. Gr. A) : (4. Gr. B : 5. Gr. A)) : ((4. Gr. B : 5. Gr. A) : (4. Gr. B : 5. Gr. A)))) : ((((4. Gr. B : 5. Gr. A) : (4. Gr. B : 5. Gr. A)) : ((4. Gr. B : 5. Gr. A) : (4. Gr. B : 5. Gr. A))) : (((4. Gr. B : 5. Gr. A) : (4. Gr. B : 5. Gr. A)) : ((4. Gr. B : 5. Gr. A) : (4. Gr. B : 5. Gr. A)))))"},null,null,null,null,{"$f":"CHOOSE(SIGN(AS396-AS398)+2,AP396,\"(\"&AP396&\" : \"&AP398&\")\",AP398)","v":"((((((4. Gr. B : 5. Gr. A) : (4. Gr. B : 5. Gr. A)) : ((4. Gr. B : 5. Gr. A) : (4. Gr. B : 5. Gr. A))) : (((4. Gr. B : 5. Gr. A) : (4. Gr. B : 5. Gr. A)) : ((4. Gr. B : 5. Gr. A) : (4. Gr. B : 5. Gr. A)))) : ((((4. Gr. B : 5. Gr. A) : (4. Gr. B : 5. Gr. A)) : ((4. Gr. B : 5. Gr. A) : (4. Gr. B : 5. Gr. A))) : (((4. Gr. B : 5. Gr. A) : (4. Gr. B : 5. Gr. A)) : ((4. Gr. B : 5. Gr. A) : (4. Gr. B : 5. Gr. A))))) : (((((4. Gr. B : 5. Gr. A) : (4. Gr. B : 5. Gr. A)) : ((4. Gr. B : 5. Gr. A) : (4. Gr. B : 5. Gr. A))) : (((4. Gr. B : 5. Gr. A) : (4. Gr. B : 5. Gr. A)) : ((4. Gr. B : 5. Gr. A) : (4. Gr. B : 5. Gr. A)))) : ((((4. Gr. B : 5. Gr. A) : (4. Gr. B : 5. Gr. A)) : ((4. Gr. B : 5. Gr. A) : (4. Gr. B : 5. Gr. A))) : (((4. Gr. B : 5. Gr. A) : (4. Gr. B : 5. Gr. A)) : ((4. Gr. B : 5. Gr. A) : (4. Gr. B : 5. Gr. A))))))"}]
[null,null,null,null,null,null,null,null,null,null,null,null,null,null,{"$f":"INDEX(tbl_KO_Data[T2 Src Rank],K394) & \". Gr. \" & INDEX(tbl_KO_Data[T2 Src Group],K394)","v":"5. Gr. A"},null,null,null,null,null,null,null,null,null,null,null,null,null,null,null,null,null,null,null,null,null,null,null,null,null,null,null,null,null,null,null,null,null,null,null,null,96,{"$f":"IF(AX396>AX398,AU398,IF(AX396<AX398,AU396,\"\"))","v":""}]
[]
[]
[null,null,null,null,null,null,null,null,3,null,{"$f":"KO_Data_1row+INDEX(D402:I402,KO_Rounds_Ind)","v":295},null,null,null,null,null,"K_64_A03","field x","best of n",0,null,"K_32_B02","field x","best of n",0,null,"K_16_D01","field x","best of n",0,null,"K_08_G1","field x","best of n",0,null,"K_04_M1","field x","best of n",0,null,"K_02_Y1","field x","best of n",0,null,"K_01_097","field x","best of n",0]
[null,null,null,null,null,null,null,null,null,null,null,null,null,null,{"$f":"INDEX(tbl_KO_Data[T1 Src Rank],K402) & \". Gr. \" & INDEX(tbl_KO_Data[T1 Src Group],K402)","v":"4. Gr. B"},null,null,null,null,null,null,null,null,null,null,null,null,null,null,null,null,null,null,null,null,null,null,null,null,null,null,null,null,null,null,null,null,null,null,null,null,97,{"$f":"IF(AX404>AX406,AU404,IF(AX404<AX406,AU406,\"\"))","v":""}]
[null,null,null,null,null,null,null,null,null,null,null,null,null,null,null,null,{"$f":"O403","v":"4. Gr. B"},null,null,null,null,{"$f":"CHOOSE(SIGN(T276-T278)+2,Q276,\"(\"&Q276&\" : \"&Q278&\")\",Q278)","v":"(4. Gr. B : 5. Gr. A)"},null,null,null,null,{"$f":"CHOOSE(SIGN(Y276-Y278)+2,V276,\"(\"&V276&\" : \"&V278&\")\",V278)","v":"((1. Gr. A : 4. Gr. B) : (2. Gr. D : 3. Gr. C))"},null,null,null,null,{"$f":"CHOOSE(SIGN(AD406-AD404)+2,AA404,\"(\"&AA404&\" : \"&AA406&\")\",AA406)","v":"(((1. Gr. A : 4. Gr. B) : (2. Gr. D : 3. Gr. C)) : ((1. Gr. C : 4. Gr. D) : (2. Gr. B : 3. Gr. A)))"},null,null,null,null,{"$f":"CHOOSE(SIGN(AI406-AI404)+2,AF404,\"(\"&AF404&\" : \"&AF406&\")\",AF406)","v":"((((1. Gr. A : 4. Gr. B) : (2. Gr. D : 3. Gr. C)) : ((1. Gr. C : 4. Gr. D) : (2. Gr. B : 3. Gr. A))) : (((1. Gr. B : 4. Gr. C) : (2. Gr. A : 3. Gr. D)) : ((1. Gr. D : 4. Gr. A) : (2. Gr. C : 3. Gr. B))))"},null,null,null,null,{"$f":"CHOOSE(SIGN(AN406-AN404)+2,AK404,\"(\"&AK404&\" : \"&AK406&\")\",AK406)","v":"(((((1. Gr. A : 4. Gr. B) : (2. Gr. D : 3. Gr. C)) : ((1. Gr. C : 4. Gr. D) : (2. Gr. B : 3. Gr. A))) : (((1. Gr. B : 4. Gr. C) : (2. Gr. A : 3. Gr. D)) : ((1. Gr. D : 4. Gr. A) : (2. Gr. C : 3. Gr. B)))) : ((((4. Gr. B : 5. Gr. A) : (4. Gr. B : 5. Gr. A)) : ((4. Gr. B : 5. Gr. A) : (4. Gr. B : 5. Gr. A))) : (((4. Gr. B : 5. Gr. A) : (4. Gr. B : 5. Gr. A)) : ((4. Gr. B : 5. Gr. A) : (4. Gr. B : 5. Gr. A)))))"},null,null,null,null,{"$f":"CHOOSE(SIGN(AS406-AS404)+2,AP404,\"(\"&AP404&\" : \"&AP406&\")\",AP406)","v":"((((((1. Gr. A : 4. Gr. B) : (2. Gr. D : 3. Gr. C)) : ((1. Gr. C : 4. Gr. D) : (2. Gr. B : 3. Gr. A))) : (((1. Gr. B : 4. Gr. C) : (2. Gr. A : 3. Gr. D)) : ((1. Gr. D : 4. Gr. A) : (2. Gr. C : 3. Gr. B)))) : ((((4. Gr. B : 5. Gr. A) : (4. Gr. B : 5. Gr. A)) : ((4. Gr. B : 5. Gr. A) : (4. Gr. B : 5. Gr. A))) : (((4. Gr. B : 5. Gr. A) : (4. Gr. B : 5. Gr. A)) : ((4. Gr. B : 5. Gr. A) : (4. Gr. B : 5. Gr. A))))) : (((((4. Gr. B : 5. Gr. A) : (4. Gr. B : 5. Gr. A)) : ((4. Gr. B : 5. Gr. A) : (4. Gr. B : 5. Gr. A))) : (((4. Gr. B : 5. Gr. A) : (4. Gr. B : 5. Gr. A)) : ((4. Gr. B : 5. Gr. A) : (4. Gr. B : 5. Gr. A)))) : ((((4. Gr. B : 5. Gr. A) : (4. Gr. B : 5. Gr. A)) : ((4. Gr. B : 5. Gr. A) : (4. Gr. B : 5. Gr. A))) : (((4. Gr. B : 5. Gr. A) : (4. Gr. B : 5. Gr. A)) : ((4. Gr. B : 5. Gr. A) : (4. Gr. B : 5. Gr. A))))))"}]
[]
[null,null,null,null,null,null,null,null,null,null,null,null,null,null,null,null,{"$f":"O407","v":"5. Gr. A"},null,null,null,null,{"$f":"CHOOSE(SIGN(T284-T286)+2,Q284,\"(\"&Q284&\" : \"&Q286&\")\",Q286)","v":"(4. Gr. B : 5. Gr. A)"},null,null,null,null,{"$f":"CHOOSE(SIGN(Y284-Y286)+2,V284,\"(\"&V284&\" : \"&V286&\")\",V286)","v":"((1. Gr. C : 4. Gr. D) : (2. Gr. B : 3. Gr. A))"},null,null,null,null,{"$f":"CHOOSE(SIGN(AD414-AD412)+2,AA412,\"(\"&AA412&\" : \"&AA414&\")\",AA414)","v":"(((1. Gr. B : 4. Gr. C) : (2. Gr. A : 3. Gr. D)) : ((1. Gr. D : 4. Gr. A) : (2. Gr. C : 3. Gr. B)))"},null,null,null,null,{"$f":"CHOOSE(SIGN(AI414-AI412)+2,AF412,\"(\"&AF412&\" : \"&AF414&\")\",AF414)","v":"((((4. Gr. B : 5. Gr. A) : (4. Gr. B : 5. Gr. A)) : ((4. Gr. B : 5. Gr. A) : (4. Gr. B : 5. Gr. A))) : (((4. Gr. B : 5. Gr. A) : (4. Gr. B : 5. Gr. A)) : ((4. Gr. B : 5. Gr. A) : (4. Gr. B : 5. Gr. A))))"},null,null,null,null,{"$f":"CHOOSE(SIGN(AN414-AN412)+2,AK412,\"(\"&AK412&\" : \"&AK414&\")\",AK414)","v":"(((((4. Gr. B : 5. Gr. A) : (4. Gr. B : 5. Gr. A)) : ((4. Gr. B : 5. Gr. A) : (4. Gr. B : 5. Gr. A))) : (((4. Gr. B : 5. Gr. A) : (4. Gr. B : 5. Gr. A)) : ((4. Gr. B : 5. Gr. A) : (4. Gr. B : 5. Gr. A)))) : ((((4. Gr. B : 5. Gr. A) : (4. Gr. B : 5. Gr. A)) : ((4. Gr. B : 5. Gr. A) : (4. Gr. B : 5. Gr. A))) : (((4. Gr. B : 5. Gr. A) : (4. Gr. B : 5. Gr. A)) : ((4. Gr. B : 5. Gr. A) : (4. Gr. B : 5. Gr. A)))))"},null,null,null,null,{"$f":"CHOOSE(SIGN(AS414-AS412)+2,AP412,\"(\"&AP412&\" : \"&AP414&\")\",AP414)","v":"((((((4. Gr. B : 5. Gr. A) : (4. Gr. B : 5. Gr. A)) : ((4. Gr. B : 5. Gr. A) : (4. Gr. B : 5. Gr. A))) : (((4. Gr. B : 5. Gr. A) : (4. Gr. B : 5. Gr. A)) : ((4. Gr. B : 5. Gr. A) : (4. Gr. B : 5. Gr. A)))) : ((((4. Gr. B : 5. Gr. A) : (4. Gr. B : 5. Gr. A)) : ((4. Gr. B : 5. Gr. A) : (4. Gr. B : 5. Gr. A))) : (((4. Gr. B : 5. Gr. A) : (4. Gr. B : 5. Gr. A)) : ((4. Gr. B : 5. Gr. A) : (4. Gr. B : 5. Gr. A))))) : (((((4. Gr. B : 5. Gr. A) : (4. Gr. B : 5. Gr. A)) : ((4. Gr. B : 5. Gr. A) : (4. Gr. B : 5. Gr. A))) : (((4. Gr. B : 5. Gr. A) : (4. Gr. B : 5. Gr. A)) : ((4. Gr. B : 5. Gr. A) : (4. Gr. B : 5. Gr. A)))) : ((((4. Gr. B : 5. Gr. A) : (4. Gr. B : 5. Gr. A)) : ((4. Gr. B : 5. Gr. A) : (4. Gr. B : 5. Gr. A))) : (((4. Gr. B : 5. Gr. A) : (4. Gr. B : 5. Gr. A)) : ((4. Gr. B : 5. Gr. A) : (4. Gr. B : 5. Gr. A))))))"}]
[null,null,null,null,null,null,null,null,null,null,null,null,null,null,{"$f":"INDEX(tbl_KO_Data[T2 Src Rank],K402) & \". Gr. \" & INDEX(tbl_KO_Data[T2 Src Group],K402)","v":"5. Gr. A"},null,null,null,null,null,null,null,null,null,null,null,null,null,null,null,null,null,null,null,null,null,null,null,null,null,null,null,null,null,null,null,null,null,null,null,null,98,{"$f":"IF(AX404>AX406,AU406,IF(AX404<AX406,AU404,\"\"))","v":""}]
[]
[]
[null,null,null,null,null,null,null,null,62,null,{"$f":"KO_Data_1row+INDEX(D410:I410,KO_Rounds_Ind)","v":295},null,null,null,null,null,"K_64_A62","field x","best of n",0,null,"K_32_B31","field x","best of n",0,null,"K_16_D16","field x","best of n",0,null,"K_08_G8","field x","best of n",0,null,"K_04_M4","field x","best of n",0,null,"K_02_Y2","field x","best of n",0,null,"K_01_099","field x","best of n",0]
[null,null,null,null,null,null,null,null,null,null,null,null,null,null,{"$f":"INDEX(tbl_KO_Data[T1 Src Rank],K410) & \". Gr. \" & INDEX(tbl_KO_Data[T1 Src Group],K410)","v":"4. Gr. B"},null,null,null,null,null,null,null,null,null,null,null,null,null,null,null,null,null,null,null,null,null,null,null,null,null,null,null,null,null,null,null,null,null,null,null,null,99,{"$f":"IF(AX412>AX414,AU412,IF(AX412<AX414,AU414,\"\"))","v":""}]
[null,null,null,null,null,null,null,null,null,null,null,null,null,null,null,null,{"$f":"O411","v":"4. Gr. B"},null,null,null,null,{"$f":"CHOOSE(SIGN(T292-T294)+2,Q292,\"(\"&Q292&\" : \"&Q294&\")\",Q294)","v":"(4. Gr. B : 5. Gr. A)"},null,null,null,null,{"$f":"CHOOSE(SIGN(Y292-Y294)+2,V292,\"(\"&V292&\" : \"&V294&\")\",V294)","v":"((1. Gr. B : 4. Gr. C) : (2. Gr. A : 3. Gr. D))"},null,null,null,null,{"$f":"CHOOSE(SIGN(AD422-AD420)+2,AA420,\"(\"&AA420&\" : \"&AA422&\")\",AA422)","v":"(((4. Gr. B : 5. Gr. A) : (4. Gr. B : 5. Gr. A)) : ((4. Gr. B : 5. Gr. A) : (4. Gr. B : 5. Gr. A)))"},null,null,null,null,{"$f":"CHOOSE(SIGN(AI422-AI420)+2,AF420,\"(\"&AF420&\" : \"&AF422&\")\",AF422)","v":"((((4. Gr. B : 5. Gr. A) : (4. Gr. B : 5. Gr. A)) : ((4. Gr. B : 5. Gr. A) : (4. Gr. B : 5. Gr. A))) : (((4. Gr. B : 5. Gr. A) : (4. Gr. B : 5. Gr. A)) : ((4. Gr. B : 5. Gr. A) : (4. Gr. B : 5. Gr. A))))"},null,null,null,null,{"$f":"CHOOSE(SIGN(AN422-AN420)+2,AK420,\"(\"&AK420&\" : \"&AK422&\")\",AK422)","v":"(((((4. Gr. B : 5. Gr. A) : (4. Gr. B : 5. Gr. A)) : ((4. Gr. B : 5. Gr. A) : (4. Gr. B : 5. Gr. A))) : (((4. Gr. B : 5. Gr. A) : (4. Gr. B : 5. Gr. A)) : ((4. Gr. B : 5. Gr. A) : (4. Gr. B : 5. Gr. A)))) : ((((4. Gr. B : 5. Gr. A) : (4. Gr. B : 5. Gr. A)) : ((4. Gr. B : 5. Gr. A) : (4. Gr. B : 5. Gr. A))) : (((4. Gr. B : 5. Gr. A) : (4. Gr. B : 5. Gr. A)) : ((4. Gr. B : 5. Gr. A) : (4. Gr. B : 5. Gr. A)))))"},null,null,null,null,{"$f":"CHOOSE(SIGN(AS404-AS406)+2,AP404,\"(\"&AP404&\" : \"&AP406&\")\",AP406)","v":"((((((1. Gr. A : 4. Gr. B) : (2. Gr. D : 3. Gr. C)) : ((1. Gr. C : 4. Gr. D) : (2. Gr. B : 3. Gr. A))) : (((1. Gr. B : 4. Gr. C) : (2. Gr. A : 3. Gr. D)) : ((1. Gr. D : 4. Gr. A) : (2. Gr. C : 3. Gr. B)))) : ((((4. Gr. B : 5. Gr. A) : (4. Gr. B : 5. Gr. A)) : ((4. Gr. B : 5. Gr. A) : (4. Gr. B : 5. Gr. A))) : (((4. Gr. B : 5. Gr. A) : (4. Gr. B : 5. Gr. A)) : ((4. Gr. B : 5. Gr. A) : (4. Gr. B : 5. Gr. A))))) : (((((4. Gr. B : 5. Gr. A) : (4. Gr. B : 5. Gr. A)) : ((4. Gr. B : 5. Gr. A) : (4. Gr. B : 5. Gr. A))) : (((4. Gr. B : 5. Gr. A) : (4. Gr. B : 5. Gr. A)) : ((4. Gr. B : 5. Gr. A) : (4. Gr. B : 5. Gr. A)))) : ((((4. Gr. B : 5. Gr. A) : (4. Gr. B : 5. Gr. A)) : ((4. Gr. B : 5. Gr. A) : (4. Gr. B : 5. Gr. A))) : (((4. Gr. B : 5. Gr. A) : (4. Gr. B : 5. Gr. A)) : ((4. Gr. B : 5. Gr. A) : (4. Gr. B : 5. Gr. A))))))"}]
[]
[null,null,null,null,null,null,null,null,null,null,null,null,null,null,null,null,{"$f":"O415","v":"5. Gr. A"},null,null,null,null,{"$f":"CHOOSE(SIGN(T300-T302)+2,Q300,\"(\"&Q300&\" : \"&Q302&\")\",Q302)","v":"(4. Gr. B : 5. Gr. A)"},null,null,null,null,{"$f":"CHOOSE(SIGN(Y300-Y302)+2,V300,\"(\"&V300&\" : \"&V302&\")\",V302)","v":"((1. Gr. D : 4. Gr. A) : (2. Gr. C : 3. Gr. B))"},null,null,null,null,{"$f":"CHOOSE(SIGN(AD430-AD428)+2,AA428,\"(\"&AA428&\" : \"&AA430&\")\",AA430)","v":"(((4. Gr. B : 5. Gr. A) : (4. Gr. B : 5. Gr. A)) : ((4. Gr. B : 5. Gr. A) : (4. Gr. B : 5. Gr. A)))"},null,null,null,null,{"$f":"CHOOSE(SIGN(AI430-AI428)+2,AF428,\"(\"&AF428&\" : \"&AF430&\")\",AF430)","v":"((((4. Gr. B : 5. Gr. A) : (4. Gr. B : 5. Gr. A)) : ((4. Gr. B : 5. Gr. A) : (4. Gr. B : 5. Gr. A))) : (((4. Gr. B : 5. Gr. A) : (4. Gr. B : 5. Gr. A)) : ((4. Gr. B : 5. Gr. A) : (4. Gr. B : 5. Gr. A))))"},null,null,null,null,{"$f":"CHOOSE(SIGN(AN430-AN428)+2,AK428,\"(\"&AK428&\" : \"&AK430&\")\",AK430)","v":"(((((4. Gr. B : 5. Gr. A) : (4. Gr. B : 5. Gr. A)) : ((4. Gr. B : 5. Gr. A) : (4. Gr. B : 5. Gr. A))) : (((4. Gr. B : 5. Gr. A) : (4. Gr. B : 5. Gr. A)) : ((4. Gr. B : 5. Gr. A) : (4. Gr. B : 5. Gr. A)))) : ((((4. Gr. B : 5. Gr. A) : (4. Gr. B : 5. Gr. A)) : ((4. Gr. B : 5. Gr. A) : (4. Gr. B : 5. Gr. A))) : (((4. Gr. B : 5. Gr. A) : (4. Gr. B : 5. Gr. A)) : ((4. Gr. B : 5. Gr. A) : (4. Gr. B : 5. Gr. A)))))"},null,null,null,null,{"$f":"CHOOSE(SIGN(AS412-AS414)+2,AP412,\"(\"&AP412&\" : \"&AP414&\")\",AP414)","v":"((((((4. Gr. B : 5. Gr. A) : (4. Gr. B : 5. Gr. A)) : ((4. Gr. B : 5. Gr. A) : (4. Gr. B : 5. Gr. A))) : (((4. Gr. B : 5. Gr. A) : (4. Gr. B : 5. Gr. A)) : ((4. Gr. B : 5. Gr. A) : (4. Gr. B : 5. Gr. A)))) : ((((4. Gr. B : 5. Gr. A) : (4. Gr. B : 5. Gr. A)) : ((4. Gr. B : 5. Gr. A) : (4. Gr. B : 5. Gr. A))) : (((4. Gr. B : 5. Gr. A) : (4. Gr. B : 5. Gr. A)) : ((4. Gr. B : 5. Gr. A) : (4. Gr. B : 5. Gr. A))))) : (((((4. Gr. B : 5. Gr. A) : (4. Gr. B : 5. Gr. A)) : ((4. Gr. B : 5. Gr. A) : (4. Gr. B : 5. Gr. A))) : (((4. Gr. B : 5. Gr. A) : (4. Gr. B : 5. Gr. A)) : ((4. Gr. B : 5. Gr. A) : (4. Gr. B : 5. Gr. A)))) : ((((4. Gr. B : 5. Gr. A) : (4. Gr. B : 5. Gr. A)) : ((4. Gr. B : 5. Gr. A) : (4. Gr. B : 5. Gr. A))) : (((4. Gr. B : 5. Gr. A) : (4. Gr. B : 5. Gr. A)) : ((4. Gr. B : 5. Gr. A) : (4. Gr. B : 5. Gr. A))))))"}]
[null,null,null,null,null,null,null,null,null,null,null,null,null,null,{"$f":"INDEX(tbl_KO_Data[T2 Src Rank],K410) & \". Gr. \" & INDEX(tbl_KO_Data[T2 Src Group],K410)","v":"5. Gr. A"},null,null,null,null,null,null,null,null,null,null,null,null,null,null,null,null,null,null,null,null,null,null,null,null,null,null,null,null,null,null,null,null,null,null,null,null,100,{"$f":"IF(AX412>AX414,AU414,IF(AX412<AX414,AU412,\"\"))","v":""}]
[]
[]
[null,null,null,null,null,null,null,null,30,null,{"$f":"KO_Data_1row+INDEX(D418:I418,KO_Rounds_Ind)","v":295},null,null,null,null,null,"K_64_A30","field x","best of n",0,null,"K_32_B15","field x","best of n",0,null,"K_16_D08","field x","best of n",0,null,"K_08_G4","field x","best of n",0,null,"K_04_M2","field x","best of n",0,null,"K_02_Z1","field x","best of n",0,null,"K_01_101","field x","best of n",0]
[null,null,null,null,null,null,null,null,null,null,null,null,null,null,{"$f":"INDEX(tbl_KO_Data[T1 Src Rank],K418) & \". Gr. \" & INDEX(tbl_KO_Data[T1 Src Group],K418)","v":"4. Gr. B"},null,null,null,null,null,null,null,null,null,null,null,null,null,null,null,null,null,null,null,null,null,null,null,null,null,null,null,null,null,null,null,null,null,null,null,null,101,{"$f":"IF(AX420>AX422,AU420,IF(AX420<AX422,AU422,\"\"))","v":""}]
[null,null,null,null,null,null,null,null,null,null,null,null,null,null,null,null,{"$f":"O419","v":"4. Gr. B"},null,null,null,null,{"$f":"CHOOSE(SIGN(T308-T310)+2,Q308,\"(\"&Q308&\" : \"&Q310&\")\",Q310)","v":"(4. Gr. B : 5. Gr. A)"},null,null,null,null,{"$f":"CHOOSE(SIGN(Y308-Y310)+2,V308,\"(\"&V308&\" : \"&V310&\")\",V310)","v":"((4. Gr. B : 5. Gr. A) : (4. Gr. B : 5. Gr. A))"},null,null,null,null,{"$f":"CHOOSE(SIGN(AD438-AD436)+2,AA436,\"(\"&AA436&\" : \"&AA438&\")\",AA438)","v":"(((4. Gr. B : 5. Gr. A) : (4. Gr. B : 5. Gr. A)) : ((4. Gr. B : 5. Gr. A) : (4. Gr. B : 5. Gr. A)))"},null,null,null,null,{"$f":"CHOOSE(SIGN(AI438-AI436)+2,AF436,\"(\"&AF436&\" : \"&AF438&\")\",AF438)","v":"((((4. Gr. B : 5. Gr. A) : (4. Gr. B : 5. Gr. A)) : ((4. Gr. B : 5. Gr. A) : (4. Gr. B : 5. Gr. A))) : (((4. Gr. B : 5. Gr. A) : (4. Gr. B : 5. Gr. A)) : ((4. Gr. B : 5. Gr. A) : (4. Gr. B : 5. Gr. A))))"},null,null,null,null,{"$f":"CHOOSE(SIGN(AN404-AN406)+2,AK404,\"(\"&AK404&\" : \"&AK406&\")\",AK406)","v":"(((((1. Gr. A : 4. Gr. B) : (2. Gr. D : 3. Gr. C)) : ((1. Gr. C : 4. Gr. D) : (2. Gr. B : 3. Gr. A))) : (((1. Gr. B : 4. Gr. C) : (2. Gr. A : 3. Gr. D)) : ((1. Gr. D : 4. Gr. A) : (2. Gr. C : 3. Gr. B)))) : ((((4. Gr. B : 5. Gr. A) : (4. Gr. B : 5. Gr. A)) : ((4. Gr. B : 5. Gr. A) : (4. Gr. B : 5. Gr. A))) : (((4. Gr. B : 5. Gr. A) : (4. Gr. B : 5. Gr. A)) : ((4. Gr. B : 5. Gr. A) : (4. Gr. B : 5. Gr. A)))))"},null,null,null,null,{"$f":"CHOOSE(SIGN(AS422-AS420)+2,AP420,\"(\"&AP420&\" : \"&AP422&\")\",AP422)","v":"((((((1. Gr. A : 4. Gr. B) : (2. Gr. D : 3. Gr. C)) : ((1. Gr. C : 4. Gr. D) : (2. Gr. B : 3. Gr. A))) : (((1. Gr. B : 4. Gr. C) : (2. Gr. A : 3. Gr. D)) : ((1. Gr. D : 4. Gr. A) : (2. Gr. C : 3. Gr. B)))) : ((((4. Gr. B : 5. Gr. A) : (4. Gr. B : 5. Gr. A)) : ((4. Gr. B : 5. Gr. A) : (4. Gr. B : 5. Gr. A))) : (((4. Gr. B : 5. Gr. A) : (4. Gr. B : 5. Gr. A)) : ((4. Gr. B : 5. Gr. A) : (4. Gr. B : 5. Gr. A))))) : (((((4. Gr. B : 5. Gr. A) : (4. Gr. B : 5. Gr. A)) : ((4. Gr. B : 5. Gr. A) : (4. Gr. B : 5. Gr. A))) : (((4. Gr. B : 5. Gr. A) : (4. Gr. B : 5. Gr. A)) : ((4. Gr. B : 5. Gr. A) : (4. Gr. B : 5. Gr. A)))) : ((((4. Gr. B : 5. Gr. A) : (4. Gr. B : 5. Gr. A)) : ((4. Gr. B : 5. Gr. A) : (4. Gr. B : 5. Gr. A))) : (((4. Gr. B : 5. Gr. A) : (4. Gr. B : 5. Gr. A)) : ((4. Gr. B : 5. Gr. A) : (4. Gr. B : 5. Gr. A))))))"}]
[]
[null,null,null,null,null,null,null,null,null,null,null,null,null,null,null,null,{"$f":"O423","v":"5. Gr. A"},null,null,null,null,{"$f":"CHOOSE(SIGN(T316-T318)+2,Q316,\"(\"&Q316&\" : \"&Q318&\")\",Q318)","v":"(4. Gr. B : 5. Gr. A)"},null,null,null,null,{"$f":"CHOOSE(SIGN(Y316-Y318)+2,V316,\"(\"&V316&\" : \"&V318&\")\",V318)","v":"((4. Gr. B : 5. Gr. A) : (4. Gr. B : 5. Gr. A))"},null,null,null,null,{"$f":"CHOOSE(SIGN(AD446-AD444)+2,AA444,\"(\"&AA444&\" : \"&AA446&\")\",AA446)","v":"(((4. Gr. B : 5. Gr. A) : (4. Gr. B : 5. Gr. A)) : ((4. Gr. B : 5. Gr. A) : (4. Gr. B : 5. Gr. A)))"},null,null,null,null,{"$f":"CHOOSE(SIGN(AI446-AI444)+2,AF444,\"(\"&AF444&\" : \"&AF446&\")\",AF446)","v":"((((4. Gr. B : 5. Gr. A) : (4. Gr. B : 5. Gr. A)) : ((4. Gr. B : 5. Gr. A) : (4. Gr. B : 5. Gr. A))) : (((4. Gr. B : 5. Gr. A) : (4. Gr. B : 5. Gr. A)) : ((4. Gr. B : 5. Gr. A) : (4. Gr. B : 5. Gr. A))))"},null,null,null,null,{"$f":"CHOOSE(SIGN(AN412-AN414)+2,AK412,\"(\"&AK412&\" : \"&AK414&\")\",AK414)","v":"(((((4. Gr. B : 5. Gr. A) : (4. Gr. B : 5. Gr. A)) : ((4. Gr. B : 5. Gr. A) : (4. Gr. B : 5. Gr. A))) : (((4. Gr. B : 5. Gr. A) : (4. Gr. B : 5. Gr. A)) : ((4. Gr. B : 5. Gr. A) : (4. Gr. B : 5. Gr. A)))) : ((((4. Gr. B : 5. Gr. A) : (4. Gr. B : 5. Gr. A)) : ((4. Gr. B : 5. Gr. A) : (4. Gr. B : 5. Gr. A))) : (((4. Gr. B : 5. Gr. A) : (4. Gr. B : 5. Gr. A)) : ((4. Gr. B : 5. Gr. A) : (4. Gr. B : 5. Gr. A)))))"},null,null,null,null,{"$f":"CHOOSE(SIGN(AS430-AS428)+2,AP428,\"(\"&AP428&\" : \"&AP430&\")\",AP430)","v":"((((((4. Gr. B : 5. Gr. A) : (4. Gr. B : 5. Gr. A)) : ((4. Gr. B : 5. Gr. A) : (4. Gr. B : 5. Gr. A))) : (((4. Gr. B : 5. Gr. A) : (4. Gr. B : 5. Gr. A)) : ((4. Gr. B : 5. Gr. A) : (4. Gr. B : 5. Gr. A)))) : ((((4. Gr. B : 5. Gr. A) : (4. Gr. B : 5. Gr. A)) : ((4. Gr. B : 5. Gr. A) : (4. Gr. B : 5. Gr. A))) : (((4. Gr. B : 5. Gr. A) : (4. Gr. B : 5. Gr. A)) : ((4. Gr. B : 5. Gr. A) : (4. Gr. B : 5. Gr. A))))) : (((((4. Gr. B : 5. Gr. A) : (4. Gr. B : 5. Gr. A)) : ((4. Gr. B : 5. Gr. A) : (4. Gr. B : 5. Gr. A))) : (((4. Gr. B : 5. Gr. A) : (4. Gr. B : 5. Gr. A)) : ((4. Gr. B : 5. Gr. A) : (4. Gr. B : 5. Gr. A)))) : ((((4. Gr. B : 5. Gr. A) : (4. Gr. B : 5. Gr. A)) : ((4. Gr. B : 5. Gr. A) : (4. Gr. B : 5. Gr. A))) : (((4. Gr. B : 5. Gr. A) : (4. Gr. B : 5. Gr. A)) : ((4. Gr. B : 5. Gr. A) : (4. Gr. B : 5. Gr. A))))))"}]
[null,null,null,null,null,null,null,null,null,null,null,null,null,null,{"$f":"INDEX(tbl_KO_Data[T2 Src Rank],K418) & \". Gr. \" & INDEX(tbl_KO_Data[T2 Src Group],K418)","v":"5. Gr. A"},null,null,null,null,null,null,null,null,null,null,null,null,null,null,null,null,null,null,null,null,null,null,null,null,null,null,null,null,null,null,null,null,null,null,null,null,102,{"$f":"IF(AX420>AX422,AU422,IF(AX420<AX422,AU420,\"\"))","v":""}]
[]
[]
[null,null,null,null,null,null,null,null,35,null,{"$f":"KO_Data_1row+INDEX(D426:I426,KO_Rounds_Ind)","v":295},null,null,null,null,null,"K_64_A35","field x","best of n",0,null,"K_32_B18","field x","best of n",0,null,"K_16_D09","field x","best of n",0,null,"K_08_G5","field x","best of n",0,null,"K_04_M3","field x","best of n",0,null,"K_02_Z2","field x","best of n",0,null,"K_01_103","field x","best of n",0]
[null,null,null,null,null,null,null,null,null,null,null,null,null,null,{"$f":"INDEX(tbl_KO_Data[T1 Src Rank],K426) & \". Gr. \" & INDEX(tbl_KO_Data[T1 Src Group],K426)","v":"4. Gr. B"},null,null,null,null,null,null,null,null,null,null,null,null,null,null,null,null,null,null,null,null,null,null,null,null,null,null,null,null,null,null,null,null,null,null,null,null,103,{"$f":"IF(AX428>AX430,AU428,IF(AX428<AX430,AU430,\"\"))","v":""}]
[null,null,null,null,null,null,null,null,null,null,null,null,null,null,null,null,{"$f":"O427","v":"4. Gr. B"},null,null,null,null,{"$f":"CHOOSE(SIGN(T324-T326)+2,Q324,\"(\"&Q324&\" : \"&Q326&\")\",Q326)","v":"(4. Gr. B : 5. Gr. A)"},null,null,null,null,{"$f":"CHOOSE(SIGN(Y324-Y326)+2,V324,\"(\"&V324&\" : \"&V326&\")\",V326)","v":"((4. Gr. B : 5. Gr. A) : (4. Gr. B : 5. Gr. A))"},null,null,null,null,{"$f":"CHOOSE(SIGN(AD454-AD452)+2,AA452,\"(\"&AA452&\" : \"&AA454&\")\",AA454)","v":"(((4. Gr. B : 5. Gr. A) : (4. Gr. B : 5. Gr. A)) : ((4. Gr. B : 5. Gr. A) : (4. Gr. B : 5. Gr. A)))"},null,null,null,null,{"$f":"CHOOSE(SIGN(AI454-AI452)+2,AF452,\"(\"&AF452&\" : \"&AF454&\")\",AF454)","v":"((((4. Gr. B : 5. Gr. A) : (4. Gr. B : 5. Gr. A)) : ((4. Gr. B : 5. Gr. A) : (4. Gr. B : 5. Gr. A))) : (((4. Gr. B : 5. Gr. A) : (4. Gr. B : 5. Gr. A)) : ((4. Gr. B : 5. Gr. A) : (4. Gr. B : 5. Gr. A))))"},null,null,null,null,{"$f":"CHOOSE(SIGN(AN420-AN422)+2,AK420,\"(\"&AK420&\" : \"&AK422&\")\",AK422)","v":"(((((4. Gr. B : 5. Gr. A) : (4. Gr. B : 5. Gr. A)) : ((4. Gr. B : 5. Gr. A) : (4. Gr. B : 5. Gr. A))) : (((4. Gr. B : 5. Gr. A) : (4. Gr. B : 5. Gr. A)) : ((4. Gr. B : 5. Gr. A) : (4. Gr. B : 5. Gr. A)))) : ((((4. Gr. B : 5. Gr. A) : (4. Gr. B : 5. Gr. A)) : ((4. Gr. B : 5. Gr. A) : (4. Gr. B : 5. Gr. A))) : (((4. Gr. B : 5. Gr. A) : (4. Gr. B : 5. Gr. A)) : ((4. Gr. B : 5. Gr. A) : (4. Gr. B : 5. Gr. A)))))"},null,null,null,null,{"$f":"CHOOSE(SIGN(AS420-AS422)+2,AP420,\"(\"&AP420&\" : \"&AP422&\")\",AP422)","v":"((((((1. Gr. A : 4. Gr. B) : (2. Gr. D : 3. Gr. C)) : ((1. Gr. C : 4. Gr. D) : (2. Gr. B : 3. Gr. A))) : (((1. Gr. B : 4. Gr. C) : (2. Gr. A : 3. Gr. D)) : ((1. Gr. D : 4. Gr. A) : (2. Gr. C : 3. Gr. B)))) : ((((4. Gr. B : 5. Gr. A) : (4. Gr. B : 5. Gr. A)) : ((4. Gr. B : 5. Gr. A) : (4. Gr. B : 5. Gr. A))) : (((4. Gr. B : 5. Gr. A) : (4. Gr. B : 5. Gr. A)) : ((4. Gr. B : 5. Gr. A) : (4. Gr. B : 5. Gr. A))))) : (((((4. Gr. B : 5. Gr. A) : (4. Gr. B : 5. Gr. A)) : ((4. Gr. B : 5. Gr. A) : (4. Gr. B : 5. Gr. A))) : (((4. Gr. B : 5. Gr. A) : (4. Gr. B : 5. Gr. A)) : ((4. Gr. B : 5. Gr. A) : (4. Gr. B : 5. Gr. A)))) : ((((4. Gr. B : 5. Gr. A) : (4. Gr. B : 5. Gr. A)) : ((4. Gr. B : 5. Gr. A) : (4. Gr. B : 5. Gr. A))) : (((4. Gr. B : 5. Gr. A) : (4. Gr. B : 5. Gr. A)) : ((4. Gr. B : 5. Gr. A) : (4. Gr. B : 5. Gr. A))))))"}]
[]
[null,null,null,null,null,null,null,null,null,null,null,null,null,null,null,null,{"$f":"O431","v":"5. Gr. A"},null,null,null,null,{"$f":"CHOOSE(SIGN(T332-T334)+2,Q332,\"(\"&Q332&\" : \"&Q334&\")\",Q334)","v":"(4. Gr. B : 5. Gr. A)"},null,null,null,null,{"$f":"CHOOSE(SIGN(Y332-Y334)+2,V332,\"(\"&V332&\" : \"&V334&\")\",V334)","v":"((4. Gr. B : 5. Gr. A) : (4. Gr. B : 5. Gr. A))"},null,null,null,null,{"$f":"CHOOSE(SIGN(AD462-AD460)+2,AA460,\"(\"&AA460&\" : \"&AA462&\")\",AA462)","v":"(((4. Gr. B : 5. Gr. A) : (4. Gr. B : 5. Gr. A)) : ((4. Gr. B : 5. Gr. A) : (4. Gr. B : 5. Gr. A)))"},null,null,null,null,{"$f":"CHOOSE(SIGN(AI462-AI460)+2,AF460,\"(\"&AF460&\" : \"&AF462&\")\",AF462)","v":"((((4. Gr. B : 5. Gr. A) : (4. Gr. B : 5. Gr. A)) : ((4. Gr. B : 5. Gr. A) : (4. Gr. B : 5. Gr. A))) : (((4. Gr. B : 5. Gr. A) : (4. Gr. B : 5. Gr. A)) : ((4. Gr. B : 5. Gr. A) : (4. Gr. B : 5. Gr. A))))"},null,null,null,null,{"$f":"CHOOSE(SIGN(AN428-AN430)+2,AK428,\"(\"&AK428&\" : \"&AK430&\")\",AK430)","v":"(((((4. Gr. B : 5. Gr. A) : (4. Gr. B : 5. Gr. A)) : ((4. Gr. B : 5. Gr. A) : (4. Gr. B : 5. Gr. A))) : (((4. Gr. B : 5. Gr. A) : (4. Gr. B : 5. Gr. A)) : ((4. Gr. B : 5. Gr. A) : (4. Gr. B : 5. Gr. A)))) : ((((4. Gr. B : 5. Gr. A) : (4. Gr. B : 5. Gr. A)) : ((4. Gr. B : 5. Gr. A) : (4. Gr. B : 5. Gr. A))) : (((4. Gr. B : 5. Gr. A) : (4. Gr. B : 5. Gr. A)) : ((4. Gr. B : 5. Gr. A) : (4. Gr. B : 5. Gr. A)))))"},null,null,null,null,{"$f":"CHOOSE(SIGN(AS428-AS430)+2,AP428,\"(\"&AP428&\" : \"&AP430&\")\",AP430)","v":"((((((4. Gr. B : 5. Gr. A) : (4. Gr. B : 5. Gr. A)) : ((4. Gr. B : 5. Gr. A) : (4. Gr. B : 5. Gr. A))) : (((4. Gr. B : 5. Gr. A) : (4. Gr. B : 5. Gr. A)) : ((4. Gr. B : 5. Gr. A) : (4. Gr. B : 5. Gr. A)))) : ((((4. Gr. B : 5. Gr. A) : (4. Gr. B : 5. Gr. A)) : ((4. Gr. B : 5. Gr. A) : (4. Gr. B : 5. Gr. A))) : (((4. Gr. B : 5. Gr. A) : (4. Gr. B : 5. Gr. A)) : ((4. Gr. B : 5. Gr. A) : (4. Gr. B : 5. Gr. A))))) : (((((4. Gr. B : 5. Gr. A) : (4. Gr. B : 5. Gr. A)) : ((4. Gr. B : 5. Gr. A) : (4. Gr. B : 5. Gr. A))) : (((4. Gr. B : 5. Gr. A) : (4. Gr. B : 5. Gr. A)) : ((4. Gr. B : 5. Gr. A) : (4. Gr. B : 5. Gr. A)))) : ((((4. Gr. B : 5. Gr. A) : (4. Gr. B : 5. Gr. A)) : ((4. Gr. B : 5. Gr. A) : (4. Gr. B : 5. Gr. A))) : (((4. Gr. B : 5. Gr. A) : (4. Gr. B : 5. Gr. A)) : ((4. Gr. B : 5. Gr. A) : (4. Gr. B : 5. Gr. A))))))"}]
[null,null,null,null,null,null,null,null,null,null,null,null,null,null,{"$f":"INDEX(tbl_KO_Data[T2 Src Rank],K426) & \". Gr. \" & INDEX(tbl_KO_Data[T2 Src Group],K426)","v":"5. Gr. A"},null,null,null,null,null,null,null,null,null,null,null,null,null,null,null,null,null,null,null,null,null,null,null,null,null,null,null,null,null,null,null,null,null,null,null,null,104,{"$f":"IF(AX428>AX430,AU430,IF(AX428<AX430,AU428,\"\"))","v":""}]
[]
[]
[null,null,null,null,null,null,null,null,14,null,{"$f":"KO_Data_1row+INDEX(D434:I434,KO_Rounds_Ind)","v":295},null,null,null,null,null,"K_64_A14","field x","best of n",0,null,"K_32_B07","field x","best of n",0,null,"K_16_D04","field x","best of n",0,null,"K_08_G2","field x","best of n",0,null,"K_04_N1","field x","best of n",0,null,"K_02_AA1","field x","best of n",0,null,"K_01_105","field x","best of n",0]
[null,null,null,null,null,null,null,null,null,null,null,null,null,null,{"$f":"INDEX(tbl_KO_Data[T1 Src Rank],K434) & \". Gr. \" & INDEX(tbl_KO_Data[T1 Src Group],K434)","v":"4. Gr. B"},null,null,null,null,null,null,null,null,null,null,null,null,null,null,null,null,null,null,null,null,null,null,null,null,null,null,null,null,null,null,null,null,null,null,null,null,105,{"$f":"IF(AX436>AX438,AU436,IF(AX436<AX438,AU438,\"\"))","v":""}]
[null,null,null,null,null,null,null,null,null,null,null,null,null,null,null,null,{"$f":"O435","v":"4. Gr. B"},null,null,null,null,{"$f":"CHOOSE(SIGN(T340-T342)+2,Q340,\"(\"&Q340&\" : \"&Q342&\")\",Q342)","v":"(4. Gr. B : 5. Gr. A)"},null,null,null,null,{"$f":"CHOOSE(SIGN(Y340-Y342)+2,V340,\"(\"&V340&\" : \"&V342&\")\",V342)","v":"((4. Gr. B : 5. Gr. A) : (4. Gr. B : 5. Gr. A))"},null,null,null,null,{"$f":"CHOOSE(SIGN(AD470-AD468)+2,AA468,\"(\"&AA468&\" : \"&AA470&\")\",AA470)","v":"(((4. Gr. B : 5. Gr. A) : (4. Gr. B : 5. Gr. A)) : ((4. Gr. B : 5. Gr. A) : (4. Gr. B : 5. Gr. A)))"},null,null,null,null,{"$f":"CHOOSE(SIGN(AI404-AI406)+2,AF404,\"(\"&AF404&\" : \"&AF406&\")\",AF406)","v":"((((1. Gr. A : 4. Gr. B) : (2. Gr. D : 3. Gr. C)) : ((1. Gr. C : 4. Gr. D) : (2. Gr. B : 3. Gr. A))) : (((1. Gr. B : 4. Gr. C) : (2. Gr. A : 3. Gr. D)) : ((1. Gr. D : 4. Gr. A) : (2. Gr. C : 3. Gr. B))))"},null,null,null,null,{"$f":"CHOOSE(SIGN(AN438-AN436)+2,AK436,\"(\"&AK436&\" : \"&AK438&\")\",AK438)","v":"(((((1. Gr. A : 4. Gr. B) : (2. Gr. D : 3. Gr. C)) : ((1. Gr. C : 4. Gr. D) : (2. Gr. B : 3. Gr. A))) : (((1. Gr. B : 4. Gr. C) : (2. Gr. A : 3. Gr. D)) : ((1. Gr. D : 4. Gr. A) : (2. Gr. C : 3. Gr. B)))) : ((((4. Gr. B : 5. Gr. A) : (4. Gr. B : 5. Gr. A)) : ((4. Gr. B : 5. Gr. A) : (4. Gr. B : 5. Gr. A))) : (((4. Gr. B : 5. Gr. A) : (4. Gr. B : 5. Gr. A)) : ((4. Gr. B : 5. Gr. A) : (4. Gr. B : 5. Gr. A)))))"},null,null,null,null,{"$f":"CHOOSE(SIGN(AS438-AS436)+2,AP436,\"(\"&AP436&\" : \"&AP438&\")\",AP438)","v":"((((((1. Gr. A : 4. Gr. B) : (2. Gr. D : 3. Gr. C)) : ((1. Gr. C : 4. Gr. D) : (2. Gr. B : 3. Gr. A))) : (((1. Gr. B : 4. Gr. C) : (2. Gr. A : 3. Gr. D)) : ((1. Gr. D : 4. Gr. A) : (2. Gr. C : 3. Gr. B)))) : ((((4. Gr. B : 5. Gr. A) : (4. Gr. B : 5. Gr. A)) : ((4. Gr. B : 5. Gr. A) : (4. Gr. B : 5. Gr. A))) : (((4. Gr. B : 5. Gr. A) : (4. Gr. B : 5. Gr. A)) : ((4. Gr. B : 5. Gr. A) : (4. Gr. B : 5. Gr. A))))) : (((((4. Gr. B : 5. Gr. A) : (4. Gr. B : 5. Gr. A)) : ((4. Gr. B : 5. Gr. A) : (4. Gr. B : 5. Gr. A))) : (((4. Gr. B : 5. Gr. A) : (4. Gr. B : 5. Gr. A)) : ((4. Gr. B : 5. Gr. A) : (4. Gr. B : 5. Gr. A)))) : ((((4. Gr. B : 5. Gr. A) : (4. Gr. B : 5. Gr. A)) : ((4. Gr. B : 5. Gr. A) : (4. Gr. B : 5. Gr. A))) : (((4. Gr. B : 5. Gr. A) : (4. Gr. B : 5. Gr. A)) : ((4. Gr. B : 5. Gr. A) : (4. Gr. B : 5. Gr. A))))))"}]
[]
[null,null,null,null,null,null,null,null,null,null,null,null,null,null,null,null,{"$f":"O439","v":"5. Gr. A"},null,null,null,null,{"$f":"CHOOSE(SIGN(T348-T350)+2,Q348,\"(\"&Q348&\" : \"&Q350&\")\",Q350)","v":"(4. Gr. B : 5. Gr. A)"},null,null,null,null,{"$f":"CHOOSE(SIGN(Y348-Y350)+2,V348,\"(\"&V348&\" : \"&V350&\")\",V350)","v":"((4. Gr. B : 5. Gr. A) : (4. Gr. B : 5. Gr. A))"},null,null,null,null,{"$f":"CHOOSE(SIGN(AD478-AD476)+2,AA476,\"(\"&AA476&\" : \"&AA478&\")\",AA478)","v":"(((4. Gr. B : 5. Gr. A) : (4. Gr. B : 5. Gr. A)) : ((4. Gr. B : 5. Gr. A) : (4. Gr. B : 5. Gr. A)))"},null,null,null,null,{"$f":"CHOOSE(SIGN(AI412-AI414)+2,AF412,\"(\"&AF412&\" : \"&AF414&\")\",AF414)","v":"((((4. Gr. B : 5. Gr. A) : (4. Gr. B : 5. Gr. A)) : ((4. Gr. B : 5. Gr. A) : (4. Gr. B : 5. Gr. A))) : (((4. Gr. B : 5. Gr. A) : (4. Gr. B : 5. Gr. A)) : ((4. Gr. B : 5. Gr. A) : (4. Gr. B : 5. Gr. A))))"},null,null,null,null,{"$f":"CHOOSE(SIGN(AN446-AN444)+2,AK444,\"(\"&AK444&\" : \"&AK446&\")\",AK446)","v":"(((((4. Gr. B : 5. Gr. A) : (4. Gr. B : 5. Gr. A)) : ((4. Gr. B : 5. Gr. A) : (4. Gr. B : 5. Gr. A))) : (((4. Gr. B : 5. Gr. A) : (4. Gr. B : 5. Gr. A)) : ((4. Gr. B : 5. Gr. A) : (4. Gr. B : 5. Gr. A)))) : ((((4. Gr. B : 5. Gr. A) : (4. Gr. B : 5. Gr. A)) : ((4. Gr. B : 5. Gr. A) : (4. Gr. B : 5. Gr. A))) : (((4. Gr. B : 5. Gr. A) : (4. Gr. B : 5. Gr. A)) : ((4. Gr. B : 5. Gr. A) : (4. Gr. B : 5. Gr. A)))))"},null,null,null,null,{"$f":"CHOOSE(SIGN(AS446-AS444)+2,AP444,\"(\"&AP444&\" : \"&AP446&\")\",AP446)","v":"((((((4. Gr. B : 5. Gr. A) : (4. Gr. B : 5. Gr. A)) : ((4. Gr. B : 5. Gr. A) : (4. Gr. B : 5. Gr. A))) : (((4. Gr. B : 5. Gr. A) : (4. Gr. B : 5. Gr. A)) : ((4. Gr. B : 5. Gr. A) : (4. Gr. B : 5. Gr. A)))) : ((((4. Gr. B : 5. Gr. A) : (4. Gr. B : 5. Gr. A)) : ((4. Gr. B : 5. Gr. A) : (4. Gr. B : 5. Gr. A))) : (((4. Gr. B : 5. Gr. A) : (4. Gr. B : 5. Gr. A)) : ((4. Gr. B : 5. Gr. A) : (4. Gr. B : 5. Gr. A))))) : (((((4. Gr. B : 5. Gr. A) : (4. Gr. B : 5. Gr. A)) : ((4. Gr. B : 5. Gr. A) : (4. Gr. B : 5. Gr. A))) : (((4. Gr. B : 5. Gr. A) : (4. Gr. B : 5. Gr. A)) : ((4. Gr. B : 5. Gr. A) : (4. Gr. B : 5. Gr. A)))) : ((((4. Gr. B : 5. Gr. A) : (4. Gr. B : 5. Gr. A)) : ((4. Gr. B : 5. Gr. A) : (4. Gr. B : 5. Gr. A))) : (((4. Gr. B : 5. Gr. A) : (4. Gr. B : 5. Gr. A)) : ((4. Gr. B : 5. Gr. A) : (4. Gr. B : 5. Gr. A))))))"}]
[null,null,null,null,null,null,null,null,null,null,null,null,null,null,{"$f":"INDEX(tbl_KO_Data[T2 Src Rank],K434) & \". Gr. \" & INDEX(tbl_KO_Data[T2 Src Group],K434)","v":"5. Gr. A"},null,null,null,null,null,null,null,null,null,null,null,null,null,null,null,null,null,null,null,null,null,null,null,null,null,null,null,null,null,null,null,null,null,null,null,null,106,{"$f":"IF(AX436>AX438,AU438,IF(AX436<AX438,AU436,\"\"))","v":""}]
[]
[]
[null,null,null,null,null,null,null,null,51,null,{"$f":"KO_Data_1row+INDEX(D442:I442,KO_Rounds_Ind)","v":295},null,null,null,null,null,"K_64_A51","field x","best of n",0,null,"K_32_B26","field x","best of n",0,null,"K_16_D13","field x","best of n",0,null,"K_08_G7","field x","best of n",0,null,"K_04_N4","field x","best of n",0,null,"K_02_AA2","field x","best of n",0,null,"K_01_107","field x","best of n",0]
[null,null,null,null,null,null,null,null,null,null,null,null,null,null,{"$f":"INDEX(tbl_KO_Data[T1 Src Rank],K442) & \". Gr. \" & INDEX(tbl_KO_Data[T1 Src Group],K442)","v":"4. Gr. B"},null,null,null,null,null,null,null,null,null,null,null,null,null,null,null,null,null,null,null,null,null,null,null,null,null,null,null,null,null,null,null,null,null,null,null,null,107,{"$f":"IF(AX444>AX446,AU444,IF(AX444<AX446,AU446,\"\"))","v":""}]
[null,null,null,null,null,null,null,null,null,null,null,null,null,null,null,null,{"$f":"O443","v":"4. Gr. B"},null,null,null,null,{"$f":"CHOOSE(SIGN(T356-T358)+2,Q356,\"(\"&Q356&\" : \"&Q358&\")\",Q358)","v":"(4. Gr. B : 5. Gr. A)"},null,null,null,null,{"$f":"CHOOSE(SIGN(Y356-Y358)+2,V356,\"(\"&V356&\" : \"&V358&\")\",V358)","v":"((4. Gr. B : 5. Gr. A) : (4. Gr. B : 5. Gr. A))"},null,null,null,null,{"$f":"CHOOSE(SIGN(AD486-AD484)+2,AA484,\"(\"&AA484&\" : \"&AA486&\")\",AA486)","v":"(((4. Gr. B : 5. Gr. A) : (4. Gr. B : 5. Gr. A)) : ((4. Gr. B : 5. Gr. A) : (4. Gr. B : 5. Gr. A)))"},null,null,null,null,{"$f":"CHOOSE(SIGN(AI420-AI422)+2,AF420,\"(\"&AF420&\" : \"&AF422&\")\",AF422)","v":"((((4. Gr. B : 5. Gr. A) : (4. Gr. B : 5. Gr. A)) : ((4. Gr. B : 5. Gr. A) : (4. Gr. B : 5. Gr. A))) : (((4. Gr. B : 5. Gr. A) : (4. Gr. B : 5. Gr. A)) : ((4. Gr. B : 5. Gr. A) : (4. Gr. B : 5. Gr. A))))"},null,null,null,null,{"$f":"CHOOSE(SIGN(AN454-AN452)+2,AK452,\"(\"&AK452&\" : \"&AK454&\")\",AK454)","v":"(((((4. Gr. B : 5. Gr. A) : (4. Gr. B : 5. Gr. A)) : ((4. Gr. B : 5. Gr. A) : (4. Gr. B : 5. Gr. A))) : (((4. Gr. B : 5. Gr. A) : (4. Gr. B : 5. Gr. A)) : ((4. Gr. B : 5. Gr. A) : (4. Gr. B : 5. Gr. A)))) : ((((4. Gr. B : 5. Gr. A) : (4. Gr. B : 5. Gr. A)) : ((4. Gr. B : 5. Gr. A) : (4. Gr. B : 5. Gr. A))) : (((4. Gr. B : 5. Gr. A) : (4. Gr. B : 5. Gr. A)) : ((4. Gr. B : 5. Gr. A) : (4. Gr. B : 5. Gr. A)))))"},null,null,null,null,{"$f":"CHOOSE(SIGN(AS436-AS438)+2,AP436,\"(\"&AP436&\" : \"&AP438&\")\",AP438)","v":"((((((1. Gr. A : 4. Gr. B) : (2. Gr. D : 3. Gr. C)) : ((1. Gr. C : 4. Gr. D) : (2. Gr. B : 3. Gr. A))) : (((1. Gr. B : 4. Gr. C) : (2. Gr. A : 3. Gr. D)) : ((1. Gr. D : 4. Gr. A) : (2. Gr. C : 3. Gr. B)))) : ((((4. Gr. B : 5. Gr. A) : (4. Gr. B : 5. Gr. A)) : ((4. Gr. B : 5. Gr. A) : (4. Gr. B : 5. Gr. A))) : (((4. Gr. B : 5. Gr. A) : (4. Gr. B : 5. Gr. A)) : ((4. Gr. B : 5. Gr. A) : (4. Gr. B : 5. Gr. A))))) : (((((4. Gr. B : 5. Gr. A) : (4. Gr. B : 5. Gr. A)) : ((4. Gr. B : 5. Gr. A) : (4. Gr. B : 5. Gr. A))) : (((4. Gr. B : 5. Gr. A) : (4. Gr. B : 5. Gr. A)) : ((4. Gr. B : 5. Gr. A) : (4. Gr. B : 5. Gr. A)))) : ((((4. Gr. B : 5. Gr. A) : (4. Gr. B : 5. Gr. A)) : ((4. Gr. B : 5. Gr. A) : (4. Gr. B : 5. Gr. A))) : (((4. Gr. B : 5. Gr. A) : (4. Gr. B : 5. Gr. A)) : ((4. Gr. B : 5. Gr. A) : (4. Gr. B : 5. Gr. A))))))"}]
[]
[null,null,null,null,null,null,null,null,null,null,null,null,null,null,null,null,{"$f":"O447","v":"5. Gr. A"},null,null,null,null,{"$f":"CHOOSE(SIGN(T364-T366)+2,Q364,\"(\"&Q364&\" : \"&Q366&\")\",Q366)","v":"(4. Gr. B : 5. Gr. A)"},null,null,null,null,{"$f":"CHOOSE(SIGN(Y364-Y366)+2,V364,\"(\"&V364&\" : \"&V366&\")\",V366)","v":"((4. Gr. B : 5. Gr. A) : (4. Gr. B : 5. Gr. A))"},null,null,null,null,{"$f":"CHOOSE(SIGN(AD494-AD492)+2,AA492,\"(\"&AA492&\" : \"&AA494&\")\",AA494)","v":"(((4. Gr. B : 5. Gr. A) : (4. Gr. B : 5. Gr. A)) : ((4. Gr. B : 5. Gr. A) : (4. Gr. B : 5. Gr. A)))"},null,null,null,null,{"$f":"CHOOSE(SIGN(AI428-AI430)+2,AF428,\"(\"&AF428&\" : \"&AF430&\")\",AF430)","v":"((((4. Gr. B : 5. Gr. A) : (4. Gr. B : 5. Gr. A)) : ((4. Gr. B : 5. Gr. A) : (4. Gr. B : 5. Gr. A))) : (((4. Gr. B : 5. Gr. A) : (4. Gr. B : 5. Gr. A)) : ((4. Gr. B : 5. Gr. A) : (4. Gr. B : 5. Gr. A))))"},null,null,null,null,{"$f":"CHOOSE(SIGN(AN462-AN460)+2,AK460,\"(\"&AK460&\" : \"&AK462&\")\",AK462)","v":"(((((4. Gr. B : 5. Gr. A) : (4. Gr. B : 5. Gr. A)) : ((4. Gr. B : 5. Gr. A) : (4. Gr. B : 5. Gr. A))) : (((4. Gr. B : 5. Gr. A) : (4. Gr. B : 5. Gr. A)) : ((4. Gr. B : 5. Gr. A) : (4. Gr. B : 5. Gr. A)))) : ((((4. Gr. B : 5. Gr. A) : (4. Gr. B : 5. Gr. A)) : ((4. Gr. B : 5. Gr. A) : (4. Gr. B : 5. Gr. A))) : (((4. Gr. B : 5. Gr. A) : (4. Gr. B : 5. Gr. A)) : ((4. Gr. B : 5. Gr. A) : (4. Gr. B : 5. Gr. A)))))"},null,null,null,null,{"$f":"CHOOSE(SIGN(AS444-AS446)+2,AP444,\"(\"&AP444&\" : \"&AP446&\")\",AP446)","v":"((((((4. Gr. B : 5. Gr. A) : (4. Gr. B : 5. Gr. A)) : ((4. Gr. B : 5. Gr. A) : (4. Gr. B : 5. Gr. A))) : (((4. Gr. B : 5. Gr. A) : (4. Gr. B : 5. Gr. A)) : ((4. Gr. B : 5. Gr. A) : (4. Gr. B : 5. Gr. A)))) : ((((4. Gr. B : 5. Gr. A) : (4. Gr. B : 5. Gr. A)) : ((4. Gr. B : 5. Gr. A) : (4. Gr. B : 5. Gr. A))) : (((4. Gr. B : 5. Gr. A) : (4. Gr. B : 5. Gr. A)) : ((4. Gr. B : 5. Gr. A) : (4. Gr. B : 5. Gr. A))))) : (((((4. Gr. B : 5. Gr. A) : (4. Gr. B : 5. Gr. A)) : ((4. Gr. B : 5. Gr. A) : (4. Gr. B : 5. Gr. A))) : (((4. Gr. B : 5. Gr. A) : (4. Gr. B : 5. Gr. A)) : ((4. Gr. B : 5. Gr. A) : (4. Gr. B : 5. Gr. A)))) : ((((4. Gr. B : 5. Gr. A) : (4. Gr. B : 5. Gr. A)) : ((4. Gr. B : 5. Gr. A) : (4. Gr. B : 5. Gr. A))) : (((4. Gr. B : 5. Gr. A) : (4. Gr. B : 5. Gr. A)) : ((4. Gr. B : 5. Gr. A) : (4. Gr. B : 5. Gr. A))))))"}]
[null,null,null,null,null,null,null,null,null,null,null,null,null,null,{"$f":"INDEX(tbl_KO_Data[T2 Src Rank],K442) & \". Gr. \" & INDEX(tbl_KO_Data[T2 Src Group],K442)","v":"5. Gr. A"},null,null,null,null,null,null,null,null,null,null,null,null,null,null,null,null,null,null,null,null,null,null,null,null,null,null,null,null,null,null,null,null,null,null,null,null,108,{"$f":"IF(AX444>AX446,AU446,IF(AX444<AX446,AU444,\"\"))","v":""}]
[]
[]
[null,null,null,null,null,null,null,null,19,null,{"$f":"KO_Data_1row+INDEX(D450:I450,KO_Rounds_Ind)","v":295},null,null,null,null,null,"K_64_A19","field x","best of n",0,null,"K_32_B10","field x","best of n",0,null,"K_16_D05","field x","best of n",0,null,"K_08_G3","field x","best of n",0,null,"K_04_N2","field x","best of n",0,null,"K_02_AB1","field x","best of n",0,null,"K_01_109","field x","best of n",0]
[null,null,null,null,null,null,null,null,null,null,null,null,null,null,{"$f":"INDEX(tbl_KO_Data[T1 Src Rank],K450) & \". Gr. \" & INDEX(tbl_KO_Data[T1 Src Group],K450)","v":"4. Gr. B"},null,null,null,null,null,null,null,null,null,null,null,null,null,null,null,null,null,null,null,null,null,null,null,null,null,null,null,null,null,null,null,null,null,null,null,null,109,{"$f":"IF(AX452>AX454,AU452,IF(AX452<AX454,AU454,\"\"))","v":""}]
[null,null,null,null,null,null,null,null,null,null,null,null,null,null,null,null,{"$f":"O451","v":"4. Gr. B"},null,null,null,null,{"$f":"CHOOSE(SIGN(T372-T374)+2,Q372,\"(\"&Q372&\" : \"&Q374&\")\",Q374)","v":"(4. Gr. B : 5. Gr. A)"},null,null,null,null,{"$f":"CHOOSE(SIGN(Y372-Y374)+2,V372,\"(\"&V372&\" : \"&V374&\")\",V374)","v":"((4. Gr. B : 5. Gr. A) : (4. Gr. B : 5. Gr. A))"},null,null,null,null,{"$f":"CHOOSE(SIGN(AD502-AD500)+2,AA500,\"(\"&AA500&\" : \"&AA502&\")\",AA502)","v":"(((4. Gr. B : 5. Gr. A) : (4. Gr. B : 5. Gr. A)) : ((4. Gr. B : 5. Gr. A) : (4. Gr. B : 5. Gr. A)))"},null,null,null,null,{"$f":"CHOOSE(SIGN(AI436-AI438)+2,AF436,\"(\"&AF436&\" : \"&AF438&\")\",AF438)","v":"((((4. Gr. B : 5. Gr. A) : (4. Gr. B : 5. Gr. A)) : ((4. Gr. B : 5. Gr. A) : (4. Gr. B : 5. Gr. A))) : (((4. Gr. B : 5. Gr. A) : (4. Gr. B : 5. Gr. A)) : ((4. Gr. B : 5. Gr. A) : (4. Gr. B : 5. Gr. A))))"},null,null,null,null,{"$f":"CHOOSE(SIGN(AN436-AN438)+2,AK436,\"(\"&AK436&\" : \"&AK438&\")\",AK438)","v":"(((((1. Gr. A : 4. Gr. B) : (2. Gr. D : 3. Gr. C)) : ((1. Gr. C : 4. Gr. D) : (2. Gr. B : 3. Gr. A))) : (((1. Gr. B : 4. Gr. C) : (2. Gr. A : 3. Gr. D)) : ((1. Gr. D : 4. Gr. A) : (2. Gr. C : 3. Gr. B)))) : ((((4. Gr. B : 5. Gr. A) : (4. Gr. B : 5. Gr. A)) : ((4. Gr. B : 5. Gr. A) : (4. Gr. B : 5. Gr. A))) : (((4. Gr. B : 5. Gr. A) : (4. Gr. B : 5. Gr. A)) : ((4. Gr. B : 5. Gr. A) : (4. Gr. B : 5. Gr. A)))))"},null,null,null,null,{"$f":"CHOOSE(SIGN(AS454-AS452)+2,AP452,\"(\"&AP452&\" : \"&AP454&\")\",AP454)","v":"((((((1. Gr. A : 4. Gr. B) : (2. Gr. D : 3. Gr. C)) : ((1. Gr. C : 4. Gr. D) : (2. Gr. B : 3. Gr. A))) : (((1. Gr. B : 4. Gr. C) : (2. Gr. A : 3. Gr. D)) : ((1. Gr. D : 4. Gr. A) : (2. Gr. C : 3. Gr. B)))) : ((((4. Gr. B : 5. Gr. A) : (4. Gr. B : 5. Gr. A)) : ((4. Gr. B : 5. Gr. A) : (4. Gr. B : 5. Gr. A))) : (((4. Gr. B : 5. Gr. A) : (4. Gr. B : 5. Gr. A)) : ((4. Gr. B : 5. Gr. A) : (4. Gr. B : 5. Gr. A))))) : (((((4. Gr. B : 5. Gr. A) : (4. Gr. B : 5. Gr. A)) : ((4. Gr. B : 5. Gr. A) : (4. Gr. B : 5. Gr. A))) : (((4. Gr. B : 5. Gr. A) : (4. Gr. B : 5. Gr. A)) : ((4. Gr. B : 5. Gr. A) : (4. Gr. B : 5. Gr. A)))) : ((((4. Gr. B : 5. Gr. A) : (4. Gr. B : 5. Gr. A)) : ((4. Gr. B : 5. Gr. A) : (4. Gr. B : 5. Gr. A))) : (((4. Gr. B : 5. Gr. A) : (4. Gr. B : 5. Gr. A)) : ((4. Gr. B : 5. Gr. A) : (4. Gr. B : 5. Gr. A))))))"}]
[]
[null,null,null,null,null,null,null,null,null,null,null,null,null,null,null,null,{"$f":"O455","v":"5. Gr. A"},null,null,null,null,{"$f":"CHOOSE(SIGN(T380-T382)+2,Q380,\"(\"&Q380&\" : \"&Q382&\")\",Q382)","v":"(4. Gr. B : 5. Gr. A)"},null,null,null,null,{"$f":"CHOOSE(SIGN(Y380-Y382)+2,V380,\"(\"&V380&\" : \"&V382&\")\",V382)","v":"((4. Gr. B : 5. Gr. A) : (4. Gr. B : 5. Gr. A))"},null,null,null,null,{"$f":"CHOOSE(SIGN(AD510-AD508)+2,AA508,\"(\"&AA508&\" : \"&AA510&\")\",AA510)","v":"(((4. Gr. B : 5. Gr. A) : (4. Gr. B : 5. Gr. A)) : ((4. Gr. B : 5. Gr. A) : (4. Gr. B : 5. Gr. A)))"},null,null,null,null,{"$f":"CHOOSE(SIGN(AI444-AI446)+2,AF444,\"(\"&AF444&\" : \"&AF446&\")\",AF446)","v":"((((4. Gr. B : 5. Gr. A) : (4. Gr. B : 5. Gr. A)) : ((4. Gr. B : 5. Gr. A) : (4. Gr. B : 5. Gr. A))) : (((4. Gr. B : 5. Gr. A) : (4. Gr. B : 5. Gr. A)) : ((4. Gr. B : 5. Gr. A) : (4. Gr. B : 5. Gr. A))))"},null,null,null,null,{"$f":"CHOOSE(SIGN(AN444-AN446)+2,AK444,\"(\"&AK444&\" : \"&AK446&\")\",AK446)","v":"(((((4. Gr. B : 5. Gr. A) : (4. Gr. B : 5. Gr. A)) : ((4. Gr. B : 5. Gr. A) : (4. Gr. B : 5. Gr. A))) : (((4. Gr. B : 5. Gr. A) : (4. Gr. B : 5. Gr. A)) : ((4. Gr. B : 5. Gr. A) : (4. Gr. B : 5. Gr. A)))) : ((((4. Gr. B : 5. Gr. A) : (4. Gr. B : 5. Gr. A)) : ((4. Gr. B : 5. Gr. A) : (4. Gr. B : 5. Gr. A))) : (((4. Gr. B : 5. Gr. A) : (4. Gr. B : 5. Gr. A)) : ((4. Gr. B : 5. Gr. A) : (4. Gr. B : 5. Gr. A)))))"},null,null,null,null,{"$f":"CHOOSE(SIGN(AS462-AS460)+2,AP460,\"(\"&AP460&\" : \"&AP462&\")\",AP462)","v":"((((((4. Gr. B : 5. Gr. A) : (4. Gr. B : 5. Gr. A)) : ((4. Gr. B : 5. Gr. A) : (4. Gr. B : 5. Gr. A))) : (((4. Gr. B : 5. Gr. A) : (4. Gr. B : 5. Gr. A)) : ((4. Gr. B : 5. Gr. A) : (4. Gr. B : 5. Gr. A)))) : ((((4. Gr. B : 5. Gr. A) : (4. Gr. B : 5. Gr. A)) : ((4. Gr. B : 5. Gr. A) : (4. Gr. B : 5. Gr. A))) : (((4. Gr. B : 5. Gr. A) : (4. Gr. B : 5. Gr. A)) : ((4. Gr. B : 5. Gr. A) : (4. Gr. B : 5. Gr. A))))) : (((((4. Gr. B : 5. Gr. A) : (4. Gr. B : 5. Gr. A)) : ((4. Gr. B : 5. Gr. A) : (4. Gr. B : 5. Gr. A))) : (((4. Gr. B : 5. Gr. A) : (4. Gr. B : 5. Gr. A)) : ((4. Gr. B : 5. Gr. A) : (4. Gr. B : 5. Gr. A)))) : ((((4. Gr. B : 5. Gr. A) : (4. Gr. B : 5. Gr. A)) : ((4. Gr. B : 5. Gr. A) : (4. Gr. B : 5. Gr. A))) : (((4. Gr. B : 5. Gr. A) : (4. Gr. B : 5. Gr. A)) : ((4. Gr. B : 5. Gr. A) : (4. Gr. B : 5. Gr. A))))))"}]
[null,null,null,null,null,null,null,null,null,null,null,null,null,null,{"$f":"INDEX(tbl_KO_Data[T2 Src Rank],K450) & \". Gr. \" & INDEX(tbl_KO_Data[T2 Src Group],K450)","v":"5. Gr. A"},null,null,null,null,null,null,null,null,null,null,null,null,null,null,null,null,null,null,null,null,null,null,null,null,null,null,null,null,null,null,null,null,null,null,null,null,110,{"$f":"IF(AX452>AX454,AU454,IF(AX452<AX454,AU452,\"\"))","v":""}]
[]
[]
[null,null,null,null,null,null,null,null,46,null,{"$f":"KO_Data_1row+INDEX(D458:I458,KO_Rounds_Ind)","v":295},null,null,null,null,null,"K_64_A46","field x","best of n",0,null,"K_32_B23","field x","best of n",0,null,"K_16_D12","field x","best of n",0,null,"K_08_G6","field x","best of n",0,null,"K_04_N3","field x","best of n",0,null,"K_02_AB2","field x","best of n",0,null,"K_01_111","field x","best of n",0]
[null,null,null,null,null,null,null,null,null,null,null,null,null,null,{"$f":"INDEX(tbl_KO_Data[T1 Src Rank],K458) & \". Gr. \" & INDEX(tbl_KO_Data[T1 Src Group],K458)","v":"4. Gr. B"},null,null,null,null,null,null,null,null,null,null,null,null,null,null,null,null,null,null,null,null,null,null,null,null,null,null,null,null,null,null,null,null,null,null,null,null,111,{"$f":"IF(AX460>AX462,AU460,IF(AX460<AX462,AU462,\"\"))","v":""}]
[null,null,null,null,null,null,null,null,null,null,null,null,null,null,null,null,{"$f":"O459","v":"4. Gr. B"},null,null,null,null,{"$f":"CHOOSE(SIGN(T388-T390)+2,Q388,\"(\"&Q388&\" : \"&Q390&\")\",Q390)","v":"(4. Gr. B : 5. Gr. A)"},null,null,null,null,{"$f":"CHOOSE(SIGN(Y388-Y390)+2,V388,\"(\"&V388&\" : \"&V390&\")\",V390)","v":"((4. Gr. B : 5. Gr. A) : (4. Gr. B : 5. Gr. A))"},null,null,null,null,{"$f":"CHOOSE(SIGN(AD518-AD516)+2,AA516,\"(\"&AA516&\" : \"&AA518&\")\",AA518)","v":"(((4. Gr. B : 5. Gr. A) : (4. Gr. B : 5. Gr. A)) : ((4. Gr. B : 5. Gr. A) : (4. Gr. B : 5. Gr. A)))"},null,null,null,null,{"$f":"CHOOSE(SIGN(AI452-AI454)+2,AF452,\"(\"&AF452&\" : \"&AF454&\")\",AF454)","v":"((((4. Gr. B : 5. Gr. A) : (4. Gr. B : 5. Gr. A)) : ((4. Gr. B : 5. Gr. A) : (4. Gr. B : 5. Gr. A))) : (((4. Gr. B : 5. Gr. A) : (4. Gr. B : 5. Gr. A)) : ((4. Gr. B : 5. Gr. A) : (4. Gr. B : 5. Gr. A))))"},null,null,null,null,{"$f":"CHOOSE(SIGN(AN452-AN454)+2,AK452,\"(\"&AK452&\" : \"&AK454&\")\",AK454)","v":"(((((4. Gr. B : 5. Gr. A) : (4. Gr. B : 5. Gr. A)) : ((4. Gr. B : 5. Gr. A) : (4. Gr. B : 5. Gr. A))) : (((4. Gr. B : 5. Gr. A) : (4. Gr. B : 5. Gr. A)) : ((4. Gr. B : 5. Gr. A) : (4. Gr. B : 5. Gr. A)))) : ((((4. Gr. B : 5. Gr. A) : (4. Gr. B : 5. Gr. A)) : ((4. Gr. B : 5. Gr. A) : (4. Gr. B : 5. Gr. A))) : (((4. Gr. B : 5. Gr. A) : (4. Gr. B : 5. Gr. A)) : ((4. Gr. B : 5. Gr. A) : (4. Gr. B : 5. Gr. A)))))"},null,null,null,null,{"$f":"CHOOSE(SIGN(AS452-AS454)+2,AP452,\"(\"&AP452&\" : \"&AP454&\")\",AP454)","v":"((((((1. Gr. A : 4. Gr. B) : (2. Gr. D : 3. Gr. C)) : ((1. Gr. C : 4. Gr. D) : (2. Gr. B : 3. Gr. A))) : (((1. Gr. B : 4. Gr. C) : (2. Gr. A : 3. Gr. D)) : ((1. Gr. D : 4. Gr. A) : (2. Gr. C : 3. Gr. B)))) : ((((4. Gr. B : 5. Gr. A) : (4. Gr. B : 5. Gr. A)) : ((4. Gr. B : 5. Gr. A) : (4. Gr. B : 5. Gr. A))) : (((4. Gr. B : 5. Gr. A) : (4. Gr. B : 5. Gr. A)) : ((4. Gr. B : 5. Gr. A) : (4. Gr. B : 5. Gr. A))))) : (((((4. Gr. B : 5. Gr. A) : (4. Gr. B : 5. Gr. A)) : ((4. Gr. B : 5. Gr. A) : (4. Gr. B : 5. Gr. A))) : (((4. Gr. B : 5. Gr. A) : (4. Gr. B : 5. Gr. A)) : ((4. Gr. B : 5. Gr. A) : (4. Gr. B : 5. Gr. A)))) : ((((4. Gr. B : 5. Gr. A) : (4. Gr. B : 5. Gr. A)) : ((4. Gr. B : 5. Gr. A) : (4. Gr. B : 5. Gr. A))) : (((4. Gr. B : 5. Gr. A) : (4. Gr. B : 5. Gr. A)) : ((4. Gr. B : 5. Gr. A) : (4. Gr. B : 5. Gr. A))))))"}]
[]
[null,null,null,null,null,null,null,null,null,null,null,null,null,null,null,null,{"$f":"O463","v":"5. Gr. A"},null,null,null,null,{"$f":"CHOOSE(SIGN(T396-T398)+2,Q396,\"(\"&Q396&\" : \"&Q398&\")\",Q398)","v":"(4. Gr. B : 5. Gr. A)"},null,null,null,null,{"$f":"CHOOSE(SIGN(Y396-Y398)+2,V396,\"(\"&V396&\" : \"&V398&\")\",V398)","v":"((4. Gr. B : 5. Gr. A) : (4. Gr. B : 5. Gr. A))"},null,null,null,null,{"$f":"CHOOSE(SIGN(AD526-AD524)+2,AA524,\"(\"&AA524&\" : \"&AA526&\")\",AA526)","v":"(((4. Gr. B : 5. Gr. A) : (4. Gr. B : 5. Gr. A)) : ((4. Gr. B : 5. Gr. A) : (4. Gr. B : 5. Gr. A)))"},null,null,null,null,{"$f":"CHOOSE(SIGN(AI460-AI462)+2,AF460,\"(\"&AF460&\" : \"&AF462&\")\",AF462)","v":"((((4. Gr. B : 5. Gr. A) : (4. Gr. B : 5. Gr. A)) : ((4. Gr. B : 5. Gr. A) : (4. Gr. B : 5. Gr. A))) : (((4. Gr. B : 5. Gr. A) : (4. Gr. B : 5. Gr. A)) : ((4. Gr. B : 5. Gr. A) : (4. Gr. B : 5. Gr. A))))"},null,null,null,null,{"$f":"CHOOSE(SIGN(AN460-AN462)+2,AK460,\"(\"&AK460&\" : \"&AK462&\")\",AK462)","v":"(((((4. Gr. B : 5. Gr. A) : (4. Gr. B : 5. Gr. A)) : ((4. Gr. B : 5. Gr. A) : (4. Gr. B : 5. Gr. A))) : (((4. Gr. B : 5. Gr. A) : (4. Gr. B : 5. Gr. A)) : ((4. Gr. B : 5. Gr. A) : (4. Gr. B : 5. Gr. A)))) : ((((4. Gr. B : 5. Gr. A) : (4. Gr. B : 5. Gr. A)) : ((4. Gr. B : 5. Gr. A) : (4. Gr. B : 5. Gr. A))) : (((4. Gr. B : 5. Gr. A) : (4. Gr. B : 5. Gr. A)) : ((4. Gr. B : 5. Gr. A) : (4. Gr. B : 5. Gr. A)))))"},null,null,null,null,{"$f":"CHOOSE(SIGN(AS460-AS462)+2,AP460,\"(\"&AP460&\" : \"&AP462&\")\",AP462)","v":"((((((4. Gr. B : 5. Gr. A) : (4. Gr. B : 5. Gr. A)) : ((4. Gr. B : 5. Gr. A) : (4. Gr. B : 5. Gr. A))) : (((4. Gr. B : 5. Gr. A) : (4. Gr. B : 5. Gr. A)) : ((4. Gr. B : 5. Gr. A) : (4. Gr. B : 5. Gr. A)))) : ((((4. Gr. B : 5. Gr. A) : (4. Gr. B : 5. Gr. A)) : ((4. Gr. B : 5. Gr. A) : (4. Gr. B : 5. Gr. A))) : (((4. Gr. B : 5. Gr. A) : (4. Gr. B : 5. Gr. A)) : ((4. Gr. B : 5. Gr. A) : (4. Gr. B : 5. Gr. A))))) : (((((4. Gr. B : 5. Gr. A) : (4. Gr. B : 5. Gr. A)) : ((4. Gr. B : 5. Gr. A) : (4. Gr. B : 5. Gr. A))) : (((4. Gr. B : 5. Gr. A) : (4. Gr. B : 5. Gr. A)) : ((4. Gr. B : 5. Gr. A) : (4. Gr. B : 5. Gr. A)))) : ((((4. Gr. B : 5. Gr. A) : (4. Gr. B : 5. Gr. A)) : ((4. Gr. B : 5. Gr. A) : (4. Gr. B : 5. Gr. A))) : (((4. Gr. B : 5. Gr. A) : (4. Gr. B : 5. Gr. A)) : ((4. Gr. B : 5. Gr. A) : (4. Gr. B : 5. Gr. A))))))"}]
[null,null,null,null,null,null,null,null,null,null,null,null,null,null,{"$f":"INDEX(tbl_KO_Data[T2 Src Rank],K458) & \". Gr. \" & INDEX(tbl_KO_Data[T2 Src Group],K458)","v":"5. Gr. A"},null,null,null,null,null,null,null,null,null,null,null,null,null,null,null,null,null,null,null,null,null,null,null,null,null,null,null,null,null,null,null,null,null,null,null,null,112,{"$f":"IF(AX460>AX462,AU462,IF(AX460<AX462,AU460,\"\"))","v":""}]
[]
[]
[null,null,null,null,null,null,null,null,6,null,{"$f":"KO_Data_1row+INDEX(D466:I466,KO_Rounds_Ind)","v":295},null,null,null,null,null,"K_64_A06","field x","best of n",0,null,"K_32_B03","field x","best of n",0,null,"K_16_D02","field x","best of n",0,null,"K_08_H1","field x","best of n",0,null,"K_04_O1","field x","best of n",0,null,"K_02_AC1","field x","best of n",0,null,"K_01_113","field x","best of n",0]
[null,null,null,null,null,null,null,null,null,null,null,null,null,null,{"$f":"INDEX(tbl_KO_Data[T1 Src Rank],K466) & \". Gr. \" & INDEX(tbl_KO_Data[T1 Src Group],K466)","v":"4. Gr. B"},null,null,null,null,null,null,null,null,null,null,null,null,null,null,null,null,null,null,null,null,null,null,null,null,null,null,null,null,null,null,null,null,null,null,null,null,113,{"$f":"IF(AX468>AX470,AU468,IF(AX468<AX470,AU470,\"\"))","v":""}]
[null,null,null,null,null,null,null,null,null,null,null,null,null,null,null,null,{"$f":"O467","v":"4. Gr. B"},null,null,null,null,{"$f":"CHOOSE(SIGN(T404-T406)+2,Q404,\"(\"&Q404&\" : \"&Q406&\")\",Q406)","v":"(4. Gr. B : 5. Gr. A)"},null,null,null,null,{"$f":"CHOOSE(SIGN(Y404-Y406)+2,V404,\"(\"&V404&\" : \"&V406&\")\",V406)","v":"((4. Gr. B : 5. Gr. A) : (4. Gr. B : 5. Gr. A))"},null,null,null,null,{"$f":"CHOOSE(SIGN(AD404-AD406)+2,AA404,\"(\"&AA404&\" : \"&AA406&\")\",AA406)","v":"(((1. Gr. A : 4. Gr. B) : (2. Gr. D : 3. Gr. C)) : ((1. Gr. C : 4. Gr. D) : (2. Gr. B : 3. Gr. A)))"},null,null,null,null,{"$f":"CHOOSE(SIGN(AI470-AI468)+2,AF468,\"(\"&AF468&\" : \"&AF470&\")\",AF470)","v":"((((1. Gr. A : 4. Gr. B) : (2. Gr. D : 3. Gr. C)) : ((1. Gr. C : 4. Gr. D) : (2. Gr. B : 3. Gr. A))) : (((1. Gr. B : 4. Gr. C) : (2. Gr. A : 3. Gr. D)) : ((1. Gr. D : 4. Gr. A) : (2. Gr. C : 3. Gr. B))))"},null,null,null,null,{"$f":"CHOOSE(SIGN(AN470-AN468)+2,AK468,\"(\"&AK468&\" : \"&AK470&\")\",AK470)","v":"(((((1. Gr. A : 4. Gr. B) : (2. Gr. D : 3. Gr. C)) : ((1. Gr. C : 4. Gr. D) : (2. Gr. B : 3. Gr. A))) : (((1. Gr. B : 4. Gr. C) : (2. Gr. A : 3. Gr. D)) : ((1. Gr. D : 4. Gr. A) : (2. Gr. C : 3. Gr. B)))) : ((((4. Gr. B : 5. Gr. A) : (4. Gr. B : 5. Gr. A)) : ((4. Gr. B : 5. Gr. A) : (4. Gr. B : 5. Gr. A))) : (((4. Gr. B : 5. Gr. A) : (4. Gr. B : 5. Gr. A)) : ((4. Gr. B : 5. Gr. A) : (4. Gr. B : 5. Gr. A)))))"},null,null,null,null,{"$f":"CHOOSE(SIGN(AS470-AS468)+2,AP468,\"(\"&AP468&\" : \"&AP470&\")\",AP470)","v":"((((((1. Gr. A : 4. Gr. B) : (2. Gr. D : 3. Gr. C)) : ((1. Gr. C : 4. Gr. D) : (2. Gr. B : 3. Gr. A))) : (((1. Gr. B : 4. Gr. C) : (2. Gr. A : 3. Gr. D)) : ((1. Gr. D : 4. Gr. A) : (2. Gr. C : 3. Gr. B)))) : ((((4. Gr. B : 5. Gr. A) : (4. Gr. B : 5. Gr. A)) : ((4. Gr. B : 5. Gr. A) : (4. Gr. B : 5. Gr. A))) : (((4. Gr. B : 5. Gr. A) : (4. Gr. B : 5. Gr. A)) : ((4. Gr. B : 5. Gr. A) : (4. Gr. B : 5. Gr. A))))) : (((((4. Gr. B : 5. Gr. A) : (4. Gr. B : 5. Gr. A)) : ((4. Gr. B : 5. Gr. A) : (4. Gr. B : 5. Gr. A))) : (((4. Gr. B : 5. Gr. A) : (4. Gr. B : 5. Gr. A)) : ((4. Gr. B : 5. Gr. A) : (4. Gr. B : 5. Gr. A)))) : ((((4. Gr. B : 5. Gr. A) : (4. Gr. B : 5. Gr. A)) : ((4. Gr. B : 5. Gr. A) : (4. Gr. B : 5. Gr. A))) : (((4. Gr. B : 5. Gr. A) : (4. Gr. B : 5. Gr. A)) : ((4. Gr. B : 5. Gr. A) : (4. Gr. B : 5. Gr. A))))))"}]
[]
[null,null,null,null,null,null,null,null,null,null,null,null,null,null,null,null,{"$f":"O471","v":"5. Gr. A"},null,null,null,null,{"$f":"CHOOSE(SIGN(T412-T414)+2,Q412,\"(\"&Q412&\" : \"&Q414&\")\",Q414)","v":"(4. Gr. B : 5. Gr. A)"},null,null,null,null,{"$f":"CHOOSE(SIGN(Y412-Y414)+2,V412,\"(\"&V412&\" : \"&V414&\")\",V414)","v":"((4. Gr. B : 5. Gr. A) : (4. Gr. B : 5. Gr. A))"},null,null,null,null,{"$f":"CHOOSE(SIGN(AD412-AD414)+2,AA412,\"(\"&AA412&\" : \"&AA414&\")\",AA414)","v":"(((1. Gr. B : 4. Gr. C) : (2. Gr. A : 3. Gr. D)) : ((1. Gr. D : 4. Gr. A) : (2. Gr. C : 3. Gr. B)))"},null,null,null,null,{"$f":"CHOOSE(SIGN(AI478-AI476)+2,AF476,\"(\"&AF476&\" : \"&AF478&\")\",AF478)","v":"((((4. Gr. B : 5. Gr. A) : (4. Gr. B : 5. Gr. A)) : ((4. Gr. B : 5. Gr. A) : (4. Gr. B : 5. Gr. A))) : (((4. Gr. B : 5. Gr. A) : (4. Gr. B : 5. Gr. A)) : ((4. Gr. B : 5. Gr. A) : (4. Gr. B : 5. Gr. A))))"},null,null,null,null,{"$f":"CHOOSE(SIGN(AN478-AN476)+2,AK476,\"(\"&AK476&\" : \"&AK478&\")\",AK478)","v":"(((((4. Gr. B : 5. Gr. A) : (4. Gr. B : 5. Gr. A)) : ((4. Gr. B : 5. Gr. A) : (4. Gr. B : 5. Gr. A))) : (((4. Gr. B : 5. Gr. A) : (4. Gr. B : 5. Gr. A)) : ((4. Gr. B : 5. Gr. A) : (4. Gr. B : 5. Gr. A)))) : ((((4. Gr. B : 5. Gr. A) : (4. Gr. B : 5. Gr. A)) : ((4. Gr. B : 5. Gr. A) : (4. Gr. B : 5. Gr. A))) : (((4. Gr. B : 5. Gr. A) : (4. Gr. B : 5. Gr. A)) : ((4. Gr. B : 5. Gr. A) : (4. Gr. B : 5. Gr. A)))))"},null,null,null,null,{"$f":"CHOOSE(SIGN(AS478-AS476)+2,AP476,\"(\"&AP476&\" : \"&AP478&\")\",AP478)","v":"((((((4. Gr. B : 5. Gr. A) : (4. Gr. B : 5. Gr. A)) : ((4. Gr. B : 5. Gr. A) : (4. Gr. B : 5. Gr. A))) : (((4. Gr. B : 5. Gr. A) : (4. Gr. B : 5. Gr. A)) : ((4. Gr. B : 5. Gr. A) : (4. Gr. B : 5. Gr. A)))) : ((((4. Gr. B : 5. Gr. A) : (4. Gr. B : 5. Gr. A)) : ((4. Gr. B : 5. Gr. A) : (4. Gr. B : 5. Gr. A))) : (((4. Gr. B : 5. Gr. A) : (4. Gr. B : 5. Gr. A)) : ((4. Gr. B : 5. Gr. A) : (4. Gr. B : 5. Gr. A))))) : (((((4. Gr. B : 5. Gr. A) : (4. Gr. B : 5. Gr. A)) : ((4. Gr. B : 5. Gr. A) : (4. Gr. B : 5. Gr. A))) : (((4. Gr. B : 5. Gr. A) : (4. Gr. B : 5. Gr. A)) : ((4. Gr. B : 5. Gr. A) : (4. Gr. B : 5. Gr. A)))) : ((((4. Gr. B : 5. Gr. A) : (4. Gr. B : 5. Gr. A)) : ((4. Gr. B : 5. Gr. A) : (4. Gr. B : 5. Gr. A))) : (((4. Gr. B : 5. Gr. A) : (4. Gr. B : 5. Gr. A)) : ((4. Gr. B : 5. Gr. A) : (4. Gr. B : 5. Gr. A))))))"}]
[null,null,null,null,null,null,null,null,null,null,null,null,null,null,{"$f":"INDEX(tbl_KO_Data[T2 Src Rank],K466) & \". Gr. \" & INDEX(tbl_KO_Data[T2 Src Group],K466)","v":"5. Gr. A"},null,null,null,null,null,null,null,null,null,null,null,null,null,null,null,null,null,null,null,null,null,null,null,null,null,null,null,null,null,null,null,null,null,null,null,null,114,{"$f":"IF(AX468>AX470,AU470,IF(AX468<AX470,AU468,\"\"))","v":""}]
[]
[]
[null,null,null,null,null,null,null,null,59,null,{"$f":"KO_Data_1row+INDEX(D474:I474,KO_Rounds_Ind)","v":295},null,null,null,null,null,"K_64_A59","field x","best of n",0,null,"K_32_B30","field x","best of n",0,null,"K_16_D15","field x","best of n",0,null,"K_08_H8","field x","best of n",0,null,"K_04_O4","field x","best of n",0,null,"K_02_AC2","field x","best of n",0,null,"K_01_115","field x","best of n",0]
[null,null,null,null,null,null,null,null,null,null,null,null,null,null,{"$f":"INDEX(tbl_KO_Data[T1 Src Rank],K474) & \". Gr. \" & INDEX(tbl_KO_Data[T1 Src Group],K474)","v":"4. Gr. B"},null,null,null,null,null,null,null,null,null,null,null,null,null,null,null,null,null,null,null,null,null,null,null,null,null,null,null,null,null,null,null,null,null,null,null,null,115,{"$f":"IF(AX476>AX478,AU476,IF(AX476<AX478,AU478,\"\"))","v":""}]
[null,null,null,null,null,null,null,null,null,null,null,null,null,null,null,null,{"$f":"O475","v":"4. Gr. B"},null,null,null,null,{"$f":"CHOOSE(SIGN(T420-T422)+2,Q420,\"(\"&Q420&\" : \"&Q422&\")\",Q422)","v":"(4. Gr. B : 5. Gr. A)"},null,null,null,null,{"$f":"CHOOSE(SIGN(Y420-Y422)+2,V420,\"(\"&V420&\" : \"&V422&\")\",V422)","v":"((4. Gr. B : 5. Gr. A) : (4. Gr. B : 5. Gr. A))"},null,null,null,null,{"$f":"CHOOSE(SIGN(AD420-AD422)+2,AA420,\"(\"&AA420&\" : \"&AA422&\")\",AA422)","v":"(((4. Gr. B : 5. Gr. A) : (4. Gr. B : 5. Gr. A)) : ((4. Gr. B : 5. Gr. A) : (4. Gr. B : 5. Gr. A)))"},null,null,null,null,{"$f":"CHOOSE(SIGN(AI486-AI484)+2,AF484,\"(\"&AF484&\" : \"&AF486&\")\",AF486)","v":"((((4. Gr. B : 5. Gr. A) : (4. Gr. B : 5. Gr. A)) : ((4. Gr. B : 5. Gr. A) : (4. Gr. B : 5. Gr. A))) : (((4. Gr. B : 5. Gr. A) : (4. Gr. B : 5. Gr. A)) : ((4. Gr. B : 5. Gr. A) : (4. Gr. B : 5. Gr. A))))"},null,null,null,null,{"$f":"CHOOSE(SIGN(AN486-AN484)+2,AK484,\"(\"&AK484&\" : \"&AK486&\")\",AK486)","v":"(((((4. Gr. B : 5. Gr. A) : (4. Gr. B : 5. Gr. A)) : ((4. Gr. B : 5. Gr. A) : (4. Gr. B : 5. Gr. A))) : (((4. Gr. B : 5. Gr. A) : (4. Gr. B : 5. Gr. A)) : ((4. Gr. B : 5. Gr. A) : (4. Gr. B : 5. Gr. A)))) : ((((4. Gr. B : 5. Gr. A) : (4. Gr. B : 5. Gr. A)) : ((4. Gr. B : 5. Gr. A) : (4. Gr. B : 5. Gr. A))) : (((4. Gr. B : 5. Gr. A) : (4. Gr. B : 5. Gr. A)) : ((4. Gr. B : 5. Gr. A) : (4. Gr. B : 5. Gr. A)))))"},null,null,null,null,{"$f":"CHOOSE(SIGN(AS468-AS470)+2,AP468,\"(\"&AP468&\" : \"&AP470&\")\",AP470)","v":"((((((1. Gr. A : 4. Gr. B) : (2. Gr. D : 3. Gr. C)) : ((1. Gr. C : 4. Gr. D) : (2. Gr. B : 3. Gr. A))) : (((1. Gr. B : 4. Gr. C) : (2. Gr. A : 3. Gr. D)) : ((1. Gr. D : 4. Gr. A) : (2. Gr. C : 3. Gr. B)))) : ((((4. Gr. B : 5. Gr. A) : (4. Gr. B : 5. Gr. A)) : ((4. Gr. B : 5. Gr. A) : (4. Gr. B : 5. Gr. A))) : (((4. Gr. B : 5. Gr. A) : (4. Gr. B : 5. Gr. A)) : ((4. Gr. B : 5. Gr. A) : (4. Gr. B : 5. Gr. A))))) : (((((4. Gr. B : 5. Gr. A) : (4. Gr. B : 5. Gr. A)) : ((4. Gr. B : 5. Gr. A) : (4. Gr. B : 5. Gr. A))) : (((4. Gr. B : 5. Gr. A) : (4. Gr. B : 5. Gr. A)) : ((4. Gr. B : 5. Gr. A) : (4. Gr. B : 5. Gr. A)))) : ((((4. Gr. B : 5. Gr. A) : (4. Gr. B : 5. Gr. A)) : ((4. Gr. B : 5. Gr. A) : (4. Gr. B : 5. Gr. A))) : (((4. Gr. B : 5. Gr. A) : (4. Gr. B : 5. Gr. A)) : ((4. Gr. B : 5. Gr. A) : (4. Gr. B : 5. Gr. A))))))"}]
[]
[null,null,null,null,null,null,null,null,null,null,null,null,null,null,null,null,{"$f":"O479","v":"5. Gr. A"},null,null,null,null,{"$f":"CHOOSE(SIGN(T428-T430)+2,Q428,\"(\"&Q428&\" : \"&Q430&\")\",Q430)","v":"(4. Gr. B : 5. Gr. A)"},null,null,null,null,{"$f":"CHOOSE(SIGN(Y428-Y430)+2,V428,\"(\"&V428&\" : \"&V430&\")\",V430)","v":"((4. Gr. B : 5. Gr. A) : (4. Gr. B : 5. Gr. A))"},null,null,null,null,{"$f":"CHOOSE(SIGN(AD428-AD430)+2,AA428,\"(\"&AA428&\" : \"&AA430&\")\",AA430)","v":"(((4. Gr. B : 5. Gr. A) : (4. Gr. B : 5. Gr. A)) : ((4. Gr. B : 5. Gr. A) : (4. Gr. B : 5. Gr. A)))"},null,null,null,null,{"$f":"CHOOSE(SIGN(AI494-AI492)+2,AF492,\"(\"&AF492&\" : \"&AF494&\")\",AF494)","v":"((((4. Gr. B : 5. Gr. A) : (4. Gr. B : 5. Gr. A)) : ((4. Gr. B : 5. Gr. A) : (4. Gr. B : 5. Gr. A))) : (((4. Gr. B : 5. Gr. A) : (4. Gr. B : 5. Gr. A)) : ((4. Gr. B : 5. Gr. A) : (4. Gr. B : 5. Gr. A))))"},null,null,null,null,{"$f":"CHOOSE(SIGN(AN494-AN492)+2,AK492,\"(\"&AK492&\" : \"&AK494&\")\",AK494)","v":"(((((4. Gr. B : 5. Gr. A) : (4. Gr. B : 5. Gr. A)) : ((4. Gr. B : 5. Gr. A) : (4. Gr. B : 5. Gr. A))) : (((4. Gr. B : 5. Gr. A) : (4. Gr. B : 5. Gr. A)) : ((4. Gr. B : 5. Gr. A) : (4. Gr. B : 5. Gr. A)))) : ((((4. Gr. B : 5. Gr. A) : (4. Gr. B : 5. Gr. A)) : ((4. Gr. B : 5. Gr. A) : (4. Gr. B : 5. Gr. A))) : (((4. Gr. B : 5. Gr. A) : (4. Gr. B : 5. Gr. A)) : ((4. Gr. B : 5. Gr. A) : (4. Gr. B : 5. Gr. A)))))"},null,null,null,null,{"$f":"CHOOSE(SIGN(AS476-AS478)+2,AP476,\"(\"&AP476&\" : \"&AP478&\")\",AP478)","v":"((((((4. Gr. B : 5. Gr. A) : (4. Gr. B : 5. Gr. A)) : ((4. Gr. B : 5. Gr. A) : (4. Gr. B : 5. Gr. A))) : (((4. Gr. B : 5. Gr. A) : (4. Gr. B : 5. Gr. A)) : ((4. Gr. B : 5. Gr. A) : (4. Gr. B : 5. Gr. A)))) : ((((4. Gr. B : 5. Gr. A) : (4. Gr. B : 5. Gr. A)) : ((4. Gr. B : 5. Gr. A) : (4. Gr. B : 5. Gr. A))) : (((4. Gr. B : 5. Gr. A) : (4. Gr. B : 5. Gr. A)) : ((4. Gr. B : 5. Gr. A) : (4. Gr. B : 5. Gr. A))))) : (((((4. Gr. B : 5. Gr. A) : (4. Gr. B : 5. Gr. A)) : ((4. Gr. B : 5. Gr. A) : (4. Gr. B : 5. Gr. A))) : (((4. Gr. B : 5. Gr. A) : (4. Gr. B : 5. Gr. A)) : ((4. Gr. B : 5. Gr. A) : (4. Gr. B : 5. Gr. A)))) : ((((4. Gr. B : 5. Gr. A) : (4. Gr. B : 5. Gr. A)) : ((4. Gr. B : 5. Gr. A) : (4. Gr. B : 5. Gr. A))) : (((4. Gr. B : 5. Gr. A) : (4. Gr. B : 5. Gr. A)) : ((4. Gr. B : 5. Gr. A) : (4. Gr. B : 5. Gr. A))))))"}]
[null,null,null,null,null,null,null,null,null,null,null,null,null,null,{"$f":"INDEX(tbl_KO_Data[T2 Src Rank],K474) & \". Gr. \" & INDEX(tbl_KO_Data[T2 Src Group],K474)","v":"5. Gr. A"},null,null,null,null,null,null,null,null,null,null,null,null,null,null,null,null,null,null,null,null,null,null,null,null,null,null,null,null,null,null,null,null,null,null,null,null,116,{"$f":"IF(AX476>AX478,AU478,IF(AX476<AX478,AU476,\"\"))","v":""}]
[]
[]
[null,null,null,null,null,null,null,null,27,null,{"$f":"KO_Data_1row+INDEX(D482:I482,KO_Rounds_Ind)","v":295},null,null,null,null,null,"K_64_A27","field x","best of n",0,null,"K_32_B14","field x","best of n",0,null,"K_16_D07","field x","best of n",0,null,"K_08_H4","field x","best of n",0,null,"K_04_O2","field x","best of n",0,null,"K_02_AD1","field x","best of n",0,null,"K_01_117","field x","best of n",0]
[null,null,null,null,null,null,null,null,null,null,null,null,null,null,{"$f":"INDEX(tbl_KO_Data[T1 Src Rank],K482) & \". Gr. \" & INDEX(tbl_KO_Data[T1 Src Group],K482)","v":"4. Gr. B"},null,null,null,null,null,null,null,null,null,null,null,null,null,null,null,null,null,null,null,null,null,null,null,null,null,null,null,null,null,null,null,null,null,null,null,null,117,{"$f":"IF(AX484>AX486,AU484,IF(AX484<AX486,AU486,\"\"))","v":""}]
[null,null,null,null,null,null,null,null,null,null,null,null,null,null,null,null,{"$f":"O483","v":"4. Gr. B"},null,null,null,null,{"$f":"CHOOSE(SIGN(T436-T438)+2,Q436,\"(\"&Q436&\" : \"&Q438&\")\",Q438)","v":"(4. Gr. B : 5. Gr. A)"},null,null,null,null,{"$f":"CHOOSE(SIGN(Y436-Y438)+2,V436,\"(\"&V436&\" : \"&V438&\")\",V438)","v":"((4. Gr. B : 5. Gr. A) : (4. Gr. B : 5. Gr. A))"},null,null,null,null,{"$f":"CHOOSE(SIGN(AD436-AD438)+2,AA436,\"(\"&AA436&\" : \"&AA438&\")\",AA438)","v":"(((4. Gr. B : 5. Gr. A) : (4. Gr. B : 5. Gr. A)) : ((4. Gr. B : 5. Gr. A) : (4. Gr. B : 5. Gr. A)))"},null,null,null,null,{"$f":"CHOOSE(SIGN(AI502-AI500)+2,AF500,\"(\"&AF500&\" : \"&AF502&\")\",AF502)","v":"((((4. Gr. B : 5. Gr. A) : (4. Gr. B : 5. Gr. A)) : ((4. Gr. B : 5. Gr. A) : (4. Gr. B : 5. Gr. A))) : (((4. Gr. B : 5. Gr. A) : (4. Gr. B : 5. Gr. A)) : ((4. Gr. B : 5. Gr. A) : (4. Gr. B : 5. Gr. A))))"},null,null,null,null,{"$f":"CHOOSE(SIGN(AN468-AN470)+2,AK468,\"(\"&AK468&\" : \"&AK470&\")\",AK470)","v":"(((((1. Gr. A : 4. Gr. B) : (2. Gr. D : 3. Gr. C)) : ((1. Gr. C : 4. Gr. D) : (2. Gr. B : 3. Gr. A))) : (((1. Gr. B : 4. Gr. C) : (2. Gr. A : 3. Gr. D)) : ((1. Gr. D : 4. Gr. A) : (2. Gr. C : 3. Gr. B)))) : ((((4. Gr. B : 5. Gr. A) : (4. Gr. B : 5. Gr. A)) : ((4. Gr. B : 5. Gr. A) : (4. Gr. B : 5. Gr. A))) : (((4. Gr. B : 5. Gr. A) : (4. Gr. B : 5. Gr. A)) : ((4. Gr. B : 5. Gr. A) : (4. Gr. B : 5. Gr. A)))))"},null,null,null,null,{"$f":"CHOOSE(SIGN(AS486-AS484)+2,AP484,\"(\"&AP484&\" : \"&AP486&\")\",AP486)","v":"((((((1. Gr. A : 4. Gr. B) : (2. Gr. D : 3. Gr. C)) : ((1. Gr. C : 4. Gr. D) : (2. Gr. B : 3. Gr. A))) : (((1. Gr. B : 4. Gr. C) : (2. Gr. A : 3. Gr. D)) : ((1. Gr. D : 4. Gr. A) : (2. Gr. C : 3. Gr. B)))) : ((((4. Gr. B : 5. Gr. A) : (4. Gr. B : 5. Gr. A)) : ((4. Gr. B : 5. Gr. A) : (4. Gr. B : 5. Gr. A))) : (((4. Gr. B : 5. Gr. A) : (4. Gr. B : 5. Gr. A)) : ((4. Gr. B : 5. Gr. A) : (4. Gr. B : 5. Gr. A))))) : (((((4. Gr. B : 5. Gr. A) : (4. Gr. B : 5. Gr. A)) : ((4. Gr. B : 5. Gr. A) : (4. Gr. B : 5. Gr. A))) : (((4. Gr. B : 5. Gr. A) : (4. Gr. B : 5. Gr. A)) : ((4. Gr. B : 5. Gr. A) : (4. Gr. B : 5. Gr. A)))) : ((((4. Gr. B : 5. Gr. A) : (4. Gr. B : 5. Gr. A)) : ((4. Gr. B : 5. Gr. A) : (4. Gr. B : 5. Gr. A))) : (((4. Gr. B : 5. Gr. A) : (4. Gr. B : 5. Gr. A)) : ((4. Gr. B : 5. Gr. A) : (4. Gr. B : 5. Gr. A))))))"}]
[]
[null,null,null,null,null,null,null,null,null,null,null,null,null,null,null,null,{"$f":"O487","v":"5. Gr. A"},null,null,null,null,{"$f":"CHOOSE(SIGN(T444-T446)+2,Q444,\"(\"&Q444&\" : \"&Q446&\")\",Q446)","v":"(4. Gr. B : 5. Gr. A)"},null,null,null,null,{"$f":"CHOOSE(SIGN(Y444-Y446)+2,V444,\"(\"&V444&\" : \"&V446&\")\",V446)","v":"((4. Gr. B : 5. Gr. A) : (4. Gr. B : 5. Gr. A))"},null,null,null,null,{"$f":"CHOOSE(SIGN(AD444-AD446)+2,AA444,\"(\"&AA444&\" : \"&AA446&\")\",AA446)","v":"(((4. Gr. B : 5. Gr. A) : (4. Gr. B : 5. Gr. A)) : ((4. Gr. B : 5. Gr. A) : (4. Gr. B : 5. Gr. A)))"},null,null,null,null,{"$f":"CHOOSE(SIGN(AI510-AI508)+2,AF508,\"(\"&AF508&\" : \"&AF510&\")\",AF510)","v":"((((4. Gr. B : 5. Gr. A) : (4. Gr. B : 5. Gr. A)) : ((4. Gr. B : 5. Gr. A) : (4. Gr. B : 5. Gr. A))) : (((4. Gr. B : 5. Gr. A) : (4. Gr. B : 5. Gr. A)) : ((4. Gr. B : 5. Gr. A) : (4. Gr. B : 5. Gr. A))))"},null,null,null,null,{"$f":"CHOOSE(SIGN(AN476-AN478)+2,AK476,\"(\"&AK476&\" : \"&AK478&\")\",AK478)","v":"(((((4. Gr. B : 5. Gr. A) : (4. Gr. B : 5. Gr. A)) : ((4. Gr. B : 5. Gr. A) : (4. Gr. B : 5. Gr. A))) : (((4. Gr. B : 5. Gr. A) : (4. Gr. B : 5. Gr. A)) : ((4. Gr. B : 5. Gr. A) : (4. Gr. B : 5. Gr. A)))) : ((((4. Gr. B : 5. Gr. A) : (4. Gr. B : 5. Gr. A)) : ((4. Gr. B : 5. Gr. A) : (4. Gr. B : 5. Gr. A))) : (((4. Gr. B : 5. Gr. A) : (4. Gr. B : 5. Gr. A)) : ((4. Gr. B : 5. Gr. A) : (4. Gr. B : 5. Gr. A)))))"},null,null,null,null,{"$f":"CHOOSE(SIGN(AS494-AS492)+2,AP492,\"(\"&AP492&\" : \"&AP494&\")\",AP494)","v":"((((((4. Gr. B : 5. Gr. A) : (4. Gr. B : 5. Gr. A)) : ((4. Gr. B : 5. Gr. A) : (4. Gr. B : 5. Gr. A))) : (((4. Gr. B : 5. Gr. A) : (4. Gr. B : 5. Gr. A)) : ((4. Gr. B : 5. Gr. A) : (4. Gr. B : 5. Gr. A)))) : ((((4. Gr. B : 5. Gr. A) : (4. Gr. B : 5. Gr. A)) : ((4. Gr. B : 5. Gr. A) : (4. Gr. B : 5. Gr. A))) : (((4. Gr. B : 5. Gr. A) : (4. Gr. B : 5. Gr. A)) : ((4. Gr. B : 5. Gr. A) : (4. Gr. B : 5. Gr. A))))) : (((((4. Gr. B : 5. Gr. A) : (4. Gr. B : 5. Gr. A)) : ((4. Gr. B : 5. Gr. A) : (4. Gr. B : 5. Gr. A))) : (((4. Gr. B : 5. Gr. A) : (4. Gr. B : 5. Gr. A)) : ((4. Gr. B : 5. Gr. A) : (4. Gr. B : 5. Gr. A)))) : ((((4. Gr. B : 5. Gr. A) : (4. Gr. B : 5. Gr. A)) : ((4. Gr. B : 5. Gr. A) : (4. Gr. B : 5. Gr. A))) : (((4. Gr. B : 5. Gr. A) : (4. Gr. B : 5. Gr. A)) : ((4. Gr. B : 5. Gr. A) : (4. Gr. B : 5. Gr. A))))))"}]
[null,null,null,null,null,null,null,null,null,null,null,null,null,null,{"$f":"INDEX(tbl_KO_Data[T2 Src Rank],K482) & \". Gr. \" & INDEX(tbl_KO_Data[T2 Src Group],K482)","v":"5. Gr. A"},null,null,null,null,null,null,null,null,null,null,null,null,null,null,null,null,null,null,null,null,null,null,null,null,null,null,null,null,null,null,null,null,null,null,null,null,118,{"$f":"IF(AX484>AX486,AU486,IF(AX484<AX486,AU484,\"\"))","v":""}]
[]
[]
[null,null,null,null,null,null,null,null,38,null,{"$f":"KO_Data_1row+INDEX(D490:I490,KO_Rounds_Ind)","v":295},null,null,null,null,null,"K_64_A38","field x","best of n",0,null,"K_32_B19","field x","best of n",0,null,"K_16_D10","field x","best of n",0,null,"K_08_H5","field x","best of n",0,null,"K_04_O3","field x","best of n",0,null,"K_02_AD2","field x","best of n",0,null,"K_01_119","field x","best of n",0]
[null,null,null,null,null,null,null,null,null,null,null,null,null,null,{"$f":"INDEX(tbl_KO_Data[T1 Src Rank],K490) & \". Gr. \" & INDEX(tbl_KO_Data[T1 Src Group],K490)","v":"4. Gr. B"},null,null,null,null,null,null,null,null,null,null,null,null,null,null,null,null,null,null,null,null,null,null,null,null,null,null,null,null,null,null,null,null,null,null,null,null,119,{"$f":"IF(AX492>AX494,AU492,IF(AX492<AX494,AU494,\"\"))","v":""}]
[null,null,null,null,null,null,null,null,null,null,null,null,null,null,null,null,{"$f":"O491","v":"4. Gr. B"},null,null,null,null,{"$f":"CHOOSE(SIGN(T452-T454)+2,Q452,\"(\"&Q452&\" : \"&Q454&\")\",Q454)","v":"(4. Gr. B : 5. Gr. A)"},null,null,null,null,{"$f":"CHOOSE(SIGN(Y452-Y454)+2,V452,\"(\"&V452&\" : \"&V454&\")\",V454)","v":"((4. Gr. B : 5. Gr. A) : (4. Gr. B : 5. Gr. A))"},null,null,null,null,{"$f":"CHOOSE(SIGN(AD452-AD454)+2,AA452,\"(\"&AA452&\" : \"&AA454&\")\",AA454)","v":"(((4. Gr. B : 5. Gr. A) : (4. Gr. B : 5. Gr. A)) : ((4. Gr. B : 5. Gr. A) : (4. Gr. B : 5. Gr. A)))"},null,null,null,null,{"$f":"CHOOSE(SIGN(AI518-AI516)+2,AF516,\"(\"&AF516&\" : \"&AF518&\")\",AF518)","v":"((((4. Gr. B : 5. Gr. A) : (4. Gr. B : 5. Gr. A)) : ((4. Gr. B : 5. Gr. A) : (4. Gr. B : 5. Gr. A))) : (((4. Gr. B : 5. Gr. A) : (4. Gr. B : 5. Gr. A)) : ((4. Gr. B : 5. Gr. A) : (4. Gr. B : 5. Gr. A))))"},null,null,null,null,{"$f":"CHOOSE(SIGN(AN484-AN486)+2,AK484,\"(\"&AK484&\" : \"&AK486&\")\",AK486)","v":"(((((4. Gr. B : 5. Gr. A) : (4. Gr. B : 5. Gr. A)) : ((4. Gr. B : 5. Gr. A) : (4. Gr. B : 5. Gr. A))) : (((4. Gr. B : 5. Gr. A) : (4. Gr. B : 5. Gr. A)) : ((4. Gr. B : 5. Gr. A) : (4. Gr. B : 5. Gr. A)))) : ((((4. Gr. B : 5. Gr. A) : (4. Gr. B : 5. Gr. A)) : ((4. Gr. B : 5. Gr. A) : (4. Gr. B : 5. Gr. A))) : (((4. Gr. B : 5. Gr. A) : (4. Gr. B : 5. Gr. A)) : ((4. Gr. B : 5. Gr. A) : (4. Gr. B : 5. Gr. A)))))"},null,null,null,null,{"$f":"CHOOSE(SIGN(AS484-AS486)+2,AP484,\"(\"&AP484&\" : \"&AP486&\")\",AP486)","v":"((((((1. Gr. A : 4. Gr. B) : (2. Gr. D : 3. Gr. C)) : ((1. Gr. C : 4. Gr. D) : (2. Gr. B : 3. Gr. A))) : (((1. Gr. B : 4. Gr. C) : (2. Gr. A : 3. Gr. D)) : ((1. Gr. D : 4. Gr. A) : (2. Gr. C : 3. Gr. B)))) : ((((4. Gr. B : 5. Gr. A) : (4. Gr. B : 5. Gr. A)) : ((4. Gr. B : 5. Gr. A) : (4. Gr. B : 5. Gr. A))) : (((4. Gr. B : 5. Gr. A) : (4. Gr. B : 5. Gr. A)) : ((4. Gr. B : 5. Gr. A) : (4. Gr. B : 5. Gr. A))))) : (((((4. Gr. B : 5. Gr. A) : (4. Gr. B : 5. Gr. A)) : ((4. Gr. B : 5. Gr. A) : (4. Gr. B : 5. Gr. A))) : (((4. Gr. B : 5. Gr. A) : (4. Gr. B : 5. Gr. A)) : ((4. Gr. B : 5. Gr. A) : (4. Gr. B : 5. Gr. A)))) : ((((4. Gr. B : 5. Gr. A) : (4. Gr. B : 5. Gr. A)) : ((4. Gr. B : 5. Gr. A) : (4. Gr. B : 5. Gr. A))) : (((4. Gr. B : 5. Gr. A) : (4. Gr. B : 5. Gr. A)) : ((4. Gr. B : 5. Gr. A) : (4. Gr. B : 5. Gr. A))))))"}]
[]
[null,null,null,null,null,null,null,null,null,null,null,null,null,null,null,null,{"$f":"O495","v":"5. Gr. A"},null,null,null,null,{"$f":"CHOOSE(SIGN(T460-T462)+2,Q460,\"(\"&Q460&\" : \"&Q462&\")\",Q462)","v":"(4. Gr. B : 5. Gr. A)"},null,null,null,null,{"$f":"CHOOSE(SIGN(Y460-Y462)+2,V460,\"(\"&V460&\" : \"&V462&\")\",V462)","v":"((4. Gr. B : 5. Gr. A) : (4. Gr. B : 5. Gr. A))"},null,null,null,null,{"$f":"CHOOSE(SIGN(AD460-AD462)+2,AA460,\"(\"&AA460&\" : \"&AA462&\")\",AA462)","v":"(((4. Gr. B : 5. Gr. A) : (4. Gr. B : 5. Gr. A)) : ((4. Gr. B : 5. Gr. A) : (4. Gr. B : 5. Gr. A)))"},null,null,null,null,{"$f":"CHOOSE(SIGN(AI526-AI524)+2,AF524,\"(\"&AF524&\" : \"&AF526&\")\",AF526)","v":"((((4. Gr. B : 5. Gr. A) : (4. Gr. B : 5. Gr. A)) : ((4. Gr. B : 5. Gr. A) : (4. Gr. B : 5. Gr. A))) : (((4. Gr. B : 5. Gr. A) : (4. Gr. B : 5. Gr. A)) : ((4. Gr. B : 5. Gr. A) : (4. Gr. B : 5. Gr. A))))"},null,null,null,null,{"$f":"CHOOSE(SIGN(AN492-AN494)+2,AK492,\"(\"&AK492&\" : \"&AK494&\")\",AK494)","v":"(((((4. Gr. B : 5. Gr. A) : (4. Gr. B : 5. Gr. A)) : ((4. Gr. B : 5. Gr. A) : (4. Gr. B : 5. Gr. A))) : (((4. Gr. B : 5. Gr. A) : (4. Gr. B : 5. Gr. A)) : ((4. Gr. B : 5. Gr. A) : (4. Gr. B : 5. Gr. A)))) : ((((4. Gr. B : 5. Gr. A) : (4. Gr. B : 5. Gr. A)) : ((4. Gr. B : 5. Gr. A) : (4. Gr. B : 5. Gr. A))) : (((4. Gr. B : 5. Gr. A) : (4. Gr. B : 5. Gr. A)) : ((4. Gr. B : 5. Gr. A) : (4. Gr. B : 5. Gr. A)))))"},null,null,null,null,{"$f":"CHOOSE(SIGN(AS492-AS494)+2,AP492,\"(\"&AP492&\" : \"&AP494&\")\",AP494)","v":"((((((4. Gr. B : 5. Gr. A) : (4. Gr. B : 5. Gr. A)) : ((4. Gr. B : 5. Gr. A) : (4. Gr. B : 5. Gr. A))) : (((4. Gr. B : 5. Gr. A) : (4. Gr. B : 5. Gr. A)) : ((4. Gr. B : 5. Gr. A) : (4. Gr. B : 5. Gr. A)))) : ((((4. Gr. B : 5. Gr. A) : (4. Gr. B : 5. Gr. A)) : ((4. Gr. B : 5. Gr. A) : (4. Gr. B : 5. Gr. A))) : (((4. Gr. B : 5. Gr. A) : (4. Gr. B : 5. Gr. A)) : ((4. Gr. B : 5. Gr. A) : (4. Gr. B : 5. Gr. A))))) : (((((4. Gr. B : 5. Gr. A) : (4. Gr. B : 5. Gr. A)) : ((4. Gr. B : 5. Gr. A) : (4. Gr. B : 5. Gr. A))) : (((4. Gr. B : 5. Gr. A) : (4. Gr. B : 5. Gr. A)) : ((4. Gr. B : 5. Gr. A) : (4. Gr. B : 5. Gr. A)))) : ((((4. Gr. B : 5. Gr. A) : (4. Gr. B : 5. Gr. A)) : ((4. Gr. B : 5. Gr. A) : (4. Gr. B : 5. Gr. A))) : (((4. Gr. B : 5. Gr. A) : (4. Gr. B : 5. Gr. A)) : ((4. Gr. B : 5. Gr. A) : (4. Gr. B : 5. Gr. A))))))"}]
[null,null,null,null,null,null,null,null,null,null,null,null,null,null,{"$f":"INDEX(tbl_KO_Data[T2 Src Rank],K490) & \". Gr. \" & INDEX(tbl_KO_Data[T2 Src Group],K490)","v":"5. Gr. A"},null,null,null,null,null,null,null,null,null,null,null,null,null,null,null,null,null,null,null,null,null,null,null,null,null,null,null,null,null,null,null,null,null,null,null,null,120,{"$f":"IF(AX492>AX494,AU494,IF(AX492<AX494,AU492,\"\"))","v":""}]
[]
[]
[null,null,null,null,null,null,null,null,11,null,{"$f":"KO_Data_1row+INDEX(D498:I498,KO_Rounds_Ind)","v":295},null,null,null,null,null,"K_64_A11","field x","best of n",0,null,"K_32_B06","field x","best of n",0,null,"K_16_D03","field x","best of n",0,null,"K_08_H2","field x","best of n",0,null,"K_04_P1","field x","best of n",0,null,"K_02_AE1","field x","best of n",0,null,"K_01_121","field x","best of n",0]
[null,null,null,null,null,null,null,null,null,null,null,null,null,null,{"$f":"INDEX(tbl_KO_Data[T1 Src Rank],K498) & \". Gr. \" & INDEX(tbl_KO_Data[T1 Src Group],K498)","v":"4. Gr. B"},null,null,null,null,null,null,null,null,null,null,null,null,null,null,null,null,null,null,null,null,null,null,null,null,null,null,null,null,null,null,null,null,null,null,null,null,121,{"$f":"IF(AX500>AX502,AU500,IF(AX500<AX502,AU502,\"\"))","v":""}]
[null,null,null,null,null,null,null,null,null,null,null,null,null,null,null,null,{"$f":"O499","v":"4. Gr. B"},null,null,null,null,{"$f":"CHOOSE(SIGN(T468-T470)+2,Q468,\"(\"&Q468&\" : \"&Q470&\")\",Q470)","v":"(4. Gr. B : 5. Gr. A)"},null,null,null,null,{"$f":"CHOOSE(SIGN(Y468-Y470)+2,V468,\"(\"&V468&\" : \"&V470&\")\",V470)","v":"((4. Gr. B : 5. Gr. A) : (4. Gr. B : 5. Gr. A))"},null,null,null,null,{"$f":"CHOOSE(SIGN(AD468-AD470)+2,AA468,\"(\"&AA468&\" : \"&AA470&\")\",AA470)","v":"(((4. Gr. B : 5. Gr. A) : (4. Gr. B : 5. Gr. A)) : ((4. Gr. B : 5. Gr. A) : (4. Gr. B : 5. Gr. A)))"},null,null,null,null,{"$f":"CHOOSE(SIGN(AI468-AI470)+2,AF468,\"(\"&AF468&\" : \"&AF470&\")\",AF470)","v":"((((1. Gr. A : 4. Gr. B) : (2. Gr. D : 3. Gr. C)) : ((1. Gr. C : 4. Gr. D) : (2. Gr. B : 3. Gr. A))) : (((1. Gr. B : 4. Gr. C) : (2. Gr. A : 3. Gr. D)) : ((1. Gr. D : 4. Gr. A) : (2. Gr. C : 3. Gr. B))))"},null,null,null,null,{"$f":"CHOOSE(SIGN(AN502-AN500)+2,AK500,\"(\"&AK500&\" : \"&AK502&\")\",AK502)","v":"(((((1. Gr. A : 4. Gr. B) : (2. Gr. D : 3. Gr. C)) : ((1. Gr. C : 4. Gr. D) : (2. Gr. B : 3. Gr. A))) : (((1. Gr. B : 4. Gr. C) : (2. Gr. A : 3. Gr. D)) : ((1. Gr. D : 4. Gr. A) : (2. Gr. C : 3. Gr. B)))) : ((((4. Gr. B : 5. Gr. A) : (4. Gr. B : 5. Gr. A)) : ((4. Gr. B : 5. Gr. A) : (4. Gr. B : 5. Gr. A))) : (((4. Gr. B : 5. Gr. A) : (4. Gr. B : 5. Gr. A)) : ((4. Gr. B : 5. Gr. A) : (4. Gr. B : 5. Gr. A)))))"},null,null,null,null,{"$f":"CHOOSE(SIGN(AS502-AS500)+2,AP500,\"(\"&AP500&\" : \"&AP502&\")\",AP502)","v":"((((((1. Gr. A : 4. Gr. B) : (2. Gr. D : 3. Gr. C)) : ((1. Gr. C : 4. Gr. D) : (2. Gr. B : 3. Gr. A))) : (((1. Gr. B : 4. Gr. C) : (2. Gr. A : 3. Gr. D)) : ((1. Gr. D : 4. Gr. A) : (2. Gr. C : 3. Gr. B)))) : ((((4. Gr. B : 5. Gr. A) : (4. Gr. B : 5. Gr. A)) : ((4. Gr. B : 5. Gr. A) : (4. Gr. B : 5. Gr. A))) : (((4. Gr. B : 5. Gr. A) : (4. Gr. B : 5. Gr. A)) : ((4. Gr. B : 5. Gr. A) : (4. Gr. B : 5. Gr. A))))) : (((((4. Gr. B : 5. Gr. A) : (4. Gr. B : 5. Gr. A)) : ((4. Gr. B : 5. Gr. A) : (4. Gr. B : 5. Gr. A))) : (((4. Gr. B : 5. Gr. A) : (4. Gr. B : 5. Gr. A)) : ((4. Gr. B : 5. Gr. A) : (4. Gr. B : 5. Gr. A)))) : ((((4. Gr. B : 5. Gr. A) : (4. Gr. B : 5. Gr. A)) : ((4. Gr. B : 5. Gr. A) : (4. Gr. B : 5. Gr. A))) : (((4. Gr. B : 5. Gr. A) : (4. Gr. B : 5. Gr. A)) : ((4. Gr. B : 5. Gr. A) : (4. Gr. B : 5. Gr. A))))))"}]
[]
[null,null,null,null,null,null,null,null,null,null,null,null,null,null,null,null,{"$f":"O503","v":"5. Gr. A"},null,null,null,null,{"$f":"CHOOSE(SIGN(T476-T478)+2,Q476,\"(\"&Q476&\" : \"&Q478&\")\",Q478)","v":"(4. Gr. B : 5. Gr. A)"},null,null,null,null,{"$f":"CHOOSE(SIGN(Y476-Y478)+2,V476,\"(\"&V476&\" : \"&V478&\")\",V478)","v":"((4. Gr. B : 5. Gr. A) : (4. Gr. B : 5. Gr. A))"},null,null,null,null,{"$f":"CHOOSE(SIGN(AD476-AD478)+2,AA476,\"(\"&AA476&\" : \"&AA478&\")\",AA478)","v":"(((4. Gr. B : 5. Gr. A) : (4. Gr. B : 5. Gr. A)) : ((4. Gr. B : 5. Gr. A) : (4. Gr. B : 5. Gr. A)))"},null,null,null,null,{"$f":"CHOOSE(SIGN(AI476-AI478)+2,AF476,\"(\"&AF476&\" : \"&AF478&\")\",AF478)","v":"((((4. Gr. B : 5. Gr. A) : (4. Gr. B : 5. Gr. A)) : ((4. Gr. B : 5. Gr. A) : (4. Gr. B : 5. Gr. A))) : (((4. Gr. B : 5. Gr. A) : (4. Gr. B : 5. Gr. A)) : ((4. Gr. B : 5. Gr. A) : (4. Gr. B : 5. Gr. A))))"},null,null,null,null,{"$f":"CHOOSE(SIGN(AN510-AN508)+2,AK508,\"(\"&AK508&\" : \"&AK510&\")\",AK510)","v":"(((((4. Gr. B : 5. Gr. A) : (4. Gr. B : 5. Gr. A)) : ((4. Gr. B : 5. Gr. A) : (4. Gr. B : 5. Gr. A))) : (((4. Gr. B : 5. Gr. A) : (4. Gr. B : 5. Gr. A)) : ((4. Gr. B : 5. Gr. A) : (4. Gr. B : 5. Gr. A)))) : ((((4. Gr. B : 5. Gr. A) : (4. Gr. B : 5. Gr. A)) : ((4. Gr. B : 5. Gr. A) : (4. Gr. B : 5. Gr. A))) : (((4. Gr. B : 5. Gr. A) : (4. Gr. B : 5. Gr. A)) : ((4. Gr. B : 5. Gr. A) : (4. Gr. B : 5. Gr. A)))))"},null,null,null,null,{"$f":"CHOOSE(SIGN(AS510-AS508)+2,AP508,\"(\"&AP508&\" : \"&AP510&\")\",AP510)","v":"((((((4. Gr. B : 5. Gr. A) : (4. Gr. B : 5. Gr. A)) : ((4. Gr. B : 5. Gr. A) : (4. Gr. B : 5. Gr. A))) : (((4. Gr. B : 5. Gr. A) : (4. Gr. B : 5. Gr. A)) : ((4. Gr. B : 5. Gr. A) : (4. Gr. B : 5. Gr. A)))) : ((((4. Gr. B : 5. Gr. A) : (4. Gr. B : 5. Gr. A)) : ((4. Gr. B : 5. Gr. A) : (4. Gr. B : 5. Gr. A))) : (((4. Gr. B : 5. Gr. A) : (4. Gr. B : 5. Gr. A)) : ((4. Gr. B : 5. Gr. A) : (4. Gr. B : 5. Gr. A))))) : (((((4. Gr. B : 5. Gr. A) : (4. Gr. B : 5. Gr. A)) : ((4. Gr. B : 5. Gr. A) : (4. Gr. B : 5. Gr. A))) : (((4. Gr. B : 5. Gr. A) : (4. Gr. B : 5. Gr. A)) : ((4. Gr. B : 5. Gr. A) : (4. Gr. B : 5. Gr. A)))) : ((((4. Gr. B : 5. Gr. A) : (4. Gr. B : 5. Gr. A)) : ((4. Gr. B : 5. Gr. A) : (4. Gr. B : 5. Gr. A))) : (((4. Gr. B : 5. Gr. A) : (4. Gr. B : 5. Gr. A)) : ((4. Gr. B : 5. Gr. A) : (4. Gr. B : 5. Gr. A))))))"}]
[null,null,null,null,null,null,null,null,null,null,null,null,null,null,{"$f":"INDEX(tbl_KO_Data[T2 Src Rank],K498) & \". Gr. \" & INDEX(tbl_KO_Data[T2 Src Group],K498)","v":"5. Gr. A"},null,null,null,null,null,null,null,null,null,null,null,null,null,null,null,null,null,null,null,null,null,null,null,null,null,null,null,null,null,null,null,null,null,null,null,null,122,{"$f":"IF(AX500>AX502,AU502,IF(AX500<AX502,AU500,\"\"))","v":""}]
[]
[]
[null,null,null,null,null,null,null,null,54,null,{"$f":"KO_Data_1row+INDEX(D506:I506,KO_Rounds_Ind)","v":295},null,null,null,null,null,"K_64_A54","field x","best of n",0,null,"K_32_B27","field x","best of n",0,null,"K_16_D14","field x","best of n",0,null,"K_08_H7","field x","best of n",0,null,"K_04_P4","field x","best of n",0,null,"K_02_AE2","field x","best of n",0,null,"K_01_123","field x","best of n",0]
[null,null,null,null,null,null,null,null,null,null,null,null,null,null,{"$f":"INDEX(tbl_KO_Data[T1 Src Rank],K506) & \". Gr. \" & INDEX(tbl_KO_Data[T1 Src Group],K506)","v":"4. Gr. B"},null,null,null,null,null,null,null,null,null,null,null,null,null,null,null,null,null,null,null,null,null,null,null,null,null,null,null,null,null,null,null,null,null,null,null,null,123,{"$f":"IF(AX508>AX510,AU508,IF(AX508<AX510,AU510,\"\"))","v":""}]
[null,null,null,null,null,null,null,null,null,null,null,null,null,null,null,null,{"$f":"O507","v":"4. Gr. B"},null,null,null,null,{"$f":"CHOOSE(SIGN(T484-T486)+2,Q484,\"(\"&Q484&\" : \"&Q486&\")\",Q486)","v":"(4. Gr. B : 5. Gr. A)"},null,null,null,null,{"$f":"CHOOSE(SIGN(Y484-Y486)+2,V484,\"(\"&V484&\" : \"&V486&\")\",V486)","v":"((4. Gr. B : 5. Gr. A) : (4. Gr. B : 5. Gr. A))"},null,null,null,null,{"$f":"CHOOSE(SIGN(AD484-AD486)+2,AA484,\"(\"&AA484&\" : \"&AA486&\")\",AA486)","v":"(((4. Gr. B : 5. Gr. A) : (4. Gr. B : 5. Gr. A)) : ((4. Gr. B : 5. Gr. A) : (4. Gr. B : 5. Gr. A)))"},null,null,null,null,{"$f":"CHOOSE(SIGN(AI484-AI486)+2,AF484,\"(\"&AF484&\" : \"&AF486&\")\",AF486)","v":"((((4. Gr. B : 5. Gr. A) : (4. Gr. B : 5. Gr. A)) : ((4. Gr. B : 5. Gr. A) : (4. Gr. B : 5. Gr. A))) : (((4. Gr. B : 5. Gr. A) : (4. Gr. B : 5. Gr. A)) : ((4. Gr. B : 5. Gr. A) : (4. Gr. B : 5. Gr. A))))"},null,null,null,null,{"$f":"CHOOSE(SIGN(AN518-AN516)+2,AK516,\"(\"&AK516&\" : \"&AK518&\")\",AK518)","v":"(((((4. Gr. B : 5. Gr. A) : (4. Gr. B : 5. Gr. A)) : ((4. Gr. B : 5. Gr. A) : (4. Gr. B : 5. Gr. A))) : (((4. Gr. B : 5. Gr. A) : (4. Gr. B : 5. Gr. A)) : ((4. Gr. B : 5. Gr. A) : (4. Gr. B : 5. Gr. A)))) : ((((4. Gr. B : 5. Gr. A) : (4. Gr. B : 5. Gr. A)) : ((4. Gr. B : 5. Gr. A) : (4. Gr. B : 5. Gr. A))) : (((4. Gr. B : 5. Gr. A) : (4. Gr. B : 5. Gr. A)) : ((4. Gr. B : 5. Gr. A) : (4. Gr. B : 5. Gr. A)))))"},null,null,null,null,{"$f":"CHOOSE(SIGN(AS500-AS502)+2,AP500,\"(\"&AP500&\" : \"&AP502&\")\",AP502)","v":"((((((1. Gr. A : 4. Gr. B) : (2. Gr. D : 3. Gr. C)) : ((1. Gr. C : 4. Gr. D) : (2. Gr. B : 3. Gr. A))) : (((1. Gr. B : 4. Gr. C) : (2. Gr. A : 3. Gr. D)) : ((1. Gr. D : 4. Gr. A) : (2. Gr. C : 3. Gr. B)))) : ((((4. Gr. B : 5. Gr. A) : (4. Gr. B : 5. Gr. A)) : ((4. Gr. B : 5. Gr. A) : (4. Gr. B : 5. Gr. A))) : (((4. Gr. B : 5. Gr. A) : (4. Gr. B : 5. Gr. A)) : ((4. Gr. B : 5. Gr. A) : (4. Gr. B : 5. Gr. A))))) : (((((4. Gr. B : 5. Gr. A) : (4. Gr. B : 5. Gr. A)) : ((4. Gr. B : 5. Gr. A) : (4. Gr. B : 5. Gr. A))) : (((4. Gr. B : 5. Gr. A) : (4. Gr. B : 5. Gr. A)) : ((4. Gr. B : 5. Gr. A) : (4. Gr. B : 5. Gr. A)))) : ((((4. Gr. B : 5. Gr. A) : (4. Gr. B : 5. Gr. A)) : ((4. Gr. B : 5. Gr. A) : (4. Gr. B : 5. Gr. A))) : (((4. Gr. B : 5. Gr. A) : (4. Gr. B : 5. Gr. A)) : ((4. Gr. B : 5. Gr. A) : (4. Gr. B : 5. Gr. A))))))"}]
[]
[null,null,null,null,null,null,null,null,null,null,null,null,null,null,null,null,{"$f":"O511","v":"5. Gr. A"},null,null,null,null,{"$f":"CHOOSE(SIGN(T492-T494)+2,Q492,\"(\"&Q492&\" : \"&Q494&\")\",Q494)","v":"(4. Gr. B : 5. Gr. A)"},null,null,null,null,{"$f":"CHOOSE(SIGN(Y492-Y494)+2,V492,\"(\"&V492&\" : \"&V494&\")\",V494)","v":"((4. Gr. B : 5. Gr. A) : (4. Gr. B : 5. Gr. A))"},null,null,null,null,{"$f":"CHOOSE(SIGN(AD492-AD494)+2,AA492,\"(\"&AA492&\" : \"&AA494&\")\",AA494)","v":"(((4. Gr. B : 5. Gr. A) : (4. Gr. B : 5. Gr. A)) : ((4. Gr. B : 5. Gr. A) : (4. Gr. B : 5. Gr. A)))"},null,null,null,null,{"$f":"CHOOSE(SIGN(AI492-AI494)+2,AF492,\"(\"&AF492&\" : \"&AF494&\")\",AF494)","v":"((((4. Gr. B : 5. Gr. A) : (4. Gr. B : 5. Gr. A)) : ((4. Gr. B : 5. Gr. A) : (4. Gr. B : 5. Gr. A))) : (((4. Gr. B : 5. Gr. A) : (4. Gr. B : 5. Gr. A)) : ((4. Gr. B : 5. Gr. A) : (4. Gr. B : 5. Gr. A))))"},null,null,null,null,{"$f":"CHOOSE(SIGN(AN526-AN524)+2,AK524,\"(\"&AK524&\" : \"&AK526&\")\",AK526)","v":"(((((4. Gr. B : 5. Gr. A) : (4. Gr. B : 5. Gr. A)) : ((4. Gr. B : 5. Gr. A) : (4. Gr. B : 5. Gr. A))) : (((4. Gr. B : 5. Gr. A) : (4. Gr. B : 5. Gr. A)) : ((4. Gr. B : 5. Gr. A) : (4. Gr. B : 5. Gr. A)))) : ((((4. Gr. B : 5. Gr. A) : (4. Gr. B : 5. Gr. A)) : ((4. Gr. B : 5. Gr. A) : (4. Gr. B : 5. Gr. A))) : (((4. Gr. B : 5. Gr. A) : (4. Gr. B : 5. Gr. A)) : ((4. Gr. B : 5. Gr. A) : (4. Gr. B : 5. Gr. A)))))"},null,null,null,null,{"$f":"CHOOSE(SIGN(AS508-AS510)+2,AP508,\"(\"&AP508&\" : \"&AP510&\")\",AP510)","v":"((((((4. Gr. B : 5. Gr. A) : (4. Gr. B : 5. Gr. A)) : ((4. Gr. B : 5. Gr. A) : (4. Gr. B : 5. Gr. A))) : (((4. Gr. B : 5. Gr. A) : (4. Gr. B : 5. Gr. A)) : ((4. Gr. B : 5. Gr. A) : (4. Gr. B : 5. Gr. A)))) : ((((4. Gr. B : 5. Gr. A) : (4. Gr. B : 5. Gr. A)) : ((4. Gr. B : 5. Gr. A) : (4. Gr. B : 5. Gr. A))) : (((4. Gr. B : 5. Gr. A) : (4. Gr. B : 5. Gr. A)) : ((4. Gr. B : 5. Gr. A) : (4. Gr. B : 5. Gr. A))))) : (((((4. Gr. B : 5. Gr. A) : (4. Gr. B : 5. Gr. A)) : ((4. Gr. B : 5. Gr. A) : (4. Gr. B : 5. Gr. A))) : (((4. Gr. B : 5. Gr. A) : (4. Gr. B : 5. Gr. A)) : ((4. Gr. B : 5. Gr. A) : (4. Gr. B : 5. Gr. A)))) : ((((4. Gr. B : 5. Gr. A) : (4. Gr. B : 5. Gr. A)) : ((4. Gr. B : 5. Gr. A) : (4. Gr. B : 5. Gr. A))) : (((4. Gr. B : 5. Gr. A) : (4. Gr. B : 5. Gr. A)) : ((4. Gr. B : 5. Gr. A) : (4. Gr. B : 5. Gr. A))))))"}]
[null,null,null,null,null,null,null,null,null,null,null,null,null,null,{"$f":"INDEX(tbl_KO_Data[T2 Src Rank],K506) & \". Gr. \" & INDEX(tbl_KO_Data[T2 Src Group],K506)","v":"5. Gr. A"},null,null,null,null,null,null,null,null,null,null,null,null,null,null,null,null,null,null,null,null,null,null,null,null,null,null,null,null,null,null,null,null,null,null,null,null,124,{"$f":"IF(AX508>AX510,AU510,IF(AX508<AX510,AU508,\"\"))","v":""}]
[]
[]
[null,null,null,null,null,null,null,null,22,null,{"$f":"KO_Data_1row+INDEX(D514:I514,KO_Rounds_Ind)","v":295},null,null,null,null,null,"K_64_A22","field x","best of n",0,null,"K_32_B11","field x","best of n",0,null,"K_16_D06","field x","best of n",0,null,"K_08_H3","field x","best of n",0,null,"K_04_P2","field x","best of n",0,null,"K_02_AF1","field x","best of n",0,null,"K_01_125","field x","best of n",0]
[null,null,null,null,null,null,null,null,null,null,null,null,null,null,{"$f":"INDEX(tbl_KO_Data[T1 Src Rank],K514) & \". Gr. \" & INDEX(tbl_KO_Data[T1 Src Group],K514)","v":"4. Gr. B"},null,null,null,null,null,null,null,null,null,null,null,null,null,null,null,null,null,null,null,null,null,null,null,null,null,null,null,null,null,null,null,null,null,null,null,null,125,{"$f":"IF(AX516>AX518,AU516,IF(AX516<AX518,AU518,\"\"))","v":""}]
[null,null,null,null,null,null,null,null,null,null,null,null,null,null,null,null,{"$f":"O515","v":"4. Gr. B"},null,null,null,null,{"$f":"CHOOSE(SIGN(T500-T502)+2,Q500,\"(\"&Q500&\" : \"&Q502&\")\",Q502)","v":"(4. Gr. B : 5. Gr. A)"},null,null,null,null,{"$f":"CHOOSE(SIGN(Y500-Y502)+2,V500,\"(\"&V500&\" : \"&V502&\")\",V502)","v":"((4. Gr. B : 5. Gr. A) : (4. Gr. B : 5. Gr. A))"},null,null,null,null,{"$f":"CHOOSE(SIGN(AD500-AD502)+2,AA500,\"(\"&AA500&\" : \"&AA502&\")\",AA502)","v":"(((4. Gr. B : 5. Gr. A) : (4. Gr. B : 5. Gr. A)) : ((4. Gr. B : 5. Gr. A) : (4. Gr. B : 5. Gr. A)))"},null,null,null,null,{"$f":"CHOOSE(SIGN(AI500-AI502)+2,AF500,\"(\"&AF500&\" : \"&AF502&\")\",AF502)","v":"((((4. Gr. B : 5. Gr. A) : (4. Gr. B : 5. Gr. A)) : ((4. Gr. B : 5. Gr. A) : (4. Gr. B : 5. Gr. A))) : (((4. Gr. B : 5. Gr. A) : (4. Gr. B : 5. Gr. A)) : ((4. Gr. B : 5. Gr. A) : (4. Gr. B : 5. Gr. A))))"},null,null,null,null,{"$f":"CHOOSE(SIGN(AN500-AN502)+2,AK500,\"(\"&AK500&\" : \"&AK502&\")\",AK502)","v":"(((((1. Gr. A : 4. Gr. B) : (2. Gr. D : 3. Gr. C)) : ((1. Gr. C : 4. Gr. D) : (2. Gr. B : 3. Gr. A))) : (((1. Gr. B : 4. Gr. C) : (2. Gr. A : 3. Gr. D)) : ((1. Gr. D : 4. Gr. A) : (2. Gr. C : 3. Gr. B)))) : ((((4. Gr. B : 5. Gr. A) : (4. Gr. B : 5. Gr. A)) : ((4. Gr. B : 5. Gr. A) : (4. Gr. B : 5. Gr. A))) : (((4. Gr. B : 5. Gr. A) : (4. Gr. B : 5. Gr. A)) : ((4. Gr. B : 5. Gr. A) : (4. Gr. B : 5. Gr. A)))))"},null,null,null,null,{"$f":"CHOOSE(SIGN(AS518-AS516)+2,AP516,\"(\"&AP516&\" : \"&AP518&\")\",AP518)","v":"((((((1. Gr. A : 4. Gr. B) : (2. Gr. D : 3. Gr. C)) : ((1. Gr. C : 4. Gr. D) : (2. Gr. B : 3. Gr. A))) : (((1. Gr. B : 4. Gr. C) : (2. Gr. A : 3. Gr. D)) : ((1. Gr. D : 4. Gr. A) : (2. Gr. C : 3. Gr. B)))) : ((((4. Gr. B : 5. Gr. A) : (4. Gr. B : 5. Gr. A)) : ((4. Gr. B : 5. Gr. A) : (4. Gr. B : 5. Gr. A))) : (((4. Gr. B : 5. Gr. A) : (4. Gr. B : 5. Gr. A)) : ((4. Gr. B : 5. Gr. A) : (4. Gr. B : 5. Gr. A))))) : (((((4. Gr. B : 5. Gr. A) : (4. Gr. B : 5. Gr. A)) : ((4. Gr. B : 5. Gr. A) : (4. Gr. B : 5. Gr. A))) : (((4. Gr. B : 5. Gr. A) : (4. Gr. B : 5. Gr. A)) : ((4. Gr. B : 5. Gr. A) : (4. Gr. B : 5. Gr. A)))) : ((((4. Gr. B : 5. Gr. A) : (4. Gr. B : 5. Gr. A)) : ((4. Gr. B : 5. Gr. A) : (4. Gr. B : 5. Gr. A))) : (((4. Gr. B : 5. Gr. A) : (4. Gr. B : 5. Gr. A)) : ((4. Gr. B : 5. Gr. A) : (4. Gr. B : 5. Gr. A))))))"}]
[]
[null,null,null,null,null,null,null,null,null,null,null,null,null,null,null,null,{"$f":"O519","v":"5. Gr. A"},null,null,null,null,{"$f":"CHOOSE(SIGN(T508-T510)+2,Q508,\"(\"&Q508&\" : \"&Q510&\")\",Q510)","v":"(4. Gr. B : 5. Gr. A)"},null,null,null,null,{"$f":"CHOOSE(SIGN(Y508-Y510)+2,V508,\"(\"&V508&\" : \"&V510&\")\",V510)","v":"((4. Gr. B : 5. Gr. A) : (4. Gr. B : 5. Gr. A))"},null,null,null,null,{"$f":"CHOOSE(SIGN(AD508-AD510)+2,AA508,\"(\"&AA508&\" : \"&AA510&\")\",AA510)","v":"(((4. Gr. B : 5. Gr. A) : (4. Gr. B : 5. Gr. A)) : ((4. Gr. B : 5. Gr. A) : (4. Gr. B : 5. Gr. A)))"},null,null,null,null,{"$f":"CHOOSE(SIGN(AI508-AI510)+2,AF508,\"(\"&AF508&\" : \"&AF510&\")\",AF510)","v":"((((4. Gr. B : 5. Gr. A) : (4. Gr. B : 5. Gr. A)) : ((4. Gr. B : 5. Gr. A) : (4. Gr. B : 5. Gr. A))) : (((4. Gr. B : 5. Gr. A) : (4. Gr. B : 5. Gr. A)) : ((4. Gr. B : 5. Gr. A) : (4. Gr. B : 5. Gr. A))))"},null,null,null,null,{"$f":"CHOOSE(SIGN(AN508-AN510)+2,AK508,\"(\"&AK508&\" : \"&AK510&\")\",AK510)","v":"(((((4. Gr. B : 5. Gr. A) : (4. Gr. B : 5. Gr. A)) : ((4. Gr. B : 5. Gr. A) : (4. Gr. B : 5. Gr. A))) : (((4. Gr. B : 5. Gr. A) : (4. Gr. B : 5. Gr. A)) : ((4. Gr. B : 5. Gr. A) : (4. Gr. B : 5. Gr. A)))) : ((((4. Gr. B : 5. Gr. A) : (4. Gr. B : 5. Gr. A)) : ((4. Gr. B : 5. Gr. A) : (4. Gr. B : 5. Gr. A))) : (((4. Gr. B : 5. Gr. A) : (4. Gr. B : 5. Gr. A)) : ((4. Gr. B : 5. Gr. A) : (4. Gr. B : 5. Gr. A)))))"},null,null,null,null,{"$f":"CHOOSE(SIGN(AS526-AS524)+2,AP524,\"(\"&AP524&\" : \"&AP526&\")\",AP526)","v":"((((((4. Gr. B : 5. Gr. A) : (4. Gr. B : 5. Gr. A)) : ((4. Gr. B : 5. Gr. A) : (4. Gr. B : 5. Gr. A))) : (((4. Gr. B : 5. Gr. A) : (4. Gr. B : 5. Gr. A)) : ((4. Gr. B : 5. Gr. A) : (4. Gr. B : 5. Gr. A)))) : ((((4. Gr. B : 5. Gr. A) : (4. Gr. B : 5. Gr. A)) : ((4. Gr. B : 5. Gr. A) : (4. Gr. B : 5. Gr. A))) : (((4. Gr. B : 5. Gr. A) : (4. Gr. B : 5. Gr. A)) : ((4. Gr. B : 5. Gr. A) : (4. Gr. B : 5. Gr. A))))) : (((((4. Gr. B : 5. Gr. A) : (4. Gr. B : 5. Gr. A)) : ((4. Gr. B : 5. Gr. A) : (4. Gr. B : 5. Gr. A))) : (((4. Gr. B : 5. Gr. A) : (4. Gr. B : 5. Gr. A)) : ((4. Gr. B : 5. Gr. A) : (4. Gr. B : 5. Gr. A)))) : ((((4. Gr. B : 5. Gr. A) : (4. Gr. B : 5. Gr. A)) : ((4. Gr. B : 5. Gr. A) : (4. Gr. B : 5. Gr. A))) : (((4. Gr. B : 5. Gr. A) : (4. Gr. B : 5. Gr. A)) : ((4. Gr. B : 5. Gr. A) : (4. Gr. B : 5. Gr. A))))))"}]
[null,null,null,null,null,null,null,null,null,null,null,null,null,null,{"$f":"INDEX(tbl_KO_Data[T2 Src Rank],K514) & \". Gr. \" & INDEX(tbl_KO_Data[T2 Src Group],K514)","v":"5. Gr. A"},null,null,null,null,null,null,null,null,null,null,null,null,null,null,null,null,null,null,null,null,null,null,null,null,null,null,null,null,null,null,null,null,null,null,null,null,126,{"$f":"IF(AX516>AX518,AU518,IF(AX516<AX518,AU516,\"\"))","v":""}]
[]
[]
[null,null,null,null,null,null,null,null,43,null,{"$f":"KO_Data_1row+INDEX(D522:I522,KO_Rounds_Ind)","v":295},null,null,null,null,null,"K_64_A43","field x","best of n",0,null,"K_32_B22","field x","best of n",0,null,"K_16_D11","field x","best of n",0,null,"K_08_H6","field x","best of n",0,null,"K_04_P3","field x","best of n",0,null,"K_02_AF2","field x","best of n",0,null,"K_01_127","field x","best of n",0]
[null,null,null,null,null,null,null,null,null,null,null,null,null,null,{"$f":"INDEX(tbl_KO_Data[T1 Src Rank],K522) & \". Gr. \" & INDEX(tbl_KO_Data[T1 Src Group],K522)","v":"4. Gr. B"},null,null,null,null,null,null,null,null,null,null,null,null,null,null,null,null,null,null,null,null,null,null,null,null,null,null,null,null,null,null,null,null,null,null,null,null,127,{"$f":"IF(AX524>AX526,AU524,IF(AX524<AX526,AU526,\"\"))","v":""}]
[null,null,null,null,null,null,null,null,null,null,null,null,null,null,null,null,{"$f":"O523","v":"4. Gr. B"},null,null,null,null,{"$f":"CHOOSE(SIGN(T516-T518)+2,Q516,\"(\"&Q516&\" : \"&Q518&\")\",Q518)","v":"(4. Gr. B : 5. Gr. A)"},null,null,null,null,{"$f":"CHOOSE(SIGN(Y516-Y518)+2,V516,\"(\"&V516&\" : \"&V518&\")\",V518)","v":"((4. Gr. B : 5. Gr. A) : (4. Gr. B : 5. Gr. A))"},null,null,null,null,{"$f":"CHOOSE(SIGN(AD516-AD518)+2,AA516,\"(\"&AA516&\" : \"&AA518&\")\",AA518)","v":"(((4. Gr. B : 5. Gr. A) : (4. Gr. B : 5. Gr. A)) : ((4. Gr. B : 5. Gr. A) : (4. Gr. B : 5. Gr. A)))"},null,null,null,null,{"$f":"CHOOSE(SIGN(AI516-AI518)+2,AF516,\"(\"&AF516&\" : \"&AF518&\")\",AF518)","v":"((((4. Gr. B : 5. Gr. A) : (4. Gr. B : 5. Gr. A)) : ((4. Gr. B : 5. Gr. A) : (4. Gr. B : 5. Gr. A))) : (((4. Gr. B : 5. Gr. A) : (4. Gr. B : 5. Gr. A)) : ((4. Gr. B : 5. Gr. A) : (4. Gr. B : 5. Gr. A))))"},null,null,null,null,{"$f":"CHOOSE(SIGN(AN516-AN518)+2,AK516,\"(\"&AK516&\" : \"&AK518&\")\",AK518)","v":"(((((4. Gr. B : 5. Gr. A) : (4. Gr. B : 5. Gr. A)) : ((4. Gr. B : 5. Gr. A) : (4. Gr. B : 5. Gr. A))) : (((4. Gr. B : 5. Gr. A) : (4. Gr. B : 5. Gr. A)) : ((4. Gr. B : 5. Gr. A) : (4. Gr. B : 5. Gr. A)))) : ((((4. Gr. B : 5. Gr. A) : (4. Gr. B : 5. Gr. A)) : ((4. Gr. B : 5. Gr. A) : (4. Gr. B : 5. Gr. A))) : (((4. Gr. B : 5. Gr. A) : (4. Gr. B : 5. Gr. A)) : ((4. Gr. B : 5. Gr. A) : (4. Gr. B : 5. Gr. A)))))"},null,null,null,null,{"$f":"CHOOSE(SIGN(AS516-AS518)+2,AP516,\"(\"&AP516&\" : \"&AP518&\")\",AP518)","v":"((((((1. Gr. A : 4. Gr. B) : (2. Gr. D : 3. Gr. C)) : ((1. Gr. C : 4. Gr. D) : (2. Gr. B : 3. Gr. A))) : (((1. Gr. B : 4. Gr. C) : (2. Gr. A : 3. Gr. D)) : ((1. Gr. D : 4. Gr. A) : (2. Gr. C : 3. Gr. B)))) : ((((4. Gr. B : 5. Gr. A) : (4. Gr. B : 5. Gr. A)) : ((4. Gr. B : 5. Gr. A) : (4. Gr. B : 5. Gr. A))) : (((4. Gr. B : 5. Gr. A) : (4. Gr. B : 5. Gr. A)) : ((4. Gr. B : 5. Gr. A) : (4. Gr. B : 5. Gr. A))))) : (((((4. Gr. B : 5. Gr. A) : (4. Gr. B : 5. Gr. A)) : ((4. Gr. B : 5. Gr. A) : (4. Gr. B : 5. Gr. A))) : (((4. Gr. B : 5. Gr. A) : (4. Gr. B : 5. Gr. A)) : ((4. Gr. B : 5. Gr. A) : (4. Gr. B : 5. Gr. A)))) : ((((4. Gr. B : 5. Gr. A) : (4. Gr. B : 5. Gr. A)) : ((4. Gr. B : 5. Gr. A) : (4. Gr. B : 5. Gr. A))) : (((4. Gr. B : 5. Gr. A) : (4. Gr. B : 5. Gr. A)) : ((4. Gr. B : 5. Gr. A) : (4. Gr. B : 5. Gr. A))))))"}]
[]
[null,null,null,null,null,null,null,null,null,null,null,null,null,null,null,null,{"$f":"O527","v":"5. Gr. A"},null,null,null,null,{"$f":"CHOOSE(SIGN(T524-T526)+2,Q524,\"(\"&Q524&\" : \"&Q526&\")\",Q526)","v":"(4. Gr. B : 5. Gr. A)"},null,null,null,null,{"$f":"CHOOSE(SIGN(Y524-Y526)+2,V524,\"(\"&V524&\" : \"&V526&\")\",V526)","v":"((4. Gr. B : 5. Gr. A) : (4. Gr. B : 5. Gr. A))"},null,null,null,null,{"$f":"CHOOSE(SIGN(AD524-AD526)+2,AA524,\"(\"&AA524&\" : \"&AA526&\")\",AA526)","v":"(((4. Gr. B : 5. Gr. A) : (4. Gr. B : 5. Gr. A)) : ((4. Gr. B : 5. Gr. A) : (4. Gr. B : 5. Gr. A)))"},null,null,null,null,{"$f":"CHOOSE(SIGN(AI524-AI526)+2,AF524,\"(\"&AF524&\" : \"&AF526&\")\",AF526)","v":"((((4. Gr. B : 5. Gr. A) : (4. Gr. B : 5. Gr. A)) : ((4. Gr. B : 5. Gr. A) : (4. Gr. B : 5. Gr. A))) : (((4. Gr. B : 5. Gr. A) : (4. Gr. B : 5. Gr. A)) : ((4. Gr. B : 5. Gr. A) : (4. Gr. B : 5. Gr. A))))"},null,null,null,null,{"$f":"CHOOSE(SIGN(AN524-AN526)+2,AK524,\"(\"&AK524&\" : \"&AK526&\")\",AK526)","v":"(((((4. Gr. B : 5. Gr. A) : (4. Gr. B : 5. Gr. A)) : ((4. Gr. B : 5. Gr. A) : (4. Gr. B : 5. Gr. A))) : (((4. Gr. B : 5. Gr. A) : (4. Gr. B : 5. Gr. A)) : ((4. Gr. B : 5. Gr. A) : (4. Gr. B : 5. Gr. A)))) : ((((4. Gr. B : 5. Gr. A) : (4. Gr. B : 5. Gr. A)) : ((4. Gr. B : 5. Gr. A) : (4. Gr. B : 5. Gr. A))) : (((4. Gr. B : 5. Gr. A) : (4. Gr. B : 5. Gr. A)) : ((4. Gr. B : 5. Gr. A) : (4. Gr. B : 5. Gr. A)))))"},null,null,null,null,{"$f":"CHOOSE(SIGN(AS524-AS526)+2,AP524,\"(\"&AP524&\" : \"&AP526&\")\",AP526)","v":"((((((4. Gr. B : 5. Gr. A) : (4. Gr. B : 5. Gr. A)) : ((4. Gr. B : 5. Gr. A) : (4. Gr. B : 5. Gr. A))) : (((4. Gr. B : 5. Gr. A) : (4. Gr. B : 5. Gr. A)) : ((4. Gr. B : 5. Gr. A) : (4. Gr. B : 5. Gr. A)))) : ((((4. Gr. B : 5. Gr. A) : (4. Gr. B : 5. Gr. A)) : ((4. Gr. B : 5. Gr. A) : (4. Gr. B : 5. Gr. A))) : (((4. Gr. B : 5. Gr. A) : (4. Gr. B : 5. Gr. A)) : ((4. Gr. B : 5. Gr. A) : (4. Gr. B : 5. Gr. A))))) : (((((4. Gr. B : 5. Gr. A) : (4. Gr. B : 5. Gr. A)) : ((4. Gr. B : 5. Gr. A) : (4. Gr. B : 5. Gr. A))) : (((4. Gr. B : 5. Gr. A) : (4. Gr. B : 5. Gr. A)) : ((4. Gr. B : 5. Gr. A) : (4. Gr. B : 5. Gr. A)))) : ((((4. Gr. B : 5. Gr. A) : (4. Gr. B : 5. Gr. A)) : ((4. Gr. B : 5. Gr. A) : (4. Gr. B : 5. Gr. A))) : (((4. Gr. B : 5. Gr. A) : (4. Gr. B : 5. Gr. A)) : ((4. Gr. B : 5. Gr. A) : (4. Gr. B : 5. Gr. A))))))"}]
[null,null,null,null,null,null,null,null,null,null,null,null,null,null,{"$f":"INDEX(tbl_KO_Data[T2 Src Rank],K522) & \". Gr. \" & INDEX(tbl_KO_Data[T2 Src Group],K522)","v":"5. Gr. A"},null,null,null,null,null,null,null,null,null,null,null,null,null,null,null,null,null,null,null,null,null,null,null,null,null,null,null,null,null,null,null,null,null,null,null,null,128,{"$f":"IF(AX524>AX526,AU526,IF(AX524<AX526,AU524,\"\"))","v":""}]

{"sheet":"KO-Consolation","index":6,"n_rows":527,"n_cols":73,"rows_kept":527,"cut":false,"hidden":false,"merged":[[387,31,388,33],[387,34,388,34],[389,31,390,33],[389,34,390,34],[393,31,394,31],[393,32,394,32],[393,33,394,33],[393,34,394,34],[379,31,380,33],[379,34,380,34],[381,31,382,33],[381,34,382,34],[385,31,386,31],[385,32,386,32],[385,33,386,33],[385,34,386,34],[371,31,372,33],[371,34,372,34],[373,31,374,33],[373,34,374,34],[377,31,378,31],[377,32,378,32],[377,33,378,33],[377,34,378,34],[363,31,364,33],[363,34,364,34],[365,31,366,33],[365,34,366,34],[369,31,370,31],[369,32,370,32],[369,33,370,33],[369,34,370,34],[355,31,356,33],[355,34,356,34],[357,31,358,33],[357,34,358,34],[361,31,362,31],[361,32,362,32],[361,33,362,33],[361,34,362,34],[349,31,350,33],[349,34,350,34],[353,31,354,31],[353,32,354,32],[353,33,354,33],[353,34,354,34],[299,31,300,33],[299,34,300,34],[301,31,302,33],[301,34,302,34],[305,31,306,31],[305,32,306,32],[305,33,306,33],[305,34,306,34],[339,31,340,33],[339,34,340,34],[341,31,342,33],[341,34,342,34],[345,31,346,31],[345,32,346,32],[345,33,346,33],[345,34,346,34],[331,31,332,33],[331,34,332,34],[333,31,334,33],[333,34,334,34],[337,31,338,31],[337,32,338,32],[337,33,338,33],[337,34,338,34],[325,31,326,33],[325,34,326,34],[329,31,330,31],[329,32,330,32],[329,33,330,33],[329,34,330,34],[291,31,292,33],[291,34,292,34],[293,31,294,33],[293,34,294,34],[297,31,298,31],[297,32,298,32],[297,33,298,33],[297,34,298,34],[283,31,284,33],[283,34,284,34],[285,31,286,33],[285,34,286,34],[289,31,290,31],[289,32,290,32],[289,33,290,33],[289,34,290,34],[281,32,282,32],[281,33,282,33],[281,34,282,34],[241,33,242,33],[241,34,242,34],[173,34,174,34],[177,31,178,31],[177,32,178,32],[177,33,178,33],[177,34,178,34],[267,31,268,33],[267,34,268,34],[269,31,270,33],[269,34,270,34],[273,31,274,31],[273,32,274,32],[273,33,274,33],[273,34,274,34],[259,31,260,33],[259,34,260,34],[261,31,262,33],[261,34,262,34],[265,31,266,31],[265,32,266,32],[265,33,266,33],[265,34,266,34],[251,31,252,33],[251,34,252,34],[253,31,254,33],[253,34,254,34],[257,31,258,31],[257,32,258,32],[257,33,258,33],[257,34,258,34],[145,31,146,31],[145,32,146,32],[145,33,146,33],[145,34,146,34],[163,31,164,33],[163,34,164,34],[165,31,166,33],[165,34,166,34],[169,31,170,31],[169,32,170,32],[169,33,170,33],[169,34,170,34],[203,31,204,33],[203,34,204,34],[205,31,206,33],[205,34,206,34],[195,31,196,33],[195,34,196,34],[197,31,198,33],[197,34,198,34],[201,31,202,31],[201,32,202,32],[201,33,202,33],[187,31,188,33],[187,34,188,34],[189,31,190,33],[189,34,190,34],[193,31,194,31],[193,32,194,32],[193,33,194,33],[299,26,300,28],[299,29,300,29],[301,26,302,28],[301,29,302,29],[155,31,156,33],[155,34,156,34],[157,31,158,33],[157,34,158,34],[161,31,162,31],[161,32,162,32],[161,33,162,33],[161,34,162,34],[147,31,148,33],[147,34,148,34],[149,31,150,33],[149,34,150,34],[153,31,154,31],[153,32,154,32],[153,33,154,33],[153,34,154,34],[243,31,244,33],[243,34,244,34],[245,31,246,33],[245,34,246,34],[249,31,250,31],[249,32,250,32],[249,33,250,33],[249,34,250,34],[237,31,238,33],[237,34,238,34],[241,31,242,31],[241,32,242,32],[265,28,266,28],[265,29,266,29],[291,26,292,28],[291,29,292,29],[13,31,13,34],[331,29,332,29],[333,26,334,28],[333,29,334,29],[323,26,324,28],[323,29,324,29],[325,26,326,28],[325,29,326,29],[329,26,330,26],[329,27,330,27],[329,28,330,28],[329,29,330,29],[315,26,316,28],[315,29,316,29],[317,26,318,28],[317,29,318,29],[321,26,322,26],[321,27,322,27],[321,28,322,28],[321,29,322,29],[307,26,308,28],[307,29,308,29],[309,26,310,28],[309,29,310,29],[313,26,314,26],[313,27,314,27],[313,28,314,28],[313,29,314,29],[293,26,294,28],[293,29,294,29],[297,26,298,26],[297,27,298,27],[297,28,298,28],[297,29,298,29],[283,26,284,28],[283,29,284,29],[285,26,286,28],[285,29,286,29],[251,26,252,28],[251,29,252,29],[253,26,254,28],[253,29,254,29],[257,26,258,26],[257,27,258,27],[257,28,258,28],[257,29,258,29],[267,26,268,28],[267,29,268,29],[269,26,270,28],[269,29,270,29],[273,26,274,26],[273,27,274,27],[273,28,274,28],[273,29,274,29],[259,26,260,28],[259,29,260,29],[261,26,262,28],[261,29,262,29],[265,26,266,26],[265,27,266,27],[243,29,244,29],[245,26,246,28],[245,29,246,29],[249,26,250,26],[249,27,250,27],[249,28,250,28],[249,29,250,29],[235,26,236,28],[235,29,236,29],[237,26,238,28],[237,29,238,29],[241,26,242,26],[241,27,242,27],[241,28,242,28],[241,29,242,29],[13,26,13,29],[209,26,210,26],[209,27,210,27],[209,28,210,28],[209,29,210,29],[219,26,220,28],[219,29,220,29],[221,26,222,28],[221,29,222,29],[225,26,226,26],[225,27,226,27],[225,28,226,28],[225,29,226,29],[211,26,212,28],[211,29,212,29],[213,26,214,28],[299,21,300,23],[299,24,300,24],[301,21,302,23],[301,24,302,24],[291,21,292,23],[291,24,292,24],[293,21,294,23],[293,24,294,24],[297,21,298,21],[297,22,298,22],[297,23,298,23],[297,24,298,24],[283,21,284,23],[283,24,284,24],[285,21,286,23],[285,24,286,24],[289,21,290,21],[289,22,290,22],[289,23,290,23],[289,24,290,24],[277,21,278,23],[277,24,278,24],[281,21,282,21],[281,22,282,22],[281,23,282,23],[281,24,282,24],[269,24,270,24],[227,26,228,28],[227,29,228,29],[229,26,230,28],[229,29,230,29],[261,24,262,24],[265,21,266,21],[265,22,266,22],[265,23,266,23],[265,24,266,24],[251,21,252,23],[251,24,252,24],[253,21,254,23],[253,24,254,24],[257,21,258,21],[257,22,258,22],[257,23,258,23],[257,24,258,24],[233,26,234,26],[233,27,234,27],[233,28,234,28],[233,29,234,29],[241,22,242,22],[241,23,242,23],[241,24,242,24],[243,26,244,28],[517,36,518,38],[517,39,518,39],[517,41,518,43],[517,44,518,44],[13,21,13,24],[501,44,502,44],[515,44,516,44],[513,44,514,44],[485,44,486,44],[499,41,500,43],[499,44,500,44],[497,44,498,44],[469,44,470,44],[483,41,484,43],[483,44,484,44],[481,44,482,44],[467,36,468,38],[467,39,468,39],[467,41,468,43],[461,36,462,38],[273,21,274,21],[273,22,274,22],[273,23,274,23],[273,24,274,24],[275,21,276,23],[275,24,276,24],[259,21,260,23],[259,24,260,24],[261,21,262,23],[461,39,462,39],[461,41,462,43],[453,44,454,44],[522,14,523,14],[521,42,522,42],[521,43,522,43],[521,44,522,44],[518,14,519,14],[521,36,522,36],[521,37,522,37],[521,38,522,38],[521,39,522,39],[521,41,522,41],[509,44,510,44],[526,14,527,14],[525,36,526,38],[525,39,526,39],[525,41,526,43],[525,44,526,44],[523,36,524,38],[523,39,524,39],[523,41,524,43],[523,44,524,44],[513,38,514,38],[513,39,514,39],[513,41,514,41],[513,42,514,42],[513,43,514,43],[509,36,510,38],[509,39,510,39],[509,41,510,43],[514,14,515,14],[515,36,516,38],[515,39,516,39],[515,41,516,43],[510,14,511,14],[513,36,514,36],[513,37,514,37],[505,36,506,36],[505,37,506,37],[505,38,506,38],[505,39,506,39],[505,41,506,41],[501,36,502,38],[501,39,502,39],[501,41,502,43],[493,44,494,44],[507,36,508,38],[507,39,508,39],[507,41,508,43],[507,44,508,44],[506,14,507,14],[505,42,506,42],[505,43,506,43],[505,44,506,44],[502,14,503,14],[497,38,498,38],[497,39,498,39],[497,41,498,41],[497,42,498,42],[497,43,498,43],[493,36,494,38],[493,39,494,39],[493,41,494,43],[498,14,499,14],[499,36,500,38],[499,39,500,39],[494,14,495,14],[497,36,498,36],[497,37,498,37],[489,36,490,36],[489,37,490,37],[489,38,490,38],[489,39,490,39],[489,41,490,41],[485,36,486,38],[485,39,486,39],[485,41,486,43],[477,44,478,44],[491,36,492,38],[491,39,492,39],[491,41,492,43],[491,44,492,44],[490,14,491,14],[489,42,490,42],[489,43,490,43],[489,44,490,44],[486,14,487,14],[481,38,482,38],[481,39,482,39],[481,41,482,41],[481,42,482,42],[481,43,482,43],[477,36,478,38],[477,39,478,39],[477,41,478,43],[482,14,483,14],[483,36,484,38],[483,39,484,39],[478,14,479,14],[481,36,482,36],[481,37,482,37],[474,14,475,14],[473,42,474,42],[473,43,474,43],[473,44,474,44],[470,14,471,14],[473,36,474,36],[473,37,474,37],[473,38,474,38],[473,39,474,39],[473,41,474,41],[461,44,462,44],[475,36,476,38],[475,39,476,39],[475,41,476,43],[475,44,476,44],[469,36,470,38],[469,39,470,39],[469,41,470,43],[467,44,468,44],[465,44,466,44],[462,14,463,14],[465,36,466,36],[465,37,466,37],[465,38,466,38],[465,39,466,39],[465,41,466,41],[465,42,466,42],[465,43,466,43],[466,14,467,14],[457,36,458,36],[457,37,458,37],[457,38,458,38],[457,39,458,39],[457,41,458,41],[453,36,454,38],[453,39,454,39],[453,41,454,43],[459,36,460,38],[459,39,460,39],[459,41,460,43],[459,44,460,44],[458,14,459,14],[457,42,458,42],[457,43,458,43],[457,44,458,44],[454,14,455,14],[445,44,446,44],[451,44,452,44],[449,44,450,44],[446,14,447,14],[449,36,450,36],[449,37,450,37],[449,38,450,38],[449,39,450,39],[449,41,450,41],[449,42,450,42],[449,43,450,43],[450,14,451,14],[451,36,452,38],[451,39,452,39],[451,41,452,43],[445,36,446,38],[445,39,446,39],[445,41,446,43],[437,44,438,44],[441,36,442,36],[441,37,442,37],[441,38,442,38],[441,39,442,39],[441,41,442,41],[437,36,438,38],[437,39,438,39],[437,41,438,43],[443,36,444,38],[443,39,444,39],[443,41,444,43],[443,44,444,44],[442,14,443,14],[441,42,442,42],[441,43,442,43],[441,44,442,44],[438,14,439,14],[429,44,430,44],[435,44,436,44],[433,44,434,44],[430,14,431,14],[433,36,434,36],[433,37,434,37],[433,38,434,38],[433,39,434,39],[433,41,434,41],[433,42,434,42],[433,43,434,43],[434,14,435,14],[435,36,436,38],[435,39,436,39],[435,41,436,43],[429,36,430,38],[429,39,430,39],[429,41,430,43],[421,44,422,44],[427,44,428,44],[426,14,427,14],[425,42,426,42],[425,43,426,43],[425,44,426,44],[422,14,423,14],[425,36,426,36],[425,37,426,37],[425,38,426,38],[425,39,426,39],[427,36,428,38],[427,39,428,39],[427,41,428,43],[425,41,426,41],[421,36,422,38],[421,39,422,39],[421,41,422,43],[417,43,418,43],[413,36,414,38],[413,39,414,39],[413,41,414,43],[413,44,414,44],[417,36,418,36],[417,37,418,37],[417,38,418,38],[417,39,418,39],[417,41,418,41],[417,42,418,42],[405,44,406,44],[418,14,419,14],[419,36,420,38],[419,39,420,39],[419,41,420,43],[419,44,420,44],[417,44,418,44],[414,14,415,14],[409,36,410,36],[409,37,410,37],[409,38,410,38],[409,39,410,39],[409,41,410,41],[405,36,406,38],[405,39,406,39],[405,41,406,43],[411,36,412,38],[411,39,412,39],[411,41,412,43],[411,44,412,44],[410,14,411,14],[409,42,410,42],[409,43,410,43],[409,44,410,44],[406,14,407,14],[398,14,399,14],[401,36,402,36],[401,37,402,37],[401,38,402,38],[401,39,402,39],[401,41,402,41],[397,36,398,38],[397,39,398,39],[397,41,398,43],[402,14,403,14],[403,36,404,38],[403,39,404,39],[403,41,404,43],[403,44,404,44],[401,44,402,44],[401,42,402,42],[401,43,402,43],[397,31,398,33],[397,34,398,34],[390,14,391,14],[393,36,394,36],[393,37,394,37],[393,38,394,38],[393,39,394,39],[393,41,394,41],[389,36,390,38],[389,39,390,39],[389,41,390,43],[395,49,396,49],[394,14,395,14],[393,49,394,49],[393,42,394,42],[393,43,394,43],[393,44,394,44],[393,46,394,46],[393,47,394,47],[393,48,394,48],[395,31,396,33],[395,34,396,34],[381,44,382,44],[381,46,382,48],[381,49,382,49],[397,46,398,48],[397,49,398,49],[395,36,396,38],[395,39,396,39],[395,41,396,43],[395,44,396,44],[395,46,396,48],[385,41,386,41],[385,42,386,42],[385,43,386,43],[381,36,382,38],[381,39,382,39],[381,41,382,43],[385,44,386,44],[385,46,386,46],[385,47,386,47],[385,48,386,48],[385,49,386,49],[389,44,390,44],[389,46,390,48],[389,49,390,49],[397,44,398,44],[382,14,383,14],[385,36,386,36],[385,37,386,37],[385,38,386,38],[385,39,386,39],[373,44,374,44],[373,46,374,48],[373,49,374,49],[387,46,388,48],[387,49,388,49],[386,14,387,14],[387,36,388,38],[387,39,388,39],[387,41,388,43],[387,44,388,44],[374,14,375,14],[377,36,378,36],[377,37,378,37],[377,38,378,38],[377,39,378,39],[377,41,378,41],[373,36,374,38],[373,39,374,39],[373,41,374,43],[378,14,379,14],[377,49,378,49],[377,42,378,42],[377,43,378,43],[377,44,378,44],[377,46,378,46],[377,47,378,47],[377,48,378,48],[379,36,380,38],[379,39,380,39],[379,41,380,43],[379,44,380,44],[379,46,380,48],[379,49,380,49],[365,44,366,44],[365,46,366,48],[365,49,366,49],[369,41,370,41],[369,42,370,42],[369,43,370,43],[365,36,366,38],[365,39,366,39],[365,41,366,43],[369,44,370,44],[369,46,370,46],[369,47,370,47],[369,48,370,48],[369,49,370,49],[366,14,367,14],[369,36,370,36],[369,37,370,37],[369,38,370,38],[369,39,370,39],[357,44,358,44],[357,46,358,48],[357,49,358,49],[371,46,372,48],[371,49,372,49],[370,14,371,14],[371,36,372,38],[371,39,372,39],[371,41,372,43],[371,44,372,44],[358,14,359,14],[361,36,362,36],[361,37,362,37],[361,38,362,38],[361,39,362,39],[361,41,362,41],[357,36,358,38],[357,39,358,39],[357,41,358,43],[362,14,363,14],[361,49,362,49],[361,42,362,42],[361,43,362,43],[361,44,362,44],[361,46,362,46],[361,47,362,47],[361,48,362,48],[363,36,364,38],[363,39,364,39],[363,41,364,43],[363,44,364,44],[363,46,364,48],[363,49,364,49],[349,36,350,38],[349,39,350,39],[349,41,350,43],[349,44,350,44],[349,46,350,48],[349,49,350,49],[353,48,354,48],[353,49,354,49],[350,14,351,14],[353,36,354,36],[353,37,354,37],[353,38,354,38],[353,39,354,39],[353,41,354,41],[353,42,354,42],[353,43,354,43],[355,46,356,48],[355,49,356,49],[354,14,355,14],[355,36,356,38],[355,39,356,39],[355,41,356,43],[355,44,356,44],[353,44,354,44],[353,46,354,46],[353,47,354,47],[345,36,346,36],[345,37,346,37],[345,38,346,38],[345,39,346,39],[345,41,346,41],[341,36,342,38],[341,39,342,39],[341,41,342,43],[347,46,348,48],[347,49,348,49],[346,14,347,14],[345,49,346,49],[345,42,346,42],[345,43,346,43],[345,44,346,44],[345,46,346,46],[345,47,346,47],[345,48,346,48],[347,36,348,38],[347,39,348,39],[347,41,348,43],[347,44,348,44],[341,44,342,44],[347,31,348,33],[347,34,348,34],[337,42,338,42],[337,43,338,43],[333,36,334,38],[333,39,334,39],[333,41,334,43],[337,44,338,44],[337,46,338,46],[337,47,338,47],[337,48,338,48],[337,49,338,49],[334,14,335,14],[337,36,338,36],[337,37,338,37],[337,38,338,38],[337,39,338,39],[341,46,342,48],[341,49,342,49],[342,14,343,14],[329,48,330,48],[339,46,340,48],[339,49,340,49],[338,14,339,14],[339,36,340,38],[339,39,340,39],[339,41,340,43],[339,44,340,44],[329,49,330,49],[329,51,330,51],[329,52,330,52],[329,53,330,53],[329,54,330,54],[329,42,330,42],[329,43,330,43],[329,44,330,44],[329,46,330,46],[329,47,330,47],[333,51,334,53],[333,54,334,54],[331,36,332,38],[331,39,332,39],[331,41,332,43],[331,44,332,44],[331,46,332,48],[331,49,332,49],[331,51,332,53],[331,54,332,54],[333,44,334,44],[333,46,334,48],[333,49,334,49],[337,41,338,41],[321,54,322,54],[321,44,322,44],[321,46,322,46],[321,47,322,47],[321,48,322,48],[321,49,322,49],[321,51,322,51],[323,46,324,48],[323,49,324,49],[323,51,324,53],[323,54,324,54],[322,14,323,14],[323,36,324,38],[323,39,324,39],[323,41,324,43],[323,44,324,44],[321,52,322,52],[323,31,324,33],[323,34,324,34],[321,31,322,31],[321,32,322,32],[321,33,322,33],[321,34,322,34],[325,51,326,53],[325,54,326,54],[325,36,326,38],[325,39,326,39],[325,41,326,43],[325,44,326,44],[325,46,326,48],[325,49,326,49],[326,14,327,14],[329,36,330,36],[329,37,330,37],[329,38,330,38],[329,39,330,39],[329,41,330,41],[330,14,331,14],[331,26,332,28],[315,51,316,53],[315,54,316,54],[314,14,315,14],[313,49,314,49],[313,51,314,51],[313,52,314,52],[313,53,314,53],[313,54,314,54],[313,42,314,42],[313,43,314,43],[317,46,318,48],[317,49,318,49],[317,51,318,53],[317,54,318,54],[315,36,316,38],[315,39,316,39],[315,41,316,43],[315,44,316,44],[315,46,316,48],[315,49,316,49],[321,42,322,42],[321,43,322,43],[317,36,318,38],[317,39,318,39],[317,41,318,43],[317,44,318,44],[318,14,319,14],[321,36,322,36],[321,37,322,37],[321,38,322,38],[321,39,322,39],[321,41,322,41],[309,51,310,53],[321,53,322,53],[315,31,316,33],[315,34,316,34],[317,31,318,33],[317,34,318,34],[309,31,310,33],[309,34,310,34],[313,31,314,31],[313,32,314,32],[313,33,314,33],[313,34,314,34],[309,54,310,54],[309,36,310,38],[309,39,310,39],[309,41,310,43],[309,44,310,44],[309,46,310,48],[309,49,310,49],[310,14,311,14],[313,36,314,36],[313,37,314,37],[313,38,314,38],[313,39,314,39],[313,41,314,41],[313,44,314,44],[313,46,314,46],[313,47,314,47],[313,48,314,48],[305,44,306,44],[305,46,306,46],[305,47,306,47],[305,48,306,48],[305,49,306,49],[305,51,306,51],[307,46,308,48],[307,49,308,49],[307,51,308,53],[307,54,308,54],[306,14,307,14],[307,36,308,38],[307,39,308,39],[307,41,308,43],[307,44,308,44],[305,52,306,52],[301,51,302,53],[301,54,302,54],[305,53,306,53],[305,54,306,54],[305,42,306,42],[305,43,306,43],[307,31,308,33],[307,34,308,34],[305,26,306,26]],"merged_total":2173,"flags":["merged_cut"]}
[]
[null,null,null,null,null,null,null,null,null,null,null,null,null,null,{"$f":"VLOOKUP(\"txt_0000\",tbl_i18n[],Lang_Ind,FALSE)","v":"Spielsysteme für Turniere"},null,null,null,null,null,null,null,null,null,null,null,null,null,null,null,null,null,null,null,null,null,null,null,null,null,null,null,null,null,null,null,null,null,null,null,null,null,null,null,null,null,null,null,null,null,null,null,null,null,null,null,null,null,null,null,null,null,"created by: Walter Aust"]
[]
[null,null,null,null,null,null,null,null,null,null,null,null,"ç"]
[null,null,null,null,null,null,null,null,null,null,null,null,null,null,{"$f":"VLOOKUP(\"txt_2601\",tbl_i18n[],Lang_Ind,FALSE)","v":"Finalrunden: Darstellung eines einfachen K.O-Systems (Ausscheidungsrunden) mit einer Trostrunde"}]
["KO_txt_lbl1",{"$f":"VLOOKUP(\"txt_2a52\",tbl_i18n[],Lang_Ind,FALSE)","v":"erforderliche Teams:"}]
["KO_txt_btn1",{"$f":"VLOOKUP(\"txt_2a58\",tbl_i18n[],Lang_Ind,FALSE)","v":"Spielergebnisse löschen"},null,null,null,null,null,null,null,null,null,null,null,null,{"$f":"VLOOKUP(\"txt_2a51\",tbl_i18n[],Lang_Ind,FALSE)","v":"Einstiegsrunde:"}]
["KO_txt_lbl2",{"$f":"VLOOKUP(\"txt_2a54\",tbl_i18n[],Lang_Ind,FALSE)","v":"Teams pro Gruppe:"}]
["KO_txt_btn2",{"$f":"VLOOKUP(\"txt_2a59\",tbl_i18n[],Lang_Ind,FALSE)","v":"Spielergebnisse vorbesetzen"},null,null,null,null,null,null,null,null,null,null,null,null,{"$f":"VLOOKUP(\"txt_2a53\",tbl_i18n[],Lang_Ind,FALSE)","v":"Anzahl der Vorrundengruppen:"}]
[]
[null,null,null,null,null,null,null,null,null,null,null,null,null,null,{"$f":"IF(KO_Groups_Ind>1,VLOOKUP(\"txt_2a70\",tbl_i18n[],Lang_Ind,FALSE) & INDEX(tbl_i18n[],KO_Groups_Ind+MATCH(\"txt_2a70\",tbl_i18n[ID],0),Lang_Ind) &  VLOOKUP(\"txt_2a72\",tbl_i18n[],Lang_Ind,FALSE),\"\")","v":"Hinweis:  Ab den Halbfinalrunden (inklusive) können Teams mit der gleichen Gruppenplatzierung aufeinandertreffen."}]
[]
[]
[null,null,null,"Game numbers",null,null,null,null,null,null,"rows",null,null,null,"Rank + Group",null,{"$f":"B17","v":"1/4-Finale"},null,null,null,null,{"$f":"B18","v":"1/8-Finale"},null,null,null,null,{"$f":"B19","v":"1/16-Finale"},null,null,null,null,{"$f":"B20","v":"1/32-Finale"},null,null,null,null,{"$f":"B21","v":"1/64-Finale"},null,null,null,null,{"$f":"B20","v":"1/32-Finale"},null,null,null,null,{"$f":"B19","v":"1/16-Finale"},null,null,null,null,{"$f":"B18","v":"1/8-Finale"},null,null,null,null,{"$f":"B17","v":"1/4-Finale"},null,null,null,null,{"$f":"B16","v":0},null,null,null,null,{"$f":"VLOOKUP(\"K_01_#\",tbl_i18n[],Lang_Ind,FALSE)","v":"Spiel um Rang #"},null,null,null,null,{"$f":"VLOOKUP(\"txt_2a57\",tbl_i18n[],Lang_Ind,FALSE)","v":"Rang"}]
[]
[null,null,null,2,4,8,16,32,64,null,null,null,null,null,null,null,null,null,null,null,null,null,null,null,null,null,null,null,null,null,null,null,null,null,null,null,false,null,null,null,null,false,null,null,null,null,{"$f":"KO_Rounds_Ind=5","v":false},{"$f":"CHOOSE(KO_Rounds_Ind,,,,,\"B\",\"C\")","v":0},null,null,null,{"$f":"KO_Rounds_Ind=4","v":false},{"$f":"CHOOSE(KO_Rounds_Ind,,,,\"B\",\"C\",\"E\")","v":0},null,null,null,{"$f":"KO_Rounds_Ind=3","v":true},{"$f":"CHOOSE(KO_Rounds_Ind,,,\"B\",\"C\",\"E\",\"I\")","v":"B"},null,null,null,{"$f":"KO_Rounds_Ind=2","v":false},{"$f":"CHOOSE(KO_Rounds_Ind,\"?\",\"B\",\"C\",\"E\",\"I\",\"Q\")","v":"C"},null,null,null,null,{"$f":"CHOOSE(KO_Rounds_Ind,,5,9,17,33,65)","v":9}]
["KO_Rounds_List",{"$f":"VLOOKUP(\"K_04_A\",tbl_i18n[],Lang_Ind,FALSE)","v":"1/4-Finale"}]
[null,{"$f":"VLOOKUP(\"K_08_A\",tbl_i18n[],Lang_Ind,FALSE)","v":"1/8-Finale"},null,null,null,null,null,null,1,null,{"$f":"KO_Data_1row+INDEX(D18:I18,KO_Rounds_Ind)","v":295},null,null,null,null,null,null,null,null,null,null,null,null,null,null,null,null,null,null,null,null,null,null,null,null,null,"K_64_A01","field x","best of n",0,null,"K_32_A01","field x","best of n",0]
[null,{"$f":"VLOOKUP(\"K_16_A\",tbl_i18n[],Lang_Ind,FALSE)","v":"1/16-Finale"},null,null,null,null,null,null,null,null,null,null,null,null,{"$f":"INDEX(tbl_KO_Data[T1 Src Rank],K18) & \". Gr. \" & INDEX(tbl_KO_Data[T1 Src Group],K18)","v":"4. Gr. B"}]
[null,{"$f":"VLOOKUP(\"K_32_A\",tbl_i18n[],Lang_Ind,FALSE)","v":"1/32-Finale"},null,null,null,null,null,null,null,null,null,null,null,null,null,null,null,null,null,null,null,null,null,null,null,null,null,null,null,null,null,null,null,null,null,null,{"$f":"O19","v":"4. Gr. B"},null,null,null,null,{"$f":"IF($AP$16,O19,CHOOSE(SIGN(AN22-AN20)+2,AK20,\"(\"&AK20&\" : \"&AK22&\")\",AK22))","v":"(4. Gr. B : 5. Gr. A)"}]
[null,{"$f":"VLOOKUP(\"K_64_A\",tbl_i18n[],Lang_Ind,FALSE)","v":"1/64-Finale"}]
[null,null,null,null,null,null,null,null,null,null,null,null,null,null,null,null,null,null,null,null,null,null,null,null,null,null,null,null,null,null,null,null,null,null,null,null,{"$f":"O23","v":"5. Gr. A"},null,null,null,null,{"$f":"IF($AP$16,O23,CHOOSE(SIGN(AN30-AN28)+2,AK28,\"(\"&AK28&\" : \"&AK30&\")\",AK30))","v":"(4. Gr. B : 5. Gr. A)"}]
["KO_Rounds_Ind2",2,null,null,null,null,null,null,null,null,null,null,null,null,{"$f":"INDEX(tbl_KO_Data[T2 Src Rank],K18) & \". Gr. \" & INDEX(tbl_KO_Data[T2 Src Group],K18)","v":"5. Gr. A"}]
["KO_Rounds_Ind",{"$f":"KO_Rounds_Ind2+1","v":3}]
[]
["KO_TeamsReq",{"$f":"2^(1+KO_Rounds_Ind)","v":16},null,null,null,null,null,null,64,null,{"$f":"KO_Data_1row+INDEX(D26:I26,KO_Rounds_Ind)","v":295},null,null,null,null,null,null,null,null,null,null,null,null,null,null,null,null,null,null,null,null,null,null,null,null,null,"K_64_A64","field x","best of n",0,null,"K_32_A32","field x","best of n",0]
[null,null,null,null,null,null,null,null,null,null,null,null,null,null,{"$f":"INDEX(tbl_KO_Data[T1 Src Rank],K26) & \". Gr. \" & INDEX(tbl_KO_Data[T1 Src Group],K26)","v":"4. Gr. B"}]
["KO_Groups_List",1,null,null,null,null,null,null,null,null,null,null,null,null,null,null,null,null,null,null,null,null,null,null,null,null,null,null,null,null,null,null,null,null,null,null,{"$f":"O27","v":"4. Gr. B"},null,null,null,null,{"$f":"IF($AP$16,O27,CHOOSE(SIGN(AN38-AN36)+2,AK36,\"(\"&AK36&\" : \"&AK38&\")\",AK38))","v":"(4. Gr. B : 5. Gr. A)"}]
[null,2]
[null,4,null,null,null,null,null,null,null,null,null,null,null,null,null,null,null,null,null,null,null,null,null,null,null,null,null,null,null,null,null,null,null,null,null,null,{"$f":"O31","v":"5. Gr. A"},null,null,null,null,{"$f":"IF($AP$16,O31,CHOOSE(SIGN(AN46-AN44)+2,AK44,\"(\"&AK44&\" : \"&AK46&\")\",AK46))","v":"(4. Gr. B : 5. Gr. A)"}]
[null,8,null,null,null,null,null,null,null,null,null,null,null,null,{"$f":"INDEX(tbl_KO_Data[T2 Src Rank],K26) & \". Gr. \" & INDEX(tbl_KO_Data[T2 Src Group],K26)","v":"5. Gr. A"}]
[null,16]
[null,32]
[null,64,null,null,null,null,null,null,32,null,{"$f":"KO_Data_1row+INDEX(D34:I34,KO_Rounds_Ind)","v":295},null,null,null,null,null,null,null,null,null,null,null,null,null,null,null,null,null,null,null,null,null,null,null,null,null,"K_64_A32","field x","best of n",0,null,"K_32_A16","field x","best of n",0]
[null,128,null,null,null,null,null,null,null,null,null,null,null,null,{"$f":"INDEX(tbl_KO_Data[T1 Src Rank],K34) & \". Gr. \" & INDEX(tbl_KO_Data[T1 Src Group],K34)","v":"4. Gr. B"}]
[null,null,null,null,null,null,null,null,null,null,null,null,null,null,null,null,null,null,null,null,null,null,null,null,null,null,null,null,null,null,null,null,null,null,null,null,{"$f":"O35","v":"4. Gr. B"},null,null,null,null,{"$f":"IF($AP$16,O35,CHOOSE(SIGN(AN54-AN52)+2,AK52,\"(\"&AK52&\" : \"&AK54&\")\",AK54))","v":"(4. Gr. B : 5. Gr. A)"}]
["KO_Groups_Ind",3]
[null,null,null,null,null,null,null,null,null,null,null,null,null,null,null,null,null,null,null,null,null,null,null,null,null,null,null,null,null,null,null,null,null,null,null,null,{"$f":"O39","v":"5. Gr. A"},null,null,null,null,{"$f":"IF($AP$16,O39,CHOOSE(SIGN(AN62-AN60)+2,AK60,\"(\"&AK60&\" : \"&AK62&\")\",AK62))","v":"(4. Gr. B : 5. Gr. A)"}]
["KO_Groups_Sel",{"$f":"MIN(INDEX(KO_Groups_List,KO_Groups_Ind),KO_TeamsReq)","v":4},null,null,null,null,null,null,null,null,null,null,null,null,{"$f":"INDEX(tbl_KO_Data[T2 Src Rank],K34) & \". Gr. \" & INDEX(tbl_KO_Data[T2 Src Group],K34)","v":"5. Gr. A"}]
[]
["KO_GroupSize",{"$f":"KO_TeamsReq/KO_Groups_Sel","v":4}]
[null,null,null,null,null,null,null,null,33,null,{"$f":"KO_Data_1row+INDEX(D42:I42,KO_Rounds_Ind)","v":295},null,null,null,null,null,null,null,null,null,null,null,null,null,null,null,null,null,null,null,null,null,null,null,null,null,"K_64_A33","field x","best of n",0,null,"K_32_A17","field x","best of n",0]
["tbl_KO_Data.ID",{"$f":"1000000000*2^(KO_Rounds_Ind) + 1000000 * KO_Groups_Sel + 1000 * KO_GroupSize","v":8004004000},null,null,null,null,null,null,null,null,null,null,null,null,{"$f":"INDEX(tbl_KO_Data[T1 Src Rank],K42) & \". Gr. \" & INDEX(tbl_KO_Data[T1 Src Group],K42)","v":"4. Gr. B"}]
[null,null,null,null,null,null,null,null,null,null,null,null,null,null,null,null,null,null,null,null,null,null,null,null,null,null,null,null,null,null,null,null,null,null,null,null,{"$f":"O43","v":"4. Gr. B"},null,null,null,null,{"$f":"IF($AP$16,O43,CHOOSE(SIGN(AN70-AN68)+2,AK68,\"(\"&AK68&\" : \"&AK70&\")\",AK70))","v":"(4. Gr. B : 5. Gr. A)"}]
["KO_Data_1row",{"$f":"MATCH(B43,tbl_KO_Data[ID],1)","v":295}]
[null,null,null,null,null,null,null,null,null,null,null,null,null,null,null,null,null,null,null,null,null,null,null,null,null,null,null,null,null,null,null,null,null,null,null,null,{"$f":"O47","v":"5. Gr. A"},null,null,null,null,{"$f":"IF($AP$16,O47,CHOOSE(SIGN(AN78-AN76)+2,AK76,\"(\"&AK76&\" : \"&AK78&\")\",AK78))","v":"(4. Gr. B : 5. Gr. A)"}]
[null,null,null,null,null,null,null,null,null,null,null,null,null,null,{"$f":"INDEX(tbl_KO_Data[T2 Src Rank],K42) & \". Gr. \" & INDEX(tbl_KO_Data[T2 Src Group],K42)","v":"5. Gr. A"}]
[]
[]
[null,null,null,null,null,null,null,null,16,null,{"$f":"KO_Data_1row+INDEX(D50:I50,KO_Rounds_Ind)","v":295},null,null,null,null,null,null,null,null,null,null,null,null,null,null,null,null,null,null,null,null,null,null,null,null,null,"K_64_A16","field x","best of n",0,null,"K_32_A08","field x","best of n",0]
[null,null,null,null,null,null,null,null,null,null,null,null,null,null,{"$f":"INDEX(tbl_KO_Data[T1 Src Rank],K50) & \". Gr. \" & INDEX(tbl_KO_Data[T1 Src Group],K50)","v":"4. Gr. B"}]
[null,null,null,null,null,null,null,null,null,null,null,null,null,null,null,null,null,null,null,null,null,null,null,null,null,null,null,null,null,null,null,null,null,null,null,null,{"$f":"O51","v":"4. Gr. B"},null,null,null,null,{"$f":"IF($AP$16,O51,CHOOSE(SIGN(AN86-AN84)+2,AK84,\"(\"&AK84&\" : \"&AK86&\")\",AK86))","v":"(4. Gr. B : 5. Gr. A)"}]
[]
[null,null,null,null,null,null,null,null,null,null,null,null,null,null,null,null,null,null,null,null,null,null,null,null,null,null,null,null,null,null,null,null,null,null,null,null,{"$f":"O55","v":"5. Gr. A"},null,null,null,null,{"$f":"IF($AP$16,O55,CHOOSE(SIGN(AN94-AN92)+2,AK92,\"(\"&AK92&\" : \"&AK94&\")\",AK94))","v":"(4. Gr. B : 5. Gr. A)"}]
[null,null,null,null,null,null,null,null,null,null,null,null,null,null,{"$f":"INDEX(tbl_KO_Data[T2 Src Rank],K50) & \". Gr. \" & INDEX(tbl_KO_Data[T2 Src Group],K50)","v":"5. Gr. A"}]
[]
[]
[null,null,null,null,null,null,null,null,49,null,{"$f":"KO_Data_1row+INDEX(D58:I58,KO_Rounds_Ind)","v":295},null,null,null,null,null,null,null,null,null,null,null,null,null,null,null,null,null,null,null,null,null,null,null,null,null,"K_64_A49","field x","best of n",0,null,"K_32_A25","field x","best of n",0]
[null,null,null,null,null,null,null,null,null,null,null,null,null,null,{"$f":"INDEX(tbl_KO_Data[T1 Src Rank],K58) & \". Gr. \" & INDEX(tbl_KO_Data[T1 Src Group],K58)","v":"4. Gr. B"}]
[null,null,null,null,null,null,null,null,null,null,null,null,null,null,null,null,null,null,null,null,null,null,null,null,null,null,null,null,null,null,null,null,null,null,null,null,{"$f":"O59","v":"4. Gr. B"},null,null,null,null,{"$f":"IF($AP$16,O59,CHOOSE(SIGN(AN102-AN100)+2,AK100,\"(\"&AK100&\" : \"&AK102&\")\",AK102))","v":"(4. Gr. B : 5. Gr. A)"}]
[]
[null,null,null,null,null,null,null,null,null,null,null,null,null,null,null,null,null,null,null,null,null,null,null,null,null,null,null,null,null,null,null,null,null,null,null,null,{"$f":"O63","v":"5. Gr. A"},null,null,null,null,{"$f":"IF($AP$16,O63,CHOOSE(SIGN(AN110-AN108)+2,AK108,\"(\"&AK108&\" : \"&AK110&\")\",AK110))","v":"(4. Gr. B : 5. Gr. A)"}]
[null,null,null,null,null,null,null,null,null,null,null,null,null,null,{"$f":"INDEX(tbl_KO_Data[T2 Src Rank],K58) & \". Gr. \" & INDEX(tbl_KO_Data[T2 Src Group],K58)","v":"5. Gr. A"}]
[]
[]
[null,null,null,null,null,null,null,null,17,null,{"$f":"KO_Data_1row+INDEX(D66:I66,KO_Rounds_Ind)","v":295},null,null,null,null,null,null,null,null,null,null,null,null,null,null,null,null,null,null,null,null,null,null,null,null,null,"K_64_A17","field x","best of n",0,null,"K_32_A09","field x","best of n",0]
[null,null,null,null,null,null,null,null,null,null,null,null,null,null,{"$f":"INDEX(tbl_KO_Data[T1 Src Rank],K66) & \". Gr. \" & INDEX(tbl_KO_Data[T1 Src Group],K66)","v":"4. Gr. B"}]
[null,null,null,null,null,null,null,null,null,null,null,null,null,null,null,null,null,null,null,null,null,null,null,null,null,null,null,null,null,null,null,null,null,null,null,null,{"$f":"O67","v":"4. Gr. B"},null,null,null,null,{"$f":"IF($AP$16,O67,CHOOSE(SIGN(AN118-AN116)+2,AK116,\"(\"&AK116&\" : \"&AK118&\")\",AK118))","v":"(4. Gr. B : 5. Gr. A)"}]
[]
[null,null,null,null,null,null,null,null,null,null,null,null,null,null,null,null,null,null,null,null,null,null,null,null,null,null,null,null,null,null,null,null,null,null,null,null,{"$f":"O71","v":"5. Gr. A"},null,null,null,null,{"$f":"IF($AP$16,O71,CHOOSE(SIGN(AN126-AN124)+2,AK124,\"(\"&AK124&\" : \"&AK126&\")\",AK126))","v":"(4. Gr. B : 5. Gr. A)"}]
[null,null,null,null,null,null,null,null,null,null,null,null,null,null,{"$f":"INDEX(tbl_KO_Data[T2 Src Rank],K66) & \". Gr. \" & INDEX(tbl_KO_Data[T2 Src Group],K66)","v":"5. Gr. A"}]
[]
[]
[null,null,null,null,null,null,null,null,48,null,{"$f":"KO_Data_1row+INDEX(D74:I74,KO_Rounds_Ind)","v":295},null,null,null,null,null,null,null,null,null,null,null,null,null,null,null,null,null,null,null,null,null,null,null,null,null,"K_64_A48","field x","best of n",0,null,"K_32_A24","field x","best of n",0]
[null,null,null,null,null,null,null,null,null,null,null,null,null,null,{"$f":"INDEX(tbl_KO_Data[T1 Src Rank],K74) & \". Gr. \" & INDEX(tbl_KO_Data[T1 Src Group],K74)","v":"4. Gr. B"}]
[null,null,null,null,null,null,null,null,null,null,null,null,null,null,null,null,null,null,null,null,null,null,null,null,null,null,null,null,null,null,null,null,null,null,null,null,{"$f":"O75","v":"4. Gr. B"},null,null,null,null,{"$f":"IF($AP$16,O75,CHOOSE(SIGN(AN134-AN132)+2,AK132,\"(\"&AK132&\" : \"&AK134&\")\",AK134))","v":"(4. Gr. B : 5. Gr. A)"}]
[]
[null,null,null,null,null,null,null,null,null,null,null,null,null,null,null,null,null,null,null,null,null,null,null,null,null,null,null,null,null,null,null,null,null,null,null,null,{"$f":"O79","v":"5. Gr. A"},null,null,null,null,{"$f":"IF($AP$16,O79,CHOOSE(SIGN(AN142-AN140)+2,AK140,\"(\"&AK140&\" : \"&AK142&\")\",AK142))","v":"(4. Gr. B : 5. Gr. A)"}]
[null,null,null,null,null,null,null,null,null,null,null,null,null,null,{"$f":"INDEX(tbl_KO_Data[T2 Src Rank],K74) & \". Gr. \" & INDEX(tbl_KO_Data[T2 Src Group],K74)","v":"5. Gr. A"}]
[]
[]
[null,null,null,null,null,null,null,null,8,null,{"$f":"KO_Data_1row+INDEX(D82:I82,KO_Rounds_Ind)","v":295},null,null,null,null,null,null,null,null,null,null,null,null,null,null,null,null,null,null,null,null,null,null,null,null,null,"K_64_A08","field x","best of n",0,null,"K_32_A04","field x","best of n",0]
[null,null,null,null,null,null,null,null,null,null,null,null,null,null,{"$f":"INDEX(tbl_KO_Data[T1 Src Rank],K82) & \". Gr. \" & INDEX(tbl_KO_Data[T1 Src Group],K82)","v":"4. Gr. B"}]
[null,null,null,null,null,null,null,null,null,null,null,null,null,null,null,null,null,null,null,null,null,null,null,null,null,null,null,null,null,null,null,null,null,null,null,null,{"$f":"O83","v":"4. Gr. B"},null,null,null,null,{"$f":"IF($AP$16,O83,CHOOSE(SIGN(AN150-AN148)+2,AK148,\"(\"&AK148&\" : \"&AK150&\")\",AK150))","v":"(4. Gr. B : 5. Gr. A)"}]
[]
[null,null,null,null,null,null,null,null,null,null,null,null,null,null,null,null,null,null,null,null,null,null,null,null,null,null,null,null,null,null,null,null,null,null,null,null,{"$f":"O87","v":"5. Gr. A"},null,null,null,null,{"$f":"IF($AP$16,O87,CHOOSE(SIGN(AN158-AN156)+2,AK156,\"(\"&AK156&\" : \"&AK158&\")\",AK158))","v":"(4. Gr. B : 5. Gr. A)"}]
[null,null,null,null,null,null,null,null,null,null,null,null,null,null,{"$f":"INDEX(tbl_KO_Data[T2 Src Rank],K82) & \". Gr. \" & INDEX(tbl_KO_Data[T2 Src Group],K82)","v":"5. Gr. A"}]
[]
[]
[null,null,null,null,null,null,null,null,57,null,{"$f":"KO_Data_1row+INDEX(D90:I90,KO_Rounds_Ind)","v":295},null,null,null,null,null,null,null,null,null,null,null,null,null,null,null,null,null,null,null,null,null,null,null,null,null,"K_64_A57","field x","best of n",0,null,"K_32_A29","field x","best of n",0]
[null,null,null,null,null,null,null,null,null,null,null,null,null,null,{"$f":"INDEX(tbl_KO_Data[T1 Src Rank],K90) & \". Gr. \" & INDEX(tbl_KO_Data[T1 Src Group],K90)","v":"4. Gr. B"}]
[null,null,null,null,null,null,null,null,null,null,null,null,null,null,null,null,null,null,null,null,null,null,null,null,null,null,null,null,null,null,null,null,null,null,null,null,{"$f":"O91","v":"4. Gr. B"},null,null,null,null,{"$f":"IF($AP$16,O91,CHOOSE(SIGN(AN166-AN164)+2,AK164,\"(\"&AK164&\" : \"&AK166&\")\",AK166))","v":"(4. Gr. B : 5. Gr. A)"}]
[]
[null,null,null,null,null,null,null,null,null,null,null,null,null,null,null,null,null,null,null,null,null,null,null,null,null,null,null,null,null,null,null,null,null,null,null,null,{"$f":"O95","v":"5. Gr. A"},null,null,null,null,{"$f":"IF($AP$16,O95,CHOOSE(SIGN(AN174-AN172)+2,AK172,\"(\"&AK172&\" : \"&AK174&\")\",AK174))","v":"(4. Gr. B : 5. Gr. A)"}]
[null,null,null,null,null,null,null,null,null,null,null,null,null,null,{"$f":"INDEX(tbl_KO_Data[T2 Src Rank],K90) & \". Gr. \" & INDEX(tbl_KO_Data[T2 Src Group],K90)","v":"5. Gr. A"}]
[]
[]
[null,null,null,null,null,null,null,null,25,null,{"$f":"KO_Data_1row+INDEX(D98:I98,KO_Rounds_Ind)","v":295},null,null,null,null,null,null,null,null,null,null,null,null,null,null,null,null,null,null,null,null,null,null,null,null,null,"K_64_A25","field x","best of n",0,null,"K_32_A13","field x","best of n",0]
[null,null,null,null,null,null,null,null,null,null,null,null,null,null,{"$f":"INDEX(tbl_KO_Data[T1 Src Rank],K98) & \". Gr. \" & INDEX(tbl_KO_Data[T1 Src Group],K98)","v":"4. Gr. B"}]
[null,null,null,null,null,null,null,null,null,null,null,null,null,null,null,null,null,null,null,null,null,null,null,null,null,null,null,null,null,null,null,null,null,null,null,null,{"$f":"O99","v":"4. Gr. B"},null,null,null,null,{"$f":"IF($AP$16,O99,CHOOSE(SIGN(AN182-AN180)+2,AK180,\"(\"&AK180&\" : \"&AK182&\")\",AK182))","v":"(4. Gr. B : 5. Gr. A)"}]
[]
[null,null,null,null,null,null,null,null,null,null,null,null,null,null,null,null,null,null,null,null,null,null,null,null,null,null,null,null,null,null,null,null,null,null,null,null,{"$f":"O103","v":"5. Gr. A"},null,null,null,null,{"$f":"IF($AP$16,O103,CHOOSE(SIGN(AN190-AN188)+2,AK188,\"(\"&AK188&\" : \"&AK190&\")\",AK190))","v":"(4. Gr. B : 5. Gr. A)"}]
[null,null,null,null,null,null,null,null,null,null,null,null,null,null,{"$f":"INDEX(tbl_KO_Data[T2 Src Rank],K98) & \". Gr. \" & INDEX(tbl_KO_Data[T2 Src Group],K98)","v":"5. Gr. A"}]
[]
[]
[null,null,null,null,null,null,null,null,40,null,{"$f":"KO_Data_1row+INDEX(D106:I106,KO_Rounds_Ind)","v":295},null,null,null,null,null,null,null,null,null,null,null,null,null,null,null,null,null,null,null,null,null,null,null,null,null,"K_64_A40","field x","best of n",0,null,"K_32_A20","field x","best of n",0]
[null,null,null,null,null,null,null,null,null,null,null,null,null,null,{"$f":"INDEX(tbl_KO_Data[T1 Src Rank],K106) & \". Gr. \" & INDEX(tbl_KO_Data[T1 Src Group],K106)","v":"4. Gr. B"}]
[null,null,null,null,null,null,null,null,null,null,null,null,null,null,null,null,null,null,null,null,null,null,null,null,null,null,null,null,null,null,null,null,null,null,null,null,{"$f":"O107","v":"4. Gr. B"},null,null,null,null,{"$f":"IF($AP$16,O107,CHOOSE(SIGN(AN198-AN196)+2,AK196,\"(\"&AK196&\" : \"&AK198&\")\",AK198))","v":"(4. Gr. B : 5. Gr. A)"}]
[]
[null,null,null,null,null,null,null,null,null,null,null,null,null,null,null,null,null,null,null,null,null,null,null,null,null,null,null,null,null,null,null,null,null,null,null,null,{"$f":"O111","v":"5. Gr. A"},null,null,null,null,{"$f":"IF($AP$16,O111,CHOOSE(SIGN(AN206-AN204)+2,AK204,\"(\"&AK204&\" : \"&AK206&\")\",AK206))","v":"(4. Gr. B : 5. Gr. A)"}]
[null,null,null,null,null,null,null,null,null,null,null,null,null,null,{"$f":"INDEX(tbl_KO_Data[T2 Src Rank],K106) & \". Gr. \" & INDEX(tbl_KO_Data[T2 Src Group],K106)","v":"5. Gr. A"}]
[]
[]
[null,null,null,null,null,null,null,null,9,null,{"$f":"KO_Data_1row+INDEX(D114:I114,KO_Rounds_Ind)","v":295},null,null,null,null,null,null,null,null,null,null,null,null,null,null,null,null,null,null,null,null,null,null,null,null,null,"K_64_A09","field x","best of n",0,null,"K_32_A05","field x","best of n",0]
[null,null,null,null,null,null,null,null,null,null,null,null,null,null,{"$f":"INDEX(tbl_KO_Data[T1 Src Rank],K114) & \". Gr. \" & INDEX(tbl_KO_Data[T1 Src Group],K114)","v":"4. Gr. B"}]
[null,null,null,null,null,null,null,null,null,null,null,null,null,null,null,null,null,null,null,null,null,null,null,null,null,null,null,null,null,null,null,null,null,null,null,null,{"$f":"O115","v":"4. Gr. B"},null,null,null,null,{"$f":"IF($AP$16,O115,CHOOSE(SIGN(AN214-AN212)+2,AK212,\"(\"&AK212&\" : \"&AK214&\")\",AK214))","v":"(4. Gr. B : 5. Gr. A)"}]
[]
[null,null,null,null,null,null,null,null,null,null,null,null,null,null,null,null,null,null,null,null,null,null,null,null,null,null,null,null,null,null,null,null,null,null,null,null,{"$f":"O119","v":"5. Gr. A"},null,null,null,null,{"$f":"IF($AP$16,O119,CHOOSE(SIGN(AN222-AN220)+2,AK220,\"(\"&AK220&\" : \"&AK222&\")\",AK222))","v":"(4. Gr. B : 5. Gr. A)"}]
[null,null,null,null,null,null,null,null,null,null,null,null,null,null,{"$f":"INDEX(tbl_KO_Data[T2 Src Rank],K114) & \". Gr. \" & INDEX(tbl_KO_Data[T2 Src Group],K114)","v":"5. Gr. A"}]
[]
[]
[null,null,null,null,null,null,null,null,56,null,{"$f":"KO_Data_1row+INDEX(D122:I122,KO_Rounds_Ind)","v":295},null,null,null,null,null,null,null,null,null,null,null,null,null,null,null,null,null,null,null,null,null,null,null,null,null,"K_64_A56","field x","best of n",0,null,"K_32_A28","field x","best of n",0]
[null,null,null,null,null,null,null,null,null,null,null,null,null,null,{"$f":"INDEX(tbl_KO_Data[T1 Src Rank],K122) & \". Gr. \" & INDEX(tbl_KO_Data[T1 Src Group],K122)","v":"4. Gr. B"}]
[null,null,null,null,null,null,null,null,null,null,null,null,null,null,null,null,null,null,null,null,null,null,null,null,null,null,null,null,null,null,null,null,null,null,null,null,{"$f":"O123","v":"4. Gr. B"},null,null,null,null,{"$f":"IF($AP$16,O123,CHOOSE(SIGN(AN230-AN228)+2,AK228,\"(\"&AK228&\" : \"&AK230&\")\",AK230))","v":"(4. Gr. B : 5. Gr. A)"}]
[]
[null,null,null,null,null,null,null,null,null,null,null,null,null,null,null,null,null,null,null,null,null,null,null,null,null,null,null,null,null,null,null,null,null,null,null,null,{"$f":"O127","v":"5. Gr. A"},null,null,null,null,{"$f":"IF($AP$16,O127,CHOOSE(SIGN(AN238-AN236)+2,AK236,\"(\"&AK236&\" : \"&AK238&\")\",AK238))","v":"(4. Gr. B : 5. Gr. A)"}]
[null,null,null,null,null,null,null,null,null,null,null,null,null,null,{"$f":"INDEX(tbl_KO_Data[T2 Src Rank],K122) & \". Gr. \" & INDEX(tbl_KO_Data[T2 Src Group],K122)","v":"5. Gr. A"}]
[]
[]
[null,null,null,null,null,null,null,null,24,null,{"$f":"KO_Data_1row+INDEX(D130:I130,KO_Rounds_Ind)","v":295},null,null,null,null,null,null,null,null,null,null,null,null,null,null,null,null,null,null,null,null,null,null,null,null,null,"K_64_A24","field x","best of n",0,null,"K_32_A12","field x","best of n",0]
[null,null,null,null,null,null,null,null,null,null,null,null,null,null,{"$f":"INDEX(tbl_KO_Data[T1 Src Rank],K130) & \". Gr. \" & INDEX(tbl_KO_Data[T1 Src Group],K130)","v":"4. Gr. B"}]
[null,null,null,null,null,null,null,null,null,null,null,null,null,null,null,null,null,null,null,null,null,null,null,null,null,null,null,null,null,null,null,null,null,null,null,null,{"$f":"O131","v":"4. Gr. B"},null,null,null,null,{"$f":"IF($AP$16,O131,CHOOSE(SIGN(AN246-AN244)+2,AK244,\"(\"&AK244&\" : \"&AK246&\")\",AK246))","v":"(1. Gr. A : 4. Gr. B)"}]
[]
[null,null,null,null,null,null,null,null,null,null,null,null,null,null,null,null,null,null,null,null,null,null,null,null,null,null,null,null,null,null,null,null,null,null,null,null,{"$f":"O135","v":"5. Gr. A"},null,null,null,null,{"$f":"IF($AP$16,O135,CHOOSE(SIGN(AN254-AN252)+2,AK252,\"(\"&AK252&\" : \"&AK254&\")\",AK254))","v":"(2. Gr. D : 3. Gr. C)"}]
[null,null,null,null,null,null,null,null,null,null,null,null,null,null,{"$f":"INDEX(tbl_KO_Data[T2 Src Rank],K130) & \". Gr. \" & INDEX(tbl_KO_Data[T2 Src Group],K130)","v":"5. Gr. A"}]
[]
[]
[null,null,null,null,null,null,null,null,41,null,{"$f":"KO_Data_1row+INDEX(D138:I138,KO_Rounds_Ind)","v":295},null,null,null,null,null,null,null,null,null,null,null,null,null,null,null,null,null,null,null,null,null,null,null,null,null,"K_64_A41","field x","best of n",0,null,"K_32_A21","field x","best of n",0]
[null,null,null,null,null,null,null,null,null,null,null,null,null,null,{"$f":"INDEX(tbl_KO_Data[T1 Src Rank],K138) & \". Gr. \" & INDEX(tbl_KO_Data[T1 Src Group],K138)","v":"4. Gr. B"}]
[null,null,null,null,null,null,null,null,null,null,null,null,null,null,null,null,null,null,null,null,null,null,null,null,null,null,null,null,null,null,null,null,null,null,null,null,{"$f":"O139","v":"4. Gr. B"},null,null,null,null,{"$f":"IF($AP$16,O139,CHOOSE(SIGN(AN262-AN260)+2,AK260,\"(\"&AK260&\" : \"&AK262&\")\",AK262))","v":"(1. Gr. C : 4. Gr. D)"}]
[]
[null,null,null,null,null,null,null,null,null,null,null,null,null,null,null,null,null,null,null,null,null,null,null,null,null,null,null,null,null,null,null,null,null,null,null,null,{"$f":"O143","v":"5. Gr. A"},null,null,null,null,{"$f":"IF($AP$16,O143,CHOOSE(SIGN(AN270-AN268)+2,AK268,\"(\"&AK268&\" : \"&AK270&\")\",AK270))","v":"(2. Gr. B : 3. Gr. A)"}]
[null,null,null,null,null,null,null,null,null,null,null,null,null,null,{"$f":"INDEX(tbl_KO_Data[T2 Src Rank],K138) & \". Gr. \" & INDEX(tbl_KO_Data[T2 Src Group],K138)","v":"5. Gr. A"}]
[]
[]
[null,null,null,null,null,null,null,1,4,null,{"$f":"KO_Data_1row+INDEX(D146:I146,KO_Rounds_Ind)","v":295},null,null,null,null,null,null,null,null,null,null,null,null,null,null,null,null,null,null,null,null,"K_32_A01","field x","best of n",0,null,"K_64_A04","field x","best of n",0,null,"K_32_A02","field x","best of n",0,null,"K_16_A01","field x","best of n",0]
[null,null,null,null,null,null,null,null,null,null,null,null,null,null,{"$f":"INDEX(tbl_KO_Data[T1 Src Rank],K146) & \". Gr. \" & INDEX(tbl_KO_Data[T1 Src Group],K146)","v":"4. Gr. B"}]
[null,null,null,null,null,null,null,null,null,null,null,null,null,null,null,null,null,null,null,null,null,null,null,null,null,null,null,null,null,null,null,{"$f":"O147","v":"4. Gr. B"},null,null,null,null,{"$f":"O147","v":"4. Gr. B"},null,null,null,null,{"$f":"IF($AP$16,O147,CHOOSE(SIGN(AN278-AN276)+2,AK276,\"(\"&AK276&\" : \"&AK278&\")\",AK278))","v":"(1. Gr. B : 4. Gr. C)"},null,null,null,null,{"$f":"IF($AU$16,CHOOSE(SIGN(AI150-AI148)+2,AF148,\"(\"&AF148&\" : \"&AF150&\")\",AF150),CHOOSE(SIGN(AS22-AS20)+2,AP20,\"(\"&AP20&\" : \"&AP22&\")\",AP22))","v":"((4. Gr. B : 5. Gr. A) : (4. Gr. B : 5. Gr. A))"}]
[]
[null,null,null,null,null,null,null,null,null,null,null,null,null,null,null,null,null,null,null,null,null,null,null,null,null,null,null,null,null,null,null,{"$f":"O151","v":"5. Gr. A"},null,null,null,null,{"$f":"O151","v":"5. Gr. A"},null,null,null,null,{"$f":"IF($AP$16,O151,CHOOSE(SIGN(AN286-AN284)+2,AK284,\"(\"&AK284&\" : \"&AK286&\")\",AK286))","v":"(2. Gr. A : 3. Gr. D)"},null,null,null,null,{"$f":"IF($AU$16,CHOOSE(SIGN(AI158-AI156)+2,AF156,\"(\"&AF156&\" : \"&AF158&\")\",AF158),CHOOSE(SIGN(AS30-AS28)+2,AP28,\"(\"&AP28&\" : \"&AP30&\")\",AP30))","v":"((4. Gr. B : 5. Gr. A) : (4. Gr. B : 5. Gr. A))"}]
[null,null,null,null,null,null,null,null,null,null,null,null,null,null,{"$f":"INDEX(tbl_KO_Data[T2 Src Rank],K146) & \". Gr. \" & INDEX(tbl_KO_Data[T2 Src Group],K146)","v":"5. Gr. A"}]
[]
[]
[null,null,null,null,null,null,null,32,61,null,{"$f":"KO_Data_1row+INDEX(D154:I154,KO_Rounds_Ind)","v":295},null,null,null,null,null,null,null,null,null,null,null,null,null,null,null,null,null,null,null,null,"K_32_A32","field x","best of n",0,null,"K_64_A61","field x","best of n",0,null,"K_32_A31","field x","best of n",0,null,"K_16_A16","field x","best of n",0]
[null,null,null,null,null,null,null,null,null,null,null,null,null,null,{"$f":"INDEX(tbl_KO_Data[T1 Src Rank],K154) & \". Gr. \" & INDEX(tbl_KO_Data[T1 Src Group],K154)","v":"4. Gr. B"}]
[null,null,null,null,null,null,null,null,null,null,null,null,null,null,null,null,null,null,null,null,null,null,null,null,null,null,null,null,null,null,null,{"$f":"O155","v":"4. Gr. B"},null,null,null,null,{"$f":"O155","v":"4. Gr. B"},null,null,null,null,{"$f":"IF($AP$16,O155,CHOOSE(SIGN(AN294-AN292)+2,AK292,\"(\"&AK292&\" : \"&AK294&\")\",AK294))","v":"(1. Gr. D : 4. Gr. A)"},null,null,null,null,{"$f":"IF($AU$16,CHOOSE(SIGN(AI166-AI164)+2,AF164,\"(\"&AF164&\" : \"&AF166&\")\",AF166),CHOOSE(SIGN(AS38-AS36)+2,AP36,\"(\"&AP36&\" : \"&AP38&\")\",AP38))","v":"((4. Gr. B : 5. Gr. A) : (4. Gr. B : 5. Gr. A))"}]
[]
[null,null,null,null,null,null,null,null,null,null,null,null,null,null,null,null,null,null,null,null,null,null,null,null,null,null,null,null,null,null,null,{"$f":"O159","v":"5. Gr. A"},null,null,null,null,{"$f":"O159","v":"5. Gr. A"},null,null,null,null,{"$f":"IF($AP$16,O159,CHOOSE(SIGN(AN302-AN300)+2,AK300,\"(\"&AK300&\" : \"&AK302&\")\",AK302))","v":"(2. Gr. C : 3. Gr. B)"},null,null,null,null,{"$f":"IF($AU$16,CHOOSE(SIGN(AI174-AI172)+2,AF172,\"(\"&AF172&\" : \"&AF174&\")\",AF174),CHOOSE(SIGN(AS46-AS44)+2,AP44,\"(\"&AP44&\" : \"&AP46&\")\",AP46))","v":"((4. Gr. B : 5. Gr. A) : (4. Gr. B : 5. Gr. A))"}]
[null,null,null,null,null,null,null,null,null,null,null,null,null,null,{"$f":"INDEX(tbl_KO_Data[T2 Src Rank],K154) & \". Gr. \" & INDEX(tbl_KO_Data[T2 Src Group],K154)","v":"5. Gr. A"}]
[]
[]
[null,null,null,null,null,null,null,16,29,null,{"$f":"KO_Data_1row+INDEX(D162:I162,KO_Rounds_Ind)","v":295},null,null,null,null,null,null,null,null,null,null,null,null,null,null,null,null,null,null,null,null,"K_32_A16","field x","best of n",0,null,"K_64_A29","field x","best of n",0,null,"K_32_A15","field x","best of n",0,null,"K_16_A08","field x","best of n",0]
[null,null,null,null,null,null,null,null,null,null,null,null,null,null,{"$f":"INDEX(tbl_KO_Data[T1 Src Rank],K162) & \". Gr. \" & INDEX(tbl_KO_Data[T1 Src Group],K162)","v":"4. Gr. B"}]
[null,null,null,null,null,null,null,null,null,null,null,null,null,null,null,null,null,null,null,null,null,null,null,null,null,null,null,null,null,null,null,{"$f":"O163","v":"4. Gr. B"},null,null,null,null,{"$f":"O163","v":"4. Gr. B"},null,null,null,null,{"$f":"IF($AP$16,O163,CHOOSE(SIGN(AN310-AN308)+2,AK308,\"(\"&AK308&\" : \"&AK310&\")\",AK310))","v":"(4. Gr. B : 5. Gr. A)"},null,null,null,null,{"$f":"IF($AU$16,CHOOSE(SIGN(AI182-AI180)+2,AF180,\"(\"&AF180&\" : \"&AF182&\")\",AF182),CHOOSE(SIGN(AS54-AS52)+2,AP52,\"(\"&AP52&\" : \"&AP54&\")\",AP54))","v":"((4. Gr. B : 5. Gr. A) : (4. Gr. B : 5. Gr. A))"}]
[]
[null,null,null,null,null,null,null,null,null,null,null,null,null,null,null,null,null,null,null,null,null,null,null,null,null,null,null,null,null,null,null,{"$f":"O167","v":"5. Gr. A"},null,null,null,null,{"$f":"O167","v":"5. Gr. A"},null,null,null,null,{"$f":"IF($AP$16,O167,CHOOSE(SIGN(AN318-AN316)+2,AK316,\"(\"&AK316&\" : \"&AK318&\")\",AK318))","v":"(4. Gr. B : 5. Gr. A)"},null,null,null,null,{"$f":"IF($AU$16,CHOOSE(SIGN(AI190-AI188)+2,AF188,\"(\"&AF188&\" : \"&AF190&\")\",AF190),CHOOSE(SIGN(AS62-AS60)+2,AP60,\"(\"&AP60&\" : \"&AP62&\")\",AP62))","v":"((4. Gr. B : 5. Gr. A) : (4. Gr. B : 5. Gr. A))"}]
[null,null,null,null,null,null,null,null,null,null,null,null,null,null,{"$f":"INDEX(tbl_KO_Data[T2 Src Rank],K162) & \". Gr. \" & INDEX(tbl_KO_Data[T2 Src Group],K162)","v":"5. Gr. A"}]
[]
[]
[null,null,null,null,null,null,null,17,36,null,{"$f":"KO_Data_1row+INDEX(D170:I170,KO_Rounds_Ind)","v":295},null,null,null,null,null,null,null,null,null,null,null,null,null,null,null,null,null,null,null,null,"K_32_A17","field x","best of n",0,null,"K_64_A36","field x","best of n",0,null,"K_32_A18","field x","best of n",0,null,"K_16_A09","field x","best of n",0]
[null,null,null,null,null,null,null,null,null,null,null,null,null,null,{"$f":"INDEX(tbl_KO_Data[T1 Src Rank],K170) & \". Gr. \" & INDEX(tbl_KO_Data[T1 Src Group],K170)","v":"4. Gr. B"}]
[null,null,null,null,null,null,null,null,null,null,null,null,null,null,null,null,null,null,null,null,null,null,null,null,null,null,null,null,null,null,null,{"$f":"O171","v":"4. Gr. B"},null,null,null,null,{"$f":"O171","v":"4. Gr. B"},null,null,null,null,{"$f":"IF($AP$16,O171,CHOOSE(SIGN(AN326-AN324)+2,AK324,\"(\"&AK324&\" : \"&AK326&\")\",AK326))","v":"(4. Gr. B : 5. Gr. A)"},null,null,null,null,{"$f":"IF($AU$16,CHOOSE(SIGN(AI198-AI196)+2,AF196,\"(\"&AF196&\" : \"&AF198&\")\",AF198),CHOOSE(SIGN(AS70-AS68)+2,AP68,\"(\"&AP68&\" : \"&AP70&\")\",AP70))","v":"((4. Gr. B : 5. Gr. A) : (4. Gr. B : 5. Gr. A))"}]
[]
[null,null,null,null,null,null,null,null,null,null,null,null,null,null,null,null,null,null,null,null,null,null,null,null,null,null,null,null,null,null,null,{"$f":"O175","v":"5. Gr. A"},null,null,null,null,{"$f":"O175","v":"5. Gr. A"},null,null,null,null,{"$f":"IF($AP$16,O175,CHOOSE(SIGN(AN334-AN332)+2,AK332,\"(\"&AK332&\" : \"&AK334&\")\",AK334))","v":"(4. Gr. B : 5. Gr. A)"},null,null,null,null,{"$f":"IF($AU$16,CHOOSE(SIGN(AI206-AI204)+2,AF204,\"(\"&AF204&\" : \"&AF206&\")\",AF206),CHOOSE(SIGN(AS78-AS76)+2,AP76,\"(\"&AP76&\" : \"&AP78&\")\",AP78))","v":"((4. Gr. B : 5. Gr. A) : (4. Gr. B : 5. Gr. A))"}]
[null,null,null,null,null,null,null,null,null,null,null,null,null,null,{"$f":"INDEX(tbl_KO_Data[T2 Src Rank],K170) & \". Gr. \" & INDEX(tbl_KO_Data[T2 Src Group],K170)","v":"5. Gr. A"}]
[]
[]
[null,null,null,null,null,null,null,8,13,null,{"$f":"KO_Data_1row+INDEX(D178:I178,KO_Rounds_Ind)","v":295},null,null,null,null,null,null,null,null,null,null,null,null,null,null,null,null,null,null,null,null,"K_32_A08","field x","best of n",0,null,"K_64_A13","field x","best of n",0,null,"K_32_A07","field x","best of n",0,null,"K_16_A04","field x","best of n",0]
[null,null,null,null,null,null,null,null,null,null,null,null,null,null,{"$f":"INDEX(tbl_KO_Data[T1 Src Rank],K178) & \". Gr. \" & INDEX(tbl_KO_Data[T1 Src Group],K178)","v":"4. Gr. B"}]
[null,null,null,null,null,null,null,null,null,null,null,null,null,null,null,null,null,null,null,null,null,null,null,null,null,null,null,null,null,null,null,{"$f":"O179","v":"4. Gr. B"},null,null,null,null,{"$f":"O179","v":"4. Gr. B"},null,null,null,null,{"$f":"IF($AP$16,O179,CHOOSE(SIGN(AN342-AN340)+2,AK340,\"(\"&AK340&\" : \"&AK342&\")\",AK342))","v":"(4. Gr. B : 5. Gr. A)"},null,null,null,null,{"$f":"IF($AU$16,CHOOSE(SIGN(AI214-AI212)+2,AF212,\"(\"&AF212&\" : \"&AF214&\")\",AF214),CHOOSE(SIGN(AS86-AS84)+2,AP84,\"(\"&AP84&\" : \"&AP86&\")\",AP86))","v":"((4. Gr. B : 5. Gr. A) : (4. Gr. B : 5. Gr. A))"}]
[]
[null,null,null,null,null,null,null,null,null,null,null,null,null,null,null,null,null,null,null,null,null,null,null,null,null,null,null,null,null,null,null,{"$f":"O183","v":"5. Gr. A"},null,null,null,null,{"$f":"O183","v":"5. Gr. A"},null,null,null,null,{"$f":"IF($AP$16,O183,CHOOSE(SIGN(AN350-AN348)+2,AK348,\"(\"&AK348&\" : \"&AK350&\")\",AK350))","v":"(4. Gr. B : 5. Gr. A)"},null,null,null,null,{"$f":"IF($AU$16,CHOOSE(SIGN(AI222-AI220)+2,AF220,\"(\"&AF220&\" : \"&AF222&\")\",AF222),CHOOSE(SIGN(AS94-AS92)+2,AP92,\"(\"&AP92&\" : \"&AP94&\")\",AP94))","v":"((4. Gr. B : 5. Gr. A) : (4. Gr. B : 5. Gr. A))"}]
[null,null,null,null,null,null,null,null,null,null,null,null,null,null,{"$f":"INDEX(tbl_KO_Data[T2 Src Rank],K178) & \". Gr. \" & INDEX(tbl_KO_Data[T2 Src Group],K178)","v":"5. Gr. A"}]
[]
[]
[null,null,null,null,null,null,null,25,52,null,{"$f":"KO_Data_1row+INDEX(D186:I186,KO_Rounds_Ind)","v":295},null,null,null,null,null,null,null,null,null,null,null,null,null,null,null,null,null,null,null,null,"K_32_A25","field x","best of n",0,null,"K_64_A52","field x","best of n",0,null,"K_32_A26","field x","best of n",0,null,"K_16_A13","field x","best of n",0]
[null,null,null,null,null,null,null,null,null,null,null,null,null,null,{"$f":"INDEX(tbl_KO_Data[T1 Src Rank],K186) & \". Gr. \" & INDEX(tbl_KO_Data[T1 Src Group],K186)","v":"4. Gr. B"}]
[null,null,null,null,null,null,null,null,null,null,null,null,null,null,null,null,null,null,null,null,null,null,null,null,null,null,null,null,null,null,null,{"$f":"O187","v":"4. Gr. B"},null,null,null,null,{"$f":"O187","v":"4. Gr. B"},null,null,null,null,{"$f":"IF($AP$16,O187,CHOOSE(SIGN(AN358-AN356)+2,AK356,\"(\"&AK356&\" : \"&AK358&\")\",AK358))","v":"(4. Gr. B : 5. Gr. A)"},null,null,null,null,{"$f":"IF($AU$16,CHOOSE(SIGN(AI230-AI228)+2,AF228,\"(\"&AF228&\" : \"&AF230&\")\",AF230),CHOOSE(SIGN(AS102-AS100)+2,AP100,\"(\"&AP100&\" : \"&AP102&\")\",AP102))","v":"((4. Gr. B : 5. Gr. A) : (4. Gr. B : 5. Gr. A))"}]
[]
[null,null,null,null,null,null,null,null,null,null,null,null,null,null,null,null,null,null,null,null,null,null,null,null,null,null,null,null,null,null,null,{"$f":"O191","v":"5. Gr. A"},null,null,null,null,{"$f":"O191","v":"5. Gr. A"},null,null,null,null,{"$f":"IF($AP$16,O191,CHOOSE(SIGN(AN366-AN364)+2,AK364,\"(\"&AK364&\" : \"&AK366&\")\",AK366))","v":"(4. Gr. B : 5. Gr. A)"},null,null,null,null,{"$f":"IF($AU$16,CHOOSE(SIGN(AI238-AI236)+2,AF236,\"(\"&AF236&\" : \"&AF238&\")\",AF238),CHOOSE(SIGN(AS110-AS108)+2,AP108,\"(\"&AP108&\" : \"&AP110&\")\",AP110))","v":"((4. Gr. B : 5. Gr. A) : (4. Gr. B : 5. Gr. A))"}]
[null,null,null,null,null,null,null,null,null,null,null,null,null,null,{"$f":"INDEX(tbl_KO_Data[T2 Src Rank],K186) & \". Gr. \" & INDEX(tbl_KO_Data[T2 Src Group],K186)","v":"5. Gr. A"}]
[]
[]
[null,null,null,null,null,null,null,9,20,null,{"$f":"KO_Data_1row+INDEX(D194:I194,KO_Rounds_Ind)","v":295},null,null,null,null,null,null,null,null,null,null,null,null,null,null,null,null,null,null,null,null,"K_32_A09","field x","best of n",0,null,"K_64_A20","field x","best of n",0,null,"K_32_A10","field x","best of n",0,null,"K_16_A05","field x","best of n",0]
[null,null,null,null,null,null,null,null,null,null,null,null,null,null,{"$f":"INDEX(tbl_KO_Data[T1 Src Rank],K194) & \". Gr. \" & INDEX(tbl_KO_Data[T1 Src Group],K194)","v":"4. Gr. B"}]
[null,null,null,null,null,null,null,null,null,null,null,null,null,null,null,null,null,null,null,null,null,null,null,null,null,null,null,null,null,null,null,{"$f":"O195","v":"4. Gr. B"},null,null,null,null,{"$f":"O195","v":"4. Gr. B"},null,null,null,null,{"$f":"IF($AP$16,O195,CHOOSE(SIGN(AN374-AN372)+2,AK372,\"(\"&AK372&\" : \"&AK374&\")\",AK374))","v":"(4. Gr. B : 5. Gr. A)"},null,null,null,null,{"$f":"IF($AU$16,CHOOSE(SIGN(AI246-AI244)+2,AF244,\"(\"&AF244&\" : \"&AF246&\")\",AF246),CHOOSE(SIGN(AS118-AS116)+2,AP116,\"(\"&AP116&\" : \"&AP118&\")\",AP118))","v":"((4. Gr. B : 5. Gr. A) : (4. Gr. B : 5. Gr. A))"}]
[]
[null,null,null,null,null,null,null,null,null,null,null,null,null,null,null,null,null,null,null,null,null,null,null,null,null,null,null,null,null,null,null,{"$f":"O199","v":"5. Gr. A"},null,null,null,null,{"$f":"O199","v":"5. Gr. A"},null,null,null,null,{"$f":"IF($AP$16,O199,CHOOSE(SIGN(AN382-AN380)+2,AK380,\"(\"&AK380&\" : \"&AK382&\")\",AK382))","v":"(4. Gr. B : 5. Gr. A)"},null,null,null,null,{"$f":"IF($AU$16,CHOOSE(SIGN(AI254-AI252)+2,AF252,\"(\"&AF252&\" : \"&AF254&\")\",AF254),CHOOSE(SIGN(AS126-AS124)+2,AP124,\"(\"&AP124&\" : \"&AP126&\")\",AP126))","v":"((4. Gr. B : 5. Gr. A) : (4. Gr. B : 5. Gr. A))"}]
[null,null,null,null,null,null,null,null,null,null,null,null,null,null,{"$f":"INDEX(tbl_KO_Data[T2 Src Rank],K194) & \". Gr. \" & INDEX(tbl_KO_Data[T2 Src Group],K194)","v":"5. Gr. A"}]
[]
[]
[null,null,null,null,null,null,null,24,45,null,{"$f":"KO_Data_1row+INDEX(D202:I202,KO_Rounds_Ind)","v":295},null,null,null,null,null,null,null,null,null,null,null,null,null,null,null,null,null,null,null,null,"K_32_A24","field x","best of n",0,null,"K_64_A45","field x","best of n",0,null,"K_32_A23","field x","best of n",0,null,"K_16_A12","field x","best of n",0]
[null,null,null,null,null,null,null,null,null,null,null,null,null,null,{"$f":"INDEX(tbl_KO_Data[T1 Src Rank],K202) & \". Gr. \" & INDEX(tbl_KO_Data[T1 Src Group],K202)","v":"4. Gr. B"}]
[null,null,null,null,null,null,null,null,null,null,null,null,null,null,null,null,null,null,null,null,null,null,null,null,null,null,null,null,null,null,null,{"$f":"O203","v":"4. Gr. B"},null,null,null,null,{"$f":"O203","v":"4. Gr. B"},null,null,null,null,{"$f":"IF($AP$16,O203,CHOOSE(SIGN(AN390-AN388)+2,AK388,\"(\"&AK388&\" : \"&AK390&\")\",AK390))","v":"(4. Gr. B : 5. Gr. A)"},null,null,null,null,{"$f":"IF($AU$16,CHOOSE(SIGN(AI262-AI260)+2,AF260,\"(\"&AF260&\" : \"&AF262&\")\",AF262),CHOOSE(SIGN(AS134-AS132)+2,AP132,\"(\"&AP132&\" : \"&AP134&\")\",AP134))","v":"((1. Gr. A : 4. Gr. B) : (2. Gr. D : 3. Gr. C))"}]
[]
[null,null,null,null,null,null,null,null,null,null,null,null,null,null,null,null,null,null,null,null,null,null,null,null,null,null,null,null,null,null,null,{"$f":"O207","v":"5. Gr. A"},null,null,null,null,{"$f":"O207","v":"5. Gr. A"},null,null,null,null,{"$f":"IF($AP$16,O207,CHOOSE(SIGN(AN398-AN396)+2,AK396,\"(\"&AK396&\" : \"&AK398&\")\",AK398))","v":"(4. Gr. B : 5. Gr. A)"},null,null,null,null,{"$f":"IF($AU$16,CHOOSE(SIGN(AI270-AI268)+2,AF268,\"(\"&AF268&\" : \"&AF270&\")\",AF270),CHOOSE(SIGN(AS142-AS140)+2,AP140,\"(\"&AP140&\" : \"&AP142&\")\",AP142))","v":"((1. Gr. C : 4. Gr. D) : (2. Gr. B : 3. Gr. A))"}]
[null,null,null,null,null,null,null,null,null,null,null,null,null,null,{"$f":"INDEX(tbl_KO_Data[T2 Src Rank],K202) & \". Gr. \" & INDEX(tbl_KO_Data[T2 Src Group],K202)","v":"5. Gr. A"}]
[]
[]
[null,null,null,null,null,null,1,4,5,null,{"$f":"KO_Data_1row+INDEX(D210:I210,KO_Rounds_Ind)","v":295},null,null,null,null,null,null,null,null,null,null,null,null,null,null,null,"K_16_A01","field x","best of n",0,null,"K_32_A04","field x","best of n",0,null,"K_64_A05","field x","best of n",0,null,"K_32_A03","field x","best of n",0,null,"K_16_A02","field x","best of n",0,null,"K_08_A1","field x","best of n",0]
[null,null,null,null,null,null,null,null,null,null,null,null,null,null,{"$f":"INDEX(tbl_KO_Data[T1 Src Rank],K210) & \". Gr. \" & INDEX(tbl_KO_Data[T1 Src Group],K210)","v":"4. Gr. B"}]
[null,null,null,null,null,null,null,null,null,null,null,null,null,null,null,null,null,null,null,null,null,null,null,null,null,null,{"$f":"O211","v":"4. Gr. B"},null,null,null,null,{"$f":"O211","v":"4. Gr. B"},null,null,null,null,{"$f":"O211","v":"4. Gr. B"},null,null,null,null,{"$f":"IF($AP$16,O211,CHOOSE(SIGN(AN406-AN404)+2,AK404,\"(\"&AK404&\" : \"&AK406&\")\",AK406))","v":"(4. Gr. B : 5. Gr. A)"},null,null,null,null,{"$f":"IF($AU$16,CHOOSE(SIGN(AI278-AI276)+2,AF276,\"(\"&AF276&\" : \"&AF278&\")\",AF278),CHOOSE(SIGN(AS150-AS148)+2,AP148,\"(\"&AP148&\" : \"&AP150&\")\",AP150))","v":"((1. Gr. B : 4. Gr. C) : (2. Gr. A : 3. Gr. D))"},null,null,null,null,{"$f":"IF($AZ$16,CHOOSE(SIGN(AD214-AD212)+2,AA212,\"(\"&AA212&\" : \"&AA214&\")\",AA214),CHOOSE(SIGN(AX150-AX148)+2,AU148,\"(\"&AU148&\" : \"&AU150&\")\",AU150))","v":"(((4. Gr. B : 5. Gr. A) : (4. Gr. B : 5. Gr. A)) : ((4. Gr. B : 5. Gr. A) : (4. Gr. B : 5. Gr. A)))"}]
[]
[null,null,null,null,null,null,null,null,null,null,null,null,null,null,null,null,null,null,null,null,null,null,null,null,null,null,{"$f":"O215","v":"5. Gr. A"},null,null,null,null,{"$f":"O215","v":"5. Gr. A"},null,null,null,null,{"$f":"O215","v":"5. Gr. A"},null,null,null,null,{"$f":"IF($AP$16,O215,CHOOSE(SIGN(AN414-AN412)+2,AK412,\"(\"&AK412&\" : \"&AK414&\")\",AK414))","v":"(4. Gr. B : 5. Gr. A)"},null,null,null,null,{"$f":"IF($AU$16,CHOOSE(SIGN(AI286-AI284)+2,AF284,\"(\"&AF284&\" : \"&AF286&\")\",AF286),CHOOSE(SIGN(AS158-AS156)+2,AP156,\"(\"&AP156&\" : \"&AP158&\")\",AP158))","v":"((1. Gr. D : 4. Gr. A) : (2. Gr. C : 3. Gr. B))"},null,null,null,null,{"$f":"IF($AZ$16,CHOOSE(SIGN(AD222-AD220)+2,AA220,\"(\"&AA220&\" : \"&AA222&\")\",AA222),CHOOSE(SIGN(AX158-AX156)+2,AU156,\"(\"&AU156&\" : \"&AU158&\")\",AU158))","v":"(((4. Gr. B : 5. Gr. A) : (4. Gr. B : 5. Gr. A)) : ((4. Gr. B : 5. Gr. A) : (4. Gr. B : 5. Gr. A)))"}]
[null,null,null,null,null,null,null,null,null,null,null,null,null,null,{"$f":"INDEX(tbl_KO_Data[T2 Src Rank],K210) & \". Gr. \" & INDEX(tbl_KO_Data[T2 Src Group],K210)","v":"5. Gr. A"}]
[]
[]
[null,null,null,null,null,null,16,29,60,null,{"$f":"KO_Data_1row+INDEX(D218:I218,KO_Rounds_Ind)","v":295},null,null,null,null,null,null,null,null,null,null,null,null,null,null,null,"K_16_A16","field x","best of n",0,null,"K_32_A29","field x","best of n",0,null,"K_64_A60","field x","best of n",0,null,"K_32_A30","field x","best of n",0,null,"K_16_A15","field x","best of n",0,null,"K_08_A8","field x","best of n",0]
[null,null,null,null,null,null,null,null,null,null,null,null,null,null,{"$f":"INDEX(tbl_KO_Data[T1 Src Rank],K218) & \". Gr. \" & INDEX(tbl_KO_Data[T1 Src Group],K218)","v":"4. Gr. B"}]
[null,null,null,null,null,null,null,null,null,null,null,null,null,null,null,null,null,null,null,null,null,null,null,null,null,null,{"$f":"O219","v":"4. Gr. B"},null,null,null,null,{"$f":"O219","v":"4. Gr. B"},null,null,null,null,{"$f":"O219","v":"4. Gr. B"},null,null,null,null,{"$f":"IF($AP$16,O219,CHOOSE(SIGN(AN422-AN420)+2,AK420,\"(\"&AK420&\" : \"&AK422&\")\",AK422))","v":"(4. Gr. B : 5. Gr. A)"},null,null,null,null,{"$f":"IF($AU$16,CHOOSE(SIGN(AI294-AI292)+2,AF292,\"(\"&AF292&\" : \"&AF294&\")\",AF294),CHOOSE(SIGN(AS166-AS164)+2,AP164,\"(\"&AP164&\" : \"&AP166&\")\",AP166))","v":"((4. Gr. B : 5. Gr. A) : (4. Gr. B : 5. Gr. A))"},null,null,null,null,{"$f":"IF($AZ$16,CHOOSE(SIGN(AD230-AD228)+2,AA228,\"(\"&AA228&\" : \"&AA230&\")\",AA230),CHOOSE(SIGN(AX166-AX164)+2,AU164,\"(\"&AU164&\" : \"&AU166&\")\",AU166))","v":"(((4. Gr. B : 5. Gr. A) : (4. Gr. B : 5. Gr. A)) : ((4. Gr. B : 5. Gr. A) : (4. Gr. B : 5. Gr. A)))"}]
[]
[null,null,null,null,null,null,null,null,null,null,null,null,null,null,null,null,null,null,null,null,null,null,null,null,null,null,{"$f":"O223","v":"5. Gr. A"},null,null,null,null,{"$f":"O223","v":"5. Gr. A"},null,null,null,null,{"$f":"O223","v":"5. Gr. A"},null,null,null,null,{"$f":"IF($AP$16,O223,CHOOSE(SIGN(AN430-AN428)+2,AK428,\"(\"&AK428&\" : \"&AK430&\")\",AK430))","v":"(4. Gr. B : 5. Gr. A)"},null,null,null,null,{"$f":"IF($AU$16,CHOOSE(SIGN(AI302-AI300)+2,AF300,\"(\"&AF300&\" : \"&AF302&\")\",AF302),CHOOSE(SIGN(AS174-AS172)+2,AP172,\"(\"&AP172&\" : \"&AP174&\")\",AP174))","v":"((4. Gr. B : 5. Gr. A) : (4. Gr. B : 5. Gr. A))"},null,null,null,null,{"$f":"IF($AZ$16,CHOOSE(SIGN(AD238-AD236)+2,AA236,\"(\"&AA236&\" : \"&AA238&\")\",AA238),CHOOSE(SIGN(AX174-AX172)+2,AU172,\"(\"&AU172&\" : \"&AU174&\")\",AU174))","v":"(((4. Gr. B : 5. Gr. A) : (4. Gr. B : 5. Gr. A)) : ((4. Gr. B : 5. Gr. A) : (4. Gr. B : 5. Gr. A)))"}]
[null,null,null,null,null,null,null,null,null,null,null,null,null,null,{"$f":"INDEX(tbl_KO_Data[T2 Src Rank],K218) & \". Gr. \" & INDEX(tbl_KO_Data[T2 Src Group],K218)","v":"5. Gr. A"}]
[]
[]
[null,null,null,null,null,null,8,13,28,null,{"$f":"KO_Data_1row+INDEX(D226:I226,KO_Rounds_Ind)","v":295},null,null,null,null,null,null,null,null,null,null,null,null,null,null,null,"K_16_A08","field x","best of n",0,null,"K_32_A13","field x","best of n",0,null,"K_64_A28","field x","best of n",0,null,"K_32_A14","field x","best of n",0,null,"K_16_A07","field x","best of n",0,null,"K_08_A4","field x","best of n",0]
[null,null,null,null,null,null,null,null,null,null,null,null,null,null,{"$f":"INDEX(tbl_KO_Data[T1 Src Rank],K226) & \". Gr. \" & INDEX(tbl_KO_Data[T1 Src Group],K226)","v":"4. Gr. B"}]
[null,null,null,null,null,null,null,null,null,null,null,null,null,null,null,null,null,null,null,null,null,null,null,null,null,null,{"$f":"O227","v":"4. Gr. B"},null,null,null,null,{"$f":"O227","v":"4. Gr. B"},null,null,null,null,{"$f":"O227","v":"4. Gr. B"},null,null,null,null,{"$f":"IF($AP$16,O227,CHOOSE(SIGN(AN438-AN436)+2,AK436,\"(\"&AK436&\" : \"&AK438&\")\",AK438))","v":"(4. Gr. B : 5. Gr. A)"},null,null,null,null,{"$f":"IF($AU$16,CHOOSE(SIGN(AI310-AI308)+2,AF308,\"(\"&AF308&\" : \"&AF310&\")\",AF310),CHOOSE(SIGN(AS182-AS180)+2,AP180,\"(\"&AP180&\" : \"&AP182&\")\",AP182))","v":"((4. Gr. B : 5. Gr. A) : (4. Gr. B : 5. Gr. A))"},null,null,null,null,{"$f":"IF($AZ$16,CHOOSE(SIGN(AD246-AD244)+2,AA244,\"(\"&AA244&\" : \"&AA246&\")\",AA246),CHOOSE(SIGN(AX182-AX180)+2,AU180,\"(\"&AU180&\" : \"&AU182&\")\",AU182))","v":"(((4. Gr. B : 5. Gr. A) : (4. Gr. B : 5. Gr. A)) : ((4. Gr. B : 5. Gr. A) : (4. Gr. B : 5. Gr. A)))"}]
[]
[null,null,null,null,null,null,null,null,null,null,null,null,null,null,null,null,null,null,null,null,null,null,null,null,null,null,{"$f":"O231","v":"5. Gr. A"},null,null,null,null,{"$f":"O231","v":"5. Gr. A"},null,null,null,null,{"$f":"O231","v":"5. Gr. A"},null,null,null,null,{"$f":"IF($AP$16,O231,CHOOSE(SIGN(AN446-AN444)+2,AK444,\"(\"&AK444&\" : \"&AK446&\")\",AK446))","v":"(4. Gr. B : 5. Gr. A)"},null,null,null,null,{"$f":"IF($AU$16,CHOOSE(SIGN(AI318-AI316)+2,AF316,\"(\"&AF316&\" : \"&AF318&\")\",AF318),CHOOSE(SIGN(AS190-AS188)+2,AP188,\"(\"&AP188&\" : \"&AP190&\")\",AP190))","v":"((4. Gr. B : 5. Gr. A) : (4. Gr. B : 5. Gr. A))"},null,null,null,null,{"$f":"IF($AZ$16,CHOOSE(SIGN(AD254-AD252)+2,AA252,\"(\"&AA252&\" : \"&AA254&\")\",AA254),CHOOSE(SIGN(AX190-AX188)+2,AU188,\"(\"&AU188&\" : \"&AU190&\")\",AU190))","v":"(((4. Gr. B : 5. Gr. A) : (4. Gr. B : 5. Gr. A)) : ((4. Gr. B : 5. Gr. A) : (4. Gr. B : 5. Gr. A)))"}]
[null,null,null,null,null,null,null,null,null,null,null,null,null,null,{"$f":"INDEX(tbl_KO_Data[T2 Src Rank],K226) & \". Gr. \" & INDEX(tbl_KO_Data[T2 Src Group],K226)","v":"5. Gr. A"}]
[]
[]
[null,null,null,null,null,null,9,20,37,null,{"$f":"KO_Data_1row+INDEX(D234:I234,KO_Rounds_Ind)","v":295},null,null,null,null,null,null,null,null,null,null,null,null,null,null,null,"K_16_A09","field x","best of n",0,null,"K_32_A20","field x","best of n",0,null,"K_64_A37","field x","best of n",0,null,"K_32_A19","field x","best of n",0,null,"K_16_A10","field x","best of n",0,null,"K_08_A5","field x","best of n",0]
[null,null,null,null,null,null,null,null,null,null,null,null,null,null,{"$f":"INDEX(tbl_KO_Data[T1 Src Rank],K234) & \". Gr. \" & INDEX(tbl_KO_Data[T1 Src Group],K234)","v":"4. Gr. B"}]
[null,null,null,null,null,null,null,null,null,null,null,null,null,null,null,null,null,null,null,null,null,null,null,null,null,null,{"$f":"O235","v":"4. Gr. B"},null,null,null,null,{"$f":"O235","v":"4. Gr. B"},null,null,null,null,{"$f":"O235","v":"4. Gr. B"},null,null,null,null,{"$f":"IF($AP$16,O235,CHOOSE(SIGN(AN454-AN452)+2,AK452,\"(\"&AK452&\" : \"&AK454&\")\",AK454))","v":"(4. Gr. B : 5. Gr. A)"},null,null,null,null,{"$f":"IF($AU$16,CHOOSE(SIGN(AI326-AI324)+2,AF324,\"(\"&AF324&\" : \"&AF326&\")\",AF326),CHOOSE(SIGN(AS198-AS196)+2,AP196,\"(\"&AP196&\" : \"&AP198&\")\",AP198))","v":"((4. Gr. B : 5. Gr. A) : (4. Gr. B : 5. Gr. A))"},null,null,null,null,{"$f":"IF($AZ$16,CHOOSE(SIGN(AD262-AD260)+2,AA260,\"(\"&AA260&\" : \"&AA262&\")\",AA262),CHOOSE(SIGN(AX198-AX196)+2,AU196,\"(\"&AU196&\" : \"&AU198&\")\",AU198))","v":"(((4. Gr. B : 5. Gr. A) : (4. Gr. B : 5. Gr. A)) : ((4. Gr. B : 5. Gr. A) : (4. Gr. B : 5. Gr. A)))"}]
[]
[null,null,null,null,null,null,null,null,null,null,null,null,null,null,null,null,null,null,null,null,null,null,null,null,null,null,{"$f":"O239","v":"5. Gr. A"},null,null,null,null,{"$f":"O239","v":"5. Gr. A"},null,null,null,null,{"$f":"O239","v":"5. Gr. A"},null,null,null,null,{"$f":"IF($AP$16,O239,CHOOSE(SIGN(AN462-AN460)+2,AK460,\"(\"&AK460&\" : \"&AK462&\")\",AK462))","v":"(4. Gr. B : 5. Gr. A)"},null,null,null,null,{"$f":"IF($AU$16,CHOOSE(SIGN(AI334-AI332)+2,AF332,\"(\"&AF332&\" : \"&AF334&\")\",AF334),CHOOSE(SIGN(AS206-AS204)+2,AP204,\"(\"&AP204&\" : \"&AP206&\")\",AP206))","v":"((4. Gr. B : 5. Gr. A) : (4. Gr. B : 5. Gr. A))"},null,null,null,null,{"$f":"IF($AZ$16,CHOOSE(SIGN(AD270-AD268)+2,AA268,\"(\"&AA268&\" : \"&AA270&\")\",AA270),CHOOSE(SIGN(AX206-AX204)+2,AU204,\"(\"&AU204&\" : \"&AU206&\")\",AU206))","v":"(((1. Gr. A : 4. Gr. B) : (2. Gr. D : 3. Gr. C)) : ((1. Gr. C : 4. Gr. D) : (2. Gr. B : 3. Gr. A)))"}]
[null,null,null,null,null,null,null,null,null,null,null,null,null,null,{"$f":"INDEX(tbl_KO_Data[T2 Src Rank],K234) & \". Gr. \" & INDEX(tbl_KO_Data[T2 Src Group],K234)","v":"5. Gr. A"}]
[]
[]
[null,null,null,null,null,1,4,5,12,null,{"$f":"KO_Data_1row+INDEX(D242:I242,KO_Rounds_Ind)","v":296},null,null,null,null,null,null,null,null,null,null,"K_08_A1","field x","best of n",0,null,"K_16_A04","field x","best of n",0,null,"K_32_A05","field x","best of n",0,null,"K_64_A12","field x","best of n",0,null,"K_32_A06","field x","best of n",0,null,"K_16_A03","field x","best of n",0,null,"K_08_A2","field x","best of n",0,null,"K_04_A1","field x","best of n",0]
[null,null,null,null,null,null,null,null,null,null,null,null,null,null,{"$f":"INDEX(tbl_KO_Data[T1 Src Rank],K242) & \". Gr. \" & INDEX(tbl_KO_Data[T1 Src Group],K242)","v":"1. Gr. A"}]
[null,null,null,null,null,null,null,null,null,null,null,null,null,null,null,null,null,null,null,null,null,{"$f":"O243","v":"1. Gr. A"},null,null,null,null,{"$f":"O243","v":"1. Gr. A"},null,null,null,null,{"$f":"O243","v":"1. Gr. A"},null,null,null,null,{"$f":"O243","v":"1. Gr. A"},null,null,null,null,{"$f":"IF($AP$16,O243,CHOOSE(SIGN(AN470-AN468)+2,AK468,\"(\"&AK468&\" : \"&AK470&\")\",AK470))","v":"(4. Gr. B : 5. Gr. A)"},null,null,null,null,{"$f":"IF($AU$16,CHOOSE(SIGN(AI342-AI340)+2,AF340,\"(\"&AF340&\" : \"&AF342&\")\",AF342),CHOOSE(SIGN(AS214-AS212)+2,AP212,\"(\"&AP212&\" : \"&AP214&\")\",AP214))","v":"((4. Gr. B : 5. Gr. A) : (4. Gr. B : 5. Gr. A))"},null,null,null,null,{"$f":"IF($AZ$16,CHOOSE(SIGN(AD278-AD276)+2,AA276,\"(\"&AA276&\" : \"&AA278&\")\",AA278),CHOOSE(SIGN(AX214-AX212)+2,AU212,\"(\"&AU212&\" : \"&AU214&\")\",AU214))","v":"(((1. Gr. B : 4. Gr. C) : (2. Gr. A : 3. Gr. D)) : ((1. Gr. D : 4. Gr. A) : (2. Gr. C : 3. Gr. B)))"},null,null,null,null,{"$f":"IF($BE$16,CHOOSE(SIGN(Y246-Y244)+2,V244,\"(\"&V244&\" : \"&V246&\")\",V246),CHOOSE(SIGN(BC214-BC212)+2,AZ212,\"(\"&AZ212&\" : \"&AZ214&\")\",AZ214))","v":"(1. Gr. A : 4. Gr. B)"}]
[]
[null,null,null,null,null,null,null,null,null,null,null,null,null,null,null,null,null,null,null,null,null,{"$f":"O247","v":"4. Gr. B"},null,null,null,null,{"$f":"O247","v":"4. Gr. B"},null,null,null,null,{"$f":"O247","v":"4. Gr. B"},null,null,null,null,{"$f":"O247","v":"4. Gr. B"},null,null,null,null,{"$f":"IF($AP$16,O247,CHOOSE(SIGN(AN478-AN476)+2,AK476,\"(\"&AK476&\" : \"&AK478&\")\",AK478))","v":"(4. Gr. B : 5. Gr. A)"},null,null,null,null,{"$f":"IF($AU$16,CHOOSE(SIGN(AI350-AI348)+2,AF348,\"(\"&AF348&\" : \"&AF350&\")\",AF350),CHOOSE(SIGN(AS222-AS220)+2,AP220,\"(\"&AP220&\" : \"&AP222&\")\",AP222))","v":"((4. Gr. B : 5. Gr. A) : (4. Gr. B : 5. Gr. A))"},null,null,null,null,{"$f":"IF($AZ$16,CHOOSE(SIGN(AD286-AD284)+2,AA284,\"(\"&AA284&\" : \"&AA286&\")\",AA286),CHOOSE(SIGN(AX222-AX220)+2,AU220,\"(\"&AU220&\" : \"&AU222&\")\",AU222))","v":"(((4. Gr. B : 5. Gr. A) : (4. Gr. B : 5. Gr. A)) : ((4. Gr. B : 5. Gr. A) : (4. Gr. B : 5. Gr. A)))"},null,null,null,null,{"$f":"IF($BE$16,CHOOSE(SIGN(Y254-Y252)+2,V252,\"(\"&V252&\" : \"&V254&\")\",V254),CHOOSE(SIGN(BC222-BC220)+2,AZ220,\"(\"&AZ220&\" : \"&AZ222&\")\",AZ222))","v":"(2. Gr. D : 3. Gr. C)"}]
[null,null,null,null,null,null,null,null,null,null,null,null,null,null,{"$f":"INDEX(tbl_KO_Data[T2 Src Rank],K242) & \". Gr. \" & INDEX(tbl_KO_Data[T2 Src Group],K242)","v":"4. Gr. B"}]
[]
[]
[null,null,null,null,null,8,13,28,53,null,{"$f":"KO_Data_1row+INDEX(D250:I250,KO_Rounds_Ind)","v":303},null,null,null,null,null,null,null,null,null,null,"K_08_A8","field x","best of n",0,null,"K_16_A13","field x","best of n",0,null,"K_32_A28","field x","best of n",0,null,"K_64_A53","field x","best of n",0,null,"K_32_A27","field x","best of n",0,null,"K_16_A14","field x","best of n",0,null,"K_08_A7","field x","best of n",0,null,"K_04_A4","field x","best of n",0]
[null,null,null,null,null,null,null,null,null,null,null,null,null,null,{"$f":"INDEX(tbl_KO_Data[T1 Src Rank],K250) & \". Gr. \" & INDEX(tbl_KO_Data[T1 Src Group],K250)","v":"2. Gr. D"}]
[null,null,null,null,null,null,null,null,null,null,null,null,null,null,null,null,null,null,null,null,null,{"$f":"O251","v":"2. Gr. D"},null,null,null,null,{"$f":"O251","v":"2. Gr. D"},null,null,null,null,{"$f":"O251","v":"2. Gr. D"},null,null,null,null,{"$f":"O251","v":"2. Gr. D"},null,null,null,null,{"$f":"IF($AP$16,O251,CHOOSE(SIGN(AN486-AN484)+2,AK484,\"(\"&AK484&\" : \"&AK486&\")\",AK486))","v":"(4. Gr. B : 5. Gr. A)"},null,null,null,null,{"$f":"IF($AU$16,CHOOSE(SIGN(AI358-AI356)+2,AF356,\"(\"&AF356&\" : \"&AF358&\")\",AF358),CHOOSE(SIGN(AS230-AS228)+2,AP228,\"(\"&AP228&\" : \"&AP230&\")\",AP230))","v":"((4. Gr. B : 5. Gr. A) : (4. Gr. B : 5. Gr. A))"},null,null,null,null,{"$f":"IF($AZ$16,CHOOSE(SIGN(AD294-AD292)+2,AA292,\"(\"&AA292&\" : \"&AA294&\")\",AA294),CHOOSE(SIGN(AX230-AX228)+2,AU228,\"(\"&AU228&\" : \"&AU230&\")\",AU230))","v":"(((4. Gr. B : 5. Gr. A) : (4. Gr. B : 5. Gr. A)) : ((4. Gr. B : 5. Gr. A) : (4. Gr. B : 5. Gr. A)))"},null,null,null,null,{"$f":"IF($BE$16,CHOOSE(SIGN(Y262-Y260)+2,V260,\"(\"&V260&\" : \"&V262&\")\",V262),CHOOSE(SIGN(BC230-BC228)+2,AZ228,\"(\"&AZ228&\" : \"&AZ230&\")\",AZ230))","v":"(1. Gr. C : 4. Gr. D)"}]
[]
[null,null,null,null,null,null,null,null,null,null,null,null,null,null,null,null,null,null,null,null,null,{"$f":"O255","v":"3. Gr. C"},null,null,null,null,{"$f":"O255","v":"3. Gr. C"},null,null,null,null,{"$f":"O255","v":"3. Gr. C"},null,null,null,null,{"$f":"O255","v":"3. Gr. C"},null,null,null,null,{"$f":"IF($AP$16,O255,CHOOSE(SIGN(AN494-AN492)+2,AK492,\"(\"&AK492&\" : \"&AK494&\")\",AK494))","v":"(4. Gr. B : 5. Gr. A)"},null,null,null,null,{"$f":"IF($AU$16,CHOOSE(SIGN(AI366-AI364)+2,AF364,\"(\"&AF364&\" : \"&AF366&\")\",AF366),CHOOSE(SIGN(AS238-AS236)+2,AP236,\"(\"&AP236&\" : \"&AP238&\")\",AP238))","v":"((4. Gr. B : 5. Gr. A) : (4. Gr. B : 5. Gr. A))"},null,null,null,null,{"$f":"IF($AZ$16,CHOOSE(SIGN(AD302-AD300)+2,AA300,\"(\"&AA300&\" : \"&AA302&\")\",AA302),CHOOSE(SIGN(AX238-AX236)+2,AU236,\"(\"&AU236&\" : \"&AU238&\")\",AU238))","v":"(((4. Gr. B : 5. Gr. A) : (4. Gr. B : 5. Gr. A)) : ((4. Gr. B : 5. Gr. A) : (4. Gr. B : 5. Gr. A)))"},null,null,null,null,{"$f":"IF($BE$16,CHOOSE(SIGN(Y270-Y268)+2,V268,\"(\"&V268&\" : \"&V270&\")\",V270),CHOOSE(SIGN(BC238-BC236)+2,AZ236,\"(\"&AZ236&\" : \"&AZ238&\")\",AZ238))","v":"(2. Gr. B : 3. Gr. A)"}]
[null,null,null,null,null,null,null,null,null,null,null,null,null,null,{"$f":"INDEX(tbl_KO_Data[T2 Src Rank],K250) & \". Gr. \" & INDEX(tbl_KO_Data[T2 Src Group],K250)","v":"3. Gr. C"}]
[]
[]
[null,null,null,null,1,4,5,12,21,null,{"$f":"KO_Data_1row+INDEX(D258:I258,KO_Rounds_Ind)","v":299},null,null,null,null,null,"K_04_A1","field x","best of n",0,null,"K_08_A4","field x","best of n",0,null,"K_16_A05","field x","best of n",0,null,"K_32_A12","field x","best of n",0,null,"K_64_A21","field x","best of n",0,null,"K_32_A11","field x","best of n",0,null,"K_16_A06","field x","best of n",0,null,"K_08_A3","field x","best of n",0,null,"K_04_A2","field x","best of n",0,null,"K_02_A1","field x","best of n",0,null,"K_01_001","field x","best of n",0,null,1,{"$f":"IF(BR260>BR262,BO260,IF(BR260<BR262,BO262,\"\"))","v":""}]
[null,null,null,null,null,null,null,null,null,null,null,null,null,null,{"$f":"INDEX(tbl_KO_Data[T1 Src Rank],K258) & \". Gr. \" & INDEX(tbl_KO_Data[T1 Src Group],K258)","v":"1. Gr. C"}]
[null,null,null,null,null,null,null,null,null,null,null,null,null,null,null,null,{"$f":"O259","v":"1. Gr. C"},null,null,null,null,{"$f":"O259","v":"1. Gr. C"},null,null,null,null,{"$f":"O259","v":"1. Gr. C"},null,null,null,null,{"$f":"O259","v":"1. Gr. C"},null,null,null,null,{"$f":"O259","v":"1. Gr. C"},null,null,null,null,{"$f":"IF($AP$16,O259,CHOOSE(SIGN(AN502-AN500)+2,AK500,\"(\"&AK500&\" : \"&AK502&\")\",AK502))","v":"(4. Gr. B : 5. Gr. A)"},null,null,null,null,{"$f":"IF($AU$16,CHOOSE(SIGN(AI374-AI372)+2,AF372,\"(\"&AF372&\" : \"&AF374&\")\",AF374),CHOOSE(SIGN(AS246-AS244)+2,AP244,\"(\"&AP244&\" : \"&AP246&\")\",AP246))","v":"((4. Gr. B : 5. Gr. A) : (4. Gr. B : 5. Gr. A))"},null,null,null,null,{"$f":"IF($AZ$16,CHOOSE(SIGN(AD310-AD308)+2,AA308,\"(\"&AA308&\" : \"&AA310&\")\",AA310),CHOOSE(SIGN(AX246-AX244)+2,AU244,\"(\"&AU244&\" : \"&AU246&\")\",AU246))","v":"(((4. Gr. B : 5. Gr. A) : (4. Gr. B : 5. Gr. A)) : ((4. Gr. B : 5. Gr. A) : (4. Gr. B : 5. Gr. A)))"},null,null,null,null,{"$f":"IF($BE$16,CHOOSE(SIGN(Y278-Y276)+2,V276,\"(\"&V276&\" : \"&V278&\")\",V278),CHOOSE(SIGN(BC246-BC244)+2,AZ244,\"(\"&AZ244&\" : \"&AZ246&\")\",AZ246))","v":"(1. Gr. B : 4. Gr. C)"},null,null,null,null,{"$f":"IF($BJ$16,CHOOSE(SIGN(T262-T260)+2,Q260,\"(\"&Q260&\" : \"&Q262&\")\",Q262),CHOOSE(SIGN(BH246-BH244)+2,BE244,\"(\"&BE244&\" : \"&BE246&\")\",BE246))","v":"((1. Gr. A : 4. Gr. B) : (2. Gr. D : 3. Gr. C))"},null,null,null,null,{"$f":"CHOOSE(SIGN(BM262-BM260)+2,BJ260,\"(\"&BJ260&\" : \"&BJ262&\")\",BJ262)","v":"(((1. Gr. A : 4. Gr. B) : (2. Gr. D : 3. Gr. C)) : ((1. Gr. C : 4. Gr. D) : (2. Gr. B : 3. Gr. A)))"}]
[]
[null,null,null,null,null,null,null,null,null,null,null,null,null,null,null,null,{"$f":"O263","v":"4. Gr. D"},null,null,null,null,{"$f":"O263","v":"4. Gr. D"},null,null,null,null,{"$f":"O263","v":"4. Gr. D"},null,null,null,null,{"$f":"O263","v":"4. Gr. D"},null,null,null,null,{"$f":"O263","v":"4. Gr. D"},null,null,null,null,{"$f":"IF($AP$16,O263,CHOOSE(SIGN(AN510-AN508)+2,AK508,\"(\"&AK508&\" : \"&AK510&\")\",AK510))","v":"(4. Gr. B : 5. Gr. A)"},null,null,null,null,{"$f":"IF($AU$16,CHOOSE(SIGN(AI382-AI380)+2,AF380,\"(\"&AF380&\" : \"&AF382&\")\",AF382),CHOOSE(SIGN(AS254-AS252)+2,AP252,\"(\"&AP252&\" : \"&AP254&\")\",AP254))","v":"((4. Gr. B : 5. Gr. A) : (4. Gr. B : 5. Gr. A))"},null,null,null,null,{"$f":"IF($AZ$16,CHOOSE(SIGN(AD318-AD316)+2,AA316,\"(\"&AA316&\" : \"&AA318&\")\",AA318),CHOOSE(SIGN(AX254-AX252)+2,AU252,\"(\"&AU252&\" : \"&AU254&\")\",AU254))","v":"(((4. Gr. B : 5. Gr. A) : (4. Gr. B : 5. Gr. A)) : ((4. Gr. B : 5. Gr. A) : (4. Gr. B : 5. Gr. A)))"},null,null,null,null,{"$f":"IF($BE$16,CHOOSE(SIGN(Y286-Y284)+2,V284,\"(\"&V284&\" : \"&V286&\")\",V286),CHOOSE(SIGN(BC254-BC252)+2,AZ252,\"(\"&AZ252&\" : \"&AZ254&\")\",AZ254))","v":"(2. Gr. A : 3. Gr. D)"},null,null,null,null,{"$f":"IF($BJ$16,CHOOSE(SIGN(T270-T268)+2,Q268,\"(\"&Q268&\" : \"&Q270&\")\",Q270),CHOOSE(SIGN(BH254-BH252)+2,BE252,\"(\"&BE252&\" : \"&BE254&\")\",BE254))","v":"((1. Gr. C : 4. Gr. D) : (2. Gr. B : 3. Gr. A))"},null,null,null,null,{"$f":"CHOOSE(SIGN(BM270-BM268)+2,BJ268,\"(\"&BJ268&\" : \"&BJ270&\")\",BJ270)","v":"(((1. Gr. B : 4. Gr. C) : (2. Gr. A : 3. Gr. D)) : ((1. Gr. D : 4. Gr. A) : (2. Gr. C : 3. Gr. B)))"},null,null,null,null,2,{"$f":"IF(BR260>BR262,BO262,IF(BR260<BR262,BO260,\"\"))","v":""}]
[null,null,null,null,null,null,null,null,null,null,null,null,null,null,{"$f":"INDEX(tbl_KO_Data[T2 Src Rank],K258) & \". Gr. \" & INDEX(tbl_KO_Data[T2 Src Group],K258)","v":"4. Gr. D"}]
[]
[]
[null,null,null,1,4,5,12,21,44,null,{"$f":"KO_Data_1row+INDEX(D266:I266,KO_Rounds_Ind)","v":300},null,null,null,null,null,"K_04_A4","field x","best of n",0,null,"K_08_A5","field x","best of n",0,null,"K_16_A12","field x","best of n",0,null,"K_32_A21","field x","best of n",0,null,"K_64_A44","field x","best of n",0,null,"K_32_A22","field x","best of n",0,null,"K_16_A11","field x","best of n",0,null,"K_08_A6","field x","best of n",0,null,"K_04_A3","field x","best of n",0,null,"K_02_A2","field x","best of n",0,null,"K_01_003","field x","best of n",0,null,3,{"$f":"IF(BR268>BR270,BO268,IF(BR268<BR270,BO270,\"\"))","v":""}]
[null,null,null,null,null,null,null,null,null,null,null,null,null,null,{"$f":"INDEX(tbl_KO_Data[T1 Src Rank],K266) & \". Gr. \" & INDEX(tbl_KO_Data[T1 Src Group],K266)","v":"2. Gr. B"}]
[null,null,null,null,null,null,null,null,null,null,null,null,null,null,null,null,{"$f":"O267","v":"2. Gr. B"},null,null,null,null,{"$f":"O267","v":"2. Gr. B"},null,null,null,null,{"$f":"O267","v":"2. Gr. B"},null,null,null,null,{"$f":"O267","v":"2. Gr. B"},null,null,null,null,{"$f":"O267","v":"2. Gr. B"},null,null,null,null,{"$f":"IF($AP$16,O267,CHOOSE(SIGN(AN518-AN516)+2,AK516,\"(\"&AK516&\" : \"&AK518&\")\",AK518))","v":"(4. Gr. B : 5. Gr. A)"},null,null,null,null,{"$f":"IF($AU$16,CHOOSE(SIGN(AI390-AI388)+2,AF388,\"(\"&AF388&\" : \"&AF390&\")\",AF390),CHOOSE(SIGN(AS262-AS260)+2,AP260,\"(\"&AP260&\" : \"&AP262&\")\",AP262))","v":"((4. Gr. B : 5. Gr. A) : (4. Gr. B : 5. Gr. A))"},null,null,null,null,{"$f":"IF($AZ$16,CHOOSE(SIGN(AD326-AD324)+2,AA324,\"(\"&AA324&\" : \"&AA326&\")\",AA326),CHOOSE(SIGN(AX262-AX260)+2,AU260,\"(\"&AU260&\" : \"&AU262&\")\",AU262))","v":"(((4. Gr. B : 5. Gr. A) : (4. Gr. B : 5. Gr. A)) : ((4. Gr. B : 5. Gr. A) : (4. Gr. B : 5. Gr. A)))"},null,null,null,null,{"$f":"IF($BE$16,CHOOSE(SIGN(Y294-Y292)+2,V292,\"(\"&V292&\" : \"&V294&\")\",V294),CHOOSE(SIGN(BC262-BC260)+2,AZ260,\"(\"&AZ260&\" : \"&AZ262&\")\",AZ262))","v":"(1. Gr. D : 4. Gr. A)"},null,null,null,null,{"$f":"IF($BJ$16,CHOOSE(SIGN(T278-T276)+2,Q276,\"(\"&Q276&\" : \"&Q278&\")\",Q278),CHOOSE(SIGN(BH262-BH260)+2,BE260,\"(\"&BE260&\" : \"&BE262&\")\",BE262))","v":"((1. Gr. B : 4. Gr. C) : (2. Gr. A : 3. Gr. D))"},null,null,null,null,{"$f":"CHOOSE(SIGN(BM260-BM262)+2,BJ260,\"(\"&BJ260&\" : \"&BJ262&\")\",BJ262)","v":"(((1. Gr. A : 4. Gr. B) : (2. Gr. D : 3. Gr. C)) : ((1. Gr. C : 4. Gr. D) : (2. Gr. B : 3. Gr. A)))"}]
[]
[null,null,null,null,null,null,null,null,null,null,null,null,null,null,null,null,{"$f":"O271","v":"3. Gr. A"},null,null,null,null,{"$f":"O271","v":"3. Gr. A"},null,null,null,null,{"$f":"O271","v":"3. Gr. A"},null,null,null,null,{"$f":"O271","v":"3. Gr. A"},null,null,null,null,{"$f":"O271","v":"3. Gr. A"},null,null,null,null,{"$f":"IF($AP$16,O271,CHOOSE(SIGN(AN526-AN524)+2,AK524,\"(\"&AK524&\" : \"&AK526&\")\",AK526))","v":"(4. Gr. B : 5. Gr. A)"},null,null,null,null,{"$f":"IF($AU$16,CHOOSE(SIGN(AI398-AI396)+2,AF396,\"(\"&AF396&\" : \"&AF398&\")\",AF398),CHOOSE(SIGN(AS270-AS268)+2,AP268,\"(\"&AP268&\" : \"&AP270&\")\",AP270))","v":"((4. Gr. B : 5. Gr. A) : (4. Gr. B : 5. Gr. A))"},null,null,null,null,{"$f":"IF($AZ$16,CHOOSE(SIGN(AD334-AD332)+2,AA332,\"(\"&AA332&\" : \"&AA334&\")\",AA334),CHOOSE(SIGN(AX270-AX268)+2,AU268,\"(\"&AU268&\" : \"&AU270&\")\",AU270))","v":"(((4. Gr. B : 5. Gr. A) : (4. Gr. B : 5. Gr. A)) : ((4. Gr. B : 5. Gr. A) : (4. Gr. B : 5. Gr. A)))"},null,null,null,null,{"$f":"IF($BE$16,CHOOSE(SIGN(Y302-Y300)+2,V300,\"(\"&V300&\" : \"&V302&\")\",V302),CHOOSE(SIGN(BC270-BC268)+2,AZ268,\"(\"&AZ268&\" : \"&AZ270&\")\",AZ270))","v":"(2. Gr. C : 3. Gr. B)"},null,null,null,null,{"$f":"IF($BJ$16,CHOOSE(SIGN(T286-T284)+2,Q284,\"(\"&Q284&\" : \"&Q286&\")\",Q286),CHOOSE(SIGN(BH270-BH268)+2,BE268,\"(\"&BE268&\" : \"&BE270&\")\",BE270))","v":"((1. Gr. D : 4. Gr. A) : (2. Gr. C : 3. Gr. B))"},null,null,null,null,{"$f":"CHOOSE(SIGN(BM268-BM270)+2,BJ268,\"(\"&BJ268&\" : \"&BJ270&\")\",BJ270)","v":"(((1. Gr. B : 4. Gr. C) : (2. Gr. A : 3. Gr. D)) : ((1. Gr. D : 4. Gr. A) : (2. Gr. C : 3. Gr. B)))"},null,null,null,null,4,{"$f":"IF(BR268>BR270,BO270,IF(BR268<BR270,BO268,\"\"))","v":""}]
[null,null,null,null,null,null,null,null,null,null,null,null,null,null,{"$f":"INDEX(tbl_KO_Data[T2 Src Rank],K266) & \". Gr. \" & INDEX(tbl_KO_Data[T2 Src Group],K266)","v":"3. Gr. A"}]
[]
[]
[null,null,null,2,2,2,2,2,2,null,{"$f":"KO_Data_1row+INDEX(D274:I274,KO_Rounds_Ind)","v":297},null,null,null,null,null,"K_04_A2","field x","best of n",0,null,"K_08_A2","field x","best of n",0,null,"K_16_A02","field x","best of n",0,null,"K_32_A02","field x","best of n",0,null,"K_64_A02","field x","best of n",0,null,"K_32_B01","field x","best of n",0,null,{"$f":"\"K_16_\"&$AV$16&\"01\"","v":"K_16_001"},"field x","best of n",0,null,{"$f":"\"K_08_\"&$BA$16&1","v":"K_08_01"},"field x","best of n",0,null,{"$f":"\"K_04_\"&$BF$16&1","v":"K_04_B1"},"field x","best of n",0,null,{"$f":"\"K_02_\"&$BK$16&\"1\"","v":"K_02_C1"},"field x","best of n",0,null,{"$f":"\"K_01_\"&TEXT($BP$16,\"000\")","v":"K_01_009"},"field x","best of n",0,null,{"$f":"BP16","v":9},{"$f":"IF(BR276>BR278,BO276,IF(BR276<BR278,BO278,\"\"))","v":""}]
[null,null,null,null,null,null,null,null,null,null,null,null,null,null,{"$f":"INDEX(tbl_KO_Data[T1 Src Rank],K274) & \". Gr. \" & INDEX(tbl_KO_Data[T1 Src Group],K274)","v":"1. Gr. B"}]
[null,null,null,null,null,null,null,null,null,null,null,null,null,null,null,null,{"$f":"O275","v":"1. Gr. B"},null,null,null,null,{"$f":"O275","v":"1. Gr. B"},null,null,null,null,{"$f":"O275","v":"1. Gr. B"},null,null,null,null,{"$f":"O275","v":"1. Gr. B"},null,null,null,null,{"$f":"O275","v":"1. Gr. B"},null,null,null,null,{"$f":"CHOOSE(SIGN(AN20-AN22)+2,AK20,\"(\"&AK20&\" : \"&AK22&\")\",AK22)","v":"(4. Gr. B : 5. Gr. A)"},null,null,null,null,{"$f":"IF($AU$16,CHOOSE(SIGN(AI148-AI150)+2,AF148,\"(\"&AF148&\" : \"&AF150&\")\",AF150),CHOOSE(SIGN(AS278-AS276)+2,AP276,\"(\"&AP276&\" : \"&AP278&\")\",AP278))","v":"((4. Gr. B : 5. Gr. A) : (4. Gr. B : 5. Gr. A))"},null,null,null,null,{"$f":"IF($AZ$16,CHOOSE(SIGN(AD212-AD214)+2,AA212,\"(\"&AA212&\" : \"&AA214&\")\",AA214),CHOOSE(SIGN(AX278-AX276)+2,AU276,\"(\"&AU276&\" : \"&AU278&\")\",AU278))","v":"(((4. Gr. B : 5. Gr. A) : (4. Gr. B : 5. Gr. A)) : ((4. Gr. B : 5. Gr. A) : (4. Gr. B : 5. Gr. A)))"},null,null,null,null,{"$f":"IF($BE$16,CHOOSE(SIGN(Y244-Y246)+2,V244,\"(\"&V244&\" : \"&V246&\")\",V246),CHOOSE(SIGN(BC278-BC276)+2,AZ276,\"(\"&AZ276&\" : \"&AZ278&\")\",AZ278))","v":"(1. Gr. A : 4. Gr. B)"},null,null,null,null,{"$f":"IF($BJ$16,CHOOSE(SIGN(T260-T262)+2,Q260,\"(\"&Q260&\" : \"&Q262&\")\",Q262),CHOOSE(SIGN(BH278-BH276)+2,BE276,\"(\"&BE276&\" : \"&BE278&\")\",BE278))","v":"((1. Gr. A : 4. Gr. B) : (2. Gr. D : 3. Gr. C))"},null,null,null,null,{"$f":"CHOOSE(SIGN(BM278-BM276)+2,BJ276,\"(\"&BJ276&\" : \"&BJ278&\")\",BJ278)","v":"(((1. Gr. A : 4. Gr. B) : (2. Gr. D : 3. Gr. C)) : ((1. Gr. C : 4. Gr. D) : (2. Gr. B : 3. Gr. A)))"}]
[]
[null,null,null,null,null,null,null,null,null,null,null,null,null,null,null,null,{"$f":"O279","v":"4. Gr. C"},null,null,null,null,{"$f":"O279","v":"4. Gr. C"},null,null,null,null,{"$f":"O279","v":"4. Gr. C"},null,null,null,null,{"$f":"O279","v":"4. Gr. C"},null,null,null,null,{"$f":"O279","v":"4. Gr. C"},null,null,null,null,{"$f":"CHOOSE(SIGN(AN28-AN30)+2,AK28,\"(\"&AK28&\" : \"&AK30&\")\",AK30)","v":"(4. Gr. B : 5. Gr. A)"},null,null,null,null,{"$f":"IF($AU$16,CHOOSE(SIGN(AI156-AI158)+2,AF156,\"(\"&AF156&\" : \"&AF158&\")\",AF158),CHOOSE(SIGN(AS286-AS284)+2,AP284,\"(\"&AP284&\" : \"&AP286&\")\",AP286))","v":"((4. Gr. B : 5. Gr. A) : (4. Gr. B : 5. Gr. A))"},null,null,null,null,{"$f":"IF($AZ$16,CHOOSE(SIGN(AD220-AD222)+2,AA220,\"(\"&AA220&\" : \"&AA222&\")\",AA222),CHOOSE(SIGN(AX286-AX284)+2,AU284,\"(\"&AU284&\" : \"&AU286&\")\",AU286))","v":"(((4. Gr. B : 5. Gr. A) : (4. Gr. B : 5. Gr. A)) : ((4. Gr. B : 5. Gr. A) : (4. Gr. B : 5. Gr. A)))"},null,null,null,null,{"$f":"IF($BE$16,CHOOSE(SIGN(Y252-Y254)+2,V252,\"(\"&V252&\" : \"&V254&\")\",V254),CHOOSE(SIGN(BC286-BC284)+2,AZ284,\"(\"&AZ284&\" : \"&AZ286&\")\",AZ286))","v":"(2. Gr. D : 3. Gr. C)"},null,null,null,null,{"$f":"IF($BJ$16,CHOOSE(SIGN(T268-T270)+2,Q268,\"(\"&Q268&\" : \"&Q270&\")\",Q270),CHOOSE(SIGN(BH286-BH284)+2,BE284,\"(\"&BE284&\" : \"&BE286&\")\",BE286))","v":"((1. Gr. C : 4. Gr. D) : (2. Gr. B : 3. Gr. A))"},null,null,null,null,{"$f":"CHOOSE(SIGN(BM286-BM284)+2,BJ284,\"(\"&BJ284&\" : \"&BJ286&\")\",BJ286)","v":"(((1. Gr. B : 4. Gr. C) : (2. Gr. A : 3. Gr. D)) : ((1. Gr. D : 4. Gr. A) : (2. Gr. C : 3. Gr. B)))"},null,null,null,null,{"$f":"BT274+1","v":10},{"$f":"IF(BR276>BR278,BO278,IF(BR276<BR278,BO276,\"\"))","v":""}]
[null,null,null,null,null,null,null,null,null,null,null,null,null,null,{"$f":"INDEX(tbl_KO_Data[T2 Src Rank],K274) & \". Gr. \" & INDEX(tbl_KO_Data[T2 Src Group],K274)","v":"4. Gr. C"}]
[]
[]
[null,null,null,null,3,7,15,31,63,null,{"$f":"KO_Data_1row+INDEX(D282:I282,KO_Rounds_Ind)","v":302},null,null,null,null,null,"K_04_A3","field x","best of n",0,null,"K_08_A7","field x","best of n",0,null,"K_16_A15","field x","best of n",0,null,"K_32_A31","field x","best of n",0,null,"K_64_A63","field x","best of n",0,null,"K_32_B32","field x","best of n",0,null,{"$f":"\"K_16_\"&$AV$16&\"16\"","v":"K_16_016"},"field x","best of n",0,null,{"$f":"\"K_08_\"&$BA$16&8","v":"K_08_08"},"field x","best of n",0,null,{"$f":"\"K_04_\"&$BF$16&4","v":"K_04_B4"},"field x","best of n",0,null,{"$f":"\"K_02_\"&$BK$16&\"2\"","v":"K_02_C2"},"field x","best of n",0,null,{"$f":"\"K_01_\"&TEXT($BP$16+2,\"000\")","v":"K_01_011"},"field x","best of n",0,null,{"$f":"BT274+2","v":11},{"$f":"IF(BR284>BR286,BO284,IF(BR284<BR286,BO286,\"\"))","v":""}]
[null,null,null,null,null,null,null,null,null,null,null,null,null,null,{"$f":"INDEX(tbl_KO_Data[T1 Src Rank],K282) & \". Gr. \" & INDEX(tbl_KO_Data[T1 Src Group],K282)","v":"2. Gr. A"}]
[null,null,null,null,null,null,null,null,null,null,null,null,null,null,null,null,{"$f":"O283","v":"2. Gr. A"},null,null,null,null,{"$f":"O283","v":"2. Gr. A"},null,null,null,null,{"$f":"O283","v":"2. Gr. A"},null,null,null,null,{"$f":"O283","v":"2. Gr. A"},null,null,null,null,{"$f":"O283","v":"2. Gr. A"},null,null,null,null,{"$f":"CHOOSE(SIGN(AN36-AN38)+2,AK36,\"(\"&AK36&\" : \"&AK38&\")\",AK38)","v":"(4. Gr. B : 5. Gr. A)"},null,null,null,null,{"$f":"IF($AU$16,CHOOSE(SIGN(AI164-AI166)+2,AF164,\"(\"&AF164&\" : \"&AF166&\")\",AF166),CHOOSE(SIGN(AS294-AS292)+2,AP292,\"(\"&AP292&\" : \"&AP294&\")\",AP294))","v":"((4. Gr. B : 5. Gr. A) : (4. Gr. B : 5. Gr. A))"},null,null,null,null,{"$f":"IF($AZ$16,CHOOSE(SIGN(AD228-AD230)+2,AA228,\"(\"&AA228&\" : \"&AA230&\")\",AA230),CHOOSE(SIGN(AX294-AX292)+2,AU292,\"(\"&AU292&\" : \"&AU294&\")\",AU294))","v":"(((4. Gr. B : 5. Gr. A) : (4. Gr. B : 5. Gr. A)) : ((4. Gr. B : 5. Gr. A) : (4. Gr. B : 5. Gr. A)))"},null,null,null,null,{"$f":"IF($BE$16,CHOOSE(SIGN(Y260-Y262)+2,V260,\"(\"&V260&\" : \"&V262&\")\",V262),CHOOSE(SIGN(BC294-BC292)+2,AZ292,\"(\"&AZ292&\" : \"&AZ294&\")\",AZ294))","v":"(1. Gr. C : 4. Gr. D)"},null,null,null,null,{"$f":"IF($BJ$16,CHOOSE(SIGN(T276-T278)+2,Q276,\"(\"&Q276&\" : \"&Q278&\")\",Q278),CHOOSE(SIGN(BH294-BH292)+2,BE292,\"(\"&BE292&\" : \"&BE294&\")\",BE294))","v":"((1. Gr. B : 4. Gr. C) : (2. Gr. A : 3. Gr. D))"},null,null,null,null,{"$f":"CHOOSE(SIGN(BM276-BM278)+2,BJ276,\"(\"&BJ276&\" : \"&BJ278&\")\",BJ278)","v":"(((1. Gr. A : 4. Gr. B) : (2. Gr. D : 3. Gr. C)) : ((1. Gr. C : 4. Gr. D) : (2. Gr. B : 3. Gr. A)))"}]
[]
[null,null,null,null,null,null,null,null,null,null,null,null,null,null,null,null,{"$f":"O287","v":"3. Gr. D"},null,null,null,null,{"$f":"O287","v":"3. Gr. D"},null,null,null,null,{"$f":"O287","v":"3. Gr. D"},null,null,null,null,{"$f":"O287","v":"3. Gr. D"},null,null,null,null,{"$f":"O287","v":"3. Gr. D"},null,null,null,null,{"$f":"CHOOSE(SIGN(AN44-AN46)+2,AK44,\"(\"&AK44&\" : \"&AK46&\")\",AK46)","v":"(4. Gr. B : 5. Gr. A)"},null,null,null,null,{"$f":"IF($AU$16,CHOOSE(SIGN(AI172-AI174)+2,AF172,\"(\"&AF172&\" : \"&AF174&\")\",AF174),CHOOSE(SIGN(AS302-AS300)+2,AP300,\"(\"&AP300&\" : \"&AP302&\")\",AP302))","v":"((4. Gr. B : 5. Gr. A) : (4. Gr. B : 5. Gr. A))"},null,null,null,null,{"$f":"IF($AZ$16,CHOOSE(SIGN(AD236-AD238)+2,AA236,\"(\"&AA236&\" : \"&AA238&\")\",AA238),CHOOSE(SIGN(AX302-AX300)+2,AU300,\"(\"&AU300&\" : \"&AU302&\")\",AU302))","v":"(((4. Gr. B : 5. Gr. A) : (4. Gr. B : 5. Gr. A)) : ((4. Gr. B : 5. Gr. A) : (4. Gr. B : 5. Gr. A)))"},null,null,null,null,{"$f":"IF($BE$16,CHOOSE(SIGN(Y268-Y270)+2,V268,\"(\"&V268&\" : \"&V270&\")\",V270),CHOOSE(SIGN(BC302-BC300)+2,AZ300,\"(\"&AZ300&\" : \"&AZ302&\")\",AZ302))","v":"(2. Gr. B : 3. Gr. A)"},null,null,null,null,{"$f":"IF($BJ$16,CHOOSE(SIGN(T284-T286)+2,Q284,\"(\"&Q284&\" : \"&Q286&\")\",Q286),CHOOSE(SIGN(BH302-BH300)+2,BE300,\"(\"&BE300&\" : \"&BE302&\")\",BE302))","v":"((1. Gr. D : 4. Gr. A) : (2. Gr. C : 3. Gr. B))"},null,null,null,null,{"$f":"CHOOSE(SIGN(BM284-BM286)+2,BJ284,\"(\"&BJ284&\" : \"&BJ286&\")\",BJ286)","v":"(((1. Gr. B : 4. Gr. C) : (2. Gr. A : 3. Gr. D)) : ((1. Gr. D : 4. Gr. A) : (2. Gr. C : 3. Gr. B)))"},null,null,null,null,{"$f":"BT274+3","v":12},{"$f":"IF(BR284>BR286,BO286,IF(BR284<BR286,BO284,\"\"))","v":""}]
[null,null,null,null,null,null,null,null,null,null,null,null,null,null,{"$f":"INDEX(tbl_KO_Data[T2 Src Rank],K282) & \". Gr. \" & INDEX(tbl_KO_Data[T2 Src Group],K282)","v":"3. Gr. D"}]
[]
[]
[null,null,null,null,null,3,7,15,31,null,{"$f":"KO_Data_1row+INDEX(D290:I290,KO_Rounds_Ind)","v":298},null,null,null,null,null,null,null,null,null,null,"K_08_A3","field x","best of n",0,null,"K_16_A07","field x","best of n",0,null,"K_32_A15","field x","best of n",0,null,"K_64_A31","field x","best of n",0,null,"K_32_B16","field x","best of n",0,null,{"$f":"\"K_16_\"&$AV$16&\"08\"","v":"K_16_008"},"field x","best of n",0,null,{"$f":"\"K_08_\"&$BA$16&4","v":"K_08_04"},"field x","best of n",0,null,{"$f":"\"K_04_\"&$BF$16&2","v":"K_04_B2"},"field x","best of n",0]
[null,null,null,null,null,null,null,null,null,null,null,null,null,null,{"$f":"INDEX(tbl_KO_Data[T1 Src Rank],K290) & \". Gr. \" & INDEX(tbl_KO_Data[T1 Src Group],K290)","v":"1. Gr. D"}]
[null,null,null,null,null,null,null,null,null,null,null,null,null,null,null,null,null,null,null,null,null,{"$f":"O291","v":"1. Gr. D"},null,null,null,null,{"$f":"O291","v":"1. Gr. D"},null,null,null,null,{"$f":"O291","v":"1. Gr. D"},null,null,null,null,{"$f":"O291","v":"1. Gr. D"},null,null,null,null,{"$f":"CHOOSE(SIGN(AN52-AN54)+2,AK52,\"(\"&AK52&\" : \"&AK54&\")\",AK54)","v":"(4. Gr. B : 5. Gr. A)"},null,null,null,null,{"$f":"IF($AU$16,CHOOSE(SIGN(AI180-AI182)+2,AF180,\"(\"&AF180&\" : \"&AF182&\")\",AF182),CHOOSE(SIGN(AS310-AS308)+2,AP308,\"(\"&AP308&\" : \"&AP310&\")\",AP310))","v":"((4. Gr. B : 5. Gr. A) : (4. Gr. B : 5. Gr. A))"},null,null,null,null,{"$f":"IF($AZ$16,CHOOSE(SIGN(AD244-AD246)+2,AA244,\"(\"&AA244&\" : \"&AA246&\")\",AA246),CHOOSE(SIGN(AX310-AX308)+2,AU308,\"(\"&AU308&\" : \"&AU310&\")\",AU310))","v":"(((4. Gr. B : 5. Gr. A) : (4. Gr. B : 5. Gr. A)) : ((4. Gr. B : 5. Gr. A) : (4. Gr. B : 5. Gr. A)))"},null,null,null,null,{"$f":"IF($BE$16,CHOOSE(SIGN(Y276-Y278)+2,V276,\"(\"&V276&\" : \"&V278&\")\",V278),CHOOSE(SIGN(BC310-BC308)+2,AZ308,\"(\"&AZ308&\" : \"&AZ310&\")\",AZ310))","v":"(1. Gr. B : 4. Gr. C)"}]
[]
[null,null,null,null,null,null,null,null,null,null,null,null,null,null,null,null,null,null,null,null,null,{"$f":"O295","v":"4. Gr. A"},null,null,null,null,{"$f":"O295","v":"4. Gr. A"},null,null,null,null,{"$f":"O295","v":"4. Gr. A"},null,null,null,null,{"$f":"O295","v":"4. Gr. A"},null,null,null,null,{"$f":"CHOOSE(SIGN(AN60-AN62)+2,AK60,\"(\"&AK60&\" : \"&AK62&\")\",AK62)","v":"(4. Gr. B : 5. Gr. A)"},null,null,null,null,{"$f":"IF($AU$16,CHOOSE(SIGN(AI188-AI190)+2,AF188,\"(\"&AF188&\" : \"&AF190&\")\",AF190),CHOOSE(SIGN(AS318-AS316)+2,AP316,\"(\"&AP316&\" : \"&AP318&\")\",AP318))","v":"((4. Gr. B : 5. Gr. A) : (4. Gr. B : 5. Gr. A))"},null,null,null,null,{"$f":"IF($AZ$16,CHOOSE(SIGN(AD252-AD254)+2,AA252,\"(\"&AA252&\" : \"&AA254&\")\",AA254),CHOOSE(SIGN(AX318-AX316)+2,AU316,\"(\"&AU316&\" : \"&AU318&\")\",AU318))","v":"(((4. Gr. B : 5. Gr. A) : (4. Gr. B : 5. Gr. A)) : ((4. Gr. B : 5. Gr. A) : (4. Gr. B : 5. Gr. A)))"},null,null,null,null,{"$f":"IF($BE$16,CHOOSE(SIGN(Y284-Y286)+2,V284,\"(\"&V284&\" : \"&V286&\")\",V286),CHOOSE(SIGN(BC318-BC316)+2,AZ316,\"(\"&AZ316&\" : \"&AZ318&\")\",AZ318))","v":"(2. Gr. A : 3. Gr. D)"}]
[null,null,null,null,null,null,null,null,null,null,null,null,null,null,{"$f":"INDEX(tbl_KO_Data[T2 Src Rank],K290) & \". Gr. \" & INDEX(tbl_KO_Data[T2 Src Group],K290)","v":"4. Gr. A"}]
[]
[]
[null,null,null,null,null,6,10,18,34,null,{"$f":"KO_Data_1row+INDEX(D298:I298,KO_Rounds_Ind)","v":301},null,null,null,null,null,null,null,null,null,null,"K_08_A6","field x","best of n",0,null,"K_16_A10","field x","best of n",0,null,"K_32_A18","field x","best of n",0,null,"K_64_A34","field x","best of n",0,null,"K_32_B17","field x","best of n",0,null,{"$f":"\"K_16_\"&$AV$16&\"09\"","v":"K_16_009"},"field x","best of n",0,null,{"$f":"\"K_08_\"&$BA$16&5","v":"K_08_05"},"field x","best of n",0,null,{"$f":"\"K_04_\"&$BF$16&3","v":"K_04_B3"},"field x","best of n",0]
[null,null,null,null,null,null,null,null,null,null,null,null,null,null,{"$f":"INDEX(tbl_KO_Data[T1 Src Rank],K298) & \". Gr. \" & INDEX(tbl_KO_Data[T1 Src Group],K298)","v":"2. Gr. C"}]
[null,null,null,null,null,null,null,null,null,null,null,null,null,null,null,null,null,null,null,null,null,{"$f":"O299","v":"2. Gr. C"},null,null,null,null,{"$f":"O299","v":"2. Gr. C"},null,null,null,null,{"$f":"O299","v":"2. Gr. C"},null,null,null,null,{"$f":"O299","v":"2. Gr. C"},null,null,null,null,{"$f":"CHOOSE(SIGN(AN68-AN70)+2,AK68,\"(\"&AK68&\" : \"&AK70&\")\",AK70)","v":"(4. Gr. B : 5. Gr. A)"},null,null,null,null,{"$f":"IF($AU$16,CHOOSE(SIGN(AI196-AI198)+2,AF196,\"(\"&AF196&\" : \"&AF198&\")\",AF198),CHOOSE(SIGN(AS326-AS324)+2,AP324,\"(\"&AP324&\" : \"&AP326&\")\",AP326))","v":"((4. Gr. B : 5. Gr. A) : (4. Gr. B : 5. Gr. A))"},null,null,null,null,{"$f":"IF($AZ$16,CHOOSE(SIGN(AD260-AD262)+2,AA260,\"(\"&AA260&\" : \"&AA262&\")\",AA262),CHOOSE(SIGN(AX326-AX324)+2,AU324,\"(\"&AU324&\" : \"&AU326&\")\",AU326))","v":"(((4. Gr. B : 5. Gr. A) : (4. Gr. B : 5. Gr. A)) : ((4. Gr. B : 5. Gr. A) : (4. Gr. B : 5. Gr. A)))"},null,null,null,null,{"$f":"IF($BE$16,CHOOSE(SIGN(Y292-Y294)+2,V292,\"(\"&V292&\" : \"&V294&\")\",V294),CHOOSE(SIGN(BC326-BC324)+2,AZ324,\"(\"&AZ324&\" : \"&AZ326&\")\",AZ326))","v":"(1. Gr. D : 4. Gr. A)"}]
[]
[null,null,null,null,null,null,null,null,null,null,null,null,null,null,null,null,null,null,null,null,null,{"$f":"O303","v":"3. Gr. B"},null,null,null,null,{"$f":"O303","v":"3. Gr. B"},null,null,null,null,{"$f":"O303","v":"3. Gr. B"},null,null,null,null,{"$f":"O303","v":"3. Gr. B"},null,null,null,null,{"$f":"CHOOSE(SIGN(AN76-AN78)+2,AK76,\"(\"&AK76&\" : \"&AK78&\")\",AK78)","v":"(4. Gr. B : 5. Gr. A)"},null,null,null,null,{"$f":"IF($AU$16,CHOOSE(SIGN(AI204-AI206)+2,AF204,\"(\"&AF204&\" : \"&AF206&\")\",AF206),CHOOSE(SIGN(AS334-AS332)+2,AP332,\"(\"&AP332&\" : \"&AP334&\")\",AP334))","v":"((4. Gr. B : 5. Gr. A) : (4. Gr. B : 5. Gr. A))"},null,null,null,null,{"$f":"IF($AZ$16,CHOOSE(SIGN(AD268-AD270)+2,AA268,\"(\"&AA268&\" : \"&AA270&\")\",AA270),CHOOSE(SIGN(AX334-AX332)+2,AU332,\"(\"&AU332&\" : \"&AU334&\")\",AU334))","v":"(((1. Gr. A : 4. Gr. B) : (2. Gr. D : 3. Gr. C)) : ((1. Gr. C : 4. Gr. D) : (2. Gr. B : 3. Gr. A)))"},null,null,null,null,{"$f":"IF($BE$16,CHOOSE(SIGN(Y300-Y302)+2,V300,\"(\"&V300&\" : \"&V302&\")\",V302),CHOOSE(SIGN(BC334-BC332)+2,AZ332,\"(\"&AZ332&\" : \"&AZ334&\")\",AZ334))","v":"(2. Gr. C : 3. Gr. B)"}]
[null,null,null,null,null,null,null,null,null,null,null,null,null,null,{"$f":"INDEX(tbl_KO_Data[T2 Src Rank],K298) & \". Gr. \" & INDEX(tbl_KO_Data[T2 Src Group],K298)","v":"3. Gr. B"}]
[]
[]
[null,null,null,null,null,null,3,7,15,null,{"$f":"KO_Data_1row+INDEX(D306:I306,KO_Rounds_Ind)","v":295},null,null,null,null,null,null,null,null,null,null,null,null,null,null,null,"K_16_A03","field x","best of n",0,null,"K_32_A07","field x","best of n",0,null,"K_64_A15","field x","best of n",0,null,"K_32_B08","field x","best of n",0,null,{"$f":"\"K_16_\"&$AV$16&\"04\"","v":"K_16_004"},"field x","best of n",0,null,{"$f":"\"K_08_\"&$BA$16&2","v":"K_08_02"},"field x","best of n",0]
[null,null,null,null,null,null,null,null,null,null,null,null,null,null,{"$f":"INDEX(tbl_KO_Data[T1 Src Rank],K306) & \". Gr. \" & INDEX(tbl_KO_Data[T1 Src Group],K306)","v":"4. Gr. B"}]
[null,null,null,null,null,null,null,null,null,null,null,null,null,null,null,null,null,null,null,null,null,null,null,null,null,null,{"$f":"O307","v":"4. Gr. B"},null,null,null,null,{"$f":"O307","v":"4. Gr. B"},null,null,null,null,{"$f":"O307","v":"4. Gr. B"},null,null,null,null,{"$f":"CHOOSE(SIGN(AN84-AN86)+2,AK84,\"(\"&AK84&\" : \"&AK86&\")\",AK86)","v":"(4. Gr. B : 5. Gr. A)"},null,null,null,null,{"$f":"IF($AU$16,CHOOSE(SIGN(AI212-AI214)+2,AF212,\"(\"&AF212&\" : \"&AF214&\")\",AF214),CHOOSE(SIGN(AS342-AS340)+2,AP340,\"(\"&AP340&\" : \"&AP342&\")\",AP342))","v":"((4. Gr. B : 5. Gr. A) : (4. Gr. B : 5. Gr. A))"},null,null,null,null,{"$f":"IF($AZ$16,CHOOSE(SIGN(AD276-AD278)+2,AA276,\"(\"&AA276&\" : \"&AA278&\")\",AA278),CHOOSE(SIGN(AX342-AX340)+2,AU340,\"(\"&AU340&\" : \"&AU342&\")\",AU342))","v":"(((1. Gr. B : 4. Gr. C) : (2. Gr. A : 3. Gr. D)) : ((1. Gr. D : 4. Gr. A) : (2. Gr. C : 3. Gr. B)))"}]
[]
[null,null,null,null,null,null,null,null,null,null,null,null,null,null,null,null,null,null,null,null,null,null,null,null,null,null,{"$f":"O311","v":"5. Gr. A"},null,null,null,null,{"$f":"O311","v":"5. Gr. A"},null,null,null,null,{"$f":"O311","v":"5. Gr. A"},null,null,null,null,{"$f":"CHOOSE(SIGN(AN92-AN94)+2,AK92,\"(\"&AK92&\" : \"&AK94&\")\",AK94)","v":"(4. Gr. B : 5. Gr. A)"},null,null,null,null,{"$f":"IF($AU$16,CHOOSE(SIGN(AI220-AI222)+2,AF220,\"(\"&AF220&\" : \"&AF222&\")\",AF222),CHOOSE(SIGN(AS350-AS348)+2,AP348,\"(\"&AP348&\" : \"&AP350&\")\",AP350))","v":"((4. Gr. B : 5. Gr. A) : (4. Gr. B : 5. Gr. A))"},null,null,null,null,{"$f":"IF($AZ$16,CHOOSE(SIGN(AD284-AD286)+2,AA284,\"(\"&AA284&\" : \"&AA286&\")\",AA286),CHOOSE(SIGN(AX350-AX348)+2,AU348,\"(\"&AU348&\" : \"&AU350&\")\",AU350))","v":"(((4. Gr. B : 5. Gr. A) : (4. Gr. B : 5. Gr. A)) : ((4. Gr. B : 5. Gr. A) : (4. Gr. B : 5. Gr. A)))"}]
[null,null,null,null,null,null,null,null,null,null,null,null,null,null,{"$f":"INDEX(tbl_KO_Data[T2 Src Rank],K306) & \". Gr. \" & INDEX(tbl_KO_Data[T2 Src Group],K306)","v":"5. Gr. A"}]
[]
[]
[null,null,null,null,null,null,14,26,50,null,{"$f":"KO_Data_1row+INDEX(D314:I314,KO_Rounds_Ind)","v":295},null,null,null,null,null,null,null,null,null,null,null,null,null,null,null,"K_16_A14","field x","best of n",0,null,"K_32_A26","field x","best of n",0,null,"K_64_A50","field x","best of n",0,null,"K_32_B25","field x","best of n",0,null,{"$f":"\"K_16_\"&$AV$16&\"13\"","v":"K_16_013"},"field x","best of n",0,null,{"$f":"\"K_08_\"&$BA$16&7","v":"K_08_07"},"field x","best of n",0]
[null,null,null,null,null,null,null,null,null,null,null,null,null,null,{"$f":"INDEX(tbl_KO_Data[T1 Src Rank],K314) & \". Gr. \" & INDEX(tbl_KO_Data[T1 Src Group],K314)","v":"4. Gr. B"}]
[null,null,null,null,null,null,null,null,null,null,null,null,null,null,null,null,null,null,null,null,null,null,null,null,null,null,{"$f":"O315","v":"4. Gr. B"},null,null,null,null,{"$f":"O315","v":"4. Gr. B"},null,null,null,null,{"$f":"O315","v":"4. Gr. B"},null,null,null,null,{"$f":"CHOOSE(SIGN(AN100-AN102)+2,AK100,\"(\"&AK100&\" : \"&AK102&\")\",AK102)","v":"(4. Gr. B : 5. Gr. A)"},null,null,null,null,{"$f":"IF($AU$16,CHOOSE(SIGN(AI228-AI230)+2,AF228,\"(\"&AF228&\" : \"&AF230&\")\",AF230),CHOOSE(SIGN(AS358-AS356)+2,AP356,\"(\"&AP356&\" : \"&AP358&\")\",AP358))","v":"((4. Gr. B : 5. Gr. A) : (4. Gr. B : 5. Gr. A))"},null,null,null,null,{"$f":"IF($AZ$16,CHOOSE(SIGN(AD292-AD294)+2,AA292,\"(\"&AA292&\" : \"&AA294&\")\",AA294),CHOOSE(SIGN(AX358-AX356)+2,AU356,\"(\"&AU356&\" : \"&AU358&\")\",AU358))","v":"(((4. Gr. B : 5. Gr. A) : (4. Gr. B : 5. Gr. A)) : ((4. Gr. B : 5. Gr. A) : (4. Gr. B : 5. Gr. A)))"}]
[]
[null,null,null,null,null,null,null,null,null,null,null,null,null,null,null,null,null,null,null,null,null,null,null,null,null,null,{"$f":"O319","v":"5. Gr. A"},null,null,null,null,{"$f":"O319","v":"5. Gr. A"},null,null,null,null,{"$f":"O319","v":"5. Gr. A"},null,null,null,null,{"$f":"CHOOSE(SIGN(AN108-AN110)+2,AK108,\"(\"&AK108&\" : \"&AK110&\")\",AK110)","v":"(4. Gr. B : 5. Gr. A)"},null,null,null,null,{"$f":"IF($AU$16,CHOOSE(SIGN(AI236-AI238)+2,AF236,\"(\"&AF236&\" : \"&AF238&\")\",AF238),CHOOSE(SIGN(AS366-AS364)+2,AP364,\"(\"&AP364&\" : \"&AP366&\")\",AP366))","v":"((4. Gr. B : 5. Gr. A) : (4. Gr. B : 5. Gr. A))"},null,null,null,null,{"$f":"IF($AZ$16,CHOOSE(SIGN(AD300-AD302)+2,AA300,\"(\"&AA300&\" : \"&AA302&\")\",AA302),CHOOSE(SIGN(AX366-AX364)+2,AU364,\"(\"&AU364&\" : \"&AU366&\")\",AU366))","v":"(((4. Gr. B : 5. Gr. A) : (4. Gr. B : 5. Gr. A)) : ((4. Gr. B : 5. Gr. A) : (4. Gr. B : 5. Gr. A)))"}]
[null,null,null,null,null,null,null,null,null,null,null,null,null,null,{"$f":"INDEX(tbl_KO_Data[T2 Src Rank],K314) & \". Gr. \" & INDEX(tbl_KO_Data[T2 Src Group],K314)","v":"5. Gr. A"}]
[]
[]
[null,null,null,null,null,null,6,10,18,null,{"$f":"KO_Data_1row+INDEX(D322:I322,KO_Rounds_Ind)","v":295},null,null,null,null,null,null,null,null,null,null,null,null,null,null,null,"K_16_A06","field x","best of n",0,null,"K_32_A10","field x","best of n",0,null,"K_64_A18","field x","best of n",0,null,"K_32_B09","field x","best of n",0,null,{"$f":"\"K_16_\"&$AV$16&\"05\"","v":"K_16_005"},"field x","best of n",0,null,{"$f":"\"K_08_\"&$BA$16&3","v":"K_08_03"},"field x","best of n",0]
[null,null,null,null,null,null,null,null,null,null,null,null,null,null,{"$f":"INDEX(tbl_KO_Data[T1 Src Rank],K322) & \". Gr. \" & INDEX(tbl_KO_Data[T1 Src Group],K322)","v":"4. Gr. B"}]
[null,null,null,null,null,null,null,null,null,null,null,null,null,null,null,null,null,null,null,null,null,null,null,null,null,null,{"$f":"O323","v":"4. Gr. B"},null,null,null,null,{"$f":"O323","v":"4. Gr. B"},null,null,null,null,{"$f":"O323","v":"4. Gr. B"},null,null,null,null,{"$f":"CHOOSE(SIGN(AN116-AN118)+2,AK116,\"(\"&AK116&\" : \"&AK118&\")\",AK118)","v":"(4. Gr. B : 5. Gr. A)"},null,null,null,null,{"$f":"IF($AU$16,CHOOSE(SIGN(AI244-AI246)+2,AF244,\"(\"&AF244&\" : \"&AF246&\")\",AF246),CHOOSE(SIGN(AS374-AS372)+2,AP372,\"(\"&AP372&\" : \"&AP374&\")\",AP374))","v":"((4. Gr. B : 5. Gr. A) : (4. Gr. B : 5. Gr. A))"},null,null,null,null,{"$f":"IF($AZ$16,CHOOSE(SIGN(AD308-AD310)+2,AA308,\"(\"&AA308&\" : \"&AA310&\")\",AA310),CHOOSE(SIGN(AX374-AX372)+2,AU372,\"(\"&AU372&\" : \"&AU374&\")\",AU374))","v":"(((4. Gr. B : 5. Gr. A) : (4. Gr. B : 5. Gr. A)) : ((4. Gr. B : 5. Gr. A) : (4. Gr. B : 5. Gr. A)))"}]
[]
[null,null,null,null,null,null,null,null,null,null,null,null,null,null,null,null,null,null,null,null,null,null,null,null,null,null,{"$f":"O327","v":"5. Gr. A"},null,null,null,null,{"$f":"O327","v":"5. Gr. A"},null,null,null,null,{"$f":"O327","v":"5. Gr. A"},null,null,null,null,{"$f":"CHOOSE(SIGN(AN124-AN126)+2,AK124,\"(\"&AK124&\" : \"&AK126&\")\",AK126)","v":"(4. Gr. B : 5. Gr. A)"},null,null,null,null,{"$f":"IF($AU$16,CHOOSE(SIGN(AI252-AI254)+2,AF252,\"(\"&AF252&\" : \"&AF254&\")\",AF254),CHOOSE(SIGN(AS382-AS380)+2,AP380,\"(\"&AP380&\" : \"&AP382&\")\",AP382))","v":"((4. Gr. B : 5. Gr. A) : (4. Gr. B : 5. Gr. A))"},null,null,null,null,{"$f":"IF($AZ$16,CHOOSE(SIGN(AD316-AD318)+2,AA316,\"(\"&AA316&\" : \"&AA318&\")\",AA318),CHOOSE(SIGN(AX382-AX380)+2,AU380,\"(\"&AU380&\" : \"&AU382&\")\",AU382))","v":"(((4. Gr. B : 5. Gr. A) : (4. Gr. B : 5. Gr. A)) : ((4. Gr. B : 5. Gr. A) : (4. Gr. B : 5. Gr. A)))"}]
[null,null,null,null,null,null,null,null,null,null,null,null,null,null,{"$f":"INDEX(tbl_KO_Data[T2 Src Rank],K322) & \". Gr. \" & INDEX(tbl_KO_Data[T2 Src Group],K322)","v":"5. Gr. A"}]
[]
[]
[null,null,null,null,null,null,11,23,47,null,{"$f":"KO_Data_1row+INDEX(D330:I330,KO_Rounds_Ind)","v":295},null,null,null,null,null,null,null,null,null,null,null,null,null,null,null,"K_16_A11","field x","best of n",0,null,"K_32_A23","field x","best of n",0,null,"K_64_A47","field x","best of n",0,null,"K_32_B24","field x","best of n",0,null,{"$f":"\"K_16_\"&$AV$16&\"12\"","v":"K_16_012"},"field x","best of n",0,null,{"$f":"\"K_08_\"&$BA$16&6","v":"K_08_06"},"field x","best of n",0]
[null,null,null,null,null,null,null,null,null,null,null,null,null,null,{"$f":"INDEX(tbl_KO_Data[T1 Src Rank],K330) & \". Gr. \" & INDEX(tbl_KO_Data[T1 Src Group],K330)","v":"4. Gr. B"}]
[null,null,null,null,null,null,null,null,null,null,null,null,null,null,null,null,null,null,null,null,null,null,null,null,null,null,{"$f":"O331","v":"4. Gr. B"},null,null,null,null,{"$f":"O331","v":"4. Gr. B"},null,null,null,null,{"$f":"O331","v":"4. Gr. B"},null,null,null,null,{"$f":"CHOOSE(SIGN(AN132-AN134)+2,AK132,\"(\"&AK132&\" : \"&AK134&\")\",AK134)","v":"(4. Gr. B : 5. Gr. A)"},null,null,null,null,{"$f":"IF($AU$16,CHOOSE(SIGN(AI260-AI262)+2,AF260,\"(\"&AF260&\" : \"&AF262&\")\",AF262),CHOOSE(SIGN(AS390-AS388)+2,AP388,\"(\"&AP388&\" : \"&AP390&\")\",AP390))","v":"((1. Gr. A : 4. Gr. B) : (2. Gr. D : 3. Gr. C))"},null,null,null,null,{"$f":"IF($AZ$16,CHOOSE(SIGN(AD324-AD326)+2,AA324,\"(\"&AA324&\" : \"&AA326&\")\",AA326),CHOOSE(SIGN(AX390-AX388)+2,AU388,\"(\"&AU388&\" : \"&AU390&\")\",AU390))","v":"(((4. Gr. B : 5. Gr. A) : (4. Gr. B : 5. Gr. A)) : ((4. Gr. B : 5. Gr. A) : (4. Gr. B : 5. Gr. A)))"}]
[]
[null,null,null,null,null,null,null,null,null,null,null,null,null,null,null,null,null,null,null,null,null,null,null,null,null,null,{"$f":"O335","v":"5. Gr. A"},null,null,null,null,{"$f":"O335","v":"5. Gr. A"},null,null,null,null,{"$f":"O335","v":"5. Gr. A"},null,null,null,null,{"$f":"CHOOSE(SIGN(AN140-AN142)+2,AK140,\"(\"&AK140&\" : \"&AK142&\")\",AK142)","v":"(4. Gr. B : 5. Gr. A)"},null,null,null,null,{"$f":"IF($AU$16,CHOOSE(SIGN(AI268-AI270)+2,AF268,\"(\"&AF268&\" : \"&AF270&\")\",AF270),CHOOSE(SIGN(AS398-AS396)+2,AP396,\"(\"&AP396&\" : \"&AP398&\")\",AP398))","v":"((1. Gr. C : 4. Gr. D) : (2. Gr. B : 3. Gr. A))"},null,null,null,null,{"$f":"IF($AZ$16,CHOOSE(SIGN(AD332-AD334)+2,AA332,\"(\"&AA332&\" : \"&AA334&\")\",AA334),CHOOSE(SIGN(AX398-AX396)+2,AU396,\"(\"&AU396&\" : \"&AU398&\")\",AU398))","v":"(((4. Gr. B : 5. Gr. A) : (4. Gr. B : 5. Gr. A)) : ((4. Gr. B : 5. Gr. A) : (4. Gr. B : 5. Gr. A)))"}]
[null,null,null,null,null,null,null,null,null,null,null,null,null,null,{"$f":"INDEX(tbl_KO_Data[T2 Src Rank],K330) & \". Gr. \" & INDEX(tbl_KO_Data[T2 Src Group],K330)","v":"5. Gr. A"}]
[]
[]
[null,null,null,null,null,null,null,3,7,null,{"$f":"KO_Data_1row+INDEX(D338:I338,KO_Rounds_Ind)","v":295},null,null,null,null,null,null,null,null,null,null,null,null,null,null,null,null,null,null,null,null,"K_32_A03","field x","best of n",0,null,"K_64_A07","field x","best of n",0,null,"K_32_B04","field x","best of n",0,null,{"$f":"\"K_16_\"&$AV$16&\"02\"","v":"K_16_002"},"field x","best of n",0]
[null,null,null,null,null,null,null,null,null,null,null,null,null,null,{"$f":"INDEX(tbl_KO_Data[T1 Src Rank],K338) & \". Gr. \" & INDEX(tbl_KO_Data[T1 Src Group],K338)","v":"4. Gr. B"}]
[null,null,null,null,null,null,null,null,null,null,null,null,null,null,null,null,null,null,null,null,null,null,null,null,null,null,null,null,null,null,null,{"$f":"O339","v":"4. Gr. B"},null,null,null,null,{"$f":"O339","v":"4. Gr. B"},null,null,null,null,{"$f":"CHOOSE(SIGN(AN148-AN150)+2,AK148,\"(\"&AK148&\" : \"&AK150&\")\",AK150)","v":"(4. Gr. B : 5. Gr. A)"},null,null,null,null,{"$f":"IF($AU$16,CHOOSE(SIGN(AI276-AI278)+2,AF276,\"(\"&AF276&\" : \"&AF278&\")\",AF278),CHOOSE(SIGN(AS406-AS404)+2,AP404,\"(\"&AP404&\" : \"&AP406&\")\",AP406))","v":"((1. Gr. B : 4. Gr. C) : (2. Gr. A : 3. Gr. D))"}]
[]
[null,null,null,null,null,null,null,null,null,null,null,null,null,null,null,null,null,null,null,null,null,null,null,null,null,null,null,null,null,null,null,{"$f":"O343","v":"5. Gr. A"},null,null,null,null,{"$f":"O343","v":"5. Gr. A"},null,null,null,null,{"$f":"CHOOSE(SIGN(AN156-AN158)+2,AK156,\"(\"&AK156&\" : \"&AK158&\")\",AK158)","v":"(4. Gr. B : 5. Gr. A)"},null,null,null,null,{"$f":"IF($AU$16,CHOOSE(SIGN(AI284-AI286)+2,AF284,\"(\"&AF284&\" : \"&AF286&\")\",AF286),CHOOSE(SIGN(AS414-AS412)+2,AP412,\"(\"&AP412&\" : \"&AP414&\")\",AP414))","v":"((1. Gr. D : 4. Gr. A) : (2. Gr. C : 3. Gr. B))"}]
[null,null,null,null,null,null,null,null,null,null,null,null,null,null,{"$f":"INDEX(tbl_KO_Data[T2 Src Rank],K338) & \". Gr. \" & INDEX(tbl_KO_Data[T2 Src Group],K338)","v":"5. Gr. A"}]
[]
[]
[null,null,null,null,null,null,null,30,58,null,{"$f":"KO_Data_1row+INDEX(D346:I346,KO_Rounds_Ind)","v":295},null,null,null,null,null,null,null,null,null,null,null,null,null,null,null,null,null,null,null,null,"K_32_A30","field x","best of n",0,null,"K_64_A58","field x","best of n",0,null,"K_32_B29","field x","best of n",0,null,{"$f":"\"K_16_\"&$AV$16&\"15\"","v":"K_16_015"},"field x","best of n",0]
[null,null,null,null,null,null,null,null,null,null,null,null,null,null,{"$f":"INDEX(tbl_KO_Data[T1 Src Rank],K346) & \". Gr. \" & INDEX(tbl_KO_Data[T1 Src Group],K346)","v":"4. Gr. B"}]
[null,null,null,null,null,null,null,null,null,null,null,null,null,null,null,null,null,null,null,null,null,null,null,null,null,null,null,null,null,null,null,{"$f":"O347","v":"4. Gr. B"},null,null,null,null,{"$f":"O347","v":"4. Gr. B"},null,null,null,null,{"$f":"CHOOSE(SIGN(AN164-AN166)+2,AK164,\"(\"&AK164&\" : \"&AK166&\")\",AK166)","v":"(4. Gr. B : 5. Gr. A)"},null,null,null,null,{"$f":"IF($AU$16,CHOOSE(SIGN(AI292-AI294)+2,AF292,\"(\"&AF292&\" : \"&AF294&\")\",AF294),CHOOSE(SIGN(AS422-AS420)+2,AP420,\"(\"&AP420&\" : \"&AP422&\")\",AP422))","v":"((4. Gr. B : 5. Gr. A) : (4. Gr. B : 5. Gr. A))"}]
[]
[null,null,null,null,null,null,null,null,null,null,null,null,null,null,null,null,null,null,null,null,null,null,null,null,null,null,null,null,null,null,null,{"$f":"O351","v":"5. Gr. A"},null,null,null,null,{"$f":"O351","v":"5. Gr. A"},null,null,null,null,{"$f":"CHOOSE(SIGN(AN172-AN174)+2,AK172,\"(\"&AK172&\" : \"&AK174&\")\",AK174)","v":"(4. Gr. B : 5. Gr. A)"},null,null,null,null,{"$f":"IF($AU$16,CHOOSE(SIGN(AI300-AI302)+2,AF300,\"(\"&AF300&\" : \"&AF302&\")\",AF302),CHOOSE(SIGN(AS430-AS428)+2,AP428,\"(\"&AP428&\" : \"&AP430&\")\",AP430))","v":"((4. Gr. B : 5. Gr. A) : (4. Gr. B : 5. Gr. A))"}]
[null,null,null,null,null,null,null,null,null,null,null,null,null,null,{"$f":"INDEX(tbl_KO_Data[T2 Src Rank],K346) & \". Gr. \" & INDEX(tbl_KO_Data[T2 Src Group],K346)","v":"5. Gr. A"}]
[]
[]
[null,null,null,null,null,null,null,14,26,null,{"$f":"KO_Data_1row+INDEX(D354:I354,KO_Rounds_Ind)","v":295},null,null,null,null,null,null,null,null,null,null,null,null,null,null,null,null,null,null,null,null,"K_32_A14","field x","best of n",0,null,"K_64_A26","field x","best of n",0,null,"K_32_B13","field x","best of n",0,null,{"$f":"\"K_16_\"&$AV$16&\"07\"","v":"K_16_007"},"field x","best of n",0]
[null,null,null,null,null,null,null,null,null,null,null,null,null,null,{"$f":"INDEX(tbl_KO_Data[T1 Src Rank],K354) & \". Gr. \" & INDEX(tbl_KO_Data[T1 Src Group],K354)","v":"4. Gr. B"}]
[null,null,null,null,null,null,null,null,null,null,null,null,null,null,null,null,null,null,null,null,null,null,null,null,null,null,null,null,null,null,null,{"$f":"O355","v":"4. Gr. B"},null,null,null,null,{"$f":"O355","v":"4. Gr. B"},null,null,null,null,{"$f":"CHOOSE(SIGN(AN180-AN182)+2,AK180,\"(\"&AK180&\" : \"&AK182&\")\",AK182)","v":"(4. Gr. B : 5. Gr. A)"},null,null,null,null,{"$f":"IF($AU$16,CHOOSE(SIGN(AI308-AI310)+2,AF308,\"(\"&AF308&\" : \"&AF310&\")\",AF310),CHOOSE(SIGN(AS438-AS436)+2,AP436,\"(\"&AP436&\" : \"&AP438&\")\",AP438))","v":"((4. Gr. B : 5. Gr. A) : (4. Gr. B : 5. Gr. A))"}]
[]
[null,null,null,null,null,null,null,null,null,null,null,null,null,null,null,null,null,null,null,null,null,null,null,null,null,null,null,null,null,null,null,{"$f":"O359","v":"5. Gr. A"},null,null,null,null,{"$f":"O359","v":"5. Gr. A"},null,null,null,null,{"$f":"CHOOSE(SIGN(AN188-AN190)+2,AK188,\"(\"&AK188&\" : \"&AK190&\")\",AK190)","v":"(4. Gr. B : 5. Gr. A)"},null,null,null,null,{"$f":"IF($AU$16,CHOOSE(SIGN(AI316-AI318)+2,AF316,\"(\"&AF316&\" : \"&AF318&\")\",AF318),CHOOSE(SIGN(AS446-AS444)+2,AP444,\"(\"&AP444&\" : \"&AP446&\")\",AP446))","v":"((4. Gr. B : 5. Gr. A) : (4. Gr. B : 5. Gr. A))"}]
[null,null,null,null,null,null,null,null,null,null,null,null,null,null,{"$f":"INDEX(tbl_KO_Data[T2 Src Rank],K354) & \". Gr. \" & INDEX(tbl_KO_Data[T2 Src Group],K354)","v":"5. Gr. A"}]
[]
[]
[null,null,null,null,null,null,null,19,39,null,{"$f":"KO_Data_1row+INDEX(D362:I362,KO_Rounds_Ind)","v":295},null,null,null,null,null,null,null,null,null,null,null,null,null,null,null,null,null,null,null,null,"K_32_A19","field x","best of n",0,null,"K_64_A39","field x","best of n",0,null,"K_32_B20","field x","best of n",0,null,{"$f":"\"K_16_\"&$AV$16&\"10\"","v":"K_16_010"},"field x","best of n",0]
[null,null,null,null,null,null,null,null,null,null,null,null,null,null,{"$f":"INDEX(tbl_KO_Data[T1 Src Rank],K362) & \". Gr. \" & INDEX(tbl_KO_Data[T1 Src Group],K362)","v":"4. Gr. B"}]
[null,null,null,null,null,null,null,null,null,null,null,null,null,null,null,null,null,null,null,null,null,null,null,null,null,null,null,null,null,null,null,{"$f":"O363","v":"4. Gr. B"},null,null,null,null,{"$f":"O363","v":"4. Gr. B"},null,null,null,null,{"$f":"CHOOSE(SIGN(AN196-AN198)+2,AK196,\"(\"&AK196&\" : \"&AK198&\")\",AK198)","v":"(4. Gr. B : 5. Gr. A)"},null,null,null,null,{"$f":"IF($AU$16,CHOOSE(SIGN(AI324-AI326)+2,AF324,\"(\"&AF324&\" : \"&AF326&\")\",AF326),CHOOSE(SIGN(AS454-AS452)+2,AP452,\"(\"&AP452&\" : \"&AP454&\")\",AP454))","v":"((4. Gr. B : 5. Gr. A) : (4. Gr. B : 5. Gr. A))"}]
[]
[null,null,null,null,null,null,null,null,null,null,null,null,null,null,null,null,null,null,null,null,null,null,null,null,null,null,null,null,null,null,null,{"$f":"O367","v":"5. Gr. A"},null,null,null,null,{"$f":"O367","v":"5. Gr. A"},null,null,null,null,{"$f":"CHOOSE(SIGN(AN204-AN206)+2,AK204,\"(\"&AK204&\" : \"&AK206&\")\",AK206)","v":"(4. Gr. B : 5. Gr. A)"},null,null,null,null,{"$f":"IF($AU$16,CHOOSE(SIGN(AI332-AI334)+2,AF332,\"(\"&AF332&\" : \"&AF334&\")\",AF334),CHOOSE(SIGN(AS462-AS460)+2,AP460,\"(\"&AP460&\" : \"&AP462&\")\",AP462))","v":"((4. Gr. B : 5. Gr. A) : (4. Gr. B : 5. Gr. A))"}]
[null,null,null,null,null,null,null,null,null,null,null,null,null,null,{"$f":"INDEX(tbl_KO_Data[T2 Src Rank],K362) & \". Gr. \" & INDEX(tbl_KO_Data[T2 Src Group],K362)","v":"5. Gr. A"}]
[]
[]
[null,null,null,null,null,null,null,6,10,null,{"$f":"KO_Data_1row+INDEX(D370:I370,KO_Rounds_Ind)","v":295},null,null,null,null,null,null,null,null,null,null,null,null,null,null,null,null,null,null,null,null,"K_32_A06","field x","best of n",0,null,"K_64_A10","field x","best of n",0,null,"K_32_B05","field x","best of n",0,null,{"$f":"\"K_16_\"&$AV$16&\"03\"","v":"K_16_003"},"field x","best of n",0]
[null,null,null,null,null,null,null,null,null,null,null,null,null,null,{"$f":"INDEX(tbl_KO_Data[T1 Src Rank],K370) & \". Gr. \" & INDEX(tbl_KO_Data[T1 Src Group],K370)","v":"4. Gr. B"}]
[null,null,null,null,null,null,null,null,null,null,null,null,null,null,null,null,null,null,null,null,null,null,null,null,null,null,null,null,null,null,null,{"$f":"O371","v":"4. Gr. B"},null,null,null,null,{"$f":"O371","v":"4. Gr. B"},null,null,null,null,{"$f":"CHOOSE(SIGN(AN212-AN214)+2,AK212,\"(\"&AK212&\" : \"&AK214&\")\",AK214)","v":"(4. Gr. B : 5. Gr. A)"},null,null,null,null,{"$f":"IF($AU$16,CHOOSE(SIGN(AI340-AI342)+2,AF340,\"(\"&AF340&\" : \"&AF342&\")\",AF342),CHOOSE(SIGN(AS470-AS468)+2,AP468,\"(\"&AP468&\" : \"&AP470&\")\",AP470))","v":"((4. Gr. B : 5. Gr. A) : (4. Gr. B : 5. Gr. A))"}]
[]
[null,null,null,null,null,null,null,null,null,null,null,null,null,null,null,null,null,null,null,null,null,null,null,null,null,null,null,null,null,null,null,{"$f":"O375","v":"5. Gr. A"},null,null,null,null,{"$f":"O375","v":"5. Gr. A"},null,null,null,null,{"$f":"CHOOSE(SIGN(AN220-AN222)+2,AK220,\"(\"&AK220&\" : \"&AK222&\")\",AK222)","v":"(4. Gr. B : 5. Gr. A)"},null,null,null,null,{"$f":"IF($AU$16,CHOOSE(SIGN(AI348-AI350)+2,AF348,\"(\"&AF348&\" : \"&AF350&\")\",AF350),CHOOSE(SIGN(AS478-AS476)+2,AP476,\"(\"&AP476&\" : \"&AP478&\")\",AP478))","v":"((4. Gr. B : 5. Gr. A) : (4. Gr. B : 5. Gr. A))"}]
[null,null,null,null,null,null,null,null,null,null,null,null,null,null,{"$f":"INDEX(tbl_KO_Data[T2 Src Rank],K370) & \". Gr. \" & INDEX(tbl_KO_Data[T2 Src Group],K370)","v":"5. Gr. A"}]
[]
[]
[null,null,null,null,null,null,null,27,55,null,{"$f":"KO_Data_1row+INDEX(D378:I378,KO_Rounds_Ind)","v":295},null,null,null,null,null,null,null,null,null,null,null,null,null,null,null,null,null,null,null,null,"K_32_A27","field x","best of n",0,null,"K_64_A55","field x","best of n",0,null,"K_32_B28","field x","best of n",0,null,{"$f":"\"K_16_\"&$AV$16&\"14\"","v":"K_16_014"},"field x","best of n",0]
[null,null,null,null,null,null,null,null,null,null,null,null,null,null,{"$f":"INDEX(tbl_KO_Data[T1 Src Rank],K378) & \". Gr. \" & INDEX(tbl_KO_Data[T1 Src Group],K378)","v":"4. Gr. B"}]
[null,null,null,null,null,null,null,null,null,null,null,null,null,null,null,null,null,null,null,null,null,null,null,null,null,null,null,null,null,null,null,{"$f":"O379","v":"4. Gr. B"},null,null,null,null,{"$f":"O379","v":"4. Gr. B"},null,null,null,null,{"$f":"CHOOSE(SIGN(AN228-AN230)+2,AK228,\"(\"&AK228&\" : \"&AK230&\")\",AK230)","v":"(4. Gr. B : 5. Gr. A)"},null,null,null,null,{"$f":"IF($AU$16,CHOOSE(SIGN(AI356-AI358)+2,AF356,\"(\"&AF356&\" : \"&AF358&\")\",AF358),CHOOSE(SIGN(AS486-AS484)+2,AP484,\"(\"&AP484&\" : \"&AP486&\")\",AP486))","v":"((4. Gr. B : 5. Gr. A) : (4. Gr. B : 5. Gr. A))"}]
[]
[null,null,null,null,null,null,null,null,null,null,null,null,null,null,null,null,null,null,null,null,null,null,null,null,null,null,null,null,null,null,null,{"$f":"O383","v":"5. Gr. A"},null,null,null,null,{"$f":"O383","v":"5. Gr. A"},null,null,null,null,{"$f":"CHOOSE(SIGN(AN236-AN238)+2,AK236,\"(\"&AK236&\" : \"&AK238&\")\",AK238)","v":"(4. Gr. B : 5. Gr. A)"},null,null,null,null,{"$f":"IF($AU$16,CHOOSE(SIGN(AI364-AI366)+2,AF364,\"(\"&AF364&\" : \"&AF366&\")\",AF366),CHOOSE(SIGN(AS494-AS492)+2,AP492,\"(\"&AP492&\" : \"&AP494&\")\",AP494))","v":"((4. Gr. B : 5. Gr. A) : (4. Gr. B : 5. Gr. A))"}]
[null,null,null,null,null,null,null,null,null,null,null,null,null,null,{"$f":"INDEX(tbl_KO_Data[T2 Src Rank],K378) & \". Gr. \" & INDEX(tbl_KO_Data[T2 Src Group],K378)","v":"5. Gr. A"}]
[]
[]
[null,null,null,null,null,null,null,11,23,null,{"$f":"KO_Data_1row+INDEX(D386:I386,KO_Rounds_Ind)","v":295},null,null,null,null,null,null,null,null,null,null,null,null,null,null,null,null,null,null,null,null,"K_32_A11","field x","best of n",0,null,"K_64_A23","field x","best of n",0,null,"K_32_B12","field x","best of n",0,null,{"$f":"\"K_16_\"&$AV$16&\"06\"","v":"K_16_006"},"field x","best of n",0]
[null,null,null,null,null,null,null,null,null,null,null,null,null,null,{"$f":"INDEX(tbl_KO_Data[T1 Src Rank],K386) & \". Gr. \" & INDEX(tbl_KO_Data[T1 Src Group],K386)","v":"4. Gr. B"}]
[null,null,null,null,null,null,null,null,null,null,null,null,null,null,null,null,null,null,null,null,null,null,null,null,null,null,null,null,null,null,null,{"$f":"O387","v":"4. Gr. B"},null,null,null,null,{"$f":"O387","v":"4. Gr. B"},null,null,null,null,{"$f":"CHOOSE(SIGN(AN244-AN246)+2,AK244,\"(\"&AK244&\" : \"&AK246&\")\",AK246)","v":"(1. Gr. A : 4. Gr. B)"},null,null,null,null,{"$f":"IF($AU$16,CHOOSE(SIGN(AI372-AI374)+2,AF372,\"(\"&AF372&\" : \"&AF374&\")\",AF374),CHOOSE(SIGN(AS502-AS500)+2,AP500,\"(\"&AP500&\" : \"&AP502&\")\",AP502))","v":"((4. Gr. B : 5. Gr. A) : (4. Gr. B : 5. Gr. A))"}]
[]
[null,null,null,null,null,null,null,null,null,null,null,null,null,null,null,null,null,null,null,null,null,null,null,null,null,null,null,null,null,null,null,{"$f":"O391","v":"5. Gr. A"},null,null,null,null,{"$f":"O391","v":"5. Gr. A"},null,null,null,null,{"$f":"CHOOSE(SIGN(AN252-AN254)+2,AK252,\"(\"&AK252&\" : \"&AK254&\")\",AK254)","v":"(2. Gr. D : 3. Gr. C)"},null,null,null,null,{"$f":"IF($AU$16,CHOOSE(SIGN(AI380-AI382)+2,AF380,\"(\"&AF380&\" : \"&AF382&\")\",AF382),CHOOSE(SIGN(AS510-AS508)+2,AP508,\"(\"&AP508&\" : \"&AP510&\")\",AP510))","v":"((4. Gr. B : 5. Gr. A) : (4. Gr. B : 5. Gr. A))"}]
[null,null,null,null,null,null,null,null,null,null,null,null,null,null,{"$f":"INDEX(tbl_KO_Data[T2 Src Rank],K386) & \". Gr. \" & INDEX(tbl_KO_Data[T2 Src Group],K386)","v":"5. Gr. A"}]
[]
[]
[null,null,null,null,null,null,null,22,42,null,{"$f":"KO_Data_1row+INDEX(D394:I394,KO_Rounds_Ind)","v":295},null,null,null,null,null,null,null,null,null,null,null,null,null,null,null,null,null,null,null,null,"K_32_A22","field x","best of n",0,null,"K_64_A42","field x","best of n",0,null,"K_32_B21","field x","best of n",0,null,{"$f":"\"K_16_\"&$AV$16&\"11\"","v":"K_16_011"},"field x","best of n",0]
[null,null,null,null,null,null,null,null,null,null,null,null,null,null,{"$f":"INDEX(tbl_KO_Data[T1 Src Rank],K394) & \". Gr. \" & INDEX(tbl_KO_Data[T1 Src Group],K394)","v":"4. Gr. B"}]
[null,null,null,null,null,null,null,null,null,null,null,null,null,null,null,null,null,null,null,null,null,null,null,null,null,null,null,null,null,null,null,{"$f":"O395","v":"4. Gr. B"},null,null,null,null,{"$f":"O395","v":"4. Gr. B"},null,null,null,null,{"$f":"CHOOSE(SIGN(AN260-AN262)+2,AK260,\"(\"&AK260&\" : \"&AK262&\")\",AK262)","v":"(1. Gr. C : 4. Gr. D)"},null,null,null,null,{"$f":"IF($AU$16,CHOOSE(SIGN(AI388-AI390)+2,AF388,\"(\"&AF388&\" : \"&AF390&\")\",AF390),CHOOSE(SIGN(AS518-AS516)+2,AP516,\"(\"&AP516&\" : \"&AP518&\")\",AP518))","v":"((4. Gr. B : 5. Gr. A) : (4. Gr. B : 5. Gr. A))"}]
[]
[null,null,null,null,null,null,null,null,null,null,null,null,null,null,null,null,null,null,null,null,null,null,null,null,null,null,null,null,null,null,null,{"$f":"O399","v":"5. Gr. A"},null,null,null,null,{"$f":"O399","v":"5. Gr. A"},null,null,null,null,{"$f":"CHOOSE(SIGN(AN268-AN270)+2,AK268,\"(\"&AK268&\" : \"&AK270&\")\",AK270)","v":"(2. Gr. B : 3. Gr. A)"},null,null,null,null,{"$f":"IF($AU$16,CHOOSE(SIGN(AI396-AI398)+2,AF396,\"(\"&AF396&\" : \"&AF398&\")\",AF398),CHOOSE(SIGN(AS526-AS524)+2,AP524,\"(\"&AP524&\" : \"&AP526&\")\",AP526))","v":"((4. Gr. B : 5. Gr. A) : (4. Gr. B : 5. Gr. A))"}]
[null,null,null,null,null,null,null,null,null,null,null,null,null,null,{"$f":"INDEX(tbl_KO_Data[T2 Src Rank],K394) & \". Gr. \" & INDEX(tbl_KO_Data[T2 Src Group],K394)","v":"5. Gr. A"}]
[]
[]
[null,null,null,null,null,null,null,null,3,null,{"$f":"KO_Data_1row+INDEX(D402:I402,KO_Rounds_Ind)","v":295},null,null,null,null,null,null,null,null,null,null,null,null,null,null,null,null,null,null,null,null,null,null,null,null,null,"K_64_A03","field x","best of n",0,null,"K_32_B02","field x","best of n",0]
[null,null,null,null,null,null,null,null,null,null,null,null,null,null,{"$f":"INDEX(tbl_KO_Data[T1 Src Rank],K402) & \". Gr. \" & INDEX(tbl_KO_Data[T1 Src Group],K402)","v":"4. Gr. B"}]
[null,null,null,null,null,null,null,null,null,null,null,null,null,null,null,null,null,null,null,null,null,null,null,null,null,null,null,null,null,null,null,null,null,null,null,null,{"$f":"O403","v":"4. Gr. B"},null,null,null,null,{"$f":"CHOOSE(SIGN(AN276-AN278)+2,AK276,\"(\"&AK276&\" : \"&AK278&\")\",AK278)","v":"(1. Gr. B : 4. Gr. C)"}]
[]
[null,null,null,null,null,null,null,null,null,null,null,null,null,null,null,null,null,null,null,null,null,null,null,null,null,null,null,null,null,null,null,null,null,null,null,null,{"$f":"O407","v":"5. Gr. A"},null,null,null,null,{"$f":"CHOOSE(SIGN(AN284-AN286)+2,AK284,\"(\"&AK284&\" : \"&AK286&\")\",AK286)","v":"(2. Gr. A : 3. Gr. D)"}]
[null,null,null,null,null,null,null,null,null,null,null,null,null,null,{"$f":"INDEX(tbl_KO_Data[T2 Src Rank],K402) & \". Gr. \" & INDEX(tbl_KO_Data[T2 Src Group],K402)","v":"5. Gr. A"}]
[]
[]
[null,null,null,null,null,null,null,null,62,null,{"$f":"KO_Data_1row+INDEX(D410:I410,KO_Rounds_Ind)","v":295},null,null,null,null,null,null,null,null,null,null,null,null,null,null,null,null,null,null,null,null,null,null,null,null,null,"K_64_A62","field x","best of n",0,null,"K_32_B31","field x","best of n",0]
[null,null,null,null,null,null,null,null,null,null,null,null,null,null,{"$f":"INDEX(tbl_KO_Data[T1 Src Rank],K410) & \". Gr. \" & INDEX(tbl_KO_Data[T1 Src Group],K410)","v":"4. Gr. B"}]
[null,null,null,null,null,null,null,null,null,null,null,null,null,null,null,null,null,null,null,null,null,null,null,null,null,null,null,null,null,null,null,null,null,null,null,null,{"$f":"O411","v":"4. Gr. B"},null,null,null,null,{"$f":"CHOOSE(SIGN(AN292-AN294)+2,AK292,\"(\"&AK292&\" : \"&AK294&\")\",AK294)","v":"(1. Gr. D : 4. Gr. A)"}]
[]
[null,null,null,null,null,null,null,null,null,null,null,null,null,null,null,null,null,null,null,null,null,null,null,null,null,null,null,null,null,null,null,null,null,null,null,null,{"$f":"O415","v":"5. Gr. A"},null,null,null,null,{"$f":"CHOOSE(SIGN(AN300-AN302)+2,AK300,\"(\"&AK300&\" : \"&AK302&\")\",AK302)","v":"(2. Gr. C : 3. Gr. B)"}]
[null,null,null,null,null,null,null,null,null,null,null,null,null,null,{"$f":"INDEX(tbl_KO_Data[T2 Src Rank],K410) & \". Gr. \" & INDEX(tbl_KO_Data[T2 Src Group],K410)","v":"5. Gr. A"}]
[]
[]
[null,null,null,null,null,null,null,null,30,null,{"$f":"KO_Data_1row+INDEX(D418:I418,KO_Rounds_Ind)","v":295},null,null,null,null,null,null,null,null,null,null,null,null,null,null,null,null,null,null,null,null,null,null,null,null,null,"K_64_A30","field x","best of n",0,null,"K_32_B15","field x","best of n",0]
[null,null,null,null,null,null,null,null,null,null,null,null,null,null,{"$f":"INDEX(tbl_KO_Data[T1 Src Rank],K418) & \". Gr. \" & INDEX(tbl_KO_Data[T1 Src Group],K418)","v":"4. Gr. B"}]
[null,null,null,null,null,null,null,null,null,null,null,null,null,null,null,null,null,null,null,null,null,null,null,null,null,null,null,null,null,null,null,null,null,null,null,null,{"$f":"O419","v":"4. Gr. B"},null,null,null,null,{"$f":"CHOOSE(SIGN(AN308-AN310)+2,AK308,\"(\"&AK308&\" : \"&AK310&\")\",AK310)","v":"(4. Gr. B : 5. Gr. A)"}]
[]
[null,null,null,null,null,null,null,null,null,null,null,null,null,null,null,null,null,null,null,null,null,null,null,null,null,null,null,null,null,null,null,null,null,null,null,null,{"$f":"O423","v":"5. Gr. A"},null,null,null,null,{"$f":"CHOOSE(SIGN(AN316-AN318)+2,AK316,\"(\"&AK316&\" : \"&AK318&\")\",AK318)","v":"(4. Gr. B : 5. Gr. A)"}]
[null,null,null,null,null,null,null,null,null,null,null,null,null,null,{"$f":"INDEX(tbl_KO_Data[T2 Src Rank],K418) & \". Gr. \" & INDEX(tbl_KO_Data[T2 Src Group],K418)","v":"5. Gr. A"}]
[]
[]
[null,null,null,null,null,null,null,null,35,null,{"$f":"KO_Data_1row+INDEX(D426:I426,KO_Rounds_Ind)","v":295},null,null,null,null,null,null,null,null,null,null,null,null,null,null,null,null,null,null,null,null,null,null,null,null,null,"K_64_A35","field x","best of n",0,null,"K_32_B18","field x","best of n",0]
[null,null,null,null,null,null,null,null,null,null,null,null,null,null,{"$f":"INDEX(tbl_KO_Data[T1 Src Rank],K426) & \". Gr. \" & INDEX(tbl_KO_Data[T1 Src Group],K426)","v":"4. Gr. B"}]
[null,null,null,null,null,null,null,null,null,null,null,null,null,null,null,null,null,null,null,null,null,null,null,null,null,null,null,null,null,null,null,null,null,null,null,null,{"$f":"O427","v":"4. Gr. B"},null,null,null,null,{"$f":"CHOOSE(SIGN(AN324-AN326)+2,AK324,\"(\"&AK324&\" : \"&AK326&\")\",AK326)","v":"(4. Gr. B : 5. Gr. A)"}]
[]
[null,null,null,null,null,null,null,null,null,null,null,null,null,null,null,null,null,null,null,null,null,null,null,null,null,null,null,null,null,null,null,null,null,null,null,null,{"$f":"O431","v":"5. Gr. A"},null,null,null,null,{"$f":"CHOOSE(SIGN(AN332-AN334)+2,AK332,\"(\"&AK332&\" : \"&AK334&\")\",AK334)","v":"(4. Gr. B : 5. Gr. A)"}]
[null,null,null,null,null,null,null,null,null,null,null,null,null,null,{"$f":"INDEX(tbl_KO_Data[T2 Src Rank],K426) & \". Gr. \" & INDEX(tbl_KO_Data[T2 Src Group],K426)","v":"5. Gr. A"}]
[]
[]
[null,null,null,null,null,null,null,null,14,null,{"$f":"KO_Data_1row+INDEX(D434:I434,KO_Rounds_Ind)","v":295},null,null,null,null,null,null,null,null,null,null,null,null,null,null,null,null,null,null,null,null,null,null,null,null,null,"K_64_A14","field x","best of n",0,null,"K_32_B07","field x","best of n",0]
[null,null,null,null,null,null,null,null,null,null,null,null,null,null,{"$f":"INDEX(tbl_KO_Data[T1 Src Rank],K434) & \". Gr. \" & INDEX(tbl_KO_Data[T1 Src Group],K434)","v":"4. Gr. B"}]
[null,null,null,null,null,null,null,null,null,null,null,null,null,null,null,null,null,null,null,null,null,null,null,null,null,null,null,null,null,null,null,null,null,null,null,null,{"$f":"O435","v":"4. Gr. B"},null,null,null,null,{"$f":"CHOOSE(SIGN(AN340-AN342)+2,AK340,\"(\"&AK340&\" : \"&AK342&\")\",AK342)","v":"(4. Gr. B : 5. Gr. A)"}]
[]
[null,null,null,null,null,null,null,null,null,null,null,null,null,null,null,null,null,null,null,null,null,null,null,null,null,null,null,null,null,null,null,null,null,null,null,null,{"$f":"O439","v":"5. Gr. A"},null,null,null,null,{"$f":"CHOOSE(SIGN(AN348-AN350)+2,AK348,\"(\"&AK348&\" : \"&AK350&\")\",AK350)","v":"(4. Gr. B : 5. Gr. A)"}]
[null,null,null,null,null,null,null,null,null,null,null,null,null,null,{"$f":"INDEX(tbl_KO_Data[T2 Src Rank],K434) & \". Gr. \" & INDEX(tbl_KO_Data[T2 Src Group],K434)","v":"5. Gr. A"}]
[]
[]
[null,null,null,null,null,null,null,null,51,null,{"$f":"KO_Data_1row+INDEX(D442:I442,KO_Rounds_Ind)","v":295},null,null,null,null,null,null,null,null,null,null,null,null,null,null,null,null,null,null,null,null,null,null,null,null,null,"K_64_A51","field x","best of n",0,null,"K_32_B26","field x","best of n",0]
[null,null,null,null,null,null,null,null,null,null,null,null,null,null,{"$f":"INDEX(tbl_KO_Data[T1 Src Rank],K442) & \". Gr. \" & INDEX(tbl_KO_Data[T1 Src Group],K442)","v":"4. Gr. B"}]
[null,null,null,null,null,null,null,null,null,null,null,null,null,null,null,null,null,null,null,null,null,null,null,null,null,null,null,null,null,null,null,null,null,null,null,null,{"$f":"O443","v":"4. Gr. B"},null,null,null,null,{"$f":"CHOOSE(SIGN(AN356-AN358)+2,AK356,\"(\"&AK356&\" : \"&AK358&\")\",AK358)","v":"(4. Gr. B : 5. Gr. A)"}]
[]
[null,null,null,null,null,null,null,null,null,null,null,null,null,null,null,null,null,null,null,null,null,null,null,null,null,null,null,null,null,null,null,null,null,null,null,null,{"$f":"O447","v":"5. Gr. A"},null,null,null,null,{"$f":"CHOOSE(SIGN(AN364-AN366)+2,AK364,\"(\"&AK364&\" : \"&AK366&\")\",AK366)","v":"(4. Gr. B : 5. Gr. A)"}]
[null,null,null,null,null,null,null,null,null,null,null,null,null,null,{"$f":"INDEX(tbl_KO_Data[T2 Src Rank],K442) & \". Gr. \" & INDEX(tbl_KO_Data[T2 Src Group],K442)","v":"5. Gr. A"}]
[]
[]
[null,null,null,null,null,null,null,null,19,null,{"$f":"KO_Data_1row+INDEX(D450:I450,KO_Rounds_Ind)","v":295},null,null,null,null,null,null,null,null,null,null,null,null,null,null,null,null,null,null,null,null,null,null,null,null,null,"K_64_A19","field x","best of n",0,null,"K_32_B10","field x","best of n",0]
[null,null,null,null,null,null,null,null,null,null,null,null,null,null,{"$f":"INDEX(tbl_KO_Data[T1 Src Rank],K450) & \". Gr. \" & INDEX(tbl_KO_Data[T1 Src Group],K450)","v":"4. Gr. B"}]
[null,null,null,null,null,null,null,null,null,null,null,null,null,null,null,null,null,null,null,null,null,null,null,null,null,null,null,null,null,null,null,null,null,null,null,null,{"$f":"O451","v":"4. Gr. B"},null,null,null,null,{"$f":"CHOOSE(SIGN(AN372-AN374)+2,AK372,\"(\"&AK372&\" : \"&AK374&\")\",AK374)","v":"(4. Gr. B : 5. Gr. A)"}]
[]
[null,null,null,null,null,null,null,null,null,null,null,null,null,null,null,null,null,null,null,null,null,null,null,null,null,null,null,null,null,null,null,null,null,null,null,null,{"$f":"O455","v":"5. Gr. A"},null,null,null,null,{"$f":"CHOOSE(SIGN(AN380-AN382)+2,AK380,\"(\"&AK380&\" : \"&AK382&\")\",AK382)","v":"(4. Gr. B : 5. Gr. A)"}]
[null,null,null,null,null,null,null,null,null,null,null,null,null,null,{"$f":"INDEX(tbl_KO_Data[T2 Src Rank],K450) & \". Gr. \" & INDEX(tbl_KO_Data[T2 Src Group],K450)","v":"5. Gr. A"}]
[]
[]
[null,null,null,null,null,null,null,null,46,null,{"$f":"KO_Data_1row+INDEX(D458:I458,KO_Rounds_Ind)","v":295},null,null,null,null,null,null,null,null,null,null,null,null,null,null,null,null,null,null,null,null,null,null,null,null,null,"K_64_A46","field x","best of n",0,null,"K_32_B23","field x","best of n",0]
[null,null,null,null,null,null,null,null,null,null,null,null,null,null,{"$f":"INDEX(tbl_KO_Data[T1 Src Rank],K458) & \". Gr. \" & INDEX(tbl_KO_Data[T1 Src Group],K458)","v":"4. Gr. B"}]
[null,null,null,null,null,null,null,null,null,null,null,null,null,null,null,null,null,null,null,null,null,null,null,null,null,null,null,null,null,null,null,null,null,null,null,null,{"$f":"O459","v":"4. Gr. B"},null,null,null,null,{"$f":"CHOOSE(SIGN(AN388-AN390)+2,AK388,\"(\"&AK388&\" : \"&AK390&\")\",AK390)","v":"(4. Gr. B : 5. Gr. A)"}]
[]
[null,null,null,null,null,null,null,null,null,null,null,null,null,null,null,null,null,null,null,null,null,null,null,null,null,null,null,null,null,null,null,null,null,null,null,null,{"$f":"O463","v":"5. Gr. A"},null,null,null,null,{"$f":"CHOOSE(SIGN(AN396-AN398)+2,AK396,\"(\"&AK396&\" : \"&AK398&\")\",AK398)","v":"(4. Gr. B : 5. Gr. A)"}]
[null,null,null,null,null,null,null,null,null,null,null,null,null,null,{"$f":"INDEX(tbl_KO_Data[T2 Src Rank],K458) & \". Gr. \" & INDEX(tbl_KO_Data[T2 Src Group],K458)","v":"5. Gr. A"}]
[]
[]
[null,null,null,null,null,null,null,null,6,null,{"$f":"KO_Data_1row+INDEX(D466:I466,KO_Rounds_Ind)","v":295},null,null,null,null,null,null,null,null,null,null,null,null,null,null,null,null,null,null,null,null,null,null,null,null,null,"K_64_A06","field x","best of n",0,null,"K_32_B03","field x","best of n",0]
[null,null,null,null,null,null,null,null,null,null,null,null,null,null,{"$f":"INDEX(tbl_KO_Data[T1 Src Rank],K466) & \". Gr. \" & INDEX(tbl_KO_Data[T1 Src Group],K466)","v":"4. Gr. B"}]
[null,null,null,null,null,null,null,null,null,null,null,null,null,null,null,null,null,null,null,null,null,null,null,null,null,null,null,null,null,null,null,null,null,null,null,null,{"$f":"O467","v":"4. Gr. B"},null,null,null,null,{"$f":"CHOOSE(SIGN(AN404-AN406)+2,AK404,\"(\"&AK404&\" : \"&AK406&\")\",AK406)","v":"(4. Gr. B : 5. Gr. A)"}]
[]
[null,null,null,null,null,null,null,null,null,null,null,null,null,null,null,null,null,null,null,null,null,null,null,null,null,null,null,null,null,null,null,null,null,null,null,null,{"$f":"O471","v":"5. Gr. A"},null,null,null,null,{"$f":"CHOOSE(SIGN(AN412-AN414)+2,AK412,\"(\"&AK412&\" : \"&AK414&\")\",AK414)","v":"(4. Gr. B : 5. Gr. A)"}]
[null,null,null,null,null,null,null,null,null,null,null,null,null,null,{"$f":"INDEX(tbl_KO_Data[T2 Src Rank],K466) & \". Gr. \" & INDEX(tbl_KO_Data[T2 Src Group],K466)","v":"5. Gr. A"}]
[]
[]
[null,null,null,null,null,null,null,null,59,null,{"$f":"KO_Data_1row+INDEX(D474:I474,KO_Rounds_Ind)","v":295},null,null,null,null,null,null,null,null,null,null,null,null,null,null,null,null,null,null,null,null,null,null,null,null,null,"K_64_A59","field x","best of n",0,null,"K_32_B30","field x","best of n",0]
[null,null,null,null,null,null,null,null,null,null,null,null,null,null,{"$f":"INDEX(tbl_KO_Data[T1 Src Rank],K474) & \". Gr. \" & INDEX(tbl_KO_Data[T1 Src Group],K474)","v":"4. Gr. B"}]
[null,null,null,null,null,null,null,null,null,null,null,null,null,null,null,null,null,null,null,null,null,null,null,null,null,null,null,null,null,null,null,null,null,null,null,null,{"$f":"O475","v":"4. Gr. B"},null,null,null,null,{"$f":"CHOOSE(SIGN(AN420-AN422)+2,AK420,\"(\"&AK420&\" : \"&AK422&\")\",AK422)","v":"(4. Gr. B : 5. Gr. A)"}]
[]
[null,null,null,null,null,null,null,null,null,null,null,null,null,null,null,null,null,null,null,null,null,null,null,null,null,null,null,null,null,null,null,null,null,null,null,null,{"$f":"O479","v":"5. Gr. A"},null,null,null,null,{"$f":"CHOOSE(SIGN(AN428-AN430)+2,AK428,\"(\"&AK428&\" : \"&AK430&\")\",AK430)","v":"(4. Gr. B : 5. Gr. A)"}]
[null,null,null,null,null,null,null,null,null,null,null,null,null,null,{"$f":"INDEX(tbl_KO_Data[T2 Src Rank],K474) & \". Gr. \" & INDEX(tbl_KO_Data[T2 Src Group],K474)","v":"5. Gr. A"}]
[]
[]
[null,null,null,null,null,null,null,null,27,null,{"$f":"KO_Data_1row+INDEX(D482:I482,KO_Rounds_Ind)","v":295},null,null,null,null,null,null,null,null,null,null,null,null,null,null,null,null,null,null,null,null,null,null,null,null,null,"K_64_A27","field x","best of n",0,null,"K_32_B14","field x","best of n",0]
[null,null,null,null,null,null,null,null,null,null,null,null,null,null,{"$f":"INDEX(tbl_KO_Data[T1 Src Rank],K482) & \". Gr. \" & INDEX(tbl_KO_Data[T1 Src Group],K482)","v":"4. Gr. B"}]
[null,null,null,null,null,null,null,null,null,null,null,null,null,null,null,null,null,null,null,null,null,null,null,null,null,null,null,null,null,null,null,null,null,null,null,null,{"$f":"O483","v":"4. Gr. B"},null,null,null,null,{"$f":"CHOOSE(SIGN(AN436-AN438)+2,AK436,\"(\"&AK436&\" : \"&AK438&\")\",AK438)","v":"(4. Gr. B : 5. Gr. A)"}]
[]
[null,null,null,null,null,null,null,null,null,null,null,null,null,null,null,null,null,null,null,null,null,null,null,null,null,null,null,null,null,null,null,null,null,null,null,null,{"$f":"O487","v":"5. Gr. A"},null,null,null,null,{"$f":"CHOOSE(SIGN(AN444-AN446)+2,AK444,\"(\"&AK444&\" : \"&AK446&\")\",AK446)","v":"(4. Gr. B : 5. Gr. A)"}]
[null,null,null,null,null,null,null,null,null,null,null,null,null,null,{"$f":"INDEX(tbl_KO_Data[T2 Src Rank],K482) & \". Gr. \" & INDEX(tbl_KO_Data[T2 Src Group],K482)","v":"5. Gr. A"}]
[]
[]
[null,null,null,null,null,null,null,null,38,null,{"$f":"KO_Data_1row+INDEX(D490:I490,KO_Rounds_Ind)","v":295},null,null,null,null,null,null,null,null,null,null,null,null,null,null,null,null,null,null,null,null,null,null,null,null,null,"K_64_A38","field x","best of n",0,null,"K_32_B19","field x","best of n",0]
[null,null,null,null,null,null,null,null,null,null,null,null,null,null,{"$f":"INDEX(tbl_KO_Data[T1 Src Rank],K490) & \". Gr. \" & INDEX(tbl_KO_Data[T1 Src Group],K490)","v":"4. Gr. B"}]
[null,null,null,null,null,null,null,null,null,null,null,null,null,null,null,null,null,null,null,null,null,null,null,null,null,null,null,null,null,null,null,null,null,null,null,null,{"$f":"O491","v":"4. Gr. B"},null,null,null,null,{"$f":"CHOOSE(SIGN(AN452-AN454)+2,AK452,\"(\"&AK452&\" : \"&AK454&\")\",AK454)","v":"(4. Gr. B : 5. Gr. A)"}]
[]
[null,null,null,null,null,null,null,null,null,null,null,null,null,null,null,null,null,null,null,null,null,null,null,null,null,null,null,null,null,null,null,null,null,null,null,null,{"$f":"O495","v":"5. Gr. A"},null,null,null,null,{"$f":"CHOOSE(SIGN(AN460-AN462)+2,AK460,\"(\"&AK460&\" : \"&AK462&\")\",AK462)","v":"(4. Gr. B : 5. Gr. A)"}]
[null,null,null,null,null,null,null,null,null,null,null,null,null,null,{"$f":"INDEX(tbl_KO_Data[T2 Src Rank],K490) & \". Gr. \" & INDEX(tbl_KO_Data[T2 Src Group],K490)","v":"5. Gr. A"}]
[]
[]
[null,null,null,null,null,null,null,null,11,null,{"$f":"KO_Data_1row+INDEX(D498:I498,KO_Rounds_Ind)","v":295},null,null,null,null,null,null,null,null,null,null,null,null,null,null,null,null,null,null,null,null,null,null,null,null,null,"K_64_A11","field x","best of n",0,null,"K_32_B06","field x","best of n",0]
[null,null,null,null,null,null,null,null,null,null,null,null,null,null,{"$f":"INDEX(tbl_KO_Data[T1 Src Rank],K498) & \". Gr. \" & INDEX(tbl_KO_Data[T1 Src Group],K498)","v":"4. Gr. B"}]
[null,null,null,null,null,null,null,null,null,null,null,null,null,null,null,null,null,null,null,null,null,null,null,null,null,null,null,null,null,null,null,null,null,null,null,null,{"$f":"O499","v":"4. Gr. B"},null,null,null,null,{"$f":"CHOOSE(SIGN(AN468-AN470)+2,AK468,\"(\"&AK468&\" : \"&AK470&\")\",AK470)","v":"(4. Gr. B : 5. Gr. A)"}]
[]
[null,null,null,null,null,null,null,null,null,null,null,null,null,null,null,null,null,null,null,null,null,null,null,null,null,null,null,null,null,null,null,null,null,null,null,null,{"$f":"O503","v":"5. Gr. A"},null,null,null,null,{"$f":"CHOOSE(SIGN(AN476-AN478)+2,AK476,\"(\"&AK476&\" : \"&AK478&\")\",AK478)","v":"(4. Gr. B : 5. Gr. A)"}]
[null,null,null,null,null,null,null,null,null,null,null,null,null,null,{"$f":"INDEX(tbl_KO_Data[T2 Src Rank],K498) & \". Gr. \" & INDEX(tbl_KO_Data[T2 Src Group],K498)","v":"5. Gr. A"}]
[]
[]
[null,null,null,null,null,null,null,null,54,null,{"$f":"KO_Data_1row+INDEX(D506:I506,KO_Rounds_Ind)","v":295},null,null,null,null,null,null,null,null,null,null,null,null,null,null,null,null,null,null,null,null,null,null,null,null,null,"K_64_A54","field x","best of n",0,null,"K_32_B27","field x","best of n",0]
[null,null,null,null,null,null,null,null,null,null,null,null,null,null,{"$f":"INDEX(tbl_KO_Data[T1 Src Rank],K506) & \". Gr. \" & INDEX(tbl_KO_Data[T1 Src Group],K506)","v":"4. Gr. B"}]
[null,null,null,null,null,null,null,null,null,null,null,null,null,null,null,null,null,null,null,null,null,null,null,null,null,null,null,null,null,null,null,null,null,null,null,null,{"$f":"O507","v":"4. Gr. B"},null,null,null,null,{"$f":"CHOOSE(SIGN(AN484-AN486)+2,AK484,\"(\"&AK484&\" : \"&AK486&\")\",AK486)","v":"(4. Gr. B : 5. Gr. A)"}]
[]
[null,null,null,null,null,null,null,null,null,null,null,null,null,null,null,null,null,null,null,null,null,null,null,null,null,null,null,null,null,null,null,null,null,null,null,null,{"$f":"O511","v":"5. Gr. A"},null,null,null,null,{"$f":"CHOOSE(SIGN(AN492-AN494)+2,AK492,\"(\"&AK492&\" : \"&AK494&\")\",AK494)","v":"(4. Gr. B : 5. Gr. A)"}]
[null,null,null,null,null,null,null,null,null,null,null,null,null,null,{"$f":"INDEX(tbl_KO_Data[T2 Src Rank],K506) & \". Gr. \" & INDEX(tbl_KO_Data[T2 Src Group],K506)","v":"5. Gr. A"}]
[]
[]
[null,null,null,null,null,null,null,null,22,null,{"$f":"KO_Data_1row+INDEX(D514:I514,KO_Rounds_Ind)","v":295},null,null,null,null,null,null,null,null,null,null,null,null,null,null,null,null,null,null,null,null,null,null,null,null,null,"K_64_A22","field x","best of n",0,null,"K_32_B11","field x","best of n",0]
[null,null,null,null,null,null,null,null,null,null,null,null,null,null,{"$f":"INDEX(tbl_KO_Data[T1 Src Rank],K514) & \". Gr. \" & INDEX(tbl_KO_Data[T1 Src Group],K514)","v":"4. Gr. B"}]
[null,null,null,null,null,null,null,null,null,null,null,null,null,null,null,null,null,null,null,null,null,null,null,null,null,null,null,null,null,null,null,null,null,null,null,null,{"$f":"O515","v":"4. Gr. B"},null,null,null,null,{"$f":"CHOOSE(SIGN(AN500-AN502)+2,AK500,\"(\"&AK500&\" : \"&AK502&\")\",AK502)","v":"(4. Gr. B : 5. Gr. A)"}]
[]
[null,null,null,null,null,null,null,null,null,null,null,null,null,null,null,null,null,null,null,null,null,null,null,null,null,null,null,null,null,null,null,null,null,null,null,null,{"$f":"O519","v":"5. Gr. A"},null,null,null,null,{"$f":"CHOOSE(SIGN(AN508-AN510)+2,AK508,\"(\"&AK508&\" : \"&AK510&\")\",AK510)","v":"(4. Gr. B : 5. Gr. A)"}]
[null,null,null,null,null,null,null,null,null,null,null,null,null,null,{"$f":"INDEX(tbl_KO_Data[T2 Src Rank],K514) & \". Gr. \" & INDEX(tbl_KO_Data[T2 Src Group],K514)","v":"5. Gr. A"}]
[]
[]
[null,null,null,null,null,null,null,null,43,null,{"$f":"KO_Data_1row+INDEX(D522:I522,KO_Rounds_Ind)","v":295},null,null,null,null,null,null,null,null,null,null,null,null,null,null,null,null,null,null,null,null,null,null,null,null,null,"K_64_A43","field x","best of n",0,null,"K_32_B22","field x","best of n",0]
[null,null,null,null,null,null,null,null,null,null,null,null,null,null,{"$f":"INDEX(tbl_KO_Data[T1 Src Rank],K522) & \". Gr. \" & INDEX(tbl_KO_Data[T1 Src Group],K522)","v":"4. Gr. B"}]
[null,null,null,null,null,null,null,null,null,null,null,null,null,null,null,null,null,null,null,null,null,null,null,null,null,null,null,null,null,null,null,null,null,null,null,null,{"$f":"O523","v":"4. Gr. B"},null,null,null,null,{"$f":"CHOOSE(SIGN(AN516-AN518)+2,AK516,\"(\"&AK516&\" : \"&AK518&\")\",AK518)","v":"(4. Gr. B : 5. Gr. A)"}]
[]
[null,null,null,null,null,null,null,null,null,null,null,null,null,null,null,null,null,null,null,null,null,null,null,null,null,null,null,null,null,null,null,null,null,null,null,null,{"$f":"O527","v":"5. Gr. A"},null,null,null,null,{"$f":"CHOOSE(SIGN(AN524-AN526)+2,AK524,\"(\"&AK524&\" : \"&AK526&\")\",AK526)","v":"(4. Gr. B : 5. Gr. A)"}]
[null,null,null,null,null,null,null,null,null,null,null,null,null,null,{"$f":"INDEX(tbl_KO_Data[T2 Src Rank],K522) & \". Gr. \" & INDEX(tbl_KO_Data[T2 Src Group],K522)","v":"5. Gr. A"}]

{"sheet":"KO-Double","index":7,"n_rows":308,"n_cols":98,"rows_kept":308,"cut":false,"hidden":false,"merged":[[295,41,296,43],[297,41,298,43],[299,41,300,43],[301,41,302,43],[303,41,304,43],[305,41,306,43],[307,41,308,43],[225,51,226,53],[227,51,228,53],[237,46,238,47],[239,46,240,48],[241,46,242,48],[243,46,244,48],[245,46,246,48],[247,46,248,48],[249,46,250,48],[251,46,252,48],[253,46,254,48],[255,46,256,48],[257,46,258,48],[259,46,260,48],[261,46,262,48],[263,46,264,48],[269,44,270,44],[261,41,262,43],[261,44,262,44],[265,41,266,41],[265,42,266,42],[265,43,266,43],[265,44,266,44],[237,48,238,48],[275,43,276,43],[201,53,202,53],[187,51,188,53],[189,51,190,53],[217,36,218,36],[217,37,218,37],[217,38,218,38],[217,39,218,39],[209,39,210,39],[205,36,206,38],[205,39,206,39],[187,36,188,38],[187,39,188,39],[189,36,190,38],[189,39,190,39],[189,34,190,34],[291,41,292,43],[293,41,294,43],[209,37,210,37],[209,38,210,38],[267,36,268,38],[267,39,268,39],[269,36,270,38],[269,39,270,39],[259,36,260,38],[259,39,260,39],[261,36,262,38],[261,39,262,39],[265,36,266,36],[265,37,266,37],[265,38,266,38],[265,39,266,39],[251,36,252,38],[189,56,190,57],[191,56,192,58],[193,56,194,58],[195,56,196,58],[197,56,198,58],[201,56,202,58],[203,56,204,58],[205,56,206,58],[199,56,200,58],[211,51,212,52],[213,51,214,53],[215,51,216,53],[193,51,194,51],[193,52,194,52],[193,53,194,53],[181,51,182,53],[185,51,186,51],[185,54,186,54],[185,52,186,52],[185,53,186,53],[195,54,196,54],[197,54,198,54],[201,54,202,54],[187,54,188,54],[189,54,190,54],[193,54,194,54],[181,54,182,54],[203,51,204,53],[195,51,196,53],[197,51,198,53],[201,51,202,51],[201,52,202,52],[123,26,124,28],[161,26,162,26],[161,27,162,27],[161,28,162,28],[161,29,162,29],[163,26,164,28],[163,29,164,29],[165,26,166,28],[165,29,166,29],[169,26,170,26],[169,27,170,27],[169,28,170,28],[169,29,170,29],[171,26,172,28],[171,29,172,29],[139,26,140,28],[137,26,138,26],[137,27,138,27],[137,28,138,28],[137,29,138,29],[205,26,206,28],[205,29,206,29],[179,26,180,28],[179,29,180,29],[181,26,182,28],[181,29,182,29],[185,26,186,26],[185,27,186,27],[185,28,186,28],[185,29,186,29],[187,26,188,28],[187,29,188,29],[189,26,190,28],[189,29,190,29],[193,26,194,26],[193,27,194,27],[193,28,194,28],[193,29,194,29],[195,26,196,28],[195,29,196,29],[173,26,174,28],[173,29,174,29],[177,26,178,26],[177,27,178,27],[177,28,178,28],[177,29,178,29],[13,26,13,29],[145,26,146,26],[145,27,146,27],[145,28,146,28],[145,29,146,29],[147,26,148,28],[147,29,148,29],[149,26,150,28],[149,29,150,29],[153,26,154,26],[153,27,154,27],[153,28,154,28],[153,29,154,29],[155,26,156,28],[155,29,156,29],[157,26,158,28],[157,29,158,29],[97,26,98,26],[97,29,98,29],[101,26,102,28],[101,29,102,29],[105,26,106,26],[139,29,140,29],[141,26,142,28],[141,29,142,29],[121,26,122,26],[203,54,204,54],[205,51,206,53],[205,54,206,54],[253,39,254,39],[257,36,258,36],[257,37,258,37],[257,38,258,38],[257,39,258,39],[269,41,270,43],[243,36,244,38],[235,36,236,38],[235,39,236,39],[237,36,238,38],[237,39,238,39],[241,36,242,36],[241,37,242,37],[241,38,242,38],[245,36,246,38],[245,39,246,39],[249,36,250,36],[249,37,250,37],[249,38,250,38],[249,39,250,39],[217,51,218,53],[219,51,220,53],[221,51,222,53],[223,51,224,53],[211,36,212,38],[211,39,212,39],[213,36,214,38],[213,39,214,39],[209,36,210,36],[251,39,252,39],[253,36,254,38],[241,39,242,39],[227,36,228,38],[227,39,228,39],[229,36,230,38],[229,39,230,39],[233,36,234,36],[233,37,234,37],[233,38,234,38],[233,39,234,39],[243,39,244,39],[219,36,220,38],[219,39,220,39],[221,36,222,38],[221,39,222,39],[225,36,226,36],[225,37,226,37],[225,38,226,38],[225,39,226,39],[169,37,170,37],[169,38,170,38],[169,39,170,39],[155,36,156,38],[155,39,156,39],[147,36,148,38],[147,39,148,39],[149,36,150,38],[121,38,122,38],[121,39,122,39],[59,36,60,38],[59,39,60,39],[61,36,62,38],[61,39,62,39],[65,36,66,36],[65,37,66,37],[67,36,68,38],[67,39,68,39],[65,38,66,38],[69,36,70,38],[69,39,70,39],[73,36,74,36],[73,37,74,37],[73,38,74,38],[73,39,74,39],[149,39,150,39],[153,36,154,36],[153,37,154,37],[153,38,154,38],[153,39,154,39],[131,36,132,38],[139,39,140,39],[17,38,18,38],[17,39,18,39],[19,36,20,38],[19,39,20,39],[21,36,22,38],[21,39,22,39],[51,36,52,38],[51,39,52,39],[53,36,54,38],[53,39,54,39],[57,36,58,36],[57,37,58,37],[57,38,58,38],[57,39,58,39],[45,36,46,38],[45,39,46,39],[49,36,50,36],[49,37,50,37],[49,38,50,38],[49,39,50,39],[41,36,42,36],[41,37,42,37],[41,38,42,38],[41,39,42,39],[43,36,44,38],[43,39,44,39],[33,38,34,38],[33,39,34,39],[35,36,36,38],[35,39,36,39],[37,36,38,38],[37,39,38,39],[267,31,268,33],[267,34,268,34],[269,31,270,33],[269,34,270,34],[17,36,18,36],[17,37,18,37],[25,36,26,36],[25,37,26,37],[33,36,34,36],[33,37,34,37],[259,31,260,33],[259,34,260,34],[261,31,262,33],[261,34,262,34],[265,31,266,31],[265,32,266,32],[265,33,266,33],[265,34,266,34],[251,31,252,33],[251,34,252,34],[253,31,254,33],[253,34,254,34],[257,31,258,31],[257,32,258,32],[257,33,258,33],[257,34,258,34],[243,31,244,33],[243,34,244,34],[245,31,246,33],[245,34,246,34],[249,31,250,31],[249,32,250,32],[249,33,250,33],[249,34,250,34],[235,31,236,33],[235,34,236,34],[237,31,238,33],[237,34,238,34],[241,31,242,31],[241,32,242,32],[241,33,242,33],[241,34,242,34],[227,31,228,33],[227,34,228,34],[229,31,230,33],[229,34,230,34],[233,31,234,31],[233,32,234,32],[233,33,234,33],[233,34,234,34],[225,31,226,31],[225,32,226,32],[225,33,226,33],[225,34,226,34],[211,31,212,33],[211,34,212,34],[213,31,214,33],[213,34,214,34],[217,31,218,31],[217,32,218,32],[217,33,218,33],[217,34,218,34],[203,31,204,33],[203,34,204,34],[205,31,206,33],[205,34,206,34],[209,31,210,31],[209,32,210,32],[209,33,210,33],[209,34,210,34],[193,31,194,31],[193,32,194,32],[193,33,194,33],[193,34,194,34],[179,31,180,33],[179,34,180,34],[181,31,182,33],[181,34,182,34],[185,31,186,31],[185,32,186,32],[185,33,186,33],[185,34,186,34],[219,31,220,33],[219,34,220,34],[221,31,222,33],[221,34,222,34],[173,31,174,33],[173,34,174,34],[177,31,178,31],[177,32,178,32],[177,33,178,33],[177,34,178,34],[169,31,170,31],[169,32,170,32],[169,33,170,33],[169,34,170,34],[155,31,156,33],[155,34,156,34],[157,31,158,33],[157,34,158,34],[161,31,162,31],[161,32,162,32],[161,33,162,33],[161,34,162,34],[147,31,148,33],[147,34,148,34],[149,31,150,33],[149,34,150,34],[153,31,154,31],[153,32,154,32],[153,33,154,33],[153,34,154,34],[131,34,132,34],[133,31,134,33],[133,34,134,34],[137,31,138,31],[137,32,138,32],[137,33,138,33],[137,34,138,34],[117,31,118,33],[117,34,118,34],[121,31,122,31],[121,32,122,32],[121,33,122,33],[121,34,122,34],[123,31,124,33],[163,31,164,33],[163,34,164,34],[165,31,166,33],[165,34,166,34],[123,34,124,34],[107,31,108,33],[107,34,108,34],[109,31,110,33],[109,34,110,34],[113,31,114,31],[113,32,114,32],[113,33,114,33],[113,34,114,34],[65,34,66,34],[99,31,100,33],[99,34,100,34],[101,31,102,33],[101,34,102,34],[105,31,106,31],[105,32,106,32],[105,33,106,33],[105,34,106,34],[91,31,92,33],[91,34,92,34],[93,31,94,33],[93,34,94,34],[97,31,98,31],[97,32,98,32],[97,33,98,33],[83,31,84,33],[83,34,84,34],[85,31,86,33],[85,34,86,34],[89,31,90,31],[89,32,90,32],[89,33,90,33],[89,34,90,34],[49,31,50,31],[49,32,50,32],[49,33,50,33],[49,34,50,34],[35,31,36,33],[35,34,36,34],[37,31,38,33],[37,34,38,34],[41,31,42,31],[41,32,42,32],[41,33,42,33],[41,34,42,34],[75,31,76,33],[75,34,76,34],[67,31,68,33],[67,34,68,34],[69,31,70,33],[69,34,70,34],[73,31,74,31],[73,32,74,32],[73,33,74,33],[73,34,74,34],[59,31,60,33],[59,34,60,34],[61,31,62,33],[61,34,62,34],[65,31,66,31],[65,32,66,32],[65,33,66,33],[233,44,234,44],[219,41,220,43],[219,44,220,44],[221,41,222,43],[221,44,222,44],[225,41,226,41],[225,42,226,42],[225,43,226,43],[21,31,22,33],[21,34,22,34],[25,31,26,31],[25,32,26,32],[25,33,26,33],[25,34,26,34],[267,41,268,43],[267,44,268,44],[235,41,236,43],[235,44,236,44],[237,41,238,43],[237,44,238,44],[241,41,242,41],[241,42,242,42],[241,43,242,43],[241,44,242,44],[227,41,228,43],[227,44,228,44],[229,41,230,43],[229,44,230,44],[233,41,234,41],[233,42,234,42],[233,43,234,43],[51,31,52,33],[259,41,260,43],[259,44,260,44],[251,41,252,43],[251,44,252,44],[253,41,254,43],[253,44,254,44],[257,41,258,41],[257,42,258,42],[257,43,258,43],[257,44,258,44],[243,41,244,43],[243,44,244,44],[245,41,246,43],[245,44,246,44],[249,41,250,41],[249,42,250,42],[249,43,250,43],[249,44,250,44],[217,41,218,41],[217,42,218,42],[217,43,218,43],[217,44,218,44],[209,41,210,41],[209,42,210,42],[209,43,210,43],[209,44,210,44],[195,44,196,44],[197,41,198,43],[197,44,198,44],[201,41,202,41],[201,42,202,42],[201,43,202,43],[201,44,202,44],[13,31,13,34],[17,31,18,31],[17,32,18,32],[17,33,18,33],[17,34,18,34],[19,31,20,33],[51,34,52,34],[53,31,54,33],[53,34,54,34],[57,31,58,31],[57,32,58,32],[57,33,58,33],[57,34,58,34],[43,31,44,33],[43,34,44,34],[45,31,46,33],[45,34,46,34],[27,39,28,39],[29,36,30,38],[29,39,30,39],[187,41,188,43],[187,44,188,44],[189,41,190,43],[189,44,190,44],[193,41,194,41],[193,42,194,42],[193,43,194,43],[193,44,194,44],[13,41,13,44],[145,41,146,41],[145,42,146,42],[145,43,146,43],[145,44,146,44],[147,41,148,43],[147,44,148,44],[149,41,150,43],[149,44,150,44],[179,44,180,44],[181,41,182,43],[181,44,182,44],[185,41,186,41],[185,42,186,42],[185,43,186,43],[185,44,186,44],[177,41,178,41],[177,42,178,42],[177,43,178,43],[177,44,178,44],[163,41,164,43],[161,36,162,36],[161,37,162,37],[161,38,162,38],[161,39,162,39],[145,38,146,38],[145,39,146,39],[163,39,164,39],[165,36,166,38],[165,39,166,39],[169,36,170,36],[25,38,26,38],[25,39,26,39],[115,36,116,38],[123,39,124,39],[117,36,118,38],[125,39,126,39],[129,36,130,36],[129,37,130,37],[129,38,130,38],[129,39,130,39],[107,36,108,38],[115,39,116,39],[109,36,110,38],[117,39,118,39],[121,36,122,36],[121,37,122,37],[65,39,66,39],[93,36,94,38],[123,36,124,38],[125,36,126,38],[97,37,98,37],[27,36,28,38],[161,54,162,54],[149,51,150,53],[145,56,146,56],[173,41,174,43],[173,44,174,44],[145,49,146,49],[137,46,138,46],[137,47,138,47],[137,48,138,48],[155,41,156,43],[155,44,156,44],[157,41,158,43],[157,44,158,44],[161,41,162,41],[161,42,162,42],[161,43,162,43],[161,44,162,44],[137,49,138,49],[169,41,170,41],[169,42,170,42],[169,43,170,43],[169,44,170,44],[163,44,164,44],[165,41,166,43],[165,44,166,44],[163,51,164,53],[137,56,138,56],[157,51,158,53],[157,54,158,54],[161,51,162,51],[161,52,162,52],[161,53,162,53],[145,76,146,76],[145,77,146,77],[145,78,146,78],[145,79,146,79],[171,61,172,63],[171,64,172,64],[173,61,174,63],[173,64,174,64],[155,61,156,63],[155,64,156,64],[157,61,158,63],[157,64,158,64],[161,61,162,61],[161,62,162,62],[161,63,162,63],[161,64,162,64],[147,61,148,63],[147,64,148,64],[149,61,150,63],[149,64,150,64],[153,61,154,61],[153,62,154,62],[153,63,154,63],[153,64,154,64],[155,71,156,73],[155,74,156,74],[157,71,158,73],[157,74,158,74],[147,74,148,74],[149,71,150,73],[149,74,150,74],[153,71,154,71],[13,76,13,79],[137,76,138,76],[137,77,138,77],[137,78,138,78],[137,79,138,79],[139,76,140,78],[139,91,140,93],[139,94,140,94],[141,91,142,93],[141,94,142,94],[13,91,13,94],[137,91,138,91],[137,92,138,92],[137,93,138,93],[137,94,138,94],[137,69,138,69],[129,67,130,67],[129,68,130,68],[129,69,130,69],[133,66,134,68],[133,69,134,69],[13,81,13,84],[13,86,13,89],[131,66,132,68],[131,69,132,69],[147,76,148,78],[147,79,148,79],[149,76,150,78],[149,79,150,79],[13,71,13,74],[145,71,146,71],[145,72,146,72],[145,73,146,73],[145,74,146,74],[147,71,148,73],[139,79,140,79],[270,14,271,14],[266,14,267,14],[262,14,263,14],[258,14,259,14],[254,14,255,14],[250,14,251,14],[246,14,247,14],[242,14,243,14],[238,14,239,14],[234,14,235,14],[230,14,231,14],[226,14,227,14],[222,14,223,14],[218,14,219,14],[214,14,215,14],[210,14,211,14],[206,14,207,14],[202,14,203,14],[203,46,204,48],[203,49,204,49],[201,36,202,36],[198,14,199,14],[197,46,198,48],[197,49,198,49],[197,36,198,38],[197,39,198,39],[203,41,204,43],[203,44,204,44],[197,31,198,33],[197,34,198,34],[201,31,202,31],[201,32,202,32],[201,33,202,33],[201,34,202,34],[197,26,198,28],[197,29,198,29],[201,26,202,26],[201,27,202,27],[203,36,204,38],[203,39,204,39],[201,28,202,28],[201,29,202,29],[203,26,204,28],[203,29,204,29],[194,14,195,14],[195,46,196,48],[195,49,196,49],[195,36,196,38],[195,39,196,39],[193,46,194,46],[193,47,194,47],[193,48,194,48],[190,14,191,14],[189,46,190,48],[189,49,190,49],[185,49,186,49],[186,14,187,14],[187,46,188,48],[187,49,188,49],[185,36,186,36],[185,37,186,37],[185,46,186,46],[185,47,186,47],[185,48,186,48],[185,38,186,38],[185,39,186,39],[193,36,194,36],[193,37,194,37],[193,38,194,38],[193,39,194,39],[195,31,196,33],[195,34,196,34],[187,31,188,33],[187,34,188,34],[189,31,190,33],[195,41,196,43],[182,14,183,14],[181,46,182,48],[181,49,182,49],[181,36,182,38],[181,39,182,39],[177,49,178,49],[178,14,179,14],[179,46,180,48],[179,49,180,49],[179,36,180,38],[179,39,180,39],[177,46,178,46],[177,47,178,47],[177,48,178,48],[174,14,175,14],[171,56,172,58],[171,59,172,59],[173,46,174,48],[173,49,174,49],[173,56,174,58],[173,59,174,59],[179,51,180,53],[179,54,180,54],[171,36,172,38],[171,39,172,39],[173,36,174,38],[173,39,174,39],[177,36,178,36],[177,37,178,37],[177,38,178,38],[177,39,178,39],[179,41,180,43],[170,14,171,14],[171,46,172,48],[171,49,172,49],[169,46,170,46],[169,47,170,47],[169,48,170,48],[169,49,170,49],[169,56,170,56],[165,56,166,58],[165,59,166,59],[166,14,167,14],[163,46,164,48],[163,49,164,49],[163,56,164,58],[163,59,164,59],[165,46,166,48],[165,49,166,49],[163,36,164,38],[163,21,164,23],[163,24,164,24],[165,21,166,23],[165,24,166,24],[171,51,172,53],[171,54,172,54],[171,41,172,43],[171,44,172,44],[171,34,172,34],[171,21,172,23],[171,24,172,24],[169,21,170,21],[169,22,170,22],[169,23,170,23],[154,14,155,14],[155,46,156,48],[155,49,156,49],[153,49,154,49],[171,31,172,33],[169,62,170,62],[169,63,170,63],[169,64,170,64],[153,46,154,46],[153,47,154,47],[153,48,154,48],[153,41,154,41],[153,42,154,42],[153,43,154,43],[153,44,154,44],[161,49,162,49],[161,56,162,56],[161,57,162,57],[161,58,162,58],[161,59,162,59],[162,14,163,14],[161,46,162,46],[161,47,162,47],[161,48,162,48],[155,21,156,23],[155,24,156,24],[157,21,158,23],[157,24,158,24],[161,21,162,21],[161,22,162,22],[161,23,162,23],[161,24,162,24],[158,14,159,14],[150,14,151,14],[149,56,150,58],[149,59,150,59],[149,69,150,69],[149,81,150,83],[149,84,150,84],[165,61,166,63],[165,64,166,64],[147,81,148,83],[147,84,148,84],[149,46,150,48],[149,49,150,49],[147,46,148,48],[147,49,148,49],[147,56,148,58],[147,59,148,59],[147,69,148,69],[163,61,164,63],[163,64,164,64],[146,14,147,14],[145,69,146,69],[145,81,146,81],[145,82,146,82],[145,83,146,83],[145,84,146,84],[145,57,146,57],[145,58,146,58],[145,59,146,59],[145,66,146,66],[145,67,146,67],[145,68,146,68],[142,14,143,14],[142,96,143,96],[142,97,143,97],[141,66,142,68],[141,69,142,69],[141,86,142,88],[141,89,142,89],[139,86,140,88],[139,89,140,89],[141,46,142,48],[141,49,142,49],[141,56,142,58],[141,59,142,59],[138,96,139,96],[138,97,139,97],[139,46,140,48],[139,49,140,49],[139,56,140,58],[139,59,140,59],[137,86,138,86],[137,87,138,87],[137,88,138,88],[137,89,138,89],[138,14,139,14],[139,66,140,68],[139,69,140,69],[137,67,138,67],[137,68,138,68],[141,76,142,78],[141,79,142,79],[137,66,138,66],[137,22,138,22],[133,46,134,48],[133,49,134,49],[130,14,131,14],[131,46,132,48],[131,49,132,49],[129,49,130,49],[129,56,130,56],[129,57,130,57],[129,58,130,58],[129,59,130,59],[129,66,130,66],[129,21,130,21],[129,22,130,22],[129,23,130,23],[129,24,130,24],[131,21,132,23],[131,24,132,24],[133,21,134,23],[133,24,134,24],[131,39,132,39],[133,39,134,39],[129,16,130,16],[129,17,130,17],[129,46,130,46],[129,47,130,47],[129,48,130,48],[129,31,130,31],[129,32,130,32],[129,33,130,33],[129,34,130,34],[133,36,134,38],[131,31,132,33],[125,59,126,59],[121,57,122,57],[121,58,122,58],[121,59,122,59],[122,14,123,14],[123,46,124,48],[123,49,124,49],[121,46,122,46],[121,47,122,47],[121,48,122,48]],"merged_total":1408,"flags":["merged_cut"]}
[]
[null,null,null,null,null,null,null,null,null,null,null,null,null,null,{"$f":"VLOOKUP(\"txt_0000\",tbl_i18n[],Lang_Ind,FALSE)","v":"Spielsysteme für Turniere"},null,null,null,null,null,null,null,null,null,null,null,null,null,null,null,null,null,null,null,null,null,null,null,null,null,null,null,null,null,null,null,null,null,null,null,null,null,null,null,null,null,null,null,null,null,null,null,null,null,null,null,null,null,null,null,null,null,null,null,null,null,null,null,null,null,null,null,null,null,null,null,null,null,null,null,null,null,null,null,null,null,null,"created by: Walter Aust"]
[]
[null,null,null,null,null,null,null,null,null,null,null,null,"ç"]
[null,null,null,null,null,null,null,null,null,null,null,null,null,null,{"$f":"VLOOKUP(\"txt_2701\",tbl_i18n[],Lang_Ind,FALSE)","v":"Finalrunden: Darstellung eines Doppel-KO-Systems"}]
["KO_txt_lbl1",{"$f":"VLOOKUP(\"txt_2a52\",tbl_i18n[],Lang_Ind,FALSE)","v":"erforderliche Teams:"}]
["KO_txt_btn1",{"$f":"VLOOKUP(\"txt_2a58\",tbl_i18n[],Lang_Ind,FALSE)","v":"Spielergebnisse löschen"},null,null,null,null,null,null,null,null,null,null,null,null,{"$f":"VLOOKUP(\"txt_2a51\",tbl_i18n[],Lang_Ind,FALSE)","v":"Einstiegsrunde:"}]
["KO_txt_lbl2",{"$f":"VLOOKUP(\"txt_2a54\",tbl_i18n[],Lang_Ind,FALSE)","v":"Teams pro Gruppe:"}]
["KO_txt_btn2",{"$f":"VLOOKUP(\"txt_2a59\",tbl_i18n[],Lang_Ind,FALSE)","v":"Spielergebnisse vorbesetzen"},null,null,null,null,null,null,null,null,null,null,null,null,{"$f":"VLOOKUP(\"txt_2a53\",tbl_i18n[],Lang_Ind,FALSE)","v":"Anzahl der Vorrundengruppen:"}]
[]
[null,null,null,null,null,null,null,null,null,null,null,null,null,null,{"$f":"IF(KO_Groups_Ind>1,VLOOKUP(\"txt_2a70\",tbl_i18n[],Lang_Ind,FALSE) & INDEX(tbl_i18n[],KO_Groups_Ind+MATCH(\"txt_2a70\",tbl_i18n[ID],0),Lang_Ind) &  VLOOKUP(\"txt_2a72\",tbl_i18n[],Lang_Ind,FALSE),\"\")","v":"Hinweis:  Ab den Halbfinalrunden (inklusive) können Teams mit der gleichen Gruppenplatzierung aufeinandertreffen."}]
[]
[]
[null,null,null,"Game Offset",null,null,null,null,null,null,"rows",null,null,null,"Rank + Group",null,{"$f":"B18","v":"1/4-Finale"},null,null,null,null,{"$f":"B19","v":"1/8-Finale"},null,null,null,null,{"$f":"B20","v":"1/16-Finale"},null,null,null,null,{"$f":"B21","v":"1/32-Finale"},null,null,null,null,{"$f":"B20","v":"1/16-Finale"},null,null,null,null,{"$f":"B20 & \" \" & VLOOKUP(\"txt_2791\",tbl_i18n[],Lang_Ind,FALSE)","v":"1/16-Finale Zwischenrunde"},null,null,null,null,{"$f":"B19","v":"1/8-Finale"},null,null,null,null,{"$f":"B19 & \" \" & VLOOKUP(\"txt_2791\",tbl_i18n[],Lang_Ind,FALSE)","v":"1/8-Finale Zwischenrunde"},null,null,null,null,{"$f":"B18","v":"1/4-Finale"},null,null,null,null,{"$f":"B18 & \" \" & VLOOKUP(\"txt_2791\",tbl_i18n[],Lang_Ind,FALSE)","v":"1/4-Finale Zwischenrunde"},null,null,null,null,{"$f":"B17","v":0},null,null,null,null,{"$f":"B17 & \" \" & VLOOKUP(\"txt_2791\",tbl_i18n[],Lang_Ind,FALSE)","v":" Zwischenrunde"},null,null,null,null,{"$f":"VLOOKUP(\"txt_2792\",tbl_i18n[],Lang_Ind,FALSE)","v":"Spiele um Platz 1 bis 4"},null,null,null,null,{"$f":"VLOOKUP(\"txt_2793\",tbl_i18n[],Lang_Ind,FALSE)","v":"Spiel um Platz 1 bis 3"},null,null,null,null,{"$f":"VLOOKUP(\"K_01_#\",tbl_i18n[],Lang_Ind,FALSE)","v":"Spiel um Rang #"},null,null,null,null,{"$f":"VLOOKUP(\"K_01_#\",tbl_i18n[],Lang_Ind,FALSE)","v":"Spiel um Rang #"},null,null,null,null,{"$f":"VLOOKUP(\"txt_2a57\",tbl_i18n[],Lang_Ind,FALSE)","v":"Rang"}]
[]
[null,null,null,2,4,8,16,32,64,null,null,null,null,null,null,null,{"$f":"KO_Rounds_Ind=2","v":false},"= 8 Teams",null,null,"= 8 Teams",{"$f":"KO_Rounds_Ind=3","v":true},"= 16 Teams",null,null,"= 16 Teams",{"$f":"KO_Rounds_Ind=4","v":false},"= 32 Teams",null,null,"= 32 Teams",{"$f":"KO_Rounds_Ind=5","v":false},"= 64 Teams",null,null,"= 64 Teams",null,"= 64 Teams",null,null,"= 64 Teams",null,"= 64 Teams",null,null,"= 64 Teams",{"$f":"KO_Rounds_Ind=4","v":false},"≥32 Teams",null,null,"≥32 Teams",{"$f":"KO_Rounds_Ind=3","v":true},"≥32 Teams",null,null,"≥32 Teams",{"$f":"KO_Rounds_Ind=3","v":true},"≥16 Teams",null,null,"≥16 Teams",{"$f":"KO_Rounds_Ind=2","v":false},"≥16 Teams",null,null,"≥16 Teams",{"$f":"KO_Rounds_Ind=2","v":false},"≥ 8 Teams",null,null,"≥ 8 Teams",null,"≥ 8 Teams",null,null,"≥ 8 Teams",null,"≥ 4 Teams",null,null,"≥ 4 Teams",null,"≥ 4 Teams",null,null,"≥ 4 Teams",null,"≥ 4 Teams",null,null,"≥ 2 Teams",null,"≥ 2 Teams",null,null,"≥ 2 Teams"]
[]
["KO_Rounds_List",{"$f":"VLOOKUP(\"K_04_A\",tbl_i18n[#Data],Lang_Ind,FALSE)","v":"1/4-Finale"},null,null,null,null,null,1,4,null,{"$f":"KO_Data_1row+INDEX(D18:I18,KO_Rounds_Ind)","v":295},null,null,null,null,null,null,null,null,null,null,null,null,null,null,null,null,null,null,null,null,"K_32_A01","field x","best of n",0,null,"K_16_A01","field x","best of n",0]
[null,{"$f":"VLOOKUP(\"K_08_A\",tbl_i18n[#Data],Lang_Ind,FALSE)","v":"1/8-Finale"},null,null,null,null,null,null,null,null,null,null,null,null,{"$f":"INDEX(tbl_KO_Data[T1 Src Rank],K18) & \". Gr. \" & INDEX(tbl_KO_Data[T1 Src Group],K18)","v":"4. Gr. B"}]
[null,{"$f":"VLOOKUP(\"K_16_A\",tbl_i18n[#Data],Lang_Ind,FALSE)","v":"1/16-Finale"},null,null,null,null,null,null,null,null,null,null,null,null,null,null,null,null,null,null,null,null,null,null,null,null,null,null,null,null,null,{"$f":"O19","v":"4. Gr. B"},null,null,null,null,{"$f":"CHOOSE(SIGN(AI20-AI22)+2,AF22,\"\",AF20)","v":""}]
[null,{"$f":"VLOOKUP(\"K_32_A\",tbl_i18n[#Data],Lang_Ind,FALSE)","v":"1/32-Finale"}]
[null,null,null,null,null,null,null,null,null,null,null,null,null,null,null,null,null,null,null,null,null,null,null,null,null,null,null,null,null,null,null,{"$f":"O23","v":"5. Gr. A"},null,null,null,null,{"$f":"CHOOSE(SIGN(AI28-AI30)+2,AF30,\"\",AF28)","v":""}]
["KO_Rounds_Ind2",2,null,null,null,null,null,null,null,null,null,null,null,null,{"$f":"INDEX(tbl_KO_Data[T2 Src Rank],K18) & \". Gr. \" & INDEX(tbl_KO_Data[T2 Src Group],K18)","v":"5. Gr. A"}]
["KO_Rounds_Ind",{"$f":"KO_Rounds_Ind2+1","v":3}]
[]
["KO_TeamsReq",{"$f":"2^(1+KO_Rounds_Ind)","v":16},null,null,null,null,null,32,61,null,{"$f":"KO_Data_1row+INDEX(D26:I26,KO_Rounds_Ind)","v":295},null,null,null,null,null,null,null,null,null,null,null,null,null,null,null,null,null,null,null,null,"K_32_A32","field x","best of n",0,null,"K_16_A16","field x","best of n",0]
[null,null,null,null,null,null,null,null,null,null,null,null,null,null,{"$f":"INDEX(tbl_KO_Data[T1 Src Rank],K26) & \". Gr. \" & INDEX(tbl_KO_Data[T1 Src Group],K26)","v":"4. Gr. B"}]
["KO_Groups_List",1,null,null,null,null,null,null,null,null,null,null,null,null,null,null,null,null,null,null,null,null,null,null,null,null,null,null,null,null,null,{"$f":"O27","v":"4. Gr. B"},null,null,null,null,{"$f":"CHOOSE(SIGN(AI36-AI38)+2,AF38,\"\",AF36)","v":""}]
[null,2]
[null,4,null,null,null,null,null,null,null,null,null,null,null,null,null,null,null,null,null,null,null,null,null,null,null,null,null,null,null,null,null,{"$f":"O31","v":"5. Gr. A"},null,null,null,null,{"$f":"CHOOSE(SIGN(AI44-AI46)+2,AF46,\"\",AF44)","v":""}]
[null,8,null,null,null,null,null,null,null,null,null,null,null,null,{"$f":"INDEX(tbl_KO_Data[T2 Src Rank],K26) & \". Gr. \" & INDEX(tbl_KO_Data[T2 Src Group],K26)","v":"5. Gr. A"}]
[null,16]
[null,32]
[null,64,null,null,null,null,null,16,29,null,{"$f":"KO_Data_1row+INDEX(D34:I34,KO_Rounds_Ind)","v":295},null,null,null,null,null,null,null,null,null,null,null,null,null,null,null,null,null,null,null,null,"K_32_A16","field x","best of n",0,null,"K_16_A08","field x","best of n",0]
[null,null,null,null,null,null,null,null,null,null,null,null,null,null,{"$f":"INDEX(tbl_KO_Data[T1 Src Rank],K34) & \". Gr. \" & INDEX(tbl_KO_Data[T1 Src Group],K34)","v":"4. Gr. B"}]
[null,null,null,null,null,null,null,null,null,null,null,null,null,null,null,null,null,null,null,null,null,null,null,null,null,null,null,null,null,null,null,{"$f":"O35","v":"4. Gr. B"},null,null,null,null,{"$f":"CHOOSE(SIGN(AI52-AI54)+2,AF54,\"\",AF52)","v":""}]
["KO_Groups_Ind",3]
[null,null,null,null,null,null,null,null,null,null,null,null,null,null,null,null,null,null,null,null,null,null,null,null,null,null,null,null,null,null,null,{"$f":"O39","v":"5. Gr. A"},null,null,null,null,{"$f":"CHOOSE(SIGN(AI60-AI62)+2,AF62,\"\",AF60)","v":""}]
["KO_Groups_Sel",{"$f":"MIN(INDEX(KO_Groups_List,KO_Groups_Ind),KO_TeamsReq)","v":4},null,null,null,null,null,null,null,null,null,null,null,null,{"$f":"INDEX(tbl_KO_Data[T2 Src Rank],K34) & \". Gr. \" & INDEX(tbl_KO_Data[T2 Src Group],K34)","v":"5. Gr. A"}]
[]
["KO_GroupSize",{"$f":"KO_TeamsReq/KO_Groups_Sel","v":4}]
[null,null,null,null,null,null,null,17,36,null,{"$f":"KO_Data_1row+INDEX(D42:I42,KO_Rounds_Ind)","v":295},null,null,null,null,null,null,null,null,null,null,null,null,null,null,null,null,null,null,null,null,"K_32_A17","field x","best of n",0,null,"K_16_A09","field x","best of n",0]
["tbl_KO_Data.ID",{"$f":"1000000000*2^(KO_Rounds_Ind) + 1000000 * KO_Groups_Sel + 1000 * KO_GroupSize","v":8004004000},null,null,null,null,null,null,null,null,null,null,null,null,{"$f":"INDEX(tbl_KO_Data[T1 Src Rank],K42) & \". Gr. \" & INDEX(tbl_KO_Data[T1 Src Group],K42)","v":"4. Gr. B"}]
[null,null,null,null,null,null,null,null,null,null,null,null,null,null,null,null,null,null,null,null,null,null,null,null,null,null,null,null,null,null,null,{"$f":"O43","v":"4. Gr. B"},null,null,null,null,{"$f":"CHOOSE(SIGN(AI68-AI70)+2,AF70,\"\",AF68)","v":""}]
["KO_Data_1row",{"$f":"MATCH(B43,tbl_KO_Data[ID],1)","v":295}]
[null,null,null,null,null,null,null,null,null,null,null,null,null,null,null,null,null,null,null,null,null,null,null,null,null,null,null,null,null,null,null,{"$f":"O47","v":"5. Gr. A"},null,null,null,null,{"$f":"CHOOSE(SIGN(AI76-AI78)+2,AF78,\"\",AF76)","v":""}]
[null,null,null,null,null,null,null,null,null,null,null,null,null,null,{"$f":"INDEX(tbl_KO_Data[T2 Src Rank],K42) & \". Gr. \" & INDEX(tbl_KO_Data[T2 Src Group],K42)","v":"5. Gr. A"}]
[]
[]
[null,null,null,null,null,null,null,8,13,null,{"$f":"KO_Data_1row+INDEX(D50:I50,KO_Rounds_Ind)","v":295},null,null,null,null,null,null,null,null,null,null,null,null,null,null,null,null,null,null,null,null,"K_32_A08","field x","best of n",0,null,"K_16_A04","field x","best of n",0]
[null,null,null,null,null,null,null,null,null,null,null,null,null,null,{"$f":"INDEX(tbl_KO_Data[T1 Src Rank],K50) & \". Gr. \" & INDEX(tbl_KO_Data[T1 Src Group],K50)","v":"4. Gr. B"}]
[null,null,null,null,null,null,null,null,null,null,null,null,null,null,null,null,null,null,null,null,null,null,null,null,null,null,null,null,null,null,null,{"$f":"O51","v":"4. Gr. B"},null,null,null,null,{"$f":"CHOOSE(SIGN(AI84-AI86)+2,AF86,\"\",AF84)","v":""}]
[]
[null,null,null,null,null,null,null,null,null,null,null,null,null,null,null,null,null,null,null,null,null,null,null,null,null,null,null,null,null,null,null,{"$f":"O55","v":"5. Gr. A"},null,null,null,null,{"$f":"CHOOSE(SIGN(AI92-AI94)+2,AF94,\"\",AF92)","v":""}]
[null,null,null,null,null,null,null,null,null,null,null,null,null,null,{"$f":"INDEX(tbl_KO_Data[T2 Src Rank],K50) & \". Gr. \" & INDEX(tbl_KO_Data[T2 Src Group],K50)","v":"5. Gr. A"}]
[]
[]
[null,null,null,null,null,null,null,25,52,null,{"$f":"KO_Data_1row+INDEX(D58:I58,KO_Rounds_Ind)","v":295},null,null,null,null,null,null,null,null,null,null,null,null,null,null,null,null,null,null,null,null,"K_32_A25","field x","best of n",0,null,"K_16_A13","field x","best of n",0]
[null,null,null,null,null,null,null,null,null,null,null,null,null,null,{"$f":"INDEX(tbl_KO_Data[T1 Src Rank],K58) & \". Gr. \" & INDEX(tbl_KO_Data[T1 Src Group],K58)","v":"4. Gr. B"}]
[null,null,null,null,null,null,null,null,null,null,null,null,null,null,null,null,null,null,null,null,null,null,null,null,null,null,null,null,null,null,null,{"$f":"O59","v":"4. Gr. B"},null,null,null,null,{"$f":"CHOOSE(SIGN(AI100-AI102)+2,AF102,\"\",AF100)","v":""}]
[]
[null,null,null,null,null,null,null,null,null,null,null,null,null,null,null,null,null,null,null,null,null,null,null,null,null,null,null,null,null,null,null,{"$f":"O63","v":"5. Gr. A"},null,null,null,null,{"$f":"CHOOSE(SIGN(AI108-AI110)+2,AF110,\"\",AF108)","v":""}]
[null,null,null,null,null,null,null,null,null,null,null,null,null,null,{"$f":"INDEX(tbl_KO_Data[T2 Src Rank],K58) & \". Gr. \" & INDEX(tbl_KO_Data[T2 Src Group],K58)","v":"5. Gr. A"}]
[]
[]
[null,null,null,null,null,null,null,9,20,null,{"$f":"KO_Data_1row+INDEX(D66:I66,KO_Rounds_Ind)","v":295},null,null,null,null,null,null,null,null,null,null,null,null,null,null,null,null,null,null,null,null,"K_32_A09","field x","best of n",0,null,"K_16_A05","field x","best of n",0]
[null,null,null,null,null,null,null,null,null,null,null,null,null,null,{"$f":"INDEX(tbl_KO_Data[T1 Src Rank],K66) & \". Gr. \" & INDEX(tbl_KO_Data[T1 Src Group],K66)","v":"4. Gr. B"}]
[null,null,null,null,null,null,null,null,null,null,null,null,null,null,null,null,null,null,null,null,null,null,null,null,null,null,null,null,null,null,null,{"$f":"O67","v":"4. Gr. B"},null,null,null,null,{"$f":"CHOOSE(SIGN(AI116-AI118)+2,AF118,\"\",AF116)","v":""}]
[]
[null,null,null,null,null,null,null,null,null,null,null,null,null,null,null,null,null,null,null,null,null,null,null,null,null,null,null,null,null,null,null,{"$f":"O71","v":"5. Gr. A"},null,null,null,null,{"$f":"CHOOSE(SIGN(AI124-AI126)+2,AF126,\"\",AF124)","v":""}]
[null,null,null,null,null,null,null,null,null,null,null,null,null,null,{"$f":"INDEX(tbl_KO_Data[T2 Src Rank],K66) & \". Gr. \" & INDEX(tbl_KO_Data[T2 Src Group],K66)","v":"5. Gr. A"}]
[]
[]
[null,null,null,null,null,null,null,24,45,null,{"$f":"KO_Data_1row+INDEX(D74:I74,KO_Rounds_Ind)","v":295},null,null,null,null,null,null,null,null,null,null,null,null,null,null,null,null,null,null,null,null,"K_32_A24","field x","best of n",0,null,"K_16_A12","field x","best of n",0]
[null,null,null,null,null,null,null,null,null,null,null,null,null,null,{"$f":"INDEX(tbl_KO_Data[T1 Src Rank],K74) & \". Gr. \" & INDEX(tbl_KO_Data[T1 Src Group],K74)","v":"4. Gr. B"}]
[null,null,null,null,null,null,null,null,null,null,null,null,null,null,null,null,null,null,null,null,null,null,null,null,null,null,null,null,null,null,null,{"$f":"O75","v":"4. Gr. B"},null,null,null,null,{"$f":"CHOOSE(SIGN(AI132-AI134)+2,AF134,\"\",AF132)","v":""}]
[]
[null,null,null,null,null,null,null,null,null,null,null,null,null,null,null,null,null,null,null,null,null,null,null,null,null,null,null,null,null,null,null,{"$f":"O79","v":"5. Gr. A"},null,null,null,null,{"$f":"CHOOSE(SIGN(AI140-AI142)+2,AF142,\"\",AF140)","v":""}]
[null,null,null,null,null,null,null,null,null,null,null,null,null,null,{"$f":"INDEX(tbl_KO_Data[T2 Src Rank],K74) & \". Gr. \" & INDEX(tbl_KO_Data[T2 Src Group],K74)","v":"5. Gr. A"}]
[]
[]
[null,null,null,null,null,null,1,4,5,null,{"$f":"KO_Data_1row+INDEX(D82:I82,KO_Rounds_Ind)","v":295},null,null,null,null,null,null,null,null,null,null,null,null,null,null,null,"K_16_A01","field x","best of n",0,null,"K_32_A04","field x","best of n",0,null,"K_16_A02","field x","best of n",0,null,null,null,null,null,null,"K_08_A1","field x","best of n",0]
[null,null,null,null,null,null,null,null,null,null,null,null,null,null,{"$f":"INDEX(tbl_KO_Data[T1 Src Rank],K82) & \". Gr. \" & INDEX(tbl_KO_Data[T1 Src Group],K82)","v":"4. Gr. B"}]
[null,null,null,null,null,null,null,null,null,null,null,null,null,null,null,null,null,null,null,null,null,null,null,null,null,null,{"$f":"O83","v":"4. Gr. B"},null,null,null,null,{"$f":"O83","v":"4. Gr. B"},null,null,null,null,{"$f":"CHOOSE(SIGN(AI148-AI150)+2,AF150,\"\",AF148)","v":""},null,null,null,null,null,null,null,null,null,{"$f":"IF(AU16,CHOOSE(SIGN(AD84-AD86)+2,AA86,\"\",AA84),CHOOSE(SIGN(AN20-AN22)+2,AK22,\"\",AK20))","v":""}]
[]
[null,null,null,null,null,null,null,null,null,null,null,null,null,null,null,null,null,null,null,null,null,null,null,null,null,null,{"$f":"O87","v":"5. Gr. A"},null,null,null,null,{"$f":"O87","v":"5. Gr. A"},null,null,null,null,{"$f":"CHOOSE(SIGN(AI156-AI158)+2,AF158,\"\",AF156)","v":""},null,null,null,null,null,null,null,null,null,{"$f":"IF(AU16,CHOOSE(SIGN(AD92-AD94)+2,AA94,\"\",AA92),CHOOSE(SIGN(AN28-AN30)+2,AK30,\"\",AK28))","v":""}]
[null,null,null,null,null,null,null,null,null,null,null,null,null,null,{"$f":"INDEX(tbl_KO_Data[T2 Src Rank],K82) & \". Gr. \" & INDEX(tbl_KO_Data[T2 Src Group],K82)","v":"5. Gr. A"}]
[]
[]
[null,null,null,null,null,null,16,29,60,null,{"$f":"KO_Data_1row+INDEX(D90:I90,KO_Rounds_Ind)","v":295},null,null,null,null,null,null,null,null,null,null,null,null,null,null,null,"K_16_A16","field x","best of n",0,null,"K_32_A29","field x","best of n",0,null,"K_16_A15","field x","best of n",0,null,null,null,null,null,null,"K_08_A8","field x","best of n",0]
[null,null,null,null,null,null,null,null,null,null,null,null,null,null,{"$f":"INDEX(tbl_KO_Data[T1 Src Rank],K90) & \". Gr. \" & INDEX(tbl_KO_Data[T1 Src Group],K90)","v":"4. Gr. B"}]
[null,null,null,null,null,null,null,null,null,null,null,null,null,null,null,null,null,null,null,null,null,null,null,null,null,null,{"$f":"O91","v":"4. Gr. B"},null,null,null,null,{"$f":"O91","v":"4. Gr. B"},null,null,null,null,{"$f":"CHOOSE(SIGN(AI164-AI166)+2,AF166,\"\",AF164)","v":""},null,null,null,null,null,null,null,null,null,{"$f":"IF(AU16,CHOOSE(SIGN(AD100-AD102)+2,AA102,\"\",AA100),CHOOSE(SIGN(AN36-AN38)+2,AK38,\"\",AK36))","v":""}]
[]
[null,null,null,null,null,null,null,null,null,null,null,null,null,null,null,null,null,null,null,null,null,null,null,null,null,null,{"$f":"O95","v":"5. Gr. A"},null,null,null,null,{"$f":"O95","v":"5. Gr. A"},null,null,null,null,{"$f":"CHOOSE(SIGN(AI172-AI174)+2,AF174,\"\",AF172)","v":""},null,null,null,null,null,null,null,null,null,{"$f":"IF(AU16,CHOOSE(SIGN(AD108-AD110)+2,AA110,\"\",AA108),CHOOSE(SIGN(AN44-AN46)+2,AK46,\"\",AK44))","v":""}]
[null,null,null,null,null,null,null,null,null,null,null,null,null,null,{"$f":"INDEX(tbl_KO_Data[T2 Src Rank],K90) & \". Gr. \" & INDEX(tbl_KO_Data[T2 Src Group],K90)","v":"5. Gr. A"}]
[]
[]
[null,null,null,null,null,null,8,13,28,null,{"$f":"KO_Data_1row+INDEX(D98:I98,KO_Rounds_Ind)","v":295},null,null,null,null,null,null,null,null,null,null,null,null,null,null,null,"K_16_A08","field x","best of n",0,null,"K_32_A13","field x","best of n",0,null,"K_16_A07","field x","best of n",0,null,null,null,null,null,null,"K_08_A4","field x","best of n",0]
[null,null,null,null,null,null,null,null,null,null,null,null,null,null,{"$f":"INDEX(tbl_KO_Data[T1 Src Rank],K98) & \". Gr. \" & INDEX(tbl_KO_Data[T1 Src Group],K98)","v":"4. Gr. B"}]
[null,null,null,null,null,null,null,null,null,null,null,null,null,null,null,null,null,null,null,null,null,null,null,null,null,null,{"$f":"O99","v":"4. Gr. B"},null,null,null,null,{"$f":"O99","v":"4. Gr. B"},null,null,null,null,{"$f":"CHOOSE(SIGN(AI180-AI182)+2,AF182,\"\",AF180)","v":""},null,null,null,null,null,null,null,null,null,{"$f":"IF(AU16,CHOOSE(SIGN(AD116-AD118)+2,AA118,\"\",AA116),CHOOSE(SIGN(AN52-AN54)+2,AK54,\"\",AK52))","v":""}]
[]
[null,null,null,null,null,null,null,null,null,null,null,null,null,null,null,null,null,null,null,null,null,null,null,null,null,null,{"$f":"O103","v":"5. Gr. A"},null,null,null,null,{"$f":"O103","v":"5. Gr. A"},null,null,null,null,{"$f":"CHOOSE(SIGN(AI188-AI190)+2,AF190,\"\",AF188)","v":""},null,null,null,null,null,null,null,null,null,{"$f":"IF(AU16,CHOOSE(SIGN(AD124-AD126)+2,AA126,\"\",AA124),CHOOSE(SIGN(AN60-AN62)+2,AK62,\"\",AK60))","v":""}]
[null,null,null,null,null,null,null,null,null,null,null,null,null,null,{"$f":"INDEX(tbl_KO_Data[T2 Src Rank],K98) & \". Gr. \" & INDEX(tbl_KO_Data[T2 Src Group],K98)","v":"5. Gr. A"}]
[]
[]
[null,null,null,null,null,null,9,20,37,null,{"$f":"KO_Data_1row+INDEX(D106:I106,KO_Rounds_Ind)","v":295},null,null,null,null,null,null,null,null,null,null,null,null,null,null,null,"K_16_A09","field x","best of n",0,null,"K_32_A20","field x","best of n",0,null,"K_16_A10","field x","best of n",0,null,null,null,null,null,null,"K_08_A5","field x","best of n",0]
[null,null,null,null,null,null,null,null,null,null,null,null,null,null,{"$f":"INDEX(tbl_KO_Data[T1 Src Rank],K106) & \". Gr. \" & INDEX(tbl_KO_Data[T1 Src Group],K106)","v":"4. Gr. B"}]
[null,null,null,null,null,null,null,null,null,null,null,null,null,null,null,null,null,null,null,null,null,null,null,null,null,null,{"$f":"O107","v":"4. Gr. B"},null,null,null,null,{"$f":"O107","v":"4. Gr. B"},null,null,null,null,{"$f":"CHOOSE(SIGN(AI196-AI198)+2,AF198,\"\",AF196)","v":""},null,null,null,null,null,null,null,null,null,{"$f":"IF(AU16,CHOOSE(SIGN(AD132-AD134)+2,AA134,\"\",AA132),CHOOSE(SIGN(AN68-AN70)+2,AK70,\"\",AK68))","v":""}]
[]
[null,null,null,null,null,null,null,null,null,null,null,null,null,null,null,null,null,null,null,null,null,null,null,null,null,null,{"$f":"O111","v":"5. Gr. A"},null,null,null,null,{"$f":"O111","v":"5. Gr. A"},null,null,null,null,{"$f":"CHOOSE(SIGN(AI206-AI204)+2,AF204,\"\",AF206)","v":""},null,null,null,null,null,null,null,null,null,{"$f":"IF(AU16,CHOOSE(SIGN(AD140-AD142)+2,AA142,\"\",AA140),CHOOSE(SIGN(AN76-AN78)+2,AK78,\"\",AK76))","v":""}]
[null,null,null,null,null,null,null,null,null,null,null,null,null,null,{"$f":"INDEX(tbl_KO_Data[T2 Src Rank],K106) & \". Gr. \" & INDEX(tbl_KO_Data[T2 Src Group],K106)","v":"5. Gr. A"}]
[]
[]
[null,null,null,null,null,1,4,5,12,null,{"$f":"KO_Data_1row+INDEX(D114:I114,KO_Rounds_Ind)","v":296},null,null,null,null,null,null,null,null,null,null,"K_08_A1","field x","best of n",0,null,"K_16_A04","field x","best of n",0,null,"K_32_A05","field x","best of n",0,null,"K_16_A03","field x","best of n",0,null,null,null,null,null,null,"K_08_A2","field x","best of n",0,null,null,null,null,null,null,"K_04_A1","field x","best of n",0]
[null,null,null,null,null,null,null,null,null,null,null,null,null,null,{"$f":"INDEX(tbl_KO_Data[T1 Src Rank],K114) & \". Gr. \" & INDEX(tbl_KO_Data[T1 Src Group],K114)","v":"1. Gr. A"}]
[null,null,null,null,null,null,null,null,null,null,null,null,null,null,null,null,null,null,null,null,null,{"$f":"O115","v":"1. Gr. A"},null,null,null,null,{"$f":"O115","v":"1. Gr. A"},null,null,null,null,{"$f":"O115","v":"1. Gr. A"},null,null,null,null,{"$f":"CHOOSE(SIGN(AI212-AI214)+2,AF214,\"\",AF212)","v":""},null,null,null,null,null,null,null,null,null,{"$f":"IF(AU16,CHOOSE(SIGN(AD148-AD150)+2,AA150,\"\",AA148),CHOOSE(SIGN(AN84-AN86)+2,AK86,\"\",AK84))","v":""},null,null,null,null,null,null,null,null,null,{"$f":"IF(BE16,CHOOSE(SIGN(Y116-Y118)+2,V118,\"\",V116),CHOOSE(SIGN(AX84-AX86)+2,AU86,\"\",AU84))","v":""}]
[]
[null,null,null,null,null,null,null,null,null,null,null,null,null,null,null,null,null,null,null,null,null,{"$f":"O119","v":"4. Gr. B"},null,null,null,null,{"$f":"O119","v":"4. Gr. B"},null,null,null,null,{"$f":"O119","v":"4. Gr. B"},null,null,null,null,{"$f":"CHOOSE(SIGN(AI222-AI220)+2,AF220,\"\",AF222)","v":""},null,null,null,null,null,null,null,null,null,{"$f":"IF(AU16,CHOOSE(SIGN(AD156-AD158)+2,AA158,\"\",AA156),CHOOSE(SIGN(AN92-AN94)+2,AK94,\"\",AK92))","v":""},null,null,null,null,null,null,null,null,null,{"$f":"IF(BE16,CHOOSE(SIGN(Y124-Y126)+2,V126,\"\",V124),CHOOSE(SIGN(AX92-AX94)+2,AU94,\"\",AU92))","v":""}]
[null,null,null,null,null,null,null,null,null,null,null,null,null,null,{"$f":"INDEX(tbl_KO_Data[T2 Src Rank],K114) & \". Gr. \" & INDEX(tbl_KO_Data[T2 Src Group],K114)","v":"4. Gr. B"}]
[]
[]
[null,null,null,null,null,8,13,28,53,null,{"$f":"KO_Data_1row+INDEX(D122:I122,KO_Rounds_Ind)","v":303},null,null,null,null,null,null,null,null,null,null,"K_08_A8","field x","best of n",0,null,"K_16_A13","field x","best of n",0,null,"K_32_A28","field x","best of n",0,null,"K_16_A14","field x","best of n",0,null,null,null,null,null,null,"K_08_A7","field x","best of n",0,null,null,null,null,null,null,"K_04_A4","field x","best of n",0]
[null,null,null,null,null,null,null,null,null,null,null,null,null,null,{"$f":"INDEX(tbl_KO_Data[T1 Src Rank],K122) & \". Gr. \" & INDEX(tbl_KO_Data[T1 Src Group],K122)","v":"2. Gr. D"}]
[null,null,null,null,null,null,null,null,null,null,null,null,null,null,null,null,null,null,null,null,null,{"$f":"O123","v":"2. Gr. D"},null,null,null,null,{"$f":"O123","v":"2. Gr. D"},null,null,null,null,{"$f":"O123","v":"2. Gr. D"},null,null,null,null,{"$f":"CHOOSE(SIGN(AI228-AI230)+2,AF230,\"\",AF228)","v":""},null,null,null,null,null,null,null,null,null,{"$f":"IF(AU16,CHOOSE(SIGN(AD164-AD166)+2,AA166,\"\",AA164),CHOOSE(SIGN(AN100-AN102)+2,AK102,\"\",AK100))","v":""},null,null,null,null,null,null,null,null,null,{"$f":"IF(BE16,CHOOSE(SIGN(Y132-Y134)+2,V134,\"\",V132),CHOOSE(SIGN(AX100-AX102)+2,AU102,\"\",AU100))","v":""}]
[]
[null,null,null,null,null,null,null,null,null,null,null,null,null,null,null,null,null,null,null,null,null,{"$f":"O127","v":"3. Gr. C"},null,null,null,null,{"$f":"O127","v":"3. Gr. C"},null,null,null,null,{"$f":"O127","v":"3. Gr. C"},null,null,null,null,{"$f":"CHOOSE(SIGN(AI238-AI236)+2,AF236,\"\",AF238)","v":""},null,null,null,null,null,null,null,null,null,{"$f":"IF(AU16,CHOOSE(SIGN(AD172-AD174)+2,AA174,\"\",AA172),CHOOSE(SIGN(AN108-AN110)+2,AK110,\"\",AK108))","v":""},null,null,null,null,null,null,null,null,null,{"$f":"IF(BE16,CHOOSE(SIGN(Y140-Y142)+2,V142,\"\",V140),CHOOSE(SIGN(AX108-AX110)+2,AU110,\"\",AU108))","v":""}]
[null,null,null,null,null,null,null,null,null,null,null,null,null,null,{"$f":"INDEX(tbl_KO_Data[T2 Src Rank],K122) & \". Gr. \" & INDEX(tbl_KO_Data[T2 Src Group],K122)","v":"3. Gr. C"}]
[]
[]
[null,null,null,null,1,4,5,12,21,null,{"$f":"KO_Data_1row+INDEX(D130:I130,KO_Rounds_Ind)","v":299},null,null,null,null,null,"K_04_A1","field x","best of n",0,null,"K_08_A4","field x","best of n",0,null,"K_16_A05","field x","best of n",0,null,"K_32_A12","field x","best of n",0,null,"K_16_A06","field x","best of n",0,null,null,null,null,null,null,"K_08_A3","field x","best of n",0,null,null,null,null,null,null,"K_04_A2","field x","best of n",0,null,null,null,null,null,null,"K_02_A1","field x","best of n",0]
[null,null,null,null,null,null,null,null,null,null,null,null,null,null,{"$f":"INDEX(tbl_KO_Data[T1 Src Rank],K130) & \". Gr. \" & INDEX(tbl_KO_Data[T1 Src Group],K130)","v":"1. Gr. C"}]
[null,null,null,null,null,null,null,null,null,null,null,null,null,null,null,null,{"$f":"O131","v":"1. Gr. C"},null,null,null,null,{"$f":"O131","v":"1. Gr. C"},null,null,null,null,{"$f":"O131","v":"1. Gr. C"},null,null,null,null,{"$f":"O131","v":"1. Gr. C"},null,null,null,null,{"$f":"CHOOSE(SIGN(AI244-AI246)+2,AF246,\"\",AF244)","v":""},null,null,null,null,null,null,null,null,null,{"$f":"IF(AU16,CHOOSE(SIGN(AD180-AD182)+2,AA182,\"\",AA180),CHOOSE(SIGN(AN116-AN118)+2,AK118,\"\",AK116))","v":""},null,null,null,null,null,null,null,null,null,{"$f":"IF(BE16,CHOOSE(SIGN(Y148-Y150)+2,V150,\"\",V148),CHOOSE(SIGN(AX116-AX118)+2,AU118,\"\",AU116))","v":""},null,null,null,null,null,null,null,null,null,{"$f":"IF(BO16,CHOOSE(SIGN(T132-T134)+2,Q134,\"\",Q132),CHOOSE(SIGN(BH116-BH118)+2,BE118,\"\",BE116))","v":""}]
[]
[null,null,null,null,null,null,null,null,null,null,null,null,null,null,null,null,{"$f":"O135","v":"4. Gr. D"},null,null,null,null,{"$f":"O135","v":"4. Gr. D"},null,null,null,null,{"$f":"O135","v":"4. Gr. D"},null,null,null,null,{"$f":"O135","v":"4. Gr. D"},null,null,null,null,{"$f":"CHOOSE(SIGN(AI254-AI252)+2,AF252,\"\",AF254)","v":""},null,null,null,null,null,null,null,null,null,{"$f":"IF(AU16,CHOOSE(SIGN(AD188-AD190)+2,AA190,\"\",AA188),CHOOSE(SIGN(AN124-AN126)+2,AK126,\"\",AK124))","v":""},null,null,null,null,null,null,null,null,null,{"$f":"IF(BE16,CHOOSE(SIGN(Y156-Y158)+2,V158,\"\",V156),CHOOSE(SIGN(AX124-AX126)+2,AU126,\"\",AU124))","v":""},null,null,null,null,null,null,null,null,null,{"$f":"IF(BO16,CHOOSE(SIGN(T140-T142)+2,Q142,\"\",Q140),CHOOSE(SIGN(BH124-BH126)+2,BE126,\"\",BE124))","v":""}]
[null,null,null,null,null,null,null,null,null,null,null,null,null,null,{"$f":"INDEX(tbl_KO_Data[T2 Src Rank],K130) & \". Gr. \" & INDEX(tbl_KO_Data[T2 Src Group],K130)","v":"4. Gr. D"}]
[]
[]
[null,null,null,1,4,5,12,21,44,null,{"$f":"KO_Data_1row+INDEX(D138:I138,KO_Rounds_Ind)","v":300},null,null,null,null,null,"K_04_A4","field x","best of n",0,null,"K_08_A5","field x","best of n",0,null,"K_16_A12","field x","best of n",0,null,"K_32_A21","field x","best of n",0,null,"K_16_A11","field x","best of n",0,null,null,null,null,null,null,"K_08_A6","field x","best of n",0,null,null,null,null,null,null,"K_04_A3","field x","best of n",0,null,null,null,null,null,null,"K_02_A2","field x","best of n",0,null,null,null,null,null,null,"K_01_A1","field x","best of n",0,null,null,null,null,null,null,"K_01_001a","field x","best of n",0,null,"K_01_001b","field x","best of n",0]
[null,null,null,null,null,null,null,null,null,null,null,null,null,null,{"$f":"INDEX(tbl_KO_Data[T1 Src Rank],K138) & \". Gr. \" & INDEX(tbl_KO_Data[T1 Src Group],K138)","v":"2. Gr. B"},null,null,null,null,null,null,null,null,null,null,null,null,null,null,null,null,null,null,null,null,null,null,null,null,null,null,null,null,null,null,null,null,null,null,null,null,null,null,null,null,null,null,null,null,null,null,null,null,null,null,null,null,null,null,null,null,null,null,null,null,null,null,null,null,null,null,null,null,null,null,null,null,null,null,null,null,null,null,null,null,null,1,{"$f":"IF(CL140<CL142,CHOOSE(SIGN(CQ140-CQ142)+2,CN142,\"\",CN140),CHOOSE(SIGN(CL140-CL142)+2,CI142,\"\",CI140))","v":""}]
[null,null,null,null,null,null,null,null,null,null,null,null,null,null,null,null,{"$f":"O139","v":"2. Gr. B"},null,null,null,null,{"$f":"O139","v":"2. Gr. B"},null,null,null,null,{"$f":"O139","v":"2. Gr. B"},null,null,null,null,{"$f":"O139","v":"2. Gr. B"},null,null,null,null,{"$f":"CHOOSE(SIGN(AI260-AI262)+2,AF262,\"\",AF260)","v":""},null,null,null,null,null,null,null,null,null,{"$f":"IF(AU16,CHOOSE(SIGN(AD196-AD198)+2,AA198,\"\",AA196),CHOOSE(SIGN(AN132-AN134)+2,AK134,\"\",AK132))","v":""},null,null,null,null,null,null,null,null,null,{"$f":"IF(BE16,CHOOSE(SIGN(Y164-Y166)+2,V166,\"\",V164),CHOOSE(SIGN(AX132-AX134)+2,AU134,\"\",AU132))","v":""},null,null,null,null,null,null,null,null,null,{"$f":"IF(BO16,CHOOSE(SIGN(T148-T150)+2,Q150,\"\",Q148),CHOOSE(SIGN(BH132-BH134)+2,BE134,\"\",BE132))","v":""},null,null,null,null,null,null,null,null,null,{"$f":"CHOOSE(SIGN(BR132-BR134)+2,BO134,\"\",BO132)","v":""},null,null,null,null,null,null,null,null,null,{"$f":"CHOOSE(SIGN(CB140-CB142)+2,BY142,\"\",BY140)","v":""},null,null,null,null,{"$f":"IF(CL140<CL142,CHOOSE(SIGN(CL140-CL142)+2,CI142,\"\",\"\"),\"\")","v":""}]
[]
[null,null,null,null,null,null,null,null,null,null,null,null,null,null,null,null,{"$f":"O143","v":"3. Gr. A"},null,null,null,null,{"$f":"O143","v":"3. Gr. A"},null,null,null,null,{"$f":"O143","v":"3. Gr. A"},null,null,null,null,{"$f":"O143","v":"3. Gr. A"},null,null,null,null,{"$f":"CHOOSE(SIGN(AI270-AI268)+2,AF268,\"\",AF270)","v":""},null,null,null,null,null,null,null,null,null,{"$f":"IF(AU16,CHOOSE(SIGN(AD204-AD206)+2,AA206,\"\",AA204),CHOOSE(SIGN(AN140-AN142)+2,AK142,\"\",AK140))","v":""},null,null,null,null,null,null,null,null,null,{"$f":"IF(BE16,CHOOSE(SIGN(Y172-Y174)+2,V174,\"\",V172),CHOOSE(SIGN(AX140-AX142)+2,AU142,\"\",AU140))","v":""},null,null,null,null,null,null,null,null,null,{"$f":"IF(BO16,CHOOSE(SIGN(T156-T158)+2,Q158,\"\",Q156),CHOOSE(SIGN(BH140-BH142)+2,BE142,\"\",BE140))","v":""},null,null,null,null,null,null,null,null,null,{"$f":"CHOOSE(SIGN(BR140-BR142)+2,BO142,\"\",BO140)","v":""},null,null,null,null,null,null,null,null,null,{"$f":"CHOOSE(SIGN(CG148-CG150)+2,CD150,\"\",CD148)","v":""},null,null,null,null,{"$f":"IF(CL140<CL142,CHOOSE(SIGN(CL140-CL142)+2,CI140,\"\",\"\"),\"\")","v":""}]
[null,null,null,null,null,null,null,null,null,null,null,null,null,null,{"$f":"INDEX(tbl_KO_Data[T2 Src Rank],K138) & \". Gr. \" & INDEX(tbl_KO_Data[T2 Src Group],K138)","v":"3. Gr. A"},null,null,null,null,null,null,null,null,null,null,null,null,null,null,null,null,null,null,null,null,null,null,null,null,null,null,null,null,null,null,null,null,null,null,null,null,null,null,null,null,null,null,null,null,null,null,null,null,null,null,null,null,null,null,null,null,null,null,null,null,null,null,null,null,null,null,null,null,null,null,null,null,null,null,null,null,null,null,null,null,null,2,{"$f":"IF(CL140<CL142,CHOOSE(SIGN(CQ140-CQ142)+2,CN140,\"\",CN142),CHOOSE(SIGN(CL140-CL142)+2,CI140,\"\",CI142))","v":""}]
[]
[]
[null,null,null,2,2,2,2,2,2,null,{"$f":"KO_Data_1row+INDEX(D146:I146,KO_Rounds_Ind)","v":297},null,null,null,null,null,"K_04_A2","field x","best of n",0,null,"K_08_A2","field x","best of n",0,null,"K_16_A02","field x","best of n",0,null,"K_32_A02","field x","best of n",0,null,"K_16_B01","field x","best of n",0,null,"K_16_C01","field x","best of n",0,null,"K_08_B1","field x","best of n",0,null,"K_08_C1","field x","best of n",0,null,"K_04_B1","field x","best of n",0,null,"K_04_C1","field x","best of n",0,null,"K_02_B1","field x","best of n",0,null,"K_02_C1","field x","best of n",0,null,"K_01_B1","field x","best of n",0,null,"K_01_C1","field x","best of n",0]
[null,null,null,null,null,null,null,null,null,null,null,null,null,null,{"$f":"INDEX(tbl_KO_Data[T1 Src Rank],K146) & \". Gr. \" & INDEX(tbl_KO_Data[T1 Src Group],K146)","v":"1. Gr. B"}]
[null,null,null,null,null,null,null,null,null,null,null,null,null,null,null,null,{"$f":"O147","v":"1. Gr. B"},null,null,null,null,{"$f":"O147","v":"1. Gr. B"},null,null,null,null,{"$f":"O147","v":"1. Gr. B"},null,null,null,null,{"$f":"O147","v":"1. Gr. B"},null,null,null,null,{"$f":"CHOOSE(SIGN(AI20-AI22)+2,AF20,\"\",AF22)","v":""},null,null,null,null,{"$f":"CHOOSE(SIGN(AN20-AN22)+2,AK20,\"\",AK22)","v":""},null,null,null,null,{"$f":"IF(AU16,CHOOSE(SIGN(AD84-AD86)+2,AA84,\"\",AA86),CHOOSE(SIGN(AS148-AS150)+2,AP150,\"\",AP148))","v":""},null,null,null,null,{"$f":"CHOOSE(SIGN(AX84-AX86)+2,AU84,\"\",AU86)","v":""},null,null,null,null,{"$f":"IF(BE16,CHOOSE(SIGN(Y116-Y118)+2,V116,\"\",V118),CHOOSE(SIGN(BC148-BC150)+2,AZ150,\"\",AZ148))","v":""},null,null,null,null,{"$f":"CHOOSE(SIGN(BH116-BH118)+2,BE116,\"\",BE118)","v":""},null,null,null,null,{"$f":"IF(BO16,CHOOSE(SIGN(T132-T134)+2,Q132,\"\",Q134),CHOOSE(SIGN(BM148-BM150)+2,BJ150,\"\",BJ148))","v":""},null,null,null,null,{"$f":"CHOOSE(SIGN(BR132-BR134)+2,BO132,\"\",BO134)","v":""},null,null,null,null,{"$f":"CHOOSE(SIGN(BW148-BW150)+2,BT150,\"\",BT148)","v":""},null,null,null,null,{"$f":"CHOOSE(SIGN(CB140-CB142)+2,BY140,\"\",BY142)","v":""}]
[]
[null,null,null,null,null,null,null,null,null,null,null,null,null,null,null,null,{"$f":"O151","v":"4. Gr. C"},null,null,null,null,{"$f":"O151","v":"4. Gr. C"},null,null,null,null,{"$f":"O151","v":"4. Gr. C"},null,null,null,null,{"$f":"O151","v":"4. Gr. C"},null,null,null,null,{"$f":"CHOOSE(SIGN(AI28-AI30)+2,AF28,\"\",AF30)","v":""},null,null,null,null,{"$f":"CHOOSE(SIGN(AN148-AN150)+2,AK150,\"\",AK148)","v":""},null,null,null,null,{"$f":"IF(AU16,CHOOSE(SIGN(AD92-AD94)+2,AA92,\"\",AA94),CHOOSE(SIGN(AS156-AS158)+2,AP158,\"\",AP156))","v":""},null,null,null,null,{"$f":"CHOOSE(SIGN(AX148-AX150)+2,AU150,\"\",AU148)","v":""},null,null,null,null,{"$f":"IF(BE16,CHOOSE(SIGN(Y124-Y126)+2,V124,\"\",V126),CHOOSE(SIGN(BC156-BC158)+2,AZ158,\"\",AZ156))","v":""},null,null,null,null,{"$f":"CHOOSE(SIGN(BH148-BH150)+2,BE150,\"\",BE148)","v":""},null,null,null,null,{"$f":"IF(BO16,CHOOSE(SIGN(T140-T142)+2,Q140,\"\",Q142),CHOOSE(SIGN(BM156-BM158)+2,BJ158,\"\",BJ156))","v":""},null,null,null,null,{"$f":"CHOOSE(SIGN(BR148-BR150)+2,BO150,\"\",BO148)","v":""},null,null,null,null,{"$f":"CHOOSE(SIGN(BW156-BW158)+2,BT158,\"\",BT156)","v":""},null,null,null,null,{"$f":"CHOOSE(SIGN(CB148-CB150)+2,BY150,\"\",BY148)","v":""},null,null,null,null,{"$f":"\" 3. \"&$CS$14","v":" 3. Rang"}]
[null,null,null,null,null,null,null,null,null,null,null,null,null,null,{"$f":"INDEX(tbl_KO_Data[T2 Src Rank],K146) & \". Gr. \" & INDEX(tbl_KO_Data[T2 Src Group],K146)","v":"4. Gr. C"}]
[null,null,null,null,null,null,null,null,null,null,null,null,null,null,null,null,null,null,null,null,null,null,null,null,null,null,null,null,null,null,null,null,null,null,null,null,null,null,null,null,null,null,null,null,null,null,null,null,null,null,null,null,null,null,null,null,null,null,null,null,null,null,null,null,null,null,null,null,null,null,null,null,null,null,null,null,null,null,null,null,null,null,null,null,null,null,{"$f":"CHOOSE(SIGN(CG148-CG150)+2,CD148,\"\",CD150)","v":""}]
[]
[null,null,null,null,3,7,15,31,63,null,{"$f":"KO_Data_1row+INDEX(D154:I154,KO_Rounds_Ind)","v":302},null,null,null,null,null,"K_04_A3","field x","best of n",0,null,"K_08_A7","field x","best of n",0,null,"K_16_A15","field x","best of n",0,null,"K_32_A31","field x","best of n",0,null,"K_16_B16","field x","best of n",0,null,"K_16_C16","field x","best of n",0,null,"K_08_B8","field x","best of n",0,null,"K_08_C8","field x","best of n",0,null,"K_04_B4","field x","best of n",0,null,"K_04_C4","field x","best of n",0,null,"K_02_B2","field x","best of n",0,null,"K_02_C2","field x","best of n",0,null,null,null,null,null,null,{"$f":"\" 4. \"&$CS$14","v":" 4. Rang"}]
[null,null,null,null,null,null,null,null,null,null,null,null,null,null,{"$f":"INDEX(tbl_KO_Data[T1 Src Rank],K154) & \". Gr. \" & INDEX(tbl_KO_Data[T1 Src Group],K154)","v":"2. Gr. A"}]
[null,null,null,null,null,null,null,null,null,null,null,null,null,null,null,null,{"$f":"O155","v":"2. Gr. A"},null,null,null,null,{"$f":"O155","v":"2. Gr. A"},null,null,null,null,{"$f":"O155","v":"2. Gr. A"},null,null,null,null,{"$f":"O155","v":"2. Gr. A"},null,null,null,null,{"$f":"CHOOSE(SIGN(AI36-AI38)+2,AF36,\"\",AF38)","v":""},null,null,null,null,{"$f":"CHOOSE(SIGN(AN28-AN30)+2,AK28,\"\",AK30)","v":""},null,null,null,null,{"$f":"IF(AU16,CHOOSE(SIGN(AD100-AD102)+2,AA100,\"\",AA102),CHOOSE(SIGN(AS164-AS166)+2,AP166,\"\",AP164))","v":""},null,null,null,null,{"$f":"CHOOSE(SIGN(AX92-AX94)+2,AU92,\"\",AU94)","v":""},null,null,null,null,{"$f":"IF(BE16,CHOOSE(SIGN(Y132-Y134)+2,V132,\"\",V134),CHOOSE(SIGN(BC164-BC166)+2,AZ166,\"\",AZ164))","v":""},null,null,null,null,{"$f":"CHOOSE(SIGN(BH124-BH126)+2,BE124,\"\",BE126)","v":""},null,null,null,null,{"$f":"IF(BO16,CHOOSE(SIGN(T148-T150)+2,Q148,\"\",Q150),CHOOSE(SIGN(BM164-BM166)+2,BJ166,\"\",BJ164))","v":""},null,null,null,null,{"$f":"CHOOSE(SIGN(BR140-BR142)+2,BO140,\"\",BO142)","v":""},null,null,null,null,null,null,null,null,null,{"$f":"CHOOSE(SIGN(CB148-CB150)+2,BY148,\"\",BY150)","v":""}]
[]
[null,null,null,null,null,null,null,null,null,null,null,null,null,null,null,null,{"$f":"O159","v":"3. Gr. D"},null,null,null,null,{"$f":"O159","v":"3. Gr. D"},null,null,null,null,{"$f":"O159","v":"3. Gr. D"},null,null,null,null,{"$f":"O159","v":"3. Gr. D"},null,null,null,null,{"$f":"CHOOSE(SIGN(AI44-AI46)+2,AF44,\"\",AF46)","v":""},null,null,null,null,{"$f":"CHOOSE(SIGN(AN156-AN158)+2,AK158,\"\",AK156)","v":""},null,null,null,null,{"$f":"IF(AU16,CHOOSE(SIGN(AD108-AD110)+2,AA108,\"\",AA110),CHOOSE(SIGN(AS172-AS174)+2,AP174,\"\",AP172))","v":""},null,null,null,null,{"$f":"CHOOSE(SIGN(AX156-AX158)+2,AU158,\"\",AU156)","v":""},null,null,null,null,{"$f":"IF(BE16,CHOOSE(SIGN(Y140-Y142)+2,V140,\"\",V142),CHOOSE(SIGN(BC172-BC174)+2,AZ174,\"\",AZ172))","v":""},null,null,null,null,{"$f":"CHOOSE(SIGN(BH156-BH158)+2,BE158,\"\",BE156)","v":""},null,null,null,null,{"$f":"IF(BO16,CHOOSE(SIGN(T156-T158)+2,Q156,\"\",Q158),CHOOSE(SIGN(BM172-BM174)+2,BJ174,\"\",BJ172))","v":""},null,null,null,null,{"$f":"CHOOSE(SIGN(BR156-BR158)+2,BO158,\"\",BO156)","v":""},null,null,null,null,{"$f":"\" 5. \"&$CS$14","v":" 5. Rang"},null,"(5. - 6.) "]
[null,null,null,null,null,null,null,null,null,null,null,null,null,null,{"$f":"INDEX(tbl_KO_Data[T2 Src Rank],K154) & \". Gr. \" & INDEX(tbl_KO_Data[T2 Src Group],K154)","v":"3. Gr. D"}]
[null,null,null,null,null,null,null,null,null,null,null,null,null,null,null,null,null,null,null,null,null,null,null,null,null,null,null,null,null,null,null,null,null,null,null,null,null,null,null,null,null,null,null,null,null,null,null,null,null,null,null,null,null,null,null,null,null,null,null,null,null,null,null,null,null,null,null,null,null,null,null,null,null,null,null,null,{"$f":"CHOOSE(SIGN(BW148-BW150)+2,BT148,\"\",BT150)","v":""}]
[]
[null,null,null,null,null,3,7,15,31,null,{"$f":"KO_Data_1row+INDEX(D162:I162,KO_Rounds_Ind)","v":298},null,null,null,null,null,null,null,null,null,null,"K_08_A3","field x","best of n",0,null,"K_16_A07","field x","best of n",0,null,"K_32_A15","field x","best of n",0,null,"K_16_B08","field x","best of n",0,null,"K_16_C08","field x","best of n",0,null,"K_08_B4","field x","best of n",0,null,"K_08_C4","field x","best of n",0,null,"K_04_B2","field x","best of n",0,null,"K_04_C2","field x","best of n",0,null,null,null,null,null,null,null,null,null,null,null,{"$f":"CHOOSE(SIGN(BW156-BW158)+2,BT156,\"\",BT158)","v":""}]
[null,null,null,null,null,null,null,null,null,null,null,null,null,null,{"$f":"IF(Q16,\"\",INDEX(tbl_KO_Data[T1 Src Rank],K162) & \". Gr. \" & INDEX(tbl_KO_Data[T1 Src Group],K162))","v":"1. Gr. D"}]
[null,null,null,null,null,null,null,null,null,null,null,null,null,null,null,null,null,null,null,null,null,{"$f":"O163","v":"1. Gr. D"},null,null,null,null,{"$f":"O163","v":"1. Gr. D"},null,null,null,null,{"$f":"O163","v":"1. Gr. D"},null,null,null,null,{"$f":"CHOOSE(SIGN(AI52-AI54)+2,AF52,\"\",AF54)","v":""},null,null,null,null,{"$f":"CHOOSE(SIGN(AN36-AN38)+2,AK36,\"\",AK38)","v":""},null,null,null,null,{"$f":"IF(AU16,CHOOSE(SIGN(AD116-AD118)+2,AA116,\"\",AA118),CHOOSE(SIGN(AS180-AS182)+2,AP182,\"\",AP180))","v":""},null,null,null,null,{"$f":"CHOOSE(SIGN(AX100-AX102)+2,AU100,\"\",AU102)","v":""},null,null,null,null,{"$f":"IF(BE16,CHOOSE(SIGN(Y148-Y150)+2,V148,\"\",V150),CHOOSE(SIGN(BC180-BC182)+2,AZ182,\"\",AZ180))","v":""},null,null,null,null,{"$f":"CHOOSE(SIGN(BH132-BH134)+2,BE132,\"\",BE134)","v":""},null,null,null,null,null,null,null,null,null,{"$f":"\" 7. \"&$CS$14","v":" 7. Rang"},null,"(7. - 8.) "]
[]
[null,null,null,null,null,null,null,null,null,null,null,null,null,null,null,null,null,null,null,null,null,{"$f":"O167","v":"4. Gr. A"},null,null,null,null,{"$f":"O167","v":"4. Gr. A"},null,null,null,null,{"$f":"O167","v":"4. Gr. A"},null,null,null,null,{"$f":"CHOOSE(SIGN(AI60-AI62)+2,AF60,\"\",AF62)","v":""},null,null,null,null,{"$f":"CHOOSE(SIGN(AN164-AN166)+2,AK166,\"\",AK164)","v":""},null,null,null,null,{"$f":"IF(AU16,CHOOSE(SIGN(AD124-AD126)+2,AA124,\"\",AA126),CHOOSE(SIGN(AS188-AS190)+2,AP190,\"\",AP188))","v":""},null,null,null,null,{"$f":"CHOOSE(SIGN(AX164-AX166)+2,AU166,\"\",AU164)","v":""},null,null,null,null,{"$f":"IF(BE16,CHOOSE(SIGN(Y156-Y158)+2,V156,\"\",V158),CHOOSE(SIGN(BC188-BC190)+2,AZ190,\"\",AZ188))","v":""},null,null,null,null,{"$f":"CHOOSE(SIGN(BH164-BH166)+2,BE166,\"\",BE164)","v":""},null,null,null,null,null,null,null,null,null,{"$f":"CHOOSE(SIGN(BR148-BR150)+2,BO148,\"\",BO150)","v":""}]
[null,null,null,null,null,null,null,null,null,null,null,null,null,null,{"$f":"IF(Q16,\"\",INDEX(tbl_KO_Data[T2 Src Rank],K162) & \". Gr. \" & INDEX(tbl_KO_Data[T2 Src Group],K162))","v":"4. Gr. A"}]
[null,null,null,null,null,null,null,null,null,null,null,null,null,null,null,null,null,null,null,null,null,null,null,null,null,null,null,null,null,null,null,null,null,null,null,null,null,null,null,null,null,null,null,null,null,null,null,null,null,null,null,null,null,null,null,null,null,null,null,null,null,null,null,null,null,null,null,null,null,null,null,{"$f":"CHOOSE(SIGN(BR156-BR158)+2,BO156,\"\",BO158)","v":""}]
[]
[null,null,null,null,null,6,10,18,34,null,{"$f":"KO_Data_1row+INDEX(D170:I170,KO_Rounds_Ind)","v":301},null,null,null,null,null,null,null,null,null,null,"K_08_A6","field x","best of n",0,null,"K_16_A10","field x","best of n",0,null,"K_32_A18","field x","best of n",0,null,"K_16_B09","field x","best of n",0,null,"K_16_C09","field x","best of n",0,null,"K_08_B5","field x","best of n",0,null,"K_08_C5","field x","best of n",0,null,"K_04_B3","field x","best of n",0,null,"K_04_C3","field x","best of n",0,null,{"$f":"\" 9. \"&$CS$14","v":" 9. Rang"},null,"(9. - 12.)"]
[null,null,null,null,null,null,null,null,null,null,null,null,null,null,{"$f":"INDEX(tbl_KO_Data[T1 Src Rank],K170) & \". Gr. \" & INDEX(tbl_KO_Data[T1 Src Group],K170)","v":"2. Gr. C"}]
[null,null,null,null,null,null,null,null,null,null,null,null,null,null,null,null,null,null,null,null,null,{"$f":"O171","v":"2. Gr. C"},null,null,null,null,{"$f":"O171","v":"2. Gr. C"},null,null,null,null,{"$f":"O171","v":"2. Gr. C"},null,null,null,null,{"$f":"CHOOSE(SIGN(AI68-AI70)+2,AF68,\"\",AF70)","v":""},null,null,null,null,{"$f":"CHOOSE(SIGN(AN44-AN46)+2,AK44,\"\",AK46)","v":""},null,null,null,null,{"$f":"IF(AU16,CHOOSE(SIGN(AD132-AD134)+2,AA132,\"\",AA134),CHOOSE(SIGN(AS196-AS198)+2,AP198,\"\",AP196))","v":""},null,null,null,null,{"$f":"CHOOSE(SIGN(AX108-AX110)+2,AU108,\"\",AU110)","v":""},null,null,null,null,{"$f":"IF(BE16,CHOOSE(SIGN(Y164-Y166)+2,V164,\"\",V166),CHOOSE(SIGN(BC196-BC198)+2,AZ198,\"\",AZ196))","v":""},null,null,null,null,{"$f":"CHOOSE(SIGN(BH140-BH142)+2,BE140,\"\",BE142)","v":""},null,null,null,null,{"$f":"CHOOSE(SIGN(BM148-BM150)+2,BJ148,\"\",BJ150)","v":""}]
[]
[null,null,null,null,null,null,null,null,null,null,null,null,null,null,null,null,null,null,null,null,null,{"$f":"O175","v":"3. Gr. B"},null,null,null,null,{"$f":"O175","v":"3. Gr. B"},null,null,null,null,{"$f":"O175","v":"3. Gr. B"},null,null,null,null,{"$f":"CHOOSE(SIGN(AI76-AI78)+2,AF76,\"\",AF78)","v":""},null,null,null,null,{"$f":"CHOOSE(SIGN(AN172-AN174)+2,AK174,\"\",AK172)","v":""},null,null,null,null,{"$f":"IF(AU16,CHOOSE(SIGN(AD140-AD142)+2,AA140,\"\",AA142),CHOOSE(SIGN(AS204-AS206)+2,AP206,\"\",AP204))","v":""},null,null,null,null,{"$f":"CHOOSE(SIGN(AX172-AX174)+2,AU174,\"\",AU172)","v":""},null,null,null,null,{"$f":"IF(BE16,CHOOSE(SIGN(Y172-Y174)+2,V172,\"\",V174),CHOOSE(SIGN(BC204-BC206)+2,AZ206,\"\",AZ204))","v":""},null,null,null,null,{"$f":"CHOOSE(SIGN(BH172-BH174)+2,BE174,\"\",BE172)","v":""},null,null,null,null,{"$f":"CHOOSE(SIGN(BM156-BM158)+2,BJ156,\"\",BJ158)","v":""}]
[null,null,null,null,null,null,null,null,null,null,null,null,null,null,{"$f":"INDEX(tbl_KO_Data[T2 Src Rank],K170) & \". Gr. \" & INDEX(tbl_KO_Data[T2 Src Group],K170)","v":"3. Gr. B"}]
[null,null,null,null,null,null,null,null,null,null,null,null,null,null,null,null,null,null,null,null,null,null,null,null,null,null,null,null,null,null,null,null,null,null,null,null,null,null,null,null,null,null,null,null,null,null,null,null,null,null,null,null,null,null,null,null,null,null,null,null,null,null,null,null,null,null,{"$f":"CHOOSE(SIGN(BM164-BM166)+2,BJ164,\"\",BJ166)","v":""}]
[]
[null,null,null,null,null,null,3,7,15,null,{"$f":"KO_Data_1row+INDEX(D178:I178,KO_Rounds_Ind)","v":295},null,null,null,null,null,null,null,null,null,null,null,null,null,null,null,"K_16_A03","field x","best of n",0,null,"K_32_A07","field x","best of n",0,null,"K_16_B04","field x","best of n",0,null,"K_16_C04","field x","best of n",0,null,"K_08_B2","field x","best of n",0,null,"K_08_C2","field x","best of n",0,null,null,null,null,null,null,null,null,null,null,null,{"$f":"CHOOSE(SIGN(BM172-BM174)+2,BJ172,\"\",BJ174)","v":""}]
[null,null,null,null,null,null,null,null,null,null,null,null,null,null,{"$f":"IF(V16,\"\",INDEX(tbl_KO_Data[T1 Src Rank],K178) & \". Gr. \" & INDEX(tbl_KO_Data[T1 Src Group],K178))","v":""}]
[null,null,null,null,null,null,null,null,null,null,null,null,null,null,null,null,null,null,null,null,null,null,null,null,null,null,{"$f":"O179","v":""},null,null,null,null,{"$f":"O179","v":""},null,null,null,null,{"$f":"CHOOSE(SIGN(AI84-AI86)+2,AF84,\"\",AF86)","v":""},null,null,null,null,{"$f":"CHOOSE(SIGN(AN52-AN54)+2,AK52,\"\",AK54)","v":""},null,null,null,null,{"$f":"IF(AU16,CHOOSE(SIGN(AD148-AD150)+2,AA148,\"\",AA150),CHOOSE(SIGN(AS212-AS214)+2,AP214,\"\",AP212))","v":""},null,null,null,null,{"$f":"CHOOSE(SIGN(AX116-AX118)+2,AU116,\"\",AU118)","v":""},null,null,null,null,null,null,null,null,null,{"$f":"\" 13. \"&$CS$14","v":" 13. Rang"},null,"(13. - 16.) "]
[]
[null,null,null,null,null,null,null,null,null,null,null,null,null,null,null,null,null,null,null,null,null,null,null,null,null,null,{"$f":"O183","v":""},null,null,null,null,{"$f":"O183","v":""},null,null,null,null,{"$f":"CHOOSE(SIGN(AI92-AI94)+2,AF92,\"\",AF94)","v":""},null,null,null,null,{"$f":"CHOOSE(SIGN(AN180-AN182)+2,AK182,\"\",AK180)","v":""},null,null,null,null,{"$f":"IF(AU16,CHOOSE(SIGN(AD156-AD158)+2,AA156,\"\",AA158),CHOOSE(SIGN(AS220-AS222)+2,AP222,\"\",AP220))","v":""},null,null,null,null,{"$f":"CHOOSE(SIGN(AX180-AX182)+2,AU182,\"\",AU180)","v":""},null,null,null,null,null,null,null,null,null,{"$f":"CHOOSE(SIGN(BH148-BH150)+2,BE148,\"\",BE150)","v":""}]
[null,null,null,null,null,null,null,null,null,null,null,null,null,null,{"$f":"IF(V16,\"\",INDEX(tbl_KO_Data[T2 Src Rank],K178) & \". Gr. \" & INDEX(tbl_KO_Data[T2 Src Group],K178))","v":""}]
[null,null,null,null,null,null,null,null,null,null,null,null,null,null,null,null,null,null,null,null,null,null,null,null,null,null,null,null,null,null,null,null,null,null,null,null,null,null,null,null,null,null,null,null,null,null,null,null,null,null,null,null,null,null,null,null,null,null,null,null,null,{"$f":"CHOOSE(SIGN(BH156-BH158)+2,BE156,\"\",BE158)","v":""}]
[]
[null,null,null,null,null,null,14,26,50,null,{"$f":"KO_Data_1row+INDEX(D186:I186,KO_Rounds_Ind)","v":295},null,null,null,null,null,null,null,null,null,null,null,null,null,null,null,"K_16_A14","field x","best of n",0,null,"K_32_A26","field x","best of n",0,null,"K_16_B13","field x","best of n",0,null,"K_16_C13","field x","best of n",0,null,"K_08_B7","field x","best of n",0,null,"K_08_C7","field x","best of n",0,null,null,null,null,null,null,{"$f":"CHOOSE(SIGN(BH164-BH166)+2,BE164,\"\",BE166)","v":""}]
[null,null,null,null,null,null,null,null,null,null,null,null,null,null,{"$f":"IF(V16,\"\",INDEX(tbl_KO_Data[T1 Src Rank],K186) & \". Gr. \" & INDEX(tbl_KO_Data[T1 Src Group],K186))","v":""}]
[null,null,null,null,null,null,null,null,null,null,null,null,null,null,null,null,null,null,null,null,null,null,null,null,null,null,{"$f":"O187","v":""},null,null,null,null,{"$f":"O187","v":""},null,null,null,null,{"$f":"CHOOSE(SIGN(AI100-AI102)+2,AF100,\"\",AF102)","v":""},null,null,null,null,{"$f":"CHOOSE(SIGN(AN60-AN62)+2,AK60,\"\",AK62)","v":""},null,null,null,null,{"$f":"IF(AU16,CHOOSE(SIGN(AD164-AD166)+2,AA164,\"\",AA166),CHOOSE(SIGN(AS228-AS230)+2,AP230,\"\",AP228))","v":""},null,null,null,null,{"$f":"CHOOSE(SIGN(AX124-AX126)+2,AU124,\"\",AU126)","v":""},null,null,null,null,null,null,null,null,null,{"$f":"CHOOSE(SIGN(BH172-BH174)+2,BE172,\"\",BE174)","v":""}]
[]
[null,null,null,null,null,null,null,null,null,null,null,null,null,null,null,null,null,null,null,null,null,null,null,null,null,null,{"$f":"O191","v":"5. Gr. A"},null,null,null,null,{"$f":"O191","v":"5. Gr. A"},null,null,null,null,{"$f":"CHOOSE(SIGN(AI108-AI110)+2,AF108,\"\",AF110)","v":""},null,null,null,null,{"$f":"CHOOSE(SIGN(AN188-AN190)+2,AK190,\"\",AK188)","v":""},null,null,null,null,{"$f":"IF(AU16,CHOOSE(SIGN(AD172-AD174)+2,AA172,\"\",AA174),CHOOSE(SIGN(AS236-AS238)+2,AP238,\"\",AP236))","v":""},null,null,null,null,{"$f":"CHOOSE(SIGN(AX188-AX190)+2,AU190,\"\",AU188)","v":""},null,null,null,null,{"$f":"\" 17. \"&$CS$14","v":" 17. Rang"},null,"(17. - 24.) "]
[null,null,null,null,null,null,null,null,null,null,null,null,null,null,{"$f":"INDEX(tbl_KO_Data[T2 Src Rank],K186) & \". Gr. \" & INDEX(tbl_KO_Data[T2 Src Group],K186)","v":"5. Gr. A"}]
[null,null,null,null,null,null,null,null,null,null,null,null,null,null,null,null,null,null,null,null,null,null,null,null,null,null,null,null,null,null,null,null,null,null,null,null,null,null,null,null,null,null,null,null,null,null,null,null,null,null,null,null,null,null,null,null,{"$f":"CHOOSE(SIGN(BC148-BC150)+2,AZ148,\"\",AZ150)","v":""}]
[]
[null,null,null,null,null,null,6,10,18,null,{"$f":"KO_Data_1row+INDEX(D194:I194,KO_Rounds_Ind)","v":295},null,null,null,null,null,null,null,null,null,null,null,null,null,null,null,"K_16_A06","field x","best of n",0,null,"K_32_A10","field x","best of n",0,null,"K_16_B05","field x","best of n",0,null,"K_16_C05","field x","best of n",0,null,"K_08_B3","field x","best of n",0,null,"K_08_C3","field x","best of n",0,null,{"$f":"CHOOSE(SIGN(BC156-BC158)+2,AZ156,\"\",AZ158)","v":""}]
[null,null,null,null,null,null,null,null,null,null,null,null,null,null,{"$f":"INDEX(tbl_KO_Data[T1 Src Rank],K194) & \". Gr. \" & INDEX(tbl_KO_Data[T1 Src Group],K194)","v":"4. Gr. B"}]
[null,null,null,null,null,null,null,null,null,null,null,null,null,null,null,null,null,null,null,null,null,null,null,null,null,null,{"$f":"O195","v":"4. Gr. B"},null,null,null,null,{"$f":"O195","v":"4. Gr. B"},null,null,null,null,{"$f":"CHOOSE(SIGN(AI116-AI118)+2,AF116,\"\",AF118)","v":""},null,null,null,null,{"$f":"CHOOSE(SIGN(AN68-AN70)+2,AK68,\"\",AK70)","v":""},null,null,null,null,{"$f":"IF(AU16,CHOOSE(SIGN(AD180-AD182)+2,AA180,\"\",AA182),CHOOSE(SIGN(AS244-AS246)+2,AP246,\"\",AP244))","v":""},null,null,null,null,{"$f":"CHOOSE(SIGN(AX132-AX134)+2,AU132,\"\",AU134)","v":""},null,null,null,null,{"$f":"CHOOSE(SIGN(BC164-BC166)+2,AZ164,\"\",AZ166)","v":""}]
[]
[null,null,null,null,null,null,null,null,null,null,null,null,null,null,null,null,null,null,null,null,null,null,null,null,null,null,{"$f":"O199","v":"5. Gr. A"},null,null,null,null,{"$f":"O199","v":"5. Gr. A"},null,null,null,null,{"$f":"CHOOSE(SIGN(AI124-AI126)+2,AF124,\"\",AF126)","v":""},null,null,null,null,{"$f":"CHOOSE(SIGN(AN196-AN198)+2,AK198,\"\",AK196)","v":""},null,null,null,null,{"$f":"IF(AU16,CHOOSE(SIGN(AD188-AD190)+2,AA188,\"\",AA190),CHOOSE(SIGN(AS252-AS254)+2,AP254,\"\",AP252))","v":""},null,null,null,null,{"$f":"CHOOSE(SIGN(AX196-AX198)+2,AU198,\"\",AU196)","v":""},null,null,null,null,{"$f":"CHOOSE(SIGN(BC172-BC174)+2,AZ172,\"\",AZ174)","v":""}]
[null,null,null,null,null,null,null,null,null,null,null,null,null,null,{"$f":"INDEX(tbl_KO_Data[T2 Src Rank],K194) & \". Gr. \" & INDEX(tbl_KO_Data[T2 Src Group],K194)","v":"5. Gr. A"}]
[null,null,null,null,null,null,null,null,null,null,null,null,null,null,null,null,null,null,null,null,null,null,null,null,null,null,null,null,null,null,null,null,null,null,null,null,null,null,null,null,null,null,null,null,null,null,null,null,null,null,null,null,null,null,null,null,{"$f":"CHOOSE(SIGN(BC180-BC182)+2,AZ180,\"\",AZ182)","v":""}]
[]
[null,null,null,null,null,null,11,23,47,null,{"$f":"KO_Data_1row+INDEX(D202:I202,KO_Rounds_Ind)","v":295},null,null,null,null,null,null,null,null,null,null,null,null,null,null,null,"K_16_A11","field x","best of n",0,null,"K_32_A23","field x","best of n",0,null,"K_16_B12","field x","best of n",0,null,"K_16_C12","field x","best of n",0,null,"K_08_B6","field x","best of n",0,null,"K_08_C6","field x","best of n",0,null,{"$f":"CHOOSE(SIGN(BC188-BC190)+2,AZ188,\"\",AZ190)","v":""}]
[null,null,null,null,null,null,null,null,null,null,null,null,null,null,{"$f":"INDEX(tbl_KO_Data[T1 Src Rank],K202) & \". Gr. \" & INDEX(tbl_KO_Data[T1 Src Group],K202)","v":"4. Gr. B"}]
[null,null,null,null,null,null,null,null,null,null,null,null,null,null,null,null,null,null,null,null,null,null,null,null,null,null,{"$f":"O203","v":"4. Gr. B"},null,null,null,null,{"$f":"O203","v":"4. Gr. B"},null,null,null,null,{"$f":"CHOOSE(SIGN(AI132-AI134)+2,AF132,\"\",AF134)","v":""},null,null,null,null,{"$f":"CHOOSE(SIGN(AN76-AN78)+2,AK76,\"\",AK78)","v":""},null,null,null,null,{"$f":"IF(AU16,CHOOSE(SIGN(AD196-AD198)+2,AA196,\"\",AA198),CHOOSE(SIGN(AS260-AS262)+2,AP262,\"\",AP260))","v":""},null,null,null,null,{"$f":"CHOOSE(SIGN(AX140-AX142)+2,AU140,\"\",AU142)","v":""},null,null,null,null,{"$f":"CHOOSE(SIGN(BC196-BC198)+2,AZ196,\"\",AZ198)","v":""}]
[]
[null,null,null,null,null,null,null,null,null,null,null,null,null,null,null,null,null,null,null,null,null,null,null,null,null,null,{"$f":"O207","v":"5. Gr. A"},null,null,null,null,{"$f":"O207","v":"5. Gr. A"},null,null,null,null,{"$f":"CHOOSE(SIGN(AI140-AI142)+2,AF140,\"\",AF142)","v":""},null,null,null,null,{"$f":"CHOOSE(SIGN(AN204-AN206)+2,AK206,\"\",AK204)","v":""},null,null,null,null,{"$f":"IF(AU16,CHOOSE(SIGN(AD204-AD206)+2,AA204,\"\",AA206),CHOOSE(SIGN(AS268-AS270)+2,AP270,\"\",AP268))","v":""},null,null,null,null,{"$f":"CHOOSE(SIGN(AX204-AX206)+2,AU206,\"\",AU204)","v":""},null,null,null,null,{"$f":"CHOOSE(SIGN(BC204-BC206)+2,AZ204,\"\",AZ206)","v":""}]
[null,null,null,null,null,null,null,null,null,null,null,null,null,null,{"$f":"INDEX(tbl_KO_Data[T2 Src Rank],K202) & \". Gr. \" & INDEX(tbl_KO_Data[T2 Src Group],K202)","v":"5. Gr. A"}]
[]
[]
[null,null,null,null,null,null,null,3,7,null,{"$f":"KO_Data_1row+INDEX(D210:I210,KO_Rounds_Ind)","v":295},null,null,null,null,null,null,null,null,null,null,null,null,null,null,null,null,null,null,null,null,"K_32_A03","field x","best of n",0,null,"K_16_B02","field x","best of n",0,null,"K_16_C02","field x","best of n",0]
[null,null,null,null,null,null,null,null,null,null,null,null,null,null,{"$f":"IF(AA16,\"\",INDEX(tbl_KO_Data[T1 Src Rank],K210) & \". Gr. \" & INDEX(tbl_KO_Data[T1 Src Group],K210))","v":"4. Gr. B"}]
[null,null,null,null,null,null,null,null,null,null,null,null,null,null,null,null,null,null,null,null,null,null,null,null,null,null,null,null,null,null,null,{"$f":"O211","v":"4. Gr. B"},null,null,null,null,{"$f":"CHOOSE(SIGN(AI148-AI150)+2,AF148,\"\",AF150)","v":""},null,null,null,null,{"$f":"CHOOSE(SIGN(AN84-AN86)+2,AK84,\"\",AK86)","v":""},null,null,null,null,null,null,null,null,null,{"$f":"\" 25. \"&$CS$14","v":" 25. Rang"},null,"(25. - 32.) "]
[]
[null,null,null,null,null,null,null,null,null,null,null,null,null,null,null,null,null,null,null,null,null,null,null,null,null,null,null,null,null,null,null,{"$f":"O215","v":"5. Gr. A"},null,null,null,null,{"$f":"CHOOSE(SIGN(AI156-AI158)+2,AF156,\"\",AF158)","v":""},null,null,null,null,{"$f":"CHOOSE(SIGN(AN212-AN214)+2,AK214,\"\",AK212)","v":""},null,null,null,null,null,null,null,null,null,{"$f":"CHOOSE(SIGN(AX148-AX150)+2,AU148,\"\",AU150)","v":""}]
[null,null,null,null,null,null,null,null,null,null,null,null,null,null,{"$f":"IF(AA16,\"\",INDEX(tbl_KO_Data[T2 Src Rank],K210) & \". Gr. \" & INDEX(tbl_KO_Data[T2 Src Group],K210))","v":"5. Gr. A"}]
[null,null,null,null,null,null,null,null,null,null,null,null,null,null,null,null,null,null,null,null,null,null,null,null,null,null,null,null,null,null,null,null,null,null,null,null,null,null,null,null,null,null,null,null,null,null,null,null,null,null,null,{"$f":"CHOOSE(SIGN(AX156-AX158)+2,AU156,\"\",AU158)","v":""}]
[]
[null,null,null,null,null,null,null,30,58,null,{"$f":"KO_Data_1row+INDEX(D218:I218,KO_Rounds_Ind)","v":295},null,null,null,null,null,null,null,null,null,null,null,null,null,null,null,null,null,null,null,null,"K_32_A30","field x","best of n",0,null,"K_16_B15","field x","best of n",0,null,"K_16_C15","field x","best of n",0,null,null,null,null,null,null,{"$f":"CHOOSE(SIGN(AX164-AX166)+2,AU164,\"\",AU166)","v":""}]
[null,null,null,null,null,null,null,null,null,null,null,null,null,null,{"$f":"IF(AA16,\"\",INDEX(tbl_KO_Data[T1 Src Rank],K218) & \". Gr. \" & INDEX(tbl_KO_Data[T1 Src Group],K218))","v":"4. Gr. B"}]
[null,null,null,null,null,null,null,null,null,null,null,null,null,null,null,null,null,null,null,null,null,null,null,null,null,null,null,null,null,null,null,{"$f":"O219","v":"4. Gr. B"},null,null,null,null,{"$f":"CHOOSE(SIGN(AI164-AI166)+2,AF164,\"\",AF166)","v":""},null,null,null,null,{"$f":"CHOOSE(SIGN(AN92-AN94)+2,AK92,\"\",AK94)","v":""},null,null,null,null,null,null,null,null,null,{"$f":"CHOOSE(SIGN(AX172-AX174)+2,AU172,\"\",AU174)","v":""}]
[]
[null,null,null,null,null,null,null,null,null,null,null,null,null,null,null,null,null,null,null,null,null,null,null,null,null,null,null,null,null,null,null,{"$f":"O223","v":"5. Gr. A"},null,null,null,null,{"$f":"CHOOSE(SIGN(AI172-AI174)+2,AF172,\"\",AF174)","v":""},null,null,null,null,{"$f":"CHOOSE(SIGN(AN220-AN222)+2,AK222,\"\",AK220)","v":""},null,null,null,null,null,null,null,null,null,{"$f":"CHOOSE(SIGN(AX180-AX182)+2,AU180,\"\",AU182)","v":""}]
[null,null,null,null,null,null,null,null,null,null,null,null,null,null,{"$f":"IF(AA16,\"\",INDEX(tbl_KO_Data[T2 Src Rank],K218) & \". Gr. \" & INDEX(tbl_KO_Data[T2 Src Group],K218))","v":"5. Gr. A"}]
[null,null,null,null,null,null,null,null,null,null,null,null,null,null,null,null,null,null,null,null,null,null,null,null,null,null,null,null,null,null,null,null,null,null,null,null,null,null,null,null,null,null,null,null,null,null,null,null,null,null,null,{"$f":"CHOOSE(SIGN(AX188-AX190)+2,AU188,\"\",AU190)","v":""}]
[]
[null,null,null,null,null,null,null,14,26,null,{"$f":"KO_Data_1row+INDEX(D226:I226,KO_Rounds_Ind)","v":295},null,null,null,null,null,null,null,null,null,null,null,null,null,null,null,null,null,null,null,null,"K_32_A14","field x","best of n",0,null,"K_16_B07","field x","best of n",0,null,"K_16_C07","field x","best of n",0,null,null,null,null,null,null,{"$f":"CHOOSE(SIGN(AX196-AX198)+2,AU196,\"\",AU198)","v":""}]
[null,null,null,null,null,null,null,null,null,null,null,null,null,null,{"$f":"IF(AA16,\"\",INDEX(tbl_KO_Data[T1 Src Rank],K226) & \". Gr. \" & INDEX(tbl_KO_Data[T1 Src Group],K226))","v":"4. Gr. B"}]
[null,null,null,null,null,null,null,null,null,null,null,null,null,null,null,null,null,null,null,null,null,null,null,null,null,null,null,null,null,null,null,{"$f":"O227","v":"4. Gr. B"},null,null,null,null,{"$f":"CHOOSE(SIGN(AI180-AI182)+2,AF180,\"\",AF182)","v":""},null,null,null,null,{"$f":"CHOOSE(SIGN(AN100-AN102)+2,AK100,\"\",AK102)","v":""},null,null,null,null,null,null,null,null,null,{"$f":"CHOOSE(SIGN(AX204-AX206)+2,AU204,\"\",AU206)","v":""}]
[]
[null,null,null,null,null,null,null,null,null,null,null,null,null,null,null,null,null,null,null,null,null,null,null,null,null,null,null,null,null,null,null,{"$f":"O231","v":"5. Gr. A"},null,null,null,null,{"$f":"CHOOSE(SIGN(AI188-AI190)+2,AF188,\"\",AF190)","v":""},null,null,null,null,{"$f":"CHOOSE(SIGN(AN228-AN230)+2,AK230,\"\",AK228)","v":""}]
[null,null,null,null,null,null,null,null,null,null,null,null,null,null,{"$f":"INDEX(tbl_KO_Data[T2 Src Rank],K226) & \". Gr. \" & INDEX(tbl_KO_Data[T2 Src Group],K226)","v":"5. Gr. A"}]
[]
[]
[null,null,null,null,null,null,null,19,39,null,{"$f":"KO_Data_1row+INDEX(D234:I234,KO_Rounds_Ind)","v":295},null,null,null,null,null,null,null,null,null,null,null,null,null,null,null,null,null,null,null,null,"K_32_A19","field x","best of n",0,null,"K_16_B10","field x","best of n",0,null,"K_16_C10","field x","best of n",0]
[null,null,null,null,null,null,null,null,null,null,null,null,null,null,{"$f":"INDEX(tbl_KO_Data[T1 Src Rank],K234) & \". Gr. \" & INDEX(tbl_KO_Data[T1 Src Group],K234)","v":"4. Gr. B"}]
[null,null,null,null,null,null,null,null,null,null,null,null,null,null,null,null,null,null,null,null,null,null,null,null,null,null,null,null,null,null,null,{"$f":"O235","v":"4. Gr. B"},null,null,null,null,{"$f":"CHOOSE(SIGN(AI196-AI198)+2,AF196,\"\",AF198)","v":""},null,null,null,null,{"$f":"CHOOSE(SIGN(AN108-AN110)+2,AK108,\"\",AK110)","v":""}]
[]
[null,null,null,null,null,null,null,null,null,null,null,null,null,null,null,null,null,null,null,null,null,null,null,null,null,null,null,null,null,null,null,{"$f":"O239","v":"5. Gr. A"},null,null,null,null,{"$f":"CHOOSE(SIGN(AI204-AI206)+2,AF204,\"\",AF206)","v":""},null,null,null,null,{"$f":"CHOOSE(SIGN(AN236-AN238)+2,AK238,\"\",AK236)","v":""},null,null,null,null,{"$f":"\" 33. \"&$CS$14","v":" 33. Rang"},null,"(33. - 48.) "]
[null,null,null,null,null,null,null,null,null,null,null,null,null,null,{"$f":"INDEX(tbl_KO_Data[T2 Src Rank],K234) & \". Gr. \" & INDEX(tbl_KO_Data[T2 Src Group],K234)","v":"5. Gr. A"}]
[null,null,null,null,null,null,null,null,null,null,null,null,null,null,null,null,null,null,null,null,null,null,null,null,null,null,null,null,null,null,null,null,null,null,null,null,null,null,null,null,null,null,null,null,null,null,{"$f":"CHOOSE(SIGN(AS148-AS150)+2,AP148,\"\",AP150)","v":""}]
[]
[null,null,null,null,null,null,null,6,10,null,{"$f":"KO_Data_1row+INDEX(D242:I242,KO_Rounds_Ind)","v":295},null,null,null,null,null,null,null,null,null,null,null,null,null,null,null,null,null,null,null,null,"K_32_A06","field x","best of n",0,null,"K_16_B03","field x","best of n",0,null,"K_16_C03","field x","best of n",0,null,{"$f":"CHOOSE(SIGN(AS156-AS158)+2,AP156,\"\",AP158)","v":""}]
[null,null,null,null,null,null,null,null,null,null,null,null,null,null,{"$f":"INDEX(tbl_KO_Data[T1 Src Rank],K242) & \". Gr. \" & INDEX(tbl_KO_Data[T1 Src Group],K242)","v":"4. Gr. B"}]
[null,null,null,null,null,null,null,null,null,null,null,null,null,null,null,null,null,null,null,null,null,null,null,null,null,null,null,null,null,null,null,{"$f":"O243","v":"4. Gr. B"},null,null,null,null,{"$f":"CHOOSE(SIGN(AI212-AI214)+2,AF212,\"\",AF214)","v":""},null,null,null,null,{"$f":"CHOOSE(SIGN(AN116-AN118)+2,AK116,\"\",AK118)","v":""},null,null,null,null,{"$f":"CHOOSE(SIGN(AS164-AS166)+2,AP164,\"\",AP166)","v":""}]
[]
[null,null,null,null,null,null,null,null,null,null,null,null,null,null,null,null,null,null,null,null,null,null,null,null,null,null,null,null,null,null,null,{"$f":"O247","v":"5. Gr. A"},null,null,null,null,{"$f":"CHOOSE(SIGN(AI220-AI222)+2,AF220,\"\",AF222)","v":""},null,null,null,null,{"$f":"CHOOSE(SIGN(AN244-AN246)+2,AK246,\"\",AK244)","v":""},null,null,null,null,{"$f":"CHOOSE(SIGN(AS172-AS174)+2,AP172,\"\",AP174)","v":""}]
[null,null,null,null,null,null,null,null,null,null,null,null,null,null,{"$f":"INDEX(tbl_KO_Data[T2 Src Rank],K242) & \". Gr. \" & INDEX(tbl_KO_Data[T2 Src Group],K242)","v":"5. Gr. A"}]
[null,null,null,null,null,null,null,null,null,null,null,null,null,null,null,null,null,null,null,null,null,null,null,null,null,null,null,null,null,null,null,null,null,null,null,null,null,null,null,null,null,null,null,null,null,null,{"$f":"CHOOSE(SIGN(AS180-AS182)+2,AP180,\"\",AP182)","v":""}]
[]
[null,null,null,null,null,null,null,27,55,null,{"$f":"KO_Data_1row+INDEX(D250:I250,KO_Rounds_Ind)","v":295},null,null,null,null,null,null,null,null,null,null,null,null,null,null,null,null,null,null,null,null,"K_32_A27","field x","best of n",0,null,"K_16_B14","field x","best of n",0,null,"K_16_C14","field x","best of n",0,null,{"$f":"CHOOSE(SIGN(AS188-AS190)+2,AP188,\"\",AP190)","v":""}]
[null,null,null,null,null,null,null,null,null,null,null,null,null,null,{"$f":"INDEX(tbl_KO_Data[T1 Src Rank],K250) & \". Gr. \" & INDEX(tbl_KO_Data[T1 Src Group],K250)","v":"4. Gr. B"}]
[null,null,null,null,null,null,null,null,null,null,null,null,null,null,null,null,null,null,null,null,null,null,null,null,null,null,null,null,null,null,null,{"$f":"O251","v":"4. Gr. B"},null,null,null,null,{"$f":"CHOOSE(SIGN(AI228-AI230)+2,AF228,\"\",AF230)","v":""},null,null,null,null,{"$f":"CHOOSE(SIGN(AN124-AN126)+2,AK124,\"\",AK126)","v":""},null,null,null,null,{"$f":"CHOOSE(SIGN(AS196-AS198)+2,AP196,\"\",AP198)","v":""}]
[]
[null,null,null,null,null,null,null,null,null,null,null,null,null,null,null,null,null,null,null,null,null,null,null,null,null,null,null,null,null,null,null,{"$f":"O255","v":"5. Gr. A"},null,null,null,null,{"$f":"CHOOSE(SIGN(AI236-AI238)+2,AF236,\"\",AF238)","v":""},null,null,null,null,{"$f":"CHOOSE(SIGN(AN252-AN254)+2,AK254,\"\",AK252)","v":""},null,null,null,null,{"$f":"CHOOSE(SIGN(AS204-AS206)+2,AP204,\"\",AP206)","v":""}]
[null,null,null,null,null,null,null,null,null,null,null,null,null,null,{"$f":"INDEX(tbl_KO_Data[T2 Src Rank],K250) & \". Gr. \" & INDEX(tbl_KO_Data[T2 Src Group],K250)","v":"5. Gr. A"}]
[null,null,null,null,null,null,null,null,null,null,null,null,null,null,null,null,null,null,null,null,null,null,null,null,null,null,null,null,null,null,null,null,null,null,null,null,null,null,null,null,null,null,null,null,null,null,{"$f":"CHOOSE(SIGN(AS212-AS214)+2,AP212,\"\",AP214)","v":""}]
[]
[null,null,null,null,null,null,null,11,23,null,{"$f":"KO_Data_1row+INDEX(D258:I258,KO_Rounds_Ind)","v":295},null,null,null,null,null,null,null,null,null,null,null,null,null,null,null,null,null,null,null,null,"K_32_A11","field x","best of n",0,null,"K_16_B06","field x","best of n",0,null,"K_16_C06","field x","best of n",0,null,{"$f":"CHOOSE(SIGN(AS220-AS222)+2,AP220,\"\",AP222)","v":""}]
[null,null,null,null,null,null,null,null,null,null,null,null,null,null,{"$f":"INDEX(tbl_KO_Data[T1 Src Rank],K258) & \". Gr. \" & INDEX(tbl_KO_Data[T1 Src Group],K258)","v":"4. Gr. B"}]
[null,null,null,null,null,null,null,null,null,null,null,null,null,null,null,null,null,null,null,null,null,null,null,null,null,null,null,null,null,null,null,{"$f":"O259","v":"4. Gr. B"},null,null,null,null,{"$f":"CHOOSE(SIGN(AI244-AI246)+2,AF244,\"\",AF246)","v":""},null,null,null,null,{"$f":"CHOOSE(SIGN(AN132-AN134)+2,AK132,\"\",AK134)","v":""},null,null,null,null,{"$f":"CHOOSE(SIGN(AS228-AS230)+2,AP228,\"\",AP230)","v":""}]
[]
[null,null,null,null,null,null,null,null,null,null,null,null,null,null,null,null,null,null,null,null,null,null,null,null,null,null,null,null,null,null,null,{"$f":"O263","v":"5. Gr. A"},null,null,null,null,{"$f":"CHOOSE(SIGN(AI252-AI254)+2,AF252,\"\",AF254)","v":""},null,null,null,null,{"$f":"CHOOSE(SIGN(AN260-AN262)+2,AK262,\"\",AK260)","v":""},null,null,null,null,{"$f":"CHOOSE(SIGN(AS236-AS238)+2,AP236,\"\",AP238)","v":""}]
[null,null,null,null,null,null,null,null,null,null,null,null,null,null,{"$f":"INDEX(tbl_KO_Data[T2 Src Rank],K258) & \". Gr. \" & INDEX(tbl_KO_Data[T2 Src Group],K258)","v":"5. Gr. A"}]
[null,null,null,null,null,null,null,null,null,null,null,null,null,null,null,null,null,null,null,null,null,null,null,null,null,null,null,null,null,null,null,null,null,null,null,null,null,null,null,null,null,null,null,null,null,null,{"$f":"CHOOSE(SIGN(AS244-AS246)+2,AP244,\"\",AP246)","v":""}]
[]
[null,null,null,null,null,null,null,22,42,null,{"$f":"KO_Data_1row+INDEX(D266:I266,KO_Rounds_Ind)","v":295},null,null,null,null,null,null,null,null,null,null,null,null,null,null,null,null,null,null,null,null,"K_32_A22","field x","best of n",0,null,"K_16_B11","field x","best of n",0,null,"K_16_C11","field x","best of n",0,null,{"$f":"CHOOSE(SIGN(AS252-AS254)+2,AP252,\"\",AP254)","v":""}]
[null,null,null,null,null,null,null,null,null,null,null,null,null,null,{"$f":"INDEX(tbl_KO_Data[T1 Src Rank],K266) & \". Gr. \" & INDEX(tbl_KO_Data[T1 Src Group],K266)","v":"4. Gr. B"}]
[null,null,null,null,null,null,null,null,null,null,null,null,null,null,null,null,null,null,null,null,null,null,null,null,null,null,null,null,null,null,null,{"$f":"O267","v":"4. Gr. B"},null,null,null,null,{"$f":"CHOOSE(SIGN(AI260-AI262)+2,AF260,\"\",AF262)","v":""},null,null,null,null,{"$f":"CHOOSE(SIGN(AN140-AN142)+2,AK140,\"\",AK142)","v":""},null,null,null,null,{"$f":"CHOOSE(SIGN(AS260-AS262)+2,AP260,\"\",AP262)","v":""}]
[]
[null,null,null,null,null,null,null,null,null,null,null,null,null,null,null,null,null,null,null,null,null,null,null,null,null,null,null,null,null,null,null,{"$f":"O271","v":"5. Gr. A"},null,null,null,null,{"$f":"CHOOSE(SIGN(AI268-AI270)+2,AF268,\"\",AF270)","v":""},null,null,null,null,{"$f":"CHOOSE(SIGN(AN268-AN270)+2,AK270,\"\",AK268)","v":""},null,null,null,null,{"$f":"CHOOSE(SIGN(AS268-AS270)+2,AP268,\"\",AP270)","v":""}]
[null,null,null,null,null,null,null,null,null,null,null,null,null,null,{"$f":"INDEX(tbl_KO_Data[T2 Src Rank],K266) & \". Gr. \" & INDEX(tbl_KO_Data[T2 Src Group],K266)","v":"5. Gr. A"}]
[]
[]
[null,null,null,null,null,null,null,null,3,null,{"$f":"KO_Data_1row+INDEX(D274:I274,KO_Rounds_Ind)","v":295}]
[]
[null,null,null,null,null,null,null,null,null,null,null,null,null,null,null,null,null,null,null,null,null,null,null,null,null,null,null,null,null,null,null,null,null,null,null,null,null,null,null,null,null,{"$f":"\" 49. \"&$CS$14","v":" 49. Rang"},null,"(49. - 64.) "]
[]
[null,null,null,null,null,null,null,null,null,null,null,null,null,null,null,null,null,null,null,null,null,null,null,null,null,null,null,null,null,null,null,null,null,null,null,null,null,null,null,null,null,{"$f":"CHOOSE(SIGN(AN148-AN150)+2,AK148,\"\",AK150)","v":""}]
[]
[null,null,null,null,null,null,null,null,null,null,null,null,null,null,null,null,null,null,null,null,null,null,null,null,null,null,null,null,null,null,null,null,null,null,null,null,null,null,null,null,null,{"$f":"CHOOSE(SIGN(AN156-AN158)+2,AK156,\"\",AK158)","v":""}]
[]
[null,null,null,null,null,null,null,null,62,null,{"$f":"KO_Data_1row+INDEX(D282:I282,KO_Rounds_Ind)","v":295},null,null,null,null,null,null,null,null,null,null,null,null,null,null,null,null,null,null,null,null,null,null,null,null,null,null,null,null,null,null,{"$f":"CHOOSE(SIGN(AN164-AN166)+2,AK164,\"\",AK166)","v":""}]
[]
[null,null,null,null,null,null,null,null,null,null,null,null,null,null,null,null,null,null,null,null,null,null,null,null,null,null,null,null,null,null,null,null,null,null,null,null,null,null,null,null,null,{"$f":"CHOOSE(SIGN(AN172-AN174)+2,AK172,\"\",AK174)","v":""}]
[]
[null,null,null,null,null,null,null,null,null,null,null,null,null,null,null,null,null,null,null,null,null,null,null,null,null,null,null,null,null,null,null,null,null,null,null,null,null,null,null,null,null,{"$f":"CHOOSE(SIGN(AN180-AN182)+2,AK180,\"\",AK182)","v":""}]
[]
[null,null,null,null,null,null,null,null,null,null,null,null,null,null,null,null,null,null,null,null,null,null,null,null,null,null,null,null,null,null,null,null,null,null,null,null,null,null,null,null,null,{"$f":"CHOOSE(SIGN(AN188-AN190)+2,AK188,\"\",AK190)","v":""}]
[]
[null,null,null,null,null,null,null,null,30,null,{"$f":"KO_Data_1row+INDEX(D290:I290,KO_Rounds_Ind)","v":295},null,null,null,null,null,null,null,null,null,null,null,null,null,null,null,null,null,null,null,null,null,null,null,null,null,null,null,null,null,null,{"$f":"CHOOSE(SIGN(AN196-AN198)+2,AK196,\"\",AK198)","v":""}]
[]
[null,null,null,null,null,null,null,null,null,null,null,null,null,null,null,null,null,null,null,null,null,null,null,null,null,null,null,null,null,null,null,null,null,null,null,null,null,null,null,null,null,{"$f":"CHOOSE(SIGN(AN204-AN206)+2,AK204,\"\",AK206)","v":""}]
[]
[null,null,null,null,null,null,null,null,null,null,null,null,null,null,null,null,null,null,null,null,null,null,null,null,null,null,null,null,null,null,null,null,null,null,null,null,null,null,null,null,null,{"$f":"CHOOSE(SIGN(AN212-AN214)+2,AK212,\"\",AK214)","v":""}]
[]
[null,null,null,null,null,null,null,null,null,null,null,null,null,null,null,null,null,null,null,null,null,null,null,null,null,null,null,null,null,null,null,null,null,null,null,null,null,null,null,null,null,{"$f":"CHOOSE(SIGN(AN220-AN222)+2,AK220,\"\",AK222)","v":""}]
[]
[null,null,null,null,null,null,null,null,35,null,{"$f":"KO_Data_1row+INDEX(D298:I298,KO_Rounds_Ind)","v":295},null,null,null,null,null,null,null,null,null,null,null,null,null,null,null,null,null,null,null,null,null,null,null,null,null,null,null,null,null,null,{"$f":"CHOOSE(SIGN(AN228-AN230)+2,AK228,\"\",AK230)","v":""}]
[]
[null,null,null,null,null,null,null,null,null,null,null,null,null,null,null,null,null,null,null,null,null,null,null,null,null,null,null,null,null,null,null,null,null,null,null,null,null,null,null,null,null,{"$f":"CHOOSE(SIGN(AN236-AN238)+2,AK236,\"\",AK238)","v":""}]
[]
[null,null,null,null,null,null,null,null,null,null,null,null,null,null,null,null,null,null,null,null,null,null,null,null,null,null,null,null,null,null,null,null,null,null,null,null,null,null,null,null,null,{"$f":"CHOOSE(SIGN(AN244-AN246)+2,AK244,\"\",AK246)","v":""}]
[]
[null,null,null,null,null,null,null,null,null,null,null,null,null,null,null,null,null,null,null,null,null,null,null,null,null,null,null,null,null,null,null,null,null,null,null,null,null,null,null,null,null,{"$f":"CHOOSE(SIGN(AN252-AN254)+2,AK252,\"\",AK254)","v":""}]
[]
[null,null,null,null,null,null,null,null,14,null,{"$f":"KO_Data_1row+INDEX(D306:I306,KO_Rounds_Ind)","v":295},null,null,null,null,null,null,null,null,null,null,null,null,null,null,null,null,null,null,null,null,null,null,null,null,null,null,null,null,null,null,{"$f":"CHOOSE(SIGN(AN260-AN262)+2,AK260,\"\",AK262)","v":""}]
[]
[null,null,null,null,null,null,null,null,null,null,null,null,null,null,null,null,null,null,null,null,null,null,null,null,null,null,null,null,null,null,null,null,null,null,null,null,null,null,null,null,null,{"$f":"CHOOSE(SIGN(AN268-AN270)+2,AK268,\"\",AK270)","v":""}]

{"sheet":"Table Round-Robin","index":8,"n_rows":2981,"n_cols":18,"rows_kept":2981,"cut":false,"hidden":false,"merged":[[1,2,1,8],[2,2,2,8]]}
[]
[null,"Source:","http://www.jdawiseman.com/papers/tournaments/all-play-all/all-play-all.html"]
[null,"except:","10 teams on 4 courts: by Walter Aust"]
[]
["ç","Table of team pairings depending on the number of teams and playing fields",null,null,null,null,null,null,null,null,"Table of notes depending on the number of teams and playing fields"]
[]
[null,"ID","Sum Teams","Sum Fields","Game No","Round","Field","Team 1","Team 2",null,"ID","Sum Teams","Sum Fields","Text 1","Text 2","Text 3","Text 4","Text 5"]
[null,{"$f":"1000000*tbl_RR_Data[[#This Row],[Sum Teams]] + 10000*tbl_RR_Data[[#This Row],[Sum Fields]] + 100*tbl_RR_Data[[#This Row],[Round]] + tbl_RR_Data[[#This Row],[Field]]","v":1000000},1,0,0,0,0,0,0,null,2010000,2,1,"txt_2259"]
[null,2010101,2,1,1,1,1,1,2,null,3010000,3,1,"txt_2260",null,"txt_2266",null,"txt_2277"]
[null,3010101,3,1,1,1,1,2,3,null,4020000,4,2,"txt_2259",null,"txt_2267","txt_2272","txt_2277"]
[null,3010201,3,1,2,2,1,3,1,null,5020000,5,2,"txt_2260","txt_2262","txt_2266",null,"txt_2277"]
[null,3010301,3,1,3,3,1,1,2,null,6030000,6,3,"txt_2259","txt_2263","txt_2268","txt_2273","txt_2277"]
[null,4020101,4,2,1,1,1,1,4,null,7030000,7,3,"txt_2260","txt_2264","txt_2266","txt_2274","txt_2277"]
[null,4020102,4,2,2,1,2,2,3,null,8040000,8,4,"txt_2259","txt_2263","txt_2269","txt_2275","txt_2277"]
[null,4020201,4,2,3,2,1,3,1,null,9040000,9,4,"txt_2260","txt_2263","txt_2266","txt_2276","txt_2277"]
[null,4020202,4,2,4,2,2,4,2,null,10040000,10,4,"txt_2261","txt_2265","txt_2270"]
[null,4020301,4,2,5,3,1,1,2,null,10050000,10,5,"txt_2259","txt_2263","txt_2269","txt_2275","txt_2277"]
[null,4020302,4,2,6,3,2,3,4,null,11050000,11,5,"txt_2260","txt_2263","txt_2266","txt_2276","txt_2277"]
[null,5020101,5,2,1,1,1,3,5,null,12060000,12,6,"txt_2259","txt_2263","txt_2269","txt_2275","txt_2277"]
[null,5020102,5,2,2,1,2,4,2,null,13060000,13,6,"txt_2260","txt_2263","txt_2266","txt_2276","txt_2277"]
[null,5020201,5,2,3,2,1,4,1,null,14070000,14,7,"txt_2259","txt_2263","txt_2269","txt_2275","txt_2277"]
[null,5020202,5,2,4,2,2,2,5,null,15070000,15,7,"txt_2260","txt_2263","txt_2266","txt_2276","txt_2277"]
[null,5020301,5,2,5,3,1,2,3,null,16080000,16,8,"txt_2259","txt_2263","txt_2269","txt_2275","txt_2277"]
[null,5020302,5,2,6,3,2,5,1,null,17080000,17,8,"txt_2260","txt_2263","txt_2266","txt_2276","txt_2277"]
[null,5020401,5,2,7,4,1,5,4,null,18090000,18,9,"txt_2259","txt_2263","txt_2269","txt_2275","txt_2277"]
[null,5020402,5,2,8,4,2,1,3,null,19090000,19,9,"txt_2260","txt_2263","txt_2266","txt_2276","txt_2277"]
[null,5020501,5,2,9,5,1,1,2,null,20100000,20,10,"txt_2259","txt_2263","txt_2269","txt_2275","txt_2277"]
[null,5020502,5,2,10,5,2,3,4,null,21100000,21,10,"txt_2260","txt_2263","txt_2266","txt_2276","txt_2277"]
[null,6030101,6,3,1,1,1,1,5,null,22110000,22,11,"txt_2259","txt_2263","txt_2269","txt_2275","txt_2277"]
[null,6030102,6,3,6,1,2,6,2,null,23110000,23,11,"txt_2260","txt_2263","txt_2266","txt_2276","txt_2277"]
[null,6030103,6,3,11,1,3,4,3,null,24120000,24,12,"txt_2259","txt_2263","txt_2269","txt_2275","txt_2277"]
[null,6030201,6,3,2,2,1,3,2,null,25120000,25,12,"txt_2260","txt_2263","txt_2266","txt_2276","txt_2277"]
[null,6030202,6,3,7,2,2,4,5,null,26130000,26,13,"txt_2259","txt_2263","txt_2269","txt_2275","txt_2277"]
[null,6030203,6,3,12,2,3,1,6]
[null,6030301,6,3,3,3,1,1,4]
[null,6030302,6,3,8,3,2,3,6]
[null,6030303,6,3,13,3,3,5,2]
[null,6030401,6,3,4,4,1,5,6]
[null,6030402,6,3,9,4,2,2,4]
[null,6030403,6,3,14,4,3,3,1]
[null,6030501,6,3,5,5,1,2,1]
[null,6030502,6,3,10,5,2,5,3]
[null,6030503,6,3,15,5,3,6,4]
[null,7030101,7,3,1,1,1,5,7]
[null,7030102,7,3,2,1,2,6,2]
[null,7030103,7,3,3,1,3,4,1]
[null,7030201,7,3,4,2,1,3,4]
[null,7030202,7,3,5,2,2,1,7]
[null,7030203,7,3,6,2,3,5,6]
[null,7030301,7,3,7,3,1,6,1]
[null,7030302,7,3,8,3,2,2,5]
[null,7030303,7,3,9,3,3,7,3]
[null,7030401,7,3,10,4,1,2,3]
[null,7030402,7,3,11,4,2,7,4]
[null,7030403,7,3,12,4,3,1,5]
[null,7030501,7,3,13,5,1,4,5]
[null,7030502,7,3,14,5,2,3,6]
[null,7030503,7,3,15,5,3,2,7]
[null,7030601,7,3,16,6,1,7,6]
[null,7030602,7,3,17,6,2,4,2]
[null,7030603,7,3,18,6,3,3,1]
[null,7030701,7,3,19,7,1,1,2]
[null,7030702,7,3,20,7,2,5,3]
[null,7030703,7,3,21,7,3,6,4]
[null,8040101,8,4,1,1,1,5,4]
[null,8040102,8,4,2,1,2,7,2]
[null,8040103,8,4,3,1,3,8,3]
[null,8040104,8,4,4,1,4,1,6]
[null,8040201,8,4,5,2,1,6,3]
[null,8040202,8,4,6,2,2,8,1]
[null,8040203,8,4,7,2,3,5,2]
[null,8040204,8,4,8,2,4,4,7]
[null,8040301,8,4,9,3,1,2,8]
[null,8040302,8,4,10,3,2,4,6]
[null,8040303,8,4,11,3,3,1,7]
[null,8040304,8,4,12,3,4,5,3]
[null,8040401,8,4,13,4,1,3,7]
[null,8040402,8,4,14,4,2,1,5]
[null,8040403,8,4,15,4,3,4,8]
[null,8040404,8,4,16,4,4,6,2]
[null,8040501,8,4,17,5,1,4,1]
[null,8040502,8,4,18,5,2,2,3]
[null,8040503,8,4,19,5,3,7,6]
[null,8040504,8,4,20,5,4,8,5]
[null,8040601,8,4,21,6,1,8,6]
[null,8040602,8,4,22,6,2,5,7]
[null,8040603,8,4,23,6,3,2,4]
[null,8040604,8,4,24,6,4,3,1]
[null,8040701,8,4,25,7,1,1,2]
[null,8040702,8,4,26,7,2,3,4]
[null,8040703,8,4,27,7,3,6,5]
[null,8040704,8,4,28,7,4,7,8]
[null,9040101,9,4,1,1,1,6,7]
[null,9040102,9,4,2,1,2,1,8]
[null,9040103,9,4,3,1,3,2,9]
[null,9040104,9,4,4,1,4,4,5]
[null,9040201,9,4,5,2,1,5,9]
[null,9040202,9,4,6,2,2,4,3]
[null,9040203,9,4,7,2,3,1,7]
[null,9040204,9,4,8,2,4,6,2]
[null,9040301,9,4,9,3,1,7,4]
[null,9040302,9,4,10,3,2,5,6]
[null,9040303,9,4,11,3,3,8,3]
[null,9040304,9,4,12,3,4,1,9]
[null,9040401,9,4,13,4,1,3,6]
[null,9040402,9,4,14,4,2,9,7]
[null,9040403,9,4,15,4,3,5,2]
[null,9040404,9,4,16,4,4,8,4]
[null,9040501,9,4,17,5,1,2,8]
[null,9040502,9,4,18,5,2,6,1]
[null,9040503,9,4,19,5,3,9,4]
[null,9040504,9,4,20,5,4,3,7]
[null,9040601,9,4,21,6,1,9,3]
[null,9040602,9,4,22,6,2,7,2]
[null,9040603,9,4,23,6,3,6,8]
[null,9040604,9,4,24,6,4,5,1]
[null,9040701,9,4,25,7,1,4,1]
[null,9040702,9,4,26,7,2,8,9]
[null,9040703,9,4,27,7,3,7,5]
[null,9040704,9,4,28,7,4,2,3]
[null,9040801,9,4,29,8,1,8,5]
[null,9040802,9,4,30,8,2,2,4]
[null,9040803,9,4,31,8,3,3,1]
[null,9040804,9,4,32,8,4,9,6]
[null,9040901,9,4,33,9,1,1,2]
[null,9040902,9,4,34,9,2,3,5]
[null,9040903,9,4,35,9,3,4,6]
[null,9040904,9,4,36,9,4,7,8]
[null,10040101,10,4,1,1,1,1,2]
[null,10040102,10,4,2,1,2,3,6]
[null,10040103,10,4,3,1,3,8,4]
[null,10040104,10,4,4,1,4,7,9]
[null,10040201,10,4,5,2,1,2,3]
[null,10040202,10,4,6,2,2,4,7]
[null,10040203,10,4,7,2,3,9,5]
[null,10040204,10,4,8,2,4,8,10]
[null,10040301,10,4,9,3,1,3,4]
[null,10040302,10,4,10,3,2,5,8]
[null,10040303,10,4,11,3,3,10,6]
[null,10040304,10,4,12,3,4,9,1]
[null,10040401,10,4,13,4,1,4,5]
[null,10040402,10,4,14,4,2,6,9]
[null,10040403,10,4,15,4,3,1,7]
[null,10040404,10,4,16,4,4,10,2]
[null,10040501,10,4,17,5,1,5,6]
[null,10040502,10,4,18,5,2,7,10]
[null,10040503,10,4,19,5,3,2,8]
[null,10040504,10,4,20,5,4,1,3]
[null,10040601,10,4,21,6,1,6,7]
[null,10040602,10,4,22,6,2,8,1]
[null,10040603,10,4,23,6,3,3,9]
[null,10040604,10,4,24,6,4,2,4]
[null,10040701,10,4,25,7,1,7,8]
[null,10040702,10,4,26,7,2,9,2]
[null,10040703,10,4,27,7,3,4,10]
[null,10040704,10,4,28,7,4,3,5]
[null,10040801,10,4,29,8,1,8,9]
[null,10040802,10,4,30,8,2,10,3]
[null,10040803,10,4,31,8,3,5,1]
[null,10040804,10,4,32,8,4,4,6]
[null,10040901,10,4,33,9,1,9,10]
[null,10040902,10,4,34,9,2,1,4]
[null,10040903,10,4,35,9,3,6,2]
[null,10040904,10,4,36,9,4,5,7]
[null,10041001,10,4,37,10,1,10,1]
[null,10041002,10,4,38,10,2,2,5]
[null,10041003,10,4,39,10,3,7,3]
[null,10041004,10,4,40,10,4,6,8]
[null,10041101,10,4,41,11,1,2,7]
[null,10041102,10,4,42,11,2,3,8]
[null,10041103,10,4,43,11,3,1,6]
[null,10041104,10,4,44,11,4,4,9]
[null,10041201,10,4,null,12,1,"",""]
[null,10041202,10,4,null,12,2,"",""]
[null,10041203,10,4,45,12,3,5,10]
[null,10041204,10,4,null,12,4,"",""]
[null,10050101,10,5,1,1,1,7,3]
[null,10050102,10,5,2,1,2,6,5]
[null,10050103,10,5,3,1,3,10,1]
[null,10050104,10,5,4,1,4,9,2]
[null,10050105,10,5,5,1,5,4,8]
[null,10050201,10,5,6,2,1,5,8]
[null,10050202,10,5,7,2,2,2,10]
[null,10050203,10,5,8,2,3,4,9]
[null,10050204,10,5,9,2,4,7,1]
[null,10050205,10,5,10,2,5,3,6]
[null,10050301,10,5,11,3,1,4,6]
[null,10050302,10,5,12,3,2,1,9]
[null,10050303,10,5,13,3,3,8,3]
[null,10050304,10,5,14,3,4,5,10]
[null,10050305,10,5,15,3,5,7,2]
[null,10050401,10,5,16,4,1,8,1]
[null,10050402,10,5,17,4,2,10,4]
[null,10050403,10,5,18,4,3,5,7]
[null,10050404,10,5,19,4,4,2,6]
[null,10050405,10,5,20,4,5,9,3]
[null,10050501,10,5,21,5,1,3,4]
[null,10050502,10,5,22,5,2,9,6]
[null,10050503,10,5,23,5,3,2,8]
[null,10050504,10,5,24,5,4,10,7]
[null,10050505,10,5,25,5,5,5,1]
[null,10050601,10,5,26,6,1,2,5]
[null,10050602,10,5,27,6,2,4,1]
[null,10050603,10,5,28,6,3,3,10]
[null,10050604,10,5,29,6,4,8,9]
[null,10050605,10,5,30,6,5,6,7]
[null,10050701,10,5,31,7,1,9,7]
[null,10050702,10,5,32,7,2,3,2]
[null,10050703,10,5,33,7,3,1,6]
[null,10050704,10,5,34,7,4,4,5]
[null,10050705,10,5,35,7,5,8,10]
[null,10050801,10,5,36,8,1,6,10]
[null,10050802,10,5,37,8,2,7,8]
[null,10050803,10,5,38,8,3,9,5]
[null,10050804,10,5,39,8,4,1,3]
[null,10050805,10,5,40,8,5,2,4]
[null,10050901,10,5,41,9,1,1,2]
[null,10050902,10,5,42,9,2,5,3]
[null,10050903,10,5,43,9,3,7,4]
[null,10050904,10,5,44,9,4,6,8]
[null,10050905,10,5,45,9,5,10,9]
[null,11050101,11,5,1,1,1,4,8]
[null,11050102,11,5,2,1,2,9,5]
[null,11050103,11,5,3,1,3,11,3]
[null,11050104,11,5,4,1,4,10,1]
[null,11050105,11,5,5,1,5,6,7]
[null,11050201,11,5,6,2,1,6,11]
[null,11050202,11,5,7,2,2,10,8]
[null,11050203,11,5,8,2,3,7,2]
[null,11050204,11,5,9,2,4,4,5]
[null,11050205,11,5,10,2,5,1,9]
[null,11050301,11,5,11,3,1,2,9]
[null,11050302,11,5,12,3,2,4,7]
[null,11050303,11,5,13,3,3,1,11]
[null,11050304,11,5,14,3,4,8,6]
[null,11050305,11,5,15,3,5,5,3]
[null,11050401,11,5,16,4,1,7,5]
[null,11050402,11,5,17,4,2,1,6]
[null,11050403,11,5,18,4,3,3,8]
[null,11050404,11,5,19,4,4,2,10]
[null,11050405,11,5,20,4,5,9,11]
[null,11050501,11,5,21,5,1,8,1]
[null,11050502,11,5,22,5,2,11,2]
[null,11050503,11,5,23,5,3,5,10]
[null,11050504,11,5,24,5,4,9,4]
[null,11050505,11,5,25,5,5,3,6]
[null,11050601,11,5,26,6,1,10,3]
[null,11050602,11,5,27,6,2,7,9]
[null,11050603,11,5,28,6,3,6,4]
[null,11050604,11,5,29,6,4,5,11]
[null,11050605,11,5,30,6,5,2,8]
[null,11050701,11,5,31,7,1,11,4]
[null,11050702,11,5,32,7,2,6,10]
[null,11050703,11,5,33,7,3,2,5]
[null,11050704,11,5,34,7,4,3,9]
[null,11050705,11,5,35,7,5,7,1]
[null,11050801,11,5,36,8,1,3,7]
[null,11050802,11,5,37,8,2,5,1]
[null,11050803,11,5,38,8,3,8,9]
[null,11050804,11,5,39,8,4,6,2]
[null,11050805,11,5,40,8,5,10,4]
[null,11050901,11,5,41,9,1,9,10]
[null,11050902,11,5,42,9,2,2,3]
[null,11050903,11,5,43,9,3,4,1]
[null,11050904,11,5,44,9,4,11,7]
[null,11050905,11,5,45,9,5,8,5]
[null,11051001,11,5,46,10,1,5,6]
[null,11051002,11,5,47,10,2,8,11]
[null,11051003,11,5,48,10,3,10,7]
[null,11051004,11,5,49,10,4,1,3]
[null,11051005,11,5,50,10,5,4,2]
[null,11051101,11,5,51,11,1,1,2]
[null,11051102,11,5,52,11,2,3,4]
[null,11051103,11,5,53,11,3,9,6]
[null,11051104,11,5,54,11,4,7,8]
[null,11051105,11,5,55,11,5,11,10]
[null,12060101,12,6,1,1,1,6,3]
[null,12060102,12,6,2,1,2,12,5]
[null,12060103,12,6,3,1,3,7,9]
[null,12060104,12,6,4,1,4,11,4]
[null,12060105,12,6,5,1,5,8,1]
[null,12060106,12,6,6,1,6,2,10]
[null,12060201,12,6,7,2,1,4,5]
[null,12060202,12,6,8,2,2,10,8]
[null,12060203,12,6,9,2,3,11,3]
[null,12060204,12,6,10,2,4,2,9]
[null,12060205,12,6,11,2,5,12,6]
[null,12060206,12,6,12,2,6,7,1]
[null,12060301,12,6,13,3,1,8,9]
[null,12060302,12,6,14,3,2,11,6]
[null,12060303,12,6,15,3,3,4,12]
[null,12060304,12,6,16,3,4,1,10]
[null,12060305,12,6,17,3,5,7,2]
[null,12060306,12,6,18,3,6,5,3]
[null,12060401,12,6,19,4,1,7,10]
[null,12060402,12,6,20,4,2,9,1]
[null,12060403,12,6,21,4,3,8,2]
[null,12060404,12,6,22,4,4,3,12]
[null,12060405,12,6,23,4,5,5,11]
[null,12060406,12,6,24,4,6,6,4]
[null,12060501,12,6,25,5,1,2,6]
[null,12060502,12,6,26,5,2,3,10]
[null,12060503,12,6,27,5,3,9,4]
[null,12060504,12,6,28,5,4,8,5]
[null,12060505,12,6,29,5,5,1,12]
[null,12060506,12,6,30,5,6,11,7]
[null,12060601,12,6,31,6,1,3,7]
[null,12060602,12,6,32,6,2,6,9]
[null,12060603,12,6,33,6,3,1,11]
[null,12060604,12,6,34,6,4,12,2]
[null,12060605,12,6,35,6,5,10,5]
[null,12060606,12,6,36,6,6,4,8]
[null,12060701,12,6,37,7,1,10,4]
[null,12060702,12,6,38,7,2,2,11]
[null,12060703,12,6,39,7,3,12,7]
[null,12060704,12,6,40,7,4,6,1]
[null,12060705,12,6,41,7,5,3,8]
[null,12060706,12,6,42,7,6,9,5]
[null,12060801,12,6,43,8,1,11,8]
[null,12060802,12,6,44,8,2,1,4]
[null,12060803,12,6,45,8,3,2,5]
[null,12060804,12,6,46,8,4,9,3]
[null,12060805,12,6,47,8,5,6,7]
[null,12060806,12,6,48,8,6,10,12]
[null,12060901,12,6,49,9,1,5,1]
[null,12060902,12,6,50,9,2,8,12]
[null,12060903,12,6,51,9,3,6,10]
[null,12060904,12,6,52,9,4,4,7]
[null,12060905,12,6,53,9,5,11,9]
[null,12060906,12,6,54,9,6,3,2]
[null,12061001,12,6,55,10,1,9,12]
[null,12061002,12,6,56,10,2,5,7]
[null,12061003,12,6,57,10,3,3,1]
[null,12061004,12,6,58,10,4,10,11]
[null,12061005,12,6,59,10,5,2,4]
[null,12061006,12,6,60,10,6,8,6]
[null,12061101,12,6,61,11,1,1,2]
[null,12061102,12,6,62,11,2,4,3]
[null,12061103,12,6,63,11,3,5,6]
[null,12061104,12,6,64,11,4,7,8]
[null,12061105,12,6,65,11,5,9,10]
[null,12061106,12,6,66,11,6,12,11]
[null,13060101,13,6,1,1,1,13,4]
[null,13060102,13,6,2,1,2,2,11]
[null,13060103,13,6,3,1,3,9,6]
[null,13060104,13,6,4,1,4,1,12]
[null,13060105,13,6,5,1,5,10,7]
[null,13060106,13,6,6,1,6,3,8]
[null,13060201,13,6,7,2,1,3,10]
[null,13060202,13,6,8,2,2,1,9]
[null,13060203,13,6,9,2,3,8,2]
[null,13060204,13,6,10,2,4,11,6]
[null,13060205,13,6,11,2,5,5,12]
[null,13060206,13,6,12,2,6,13,7]
[null,13060301,13,6,13,3,1,7,5]
[null,13060302,13,6,14,3,2,11,4]
[null,13060303,13,6,15,3,3,12,3]
[null,13060304,13,6,16,3,4,9,8]
[null,13060305,13,6,17,3,5,13,2]
[null,13060306,13,6,18,3,6,1,6]
[null,13060401,13,6,19,4,1,9,11]
[null,13060402,13,6,20,4,2,6,12]
[null,13060403,13,6,21,4,3,4,7]
[null,13060404,13,6,22,4,4,10,2]
[null,13060405,13,6,23,4,5,1,8]
[null,13060406,13,6,24,4,6,5,13]
[null,13060501,13,6,25,5,1,8,7]
[null,13060502,13,6,26,5,2,9,5]
[null,13060503,13,6,27,5,3,1,11]
[null,13060504,13,6,28,5,4,13,3]
[null,13060505,13,6,29,5,5,4,10]
[null,13060506,13,6,30,5,6,2,12]
[null,13060601,13,6,31,6,1,12,9]
[null,13060602,13,6,32,6,2,3,7]
[null,13060603,13,6,33,6,3,6,13]
[null,13060604,13,6,34,6,4,5,4]
[null,13060605,13,6,35,6,5,8,11]
[null,13060606,13,6,36,6,6,10,1]
[null,13060701,13,6,37,7,1,6,8]
[null,13060702,13,6,38,7,2,13,1]
[null,13060703,13,6,39,7,3,10,5]
[null,13060704,13,6,40,7,4,2,9]
[null,13060705,13,6,41,7,5,12,4]
[null,13060706,13,6,42,7,6,11,3]
[null,13060801,13,6,43,8,1,10,12]
[null,13060802,13,6,44,8,2,5,2]
[null,13060803,13,6,45,8,3,7,1]
[null,13060804,13,6,46,8,4,8,13]
[null,13060805,13,6,47,8,5,6,3]
[null,13060806,13,6,48,8,6,4,9]
[null,13060901,13,6,49,9,1,4,6]
[null,13060902,13,6,50,9,2,12,8]
[null,13060903,13,6,51,9,3,11,10]
[null,13060904,13,6,52,9,4,3,5]
[null,13060905,13,6,53,9,5,9,13]
[null,13060906,13,6,54,9,6,7,2]
[null,13061001,13,6,55,10,1,5,1]
[null,13061002,13,6,56,10,2,10,13]
[null,13061003,13,6,57,10,3,3,9]
[null,13061004,13,6,58,10,4,7,11]
[null,13061005,13,6,59,10,5,2,6]
[null,13061006,13,6,60,10,6,8,4]
[null,13061101,13,6,61,11,1,2,3]
[null,13061102,13,6,62,11,2,7,6]
[null,13061103,13,6,63,11,3,13,12]
[null,13061104,13,6,64,11,4,4,1]
[null,13061105,13,6,65,11,5,11,5]
[null,13061106,13,6,66,11,6,9,10]
[null,13061201,13,6,67,12,1,11,13]
[null,13061202,13,6,68,12,2,8,10]
[null,13061203,13,6,69,12,3,2,4]
[null,13061204,13,6,70,12,4,12,7]
[null,13061205,13,6,71,12,5,3,1]
[null,13061206,13,6,72,12,6,6,5]
[null,13061301,13,6,73,13,1,1,2]
[null,13061302,13,6,74,13,2,4,3]
[null,13061303,13,6,75,13,3,5,8]
[null,13061304,13,6,76,13,4,6,10]
[null,13061305,13,6,77,13,5,7,9]
[null,13061306,13,6,78,13,6,12,11]
[null,14070101,14,7,1,1,1,5,13]
[null,14070102,14,7,2,1,2,1,10]
[null,14070103,14,7,3,1,3,12,4]
[null,14070104,14,7,4,1,4,9,6]
[null,14070105,14,7,5,1,5,3,11]
[null,14070106,14,7,6,1,6,2,14]
[null,14070107,14,7,7,1,7,7,8]
[null,14070201,14,7,8,2,1,11,1]
[null,14070202,14,7,9,2,2,4,13]
[null,14070203,14,7,10,2,3,6,10]
[null,14070204,14,7,11,2,4,12,2]
[null,14070205,14,7,12,2,5,8,5]
[null,14070206,14,7,13,2,6,9,7]
[null,14070207,14,7,14,2,7,14,3]
[null,14070301,14,7,15,3,1,3,10]
[null,14070302,14,7,16,3,2,5,12]
[null,14070303,14,7,17,3,3,1,9]
[null,14070304,14,7,18,3,4,14,4]
[null,14070305,14,7,19,3,5,7,13]
[null,14070306,14,7,20,3,6,6,8]
[null,14070307,14,7,21,3,7,2,11]
[null,14070401,14,7,22,4,1,2,9]
[null,14070402,14,7,23,4,2,14,7]
[null,14070403,14,7,24,4,3,3,8]
[null,14070404,14,7,25,4,4,5,11]
[null,14070405,14,7,26,4,5,12,6]
[null,14070406,14,7,27,4,6,1,13]
[null,14070407,14,7,28,4,7,10,4]
[null,14070501,14,7,29,5,1,14,6]
[null,14070502,14,7,30,5,2,8,2]
[null,14070503,14,7,31,5,3,11,7]
[null,14070504,14,7,32,5,4,3,13]
[null,14070505,14,7,33,5,5,4,9]
[null,14070506,14,7,34,5,6,10,5]
[null,14070507,14,7,35,5,7,1,12]
[null,14070601,14,7,36,6,1,12,7]
[null,14070602,14,7,37,6,2,9,3]
[null,14070603,14,7,38,6,3,14,5]
[null,14070604,14,7,39,6,4,1,8]
[null,14070605,14,7,40,6,5,10,2]
[null,14070606,14,7,41,6,6,11,4]
[null,14070607,14,7,42,6,7,13,6]
[null,14070701,14,7,43,7,1,6,3]
[null,14070702,14,7,44,7,2,13,8]
[null,14070703,14,7,45,7,3,9,12]
[null,14070704,14,7,46,7,4,4,5]
[null,14070705,14,7,47,7,5,1,14]
[null,14070706,14,7,48,7,6,7,2]
[null,14070707,14,7,49,7,7,11,10]
[null,14070801,14,7,50,8,1,10,12]
[null,14070802,14,7,51,8,2,7,1]
[null,14070803,14,7,52,8,3,13,2]
[null,14070804,14,7,53,8,4,11,9]
[null,14070805,14,7,54,8,5,5,3]
[null,14070806,14,7,55,8,6,4,6]
[null,14070807,14,7,56,8,7,8,14]
[null,14070901,14,7,57,9,1,9,14]
[null,14070902,14,7,58,9,2,2,5]
[null,14070903,14,7,59,9,3,8,11]
[null,14070904,14,7,60,9,4,6,1]
[null,14070905,14,7,61,9,5,13,10]
[null,14070906,14,7,62,9,6,3,12]
[null,14070907,14,7,63,9,7,4,7]
[null,14071001,14,7,64,10,1,8,4]
[null,14071002,14,7,65,10,2,10,9]
[null,14071003,14,7,66,10,3,7,3]
[null,14071004,14,7,67,10,4,13,14]
[null,14071005,14,7,68,10,5,11,12]
[null,14071006,14,7,69,10,6,5,1]
[null,14071007,14,7,70,10,7,6,2]
[null,14071101,14,7,71,11,1,13,11]
[null,14071102,14,7,72,11,2,12,14]
[null,14071103,14,7,73,11,3,4,1]
[null,14071104,14,7,74,11,4,2,3]
[null,14071105,14,7,75,11,5,6,7]
[null,14071106,14,7,76,11,6,8,10]
[null,14071107,14,7,77,11,7,5,9]
[null,14071201,14,7,78,12,1,7,5]
[null,14071202,14,7,79,12,2,6,11]
[null,14071203,14,7,80,12,3,10,14]
[null,14071204,14,7,81,12,4,8,12]
[null,14071205,14,7,82,12,5,2,4]
[null,14071206,14,7,83,12,6,13,9]
[null,14071207,14,7,84,12,7,3,1]
[null,14071301,14,7,85,13,1,1,2]
[null,14071302,14,7,86,13,2,3,4]
[null,14071303,14,7,87,13,3,5,6]
[null,14071304,14,7,88,13,4,7,10]
[null,14071305,14,7,89,13,5,9,8]
[null,14071306,14,7,90,13,6,14,11]
[null,14071307,14,7,91,13,7,12,13]
[null,15070101,15,7,1,1,1,4,11]
[null,15070102,15,7,2,1,2,2,14]
[null,15070103,15,7,3,1,3,3,12]
[null,15070104,15,7,4,1,4,9,7]
[null,15070105,15,7,5,1,5,15,1]
[null,15070106,15,7,6,1,6,8,10]
[null,15070107,15,7,7,1,7,5,13]
[null,15070201,15,7,8,2,1,5,9]
[null,15070202,15,7,9,2,2,1,12]
[null,15070203,15,7,10,2,3,2,10]
[null,15070204,15,7,11,2,4,6,11]
[null,15070205,15,7,12,2,5,13,4]
[null,15070206,15,7,13,2,6,7,15]
[null,15070207,15,7,14,2,7,14,8]
[null,15070301,15,7,15,3,1,15,6]
[null,15070302,15,7,16,3,2,9,8]
[null,15070303,15,7,17,3,3,11,5]
[null,15070304,15,7,18,3,4,1,14]
[null,15070305,15,7,19,3,5,7,10]
[null,15070306,15,7,20,3,6,12,2]
[null,15070307,15,7,21,3,7,13,3]
[null,15070401,15,7,22,4,1,11,8]
[null,15070402,15,7,23,4,2,4,10]
[null,15070403,15,7,24,4,3,1,13]
[null,15070404,15,7,25,4,4,3,15]
[null,15070405,15,7,26,4,5,5,14]
[null,15070406,15,7,27,4,6,9,6]
[null,15070407,15,7,28,4,7,7,12]
[null,15070501,15,7,29,5,1,14,7]
[null,15070502,15,7,30,5,2,15,5]
[null,15070503,15,7,31,5,3,9,4]
[null,15070504,15,7,32,5,4,13,2]
[null,15070505,15,7,33,5,5,8,12]
[null,15070506,15,7,34,5,6,11,3]
[null,15070507,15,7,35,5,7,10,6]
[null,15070601,15,7,36,6,1,2,15]
[null,15070602,15,7,37,6,2,12,6]
[null,15070603,15,7,38,6,3,13,7]
[null,15070604,15,7,39,6,4,10,5]
[null,15070605,15,7,40,6,5,9,3]
[null,15070606,15,7,41,6,6,4,14]
[null,15070607,15,7,42,6,7,1,11]
[null,15070701,15,7,43,7,1,3,14]
[null,15070702,15,7,44,7,2,7,11]
[null,15070703,15,7,45,7,3,15,8]
[null,15070704,15,7,46,7,4,12,4]
[null,15070705,15,7,47,7,5,6,13]
[null,15070706,15,7,48,7,6,10,1]
[null,15070707,15,7,49,7,7,9,2]
[null,15070801,15,7,50,8,1,9,1]
[null,15070802,15,7,51,8,2,10,3]
[null,15070803,15,7,52,8,3,6,14]
[null,15070804,15,7,53,8,4,8,13]
[null,15070805,15,7,54,8,5,11,2]
[null,15070806,15,7,55,8,6,5,12]
[null,15070807,15,7,56,8,7,4,15]
[null,15070901,15,7,57,9,1,6,3]
[null,15070902,15,7,58,9,2,14,13]
[null,15070903,15,7,59,9,3,8,1]
[null,15070904,15,7,60,9,4,15,12]
[null,15070905,15,7,61,9,5,4,5]
[null,15070906,15,7,62,9,6,2,7]
[null,15070907,15,7,63,9,7,11,10]
[null,15071001,15,7,64,10,1,13,12]
[null,15071002,15,7,65,10,2,8,2]
[null,15071003,15,7,66,10,3,14,11]
[null,15071004,15,7,67,10,4,4,6]
[null,15071005,15,7,68,10,5,1,7]
[null,15071006,15,7,69,10,6,3,5]
[null,15071007,15,7,70,10,7,15,9]
[null,15071101,15,7,71,11,1,7,4]
[null,15071102,15,7,72,11,2,6,1]
[null,15071103,15,7,73,11,3,12,9]
[null,15071104,15,7,74,11,4,14,10]
[null,15071105,15,7,75,11,5,3,8]
[null,15071106,15,7,76,11,6,15,13]
[null,15071107,15,7,77,11,7,2,5]
[null,15071201,15,7,78,12,1,10,13]
[null,15071202,15,7,79,12,2,11,15]
[null,15071203,15,7,80,12,3,7,3]
[null,15071204,15,7,81,12,4,5,1]
[null,15071205,15,7,82,12,5,2,6]
[null,15071206,15,7,83,12,6,14,9]
[null,15071207,15,7,84,12,7,8,4]
[null,15071301,15,7,85,13,1,8,5]
[null,15071302,15,7,86,13,2,13,9]
[null,15071303,15,7,87,13,3,10,15]
[null,15071304,15,7,88,13,4,2,3]
[null,15071305,15,7,89,13,5,12,11]
[null,15071306,15,7,90,13,6,1,4]
[null,15071307,15,7,91,13,7,6,7]
[null,15071401,15,7,92,14,1,12,10]
[null,15071402,15,7,93,14,2,5,7]
[null,15071403,15,7,94,14,3,4,2]
[null,15071404,15,7,95,14,4,11,9]
[null,15071405,15,7,96,14,5,14,15]
[null,15071406,15,7,97,14,6,6,8]
[null,15071407,15,7,98,14,7,3,1]
[null,15071501,15,7,99,15,1,1,2]
[null,15071502,15,7,100,15,2,3,4]
[null,15071503,15,7,101,15,3,5,6]
[null,15071504,15,7,102,15,4,7,8]
[null,15071505,15,7,103,15,5,10,9]
[null,15071506,15,7,104,15,6,13,11]
[null,15071507,15,7,105,15,7,12,14]
[null,16080101,16,8,1,1,1,6,11]
[null,16080102,16,8,2,1,2,16,1]
[null,16080103,16,8,3,1,3,8,9]
[null,16080104,16,8,4,1,4,15,2]
[null,16080105,16,8,5,1,5,13,4]
[null,16080106,16,8,6,1,6,3,14]
[null,16080107,16,8,7,1,7,12,5]
[null,16080108,16,8,8,1,8,10,7]
[null,16080201,16,8,9,2,1,14,4]
[null,16080202,16,8,10,2,2,9,7]
[null,16080203,16,8,11,2,3,2,16]
[null,16080204,16,8,12,2,4,10,8]
[null,16080205,16,8,13,2,5,12,6]
[null,16080206,16,8,14,2,6,5,11]
[null,16080207,16,8,15,2,7,13,3]
[null,16080208,16,8,16,2,8,1,15]
[null,16080301,16,8,17,3,1,16,3]
[null,16080302,16,8,18,3,2,8,11]
[null,16080303,16,8,19,3,3,1,14]
[null,16080304,16,8,20,3,4,7,12]
[null,16080305,16,8,21,3,5,5,10]
[null,16080306,16,8,22,3,6,9,6]
[null,16080307,16,8,23,3,7,4,15]
[null,16080308,16,8,24,3,8,2,13]
[null,16080401,16,8,25,4,1,9,5]
[null,16080402,16,8,26,4,2,14,2]
[null,16080403,16,8,27,4,3,11,7]
[null,16080404,16,8,28,4,4,1,13]
[null,16080405,16,8,29,4,5,3,15]
[null,16080406,16,8,30,4,6,16,4]
[null,16080407,16,8,31,4,7,6,10]
[null,16080408,16,8,32,4,8,12,8]
[null,16080501,16,8,33,5,1,12,1]
[null,16080502,16,8,34,5,2,6,15]
[null,16080503,16,8,35,5,3,10,3]
[null,16080504,16,8,36,5,4,16,5]
[null,16080505,16,8,37,5,5,14,7]
[null,16080506,16,8,38,5,6,8,13]
[null,16080507,16,8,39,5,7,11,2]
[null,16080508,16,8,40,5,8,4,9]
[null,16080601,16,8,41,6,1,7,13]
[null,16080602,16,8,42,6,2,4,10]
[null,16080603,16,8,43,6,3,15,5]
[null,16080604,16,8,44,6,4,3,9]
[null,16080605,16,8,45,6,5,1,11]
[null,16080606,16,8,46,6,6,12,2]
[null,16080607,16,8,47,6,7,8,14]
[null,16080608,16,8,48,6,8,16,6]
[null,16080701,16,8,49,7,1,8,15]
[null,16080702,16,8,50,7,2,12,3]
[null,16080703,16,8,51,7,3,6,13]
[null,16080704,16,8,52,7,4,4,11]
[null,16080705,16,8,53,7,5,9,2]
[null,16080706,16,8,54,7,6,10,1]
[null,16080707,16,8,55,7,7,16,7]
[null,16080708,16,8,56,7,8,5,14]
[null,16080801,16,8,57,8,1,2,10]
[null,16080802,16,8,58,8,2,5,13]
[null,16080803,16,8,59,8,3,12,4]
[null,16080804,16,8,60,8,4,14,6]
[null,16080805,16,8,61,8,5,8,16]
[null,16080806,16,8,62,8,6,7,15]
[null,16080807,16,8,63,8,7,1,9]
[null,16080808,16,8,64,8,8,11,3]
[null,16080901,16,8,65,9,1,11,16]
[null,16080902,16,8,66,9,2,1,8]
[null,16080903,16,8,67,9,3,7,2]
[null,16080904,16,8,68,9,4,9,15]
[null,16080905,16,8,69,9,5,6,3]
[null,16080906,16,8,70,9,6,4,5]
[null,16080907,16,8,71,9,7,14,12]
[null,16080908,16,8,72,9,8,13,10]
[null,16081001,16,8,73,10,1,4,6]
[null,16081002,16,8,74,10,2,10,14]
[null,16081003,16,8,75,10,3,13,12]
[null,16081004,16,8,76,10,4,5,3]
[null,16081005,16,8,77,10,5,2,8]
[null,16081006,16,8,78,10,6,1,7]
[null,16081007,16,8,79,10,7,9,16]
[null,16081008,16,8,80,10,8,15,11]
[null,16081101,16,8,81,11,1,15,12]
[null,16081102,16,8,82,11,2,2,5]
[null,16081103,16,8,83,11,3,16,10]
[null,16081104,16,8,84,11,4,6,1]
[null,16081105,16,8,85,11,5,11,13]
[null,16081106,16,8,86,11,6,14,9]
[null,16081107,16,8,87,11,7,3,8]
[null,16081108,16,8,88,11,8,7,4]
[null,16081201,16,8,89,12,1,3,7]
[null,16081202,16,8,90,12,2,13,9]
[null,16081203,16,8,91,12,3,4,8]
[null,16081204,16,8,92,12,4,11,14]
[null,16081205,16,8,93,12,5,16,12]
[null,16081206,16,8,94,12,6,15,10]
[null,16081207,16,8,95,12,7,5,1]
[null,16081208,16,8,96,12,8,6,2]
[null,16081301,16,8,97,13,1,5,8]
[null,16081302,16,8,98,13,2,7,6]
[null,16081303,16,8,99,13,3,14,15]
[null,16081304,16,8,100,13,4,13,16]
[null,16081305,16,8,101,13,5,4,1]
[null,16081306,16,8,102,13,6,2,3]
[null,16081307,16,8,103,13,7,10,11]
[null,16081308,16,8,104,13,8,9,12]
[null,16081401,16,8,105,14,1,13,14]
[null,16081402,16,8,106,14,2,15,16]
[null,16081403,16,8,107,14,3,9,11]
[null,16081404,16,8,108,14,4,12,10]
[null,16081405,16,8,109,14,5,7,5]
[null,16081406,16,8,110,14,6,6,8]
[null,16081407,16,8,111,14,7,2,4]
[null,16081408,16,8,112,14,8,3,1]
[null,16081501,16,8,113,15,1,1,2]
[null,16081502,16,8,114,15,2,3,4]
[null,16081503,16,8,115,15,3,5,6]
[null,16081504,16,8,116,15,4,8,7]
[null,16081505,16,8,117,15,5,10,9]
[null,16081506,16,8,118,15,6,11,12]
[null,16081507,16,8,119,15,7,15,13]
[null,16081508,16,8,120,15,8,14,16]
[null,17080101,17,8,1,1,1,14,1]
[null,17080102,17,8,2,1,2,15,3]
[null,17080103,17,8,3,1,3,6,9]
[null,17080104,17,8,4,1,4,7,10]
[null,17080105,17,8,5,1,5,11,8]
[null,17080106,17,8,6,1,6,12,4]
[null,17080107,17,8,7,1,7,13,5]
[null,17080108,17,8,8,1,8,2,17]
[null,17080201,17,8,9,2,1,8,9]
[null,17080202,17,8,10,2,2,14,7]
[null,17080203,17,8,11,2,3,10,5]
[null,17080204,17,8,12,2,4,1,13]
[null,17080205,17,8,13,2,5,6,17]
[null,17080206,17,8,14,2,6,2,11]
[null,17080207,17,8,15,2,7,16,4]
[null,17080208,17,8,16,2,8,12,3]
[null,17080301,17,8,17,3,1,7,15]
[null,17080302,17,8,18,3,2,11,4]
[null,17080303,17,8,19,3,3,14,8]
[null,17080304,17,8,20,3,4,3,17]
[null,17080305,17,8,21,3,5,12,1]
[null,17080306,17,8,22,3,6,16,5]
[null,17080307,17,8,23,3,7,10,2]
[null,17080308,17,8,24,3,8,6,13]
[null,17080401,17,8,25,4,1,2,16]
[null,17080402,17,8,26,4,2,8,15]
[null,17080403,17,8,27,4,3,9,7]
[null,17080404,17,8,28,4,4,6,12]
[null,17080405,17,8,29,4,5,13,3]
[null,17080406,17,8,30,4,6,4,10]
[null,17080407,17,8,31,4,7,5,11]
[null,17080408,17,8,32,4,8,17,1]
[null,17080501,17,8,33,5,1,9,3]
[null,17080502,17,8,34,5,2,6,14]
[null,17080503,17,8,35,5,3,1,15]
[null,17080504,17,8,36,5,4,13,4]
[null,17080505,17,8,37,5,5,7,16]
[null,17080506,17,8,38,5,6,5,17]
[null,17080507,17,8,39,5,7,2,12]
[null,17080508,17,8,40,5,8,10,8]
[null,17080601,17,8,41,6,1,15,6]
[null,17080602,17,8,42,6,2,1,9]
[null,17080603,17,8,43,6,3,3,14]
[null,17080604,17,8,44,6,4,8,16]
[null,17080605,17,8,45,6,5,5,12]
[null,17080606,17,8,46,6,6,13,2]
[null,17080607,17,8,47,6,7,4,17]
[null,17080608,17,8,48,6,8,7,11]
[null,17080701,17,8,49,7,1,10,13]
[null,17080702,17,8,50,7,2,17,12]
[null,17080703,17,8,51,7,3,16,11]
[null,17080704,17,8,52,7,4,5,14]
[null,17080705,17,8,53,7,5,2,9]
[null,17080706,17,8,54,7,6,7,6]
[null,17080707,17,8,55,7,7,8,3]
[null,17080708,17,8,56,7,8,4,15]
[null,17080801,17,8,57,8,1,17,14]
[null,17080802,17,8,58,8,2,5,8]
[null,17080803,17,8,59,8,3,7,4]
[null,17080804,17,8,60,8,4,10,6]
[null,17080805,17,8,61,8,5,3,11]
[null,17080806,17,8,62,8,6,9,12]
[null,17080807,17,8,63,8,7,15,13]
[null,17080808,17,8,64,8,8,1,16]
[null,17080901,17,8,65,9,1,12,11]
[null,17080902,17,8,66,9,2,10,17]
[null,17080903,17,8,67,9,3,13,16]
[null,17080904,17,8,68,9,4,4,9]
[null,17080905,17,8,69,9,5,15,5]
[null,17080906,17,8,70,9,6,1,8]
[null,17080907,17,8,71,9,7,3,7]
[null,17080908,17,8,72,9,8,14,2]
[null,17081001,17,8,73,10,1,5,7]
[null,17081002,17,8,74,10,2,9,13]
[null,17081003,17,8,75,10,3,8,2]
[null,17081004,17,8,76,10,4,16,3]
[null,17081005,17,8,77,10,5,1,10]
[null,17081006,17,8,78,10,6,17,15]
[null,17081007,17,8,79,10,7,12,14]
[null,17081008,17,8,80,10,8,11,6]
[null,17081101,17,8,81,11,1,13,12]
[null,17081102,17,8,82,11,2,16,10]
[null,17081103,17,8,83,11,3,11,17]
[null,17081104,17,8,84,11,4,15,2]
[null,17081105,17,8,85,11,5,9,14]
[null,17081106,17,8,86,11,6,8,7]
[null,17081107,17,8,87,11,7,1,6]
[null,17081108,17,8,88,11,8,5,4]
[null,17081201,17,8,89,12,1,4,8]
[null,17081202,17,8,90,12,2,7,2]
[null,17081203,17,8,91,12,3,15,12]
[null,17081204,17,8,92,12,4,11,1]
[null,17081205,17,8,93,12,5,16,6]
[null,17081206,17,8,94,12,6,14,13]
[null,17081207,17,8,95,12,7,17,9]
[null,17081208,17,8,96,12,8,3,10]
[null,17081301,17,8,97,13,1,11,10]
[null,17081302,17,8,98,13,2,12,16]
[null,17081303,17,8,99,13,3,17,13]
[null,17081304,17,8,100,13,4,2,5]
[null,17081305,17,8,101,13,5,14,4]
[null,17081306,17,8,102,13,6,6,3]
[null,17081307,17,8,103,13,7,7,1]
[null,17081308,17,8,104,13,8,15,9]
[null,17081401,17,8,105,14,1,3,4]
[null,17081402,17,8,106,14,2,2,6]
[null,17081403,17,8,107,14,3,5,1]
[null,17081404,17,8,108,14,4,9,11]
[null,17081405,17,8,109,14,5,17,7]
[null,17081406,17,8,110,14,6,15,16]
[null,17081407,17,8,111,14,7,14,10]
[null,17081408,17,8,112,14,8,8,12]
[null,17081501,17,8,113,15,1,6,5]
[null,17081502,17,8,114,15,2,4,1]
[null,17081503,17,8,115,15,3,2,3]
[null,17081504,17,8,116,15,4,17,8]
[null,17081505,17,8,117,15,5,10,15]
[null,17081506,17,8,118,15,6,11,14]
[null,17081507,17,8,119,15,7,9,16]
[null,17081508,17,8,120,15,8,13,7]
[null,17081601,17,8,121,16,1,16,17]
[null,17081602,17,8,122,16,2,13,11]
[null,17081603,17,8,123,16,3,12,10]
[null,17081604,17,8,124,16,4,14,15]
[null,17081605,17,8,125,16,5,4,2]
[null,17081606,17,8,126,16,6,3,1]
[null,17081607,17,8,127,16,7,6,8]
[null,17081608,17,8,128,16,8,9,5]
[null,17081701,17,8,129,17,1,1,2]
[null,17081702,17,8,130,17,2,3,5]
[null,17081703,17,8,131,17,3,4,6]
[null,17081704,17,8,132,17,4,12,7]
[null,17081705,17,8,133,17,5,8,13]
[null,17081706,17,8,134,17,6,10,9]
[null,17081707,17,8,135,17,7,11,15]
[null,17081708,17,8,136,17,8,16,14]
[null,18090101,18,9,1,1,1,4,16]
[null,18090102,18,9,2,1,2,2,15]
[null,18090103,18,9,3,1,3,10,7]
[null,18090104,18,9,4,1,4,12,1]
[null,18090105,18,9,5,1,5,5,14]
[null,18090106,18,9,6,1,6,13,9]
[null,18090107,18,9,7,1,7,11,6]
[null,18090108,18,9,8,1,8,17,8]
[null,18090109,18,9,9,1,9,3,18]
[null,18090201,18,9,10,2,1,5,13]
[null,18090202,18,9,11,2,2,3,11]
[null,18090203,18,9,12,2,3,1,17]
[null,18090204,18,9,13,2,4,10,8]
[null,18090205,18,9,14,2,5,9,16]
[null,18090206,18,9,15,2,6,4,14]
[null,18090207,18,9,16,2,7,18,2]
[null,18090208,18,9,17,2,8,7,12]
[null,18090209,18,9,18,2,9,6,15]
[null,18090301,18,9,19,3,1,3,12]
[null,18090302,18,9,20,3,2,1,13]
[null,18090303,18,9,21,3,3,4,18]
[null,18090304,18,9,22,3,4,9,11]
[null,18090305,18,9,23,3,5,2,17]
[null,18090306,18,9,24,3,6,10,6]
[null,18090307,18,9,25,3,7,8,14]
[null,18090308,18,9,26,3,8,15,5]
[null,18090309,18,9,27,3,9,7,16]
[null,18090401,18,9,28,4,1,18,8]
[null,18090402,18,9,29,4,2,12,9]
[null,18090403,18,9,30,4,3,14,6]
[null,18090404,18,9,31,4,4,13,2]
[null,18090405,18,9,32,4,5,11,7]
[null,18090406,18,9,33,4,6,1,15]
[null,18090407,18,9,34,4,7,5,10]
[null,18090408,18,9,35,4,8,3,16]
[null,18090409,18,9,36,4,9,17,4]
[null,18090501,18,9,37,5,1,15,7]
[null,18090502,18,9,38,5,2,10,4]
[null,18090503,18,9,39,5,3,16,2]
[null,18090504,18,9,40,5,4,14,3]
[null,18090505,18,9,41,5,5,1,18]
[null,18090506,18,9,42,5,6,8,11]
[null,18090507,18,9,43,5,7,17,9]
[null,18090508,18,9,44,5,8,6,13]
[null,18090509,18,9,45,5,9,12,5]
[null,18090601,18,9,46,6,1,14,9]
[null,18090602,18,9,47,6,2,18,6]
[null,18090603,18,9,48,6,3,8,12]
[null,18090604,18,9,49,6,4,17,7]
[null,18090605,18,9,50,6,5,13,4]
[null,18090606,18,9,51,6,6,16,5]
[null,18090607,18,9,52,6,7,3,15]
[null,18090608,18,9,53,6,8,10,1]
[null,18090609,18,9,54,6,9,11,2]
[null,18090701,18,9,55,7,1,11,1]
[null,18090702,18,9,56,7,2,17,5]
[null,18090703,18,9,57,7,3,13,3]
[null,18090704,18,9,58,7,4,16,6]
[null,18090705,18,9,59,7,5,15,8]
[null,18090706,18,9,60,7,6,18,7]
[null,18090707,18,9,61,7,7,12,4]
[null,18090708,18,9,62,7,8,2,14]
[null,18090709,18,9,63,7,9,10,9]
[null,18090801,18,9,64,8,1,9,4]
[null,18090802,18,9,65,8,2,8,1]
[null,18090803,18,9,66,8,3,11,15]
[null,18090804,18,9,67,8,4,18,5]
[null,18090805,18,9,68,8,5,3,6]
[null,18090806,18,9,69,8,6,12,17]
[null,18090807,18,9,70,8,7,2,7]
[null,18090808,18,9,71,8,8,13,10]
[null,18090809,18,9,72,8,9,16,14]
[null,18090901,18,9,73,9,1,16,10]
[null,18090902,18,9,74,9,2,11,12]
[null,18090903,18,9,75,9,3,2,8]
[null,18090904,18,9,76,9,4,3,17]
[null,18090905,18,9,77,9,5,14,15]
[null,18090906,18,9,78,9,6,9,1]
[null,18090907,18,9,79,9,7,13,18]
[null,18090908,18,9,80,9,8,5,6]
[null,18090909,18,9,81,9,9,4,7]
[null,18091001,18,9,82,10,1,6,17]
[null,18091002,18,9,83,10,2,7,14]
[null,18091003,18,9,84,10,3,5,11]
[null,18091004,18,9,85,10,4,4,15]
[null,18091005,18,9,86,10,5,10,3]
[null,18091006,18,9,87,10,6,2,12]
[null,18091007,18,9,88,10,7,1,16]
[null,18091008,18,9,89,10,8,18,9]
[null,18091009,18,9,90,10,9,8,13]
[null,18091101,18,9,91,11,1,7,3]
[null,18091102,18,9,92,11,2,9,2]
[null,18091103,18,9,93,11,3,12,13]
[null,18091104,18,9,94,11,4,8,16]
[null,18091105,18,9,95,11,5,6,1]
[null,18091106,18,9,96,11,6,15,18]
[null,18091107,18,9,97,11,7,4,5]
[null,18091108,18,9,98,11,8,11,17]
[null,18091109,18,9,99,11,9,14,10]
[null,18091201,18,9,100,12,1,2,6]
[null,18091202,18,9,101,12,2,4,8]
[null,18091203,18,9,102,12,3,18,10]
[null,18091204,18,9,103,12,4,1,14]
[null,18091205,18,9,104,12,5,7,5]
[null,18091206,18,9,105,12,6,17,16]
[null,18091207,18,9,106,12,7,9,3]
[null,18091208,18,9,107,12,8,12,15]
[null,18091209,18,9,108,12,9,13,11]
[null,18091301,18,9,109,13,1,13,15]
[null,18091302,18,9,110,13,2,16,18]
[null,18091303,18,9,111,13,3,17,14]
[null,18091304,18,9,112,13,4,11,4]
[null,18091305,18,9,113,13,5,12,10]
[null,18091306,18,9,114,13,6,5,2]
[null,18091307,18,9,115,13,7,7,1]
[null,18091308,18,9,116,13,8,8,3]
[null,18091309,18,9,117,13,9,9,6]
[null,18091401,18,9,118,14,1,12,14]
[null,18091402,18,9,119,14,2,13,17]
[null,18091403,18,9,120,14,3,15,16]
[null,18091404,18,9,121,14,4,2,10]
[null,18091405,18,9,122,14,5,18,11]
[null,18091406,18,9,123,14,6,3,4]
[null,18091407,18,9,124,14,7,6,8]
[null,18091408,18,9,125,14,8,9,7]
[null,18091409,18,9,126,14,9,5,1]
[null,18091501,18,9,127,15,1,17,18]
[null,18091502,18,9,128,15,2,15,10]
[null,18091503,18,9,129,15,3,9,5]
[null,18091504,18,9,130,15,4,6,12]
[null,18091505,18,9,131,15,5,16,13]
[null,18091506,18,9,132,15,6,7,8]
[null,18091507,18,9,133,15,7,14,11]
[null,18091508,18,9,134,15,8,1,4]
[null,18091509,18,9,135,15,9,2,3]
[null,18091601,18,9,136,16,1,8,5]
[null,18091602,18,9,137,16,2,6,7]
[null,18091603,18,9,138,16,3,3,1]
[null,18091604,18,9,139,16,4,15,9]
[null,18091605,18,9,140,16,5,4,2]
[null,18091606,18,9,141,16,6,14,13]
[null,18091607,18,9,142,16,7,10,17]
[null,18091608,18,9,143,16,8,16,11]
[null,18091609,18,9,144,16,9,18,12]
[null,18091701,18,9,145,17,1,1,2]
[null,18091702,18,9,146,17,2,5,3]
[null,18091703,18,9,147,17,3,6,4]
[null,18091704,18,9,148,17,4,7,13]
[null,18091705,18,9,149,17,5,8,9]
[null,18091706,18,9,150,17,6,11,10]
[null,18091707,18,9,151,17,7,16,12]
[null,18091708,18,9,152,17,8,14,18]
[null,18091709,18,9,153,17,9,15,17]
[null,19090101,19,9,1,1,1,17,10]
[null,19090102,19,9,2,1,2,3,14]
[null,19090103,19,9,3,1,3,7,19]
[null,19090104,19,9,4,1,4,16,11]
[null,19090105,19,9,5,1,5,9,6]
[null,19090106,19,9,6,1,6,2,13]
[null,19090107,19,9,7,1,7,5,12]
[null,19090108,19,9,8,1,8,15,1]
[null,19090109,19,9,9,1,9,4,18]
[null,19090201,19,9,10,2,1,6,19]
[null,19090202,19,9,11,2,2,15,9]
[null,19090203,19,9,12,2,3,8,12]
[null,19090204,19,9,13,2,4,17,2]
[null,19090205,19,9,14,2,5,5,11]
[null,19090206,19,9,15,2,6,1,16]
[null,19090207,19,9,16,2,7,14,4]
[null,19090208,19,9,17,2,8,18,3]
[null,19090209,19,9,18,2,9,13,7]
[null,19090301,19,9,19,3,1,12,17]
[null,19090302,19,9,20,3,2,1,19]
[null,19090303,19,9,21,3,3,3,15]
[null,19090304,19,9,22,3,4,18,6]
[null,19090305,19,9,23,3,5,13,4]
[null,19090306,19,9,24,3,6,8,11]
[null,19090307,19,9,25,3,7,7,10]
[null,19090308,19,9,26,3,8,9,16]
[null,19090309,19,9,27,3,9,5,14]
[null,19090401,19,9,28,4,1,18,7]
[null,19090402,19,9,29,4,2,9,5]
[null,19090403,19,9,30,4,3,14,13]
[null,19090404,19,9,31,4,4,4,17]
[null,19090405,19,9,32,4,5,8,15]
[null,19090406,19,9,33,4,6,10,2]
[null,19090407,19,9,34,4,7,19,16]
[null,19090408,19,9,35,4,8,12,6]
[null,19090409,19,9,36,4,9,1,11]
[null,19090501,19,9,37,5,1,9,13]
[null,19090502,19,9,38,5,2,18,8]
[null,19090503,19,9,39,5,3,16,2]
[null,19090504,19,9,40,5,4,5,10]
[null,19090505,19,9,41,5,5,14,7]
[null,19090506,19,9,42,5,6,12,15]
[null,19090507,19,9,43,5,7,6,11]
[null,19090508,19,9,44,5,8,1,17]
[null,19090509,19,9,45,5,9,19,3]
[null,19090601,19,9,46,6,1,5,18]
[null,19090602,19,9,47,6,2,10,16]
[null,19090603,19,9,48,6,3,11,3]
[null,19090604,19,9,49,6,4,8,14]
[null,19090605,19,9,50,6,5,4,12]
[null,19090606,19,9,51,6,6,17,6]
[null,19090607,19,9,52,6,7,13,19]
[null,19090608,19,9,53,6,8,2,15]
[null,19090609,19,9,54,6,9,7,9]
[null,19090701,19,9,55,7,1,8,3]
[null,19090702,19,9,56,7,2,6,15]
[null,19090703,19,9,57,7,3,18,10]
[null,19090704,19,9,58,7,4,1,9]
[null,19090705,19,9,59,7,5,17,13]
[null,19090706,19,9,60,7,6,4,19]
[null,19090707,19,9,61,7,7,11,14]
[null,19090708,19,9,62,7,8,16,5]
[null,19090709,19,9,63,7,9,12,2]
[null,19090801,19,9,64,8,1,10,4]
[null,19090802,19,9,65,8,2,16,12]
[null,19090803,19,9,66,8,3,17,9]
[null,19090804,19,9,67,8,4,6,7]
[null,19090805,19,9,68,8,5,2,14]
[null,19090806,19,9,69,8,6,13,3]
[null,19090807,19,9,70,8,7,18,1]
[null,19090808,19,9,71,8,8,19,8]
[null,19090809,19,9,72,8,9,11,15]
[null,19090901,19,9,73,9,1,13,1]
[null,19090902,19,9,74,9,2,19,2]
[null,19090903,19,9,75,9,3,12,11]
[null,19090904,19,9,76,9,4,3,16]
[null,19090905,19,9,77,9,5,18,17]
[null,19090906,19,9,78,9,6,14,9]
[null,19090907,19,9,79,9,7,4,7]
[null,19090908,19,9,80,9,8,6,10]
[null,19090909,19,9,81,9,9,8,5]
[null,19091001,19,9,82,10,1,2,8]
[null,19091002,19,9,83,10,2,7,1]
[null,19091003,19,9,84,10,3,9,18]
[null,19091004,19,9,85,10,4,19,5]
[null,19091005,19,9,86,10,5,15,10]
[null,19091006,19,9,87,10,6,16,4]
[null,19091007,19,9,88,10,7,3,17]
[null,19091008,19,9,89,10,8,13,11]
[null,19091009,19,9,90,10,9,14,12]
[null,19091101,19,9,91,11,1,15,16]
[null,19091102,19,9,92,11,2,17,11]
[null,19091103,19,9,93,11,3,2,7]
[null,19091104,19,9,94,11,4,10,13]
[null,19091105,19,9,95,11,5,6,3]
[null,19091106,19,9,96,11,6,18,12]
[null,19091107,19,9,97,11,7,1,8]
[null,19091108,19,9,98,11,8,5,4]
[null,19091109,19,9,99,11,9,9,19]
[null,19091201,19,9,100,12,1,4,11]
[null,19091202,19,9,101,12,2,13,6]
[null,19091203,19,9,102,12,3,15,5]
[null,19091204,19,9,103,12,4,12,1]
[null,19091205,19,9,104,12,5,16,8]
[null,19091206,19,9,105,12,6,19,14]
[null,19091207,19,9,106,12,7,9,2]
[null,19091208,19,9,107,12,8,17,7]
[null,19091209,19,9,108,12,9,3,10]
[null,19091301,19,9,109,13,1,7,15]
[null,19091302,19,9,110,13,2,2,18]
[null,19091303,19,9,111,13,3,1,14]
[null,19091304,19,9,112,13,4,9,4]
[null,19091305,19,9,113,13,5,10,19]
[null,19091306,19,9,114,13,6,5,17]
[null,19091307,19,9,115,13,7,12,3]
[null,19091308,19,9,116,13,8,8,13]
[null,19091309,19,9,117,13,9,6,16]
[null,19091401,19,9,118,14,1,3,5]
[null,19091402,19,9,119,14,2,14,17]
[null,19091403,19,9,120,14,3,6,4]
[null,19091404,19,9,121,14,4,15,19]
[null,19091405,19,9,122,14,5,11,2]
[null,19091406,19,9,123,14,6,9,8]
[null,19091407,19,9,124,14,7,16,18]
[null,19091408,19,9,125,14,8,7,12]
[null,19091409,19,9,126,14,9,10,1]
[null,19091501,19,9,127,15,1,16,14]
[null,19091502,19,9,128,15,2,11,7]
[null,19091503,19,9,129,15,3,10,8]
[null,19091504,19,9,130,15,4,13,12]
[null,19091505,19,9,131,15,5,19,18]
[null,19091506,19,9,132,15,6,6,1]
[null,19091507,19,9,133,15,7,2,5]
[null,19091508,19,9,134,15,8,3,9]
[null,19091509,19,9,135,15,9,15,4]
[null,19091601,19,9,136,16,1,19,12]
[null,19091602,19,9,137,16,2,8,4]
[null,19091603,19,9,138,16,3,13,16]
[null,19091604,19,9,139,16,4,11,18]
[null,19091605,19,9,140,16,5,1,5]
[null,19091606,19,9,141,16,6,3,7]
[null,19091607,19,9,142,16,7,17,15]
[null,19091608,19,9,143,16,8,10,14]
[null,19091609,19,9,144,16,9,2,6]
[null,19091701,19,9,145,17,1,14,6]
[null,19091702,19,9,146,17,2,5,13]
[null,19091703,19,9,147,17,3,4,1]
[null,19091704,19,9,148,17,4,2,3]
[null,19091705,19,9,149,17,5,7,16]
[null,19091706,19,9,150,17,6,15,18]
[null,19091707,19,9,151,17,7,10,9]
[null,19091708,19,9,152,17,8,11,19]
[null,19091709,19,9,153,17,9,17,8]
[null,19091801,19,9,154,18,1,11,9]
[null,19091802,19,9,155,18,2,12,10]
[null,19091803,19,9,156,18,3,19,17]
[null,19091804,19,9,157,18,4,14,15]
[null,19091805,19,9,158,18,5,3,1]
[null,19091806,19,9,159,18,6,7,5]
[null,19091807,19,9,160,18,7,8,6]
[null,19091808,19,9,161,18,8,4,2]
[null,19091809,19,9,162,18,9,18,13]
[null,19091901,19,9,163,19,1,1,2]
[null,19091902,19,9,164,19,2,4,3]
[null,19091903,19,9,165,19,3,5,6]
[null,19091904,19,9,166,19,4,7,8]
[null,19091905,19,9,167,19,5,12,9]
[null,19091906,19,9,168,19,6,11,10]
[null,19091907,19,9,169,19,7,15,13]
[null,19091908,19,9,170,19,8,14,18]
[null,19091909,19,9,171,19,9,16,17]
[null,20100101,20,10,1,1,1,20,7]
[null,20100102,20,10,2,1,2,9,14]
[null,20100103,20,10,3,1,3,11,16]
[null,20100104,20,10,4,1,4,15,3]
[null,20100105,20,10,5,1,5,6,18]
[null,20100106,20,10,6,1,6,13,1]
[null,20100107,20,10,7,1,7,8,12]
[null,20100108,20,10,8,1,8,17,2]
[null,20100109,20,10,9,1,9,4,10]
[null,20100110,20,10,10,1,10,5,19]
[null,20100201,20,10,11,2,1,16,5]
[null,20100202,20,10,12,2,2,13,10]
[null,20100203,20,10,13,2,3,15,17]
[null,20100204,20,10,14,2,4,19,1]
[null,20100205,20,10,15,2,5,12,3]
[null,20100206,20,10,16,2,6,7,11]
[null,20100207,20,10,17,2,7,9,6]
[null,20100208,20,10,18,2,8,14,8]
[null,20100209,20,10,19,2,9,18,2]
[null,20100210,20,10,20,2,10,20,4]
[null,20100301,20,10,21,3,1,4,11]
[null,20100302,20,10,22,3,2,7,19]
[null,20100303,20,10,23,3,3,8,18]
[null,20100304,20,10,24,3,4,2,12]
[null,20100305,20,10,25,3,5,16,13]
[null,20100306,20,10,26,3,6,5,10]
[null,20100307,20,10,27,3,7,3,14]
[null,20100308,20,10,28,3,8,6,15]
[null,20100309,20,10,29,3,9,1,20]
[null,20100310,20,10,30,3,10,17,9]
[null,20100401,20,10,31,4,1,10,1]
[null,20100402,20,10,32,4,2,6,12]
[null,20100403,20,10,33,4,3,20,5]
[null,20100404,20,10,34,4,4,16,7]
[null,20100405,20,10,35,4,5,14,17]
[null,20100406,20,10,36,4,6,19,4]
[null,20100407,20,10,37,4,7,15,2]
[null,20100408,20,10,38,4,8,18,3]
[null,20100409,20,10,39,4,9,8,9]
[null,20100410,20,10,40,4,10,11,13]
[null,20100501,20,10,41,5,1,12,14]
[null,20100502,20,10,42,5,2,15,18]
[null,20100503,20,10,43,5,3,10,19]
[null,20100504,20,10,44,5,4,13,4]
[null,20100505,20,10,45,5,5,2,9]
[null,20100506,20,10,46,5,6,8,6]
[null,20100507,20,10,47,5,7,11,20]
[null,20100508,20,10,48,5,8,5,7]
[null,20100509,20,10,49,5,9,17,3]
[null,20100510,20,10,50,5,10,1,16]
[null,20100601,20,10,51,6,1,2,8]
[null,20100602,20,10,52,6,2,4,16]
[null,20100603,20,10,53,6,3,9,3]
[null,20100604,20,10,54,6,4,6,17]
[null,20100605,20,10,55,6,5,20,19]
[null,20100606,20,10,56,6,6,15,14]
[null,20100607,20,10,57,6,7,7,1]
[null,20100608,20,10,58,6,8,10,11]
[null,20100609,20,10,59,6,9,5,13]
[null,20100610,20,10,60,6,10,18,12]
[null,20100701,20,10,61,7,1,3,6]
[null,20100702,20,10,62,7,2,8,17]
[null,20100703,20,10,63,7,3,7,13]
[null,20100704,20,10,64,7,4,10,20]
[null,20100705,20,10,65,7,5,11,1]
[null,20100706,20,10,66,7,6,9,18]
[null,20100707,20,10,67,7,7,4,5]
[null,20100708,20,10,68,7,8,19,16]
[null,20100709,20,10,69,7,9,15,12]
[null,20100710,20,10,70,7,10,2,14]
[null,20100801,20,10,71,8,1,18,16]
[null,20100802,20,10,72,8,2,14,13]
[null,20100803,20,10,73,8,3,12,10]
[null,20100804,20,10,74,8,4,4,15]
[null,20100805,20,10,75,8,5,3,20]
[null,20100806,20,10,76,8,6,6,7]
[null,20100807,20,10,77,8,7,19,9]
[null,20100808,20,10,78,8,8,1,17]
[null,20100809,20,10,79,8,9,2,11]
[null,20100810,20,10,80,8,10,8,5]
[null,20100901,20,10,81,9,1,13,12]
[null,20100902,20,10,82,9,2,16,2]
[null,20100903,20,10,83,9,3,18,4]
[null,20100904,20,10,84,9,4,9,10]
[null,20100905,20,10,85,9,5,17,5]
[null,20100906,20,10,86,9,6,11,8]
[null,20100907,20,10,87,9,7,1,15]
[null,20100908,20,10,88,9,8,3,19]
[null,20100909,20,10,89,9,9,20,6]
[null,20100910,20,10,90,9,10,14,7]
[null,20101001,20,10,91,10,1,8,19]
[null,20101002,20,10,92,10,2,11,15]
[null,20101003,20,10,93,10,3,17,20]
[null,20101004,20,10,94,10,4,14,5]
[null,20101005,20,10,95,10,5,10,6]
[null,20101006,20,10,96,10,6,4,9]
[null,20101007,20,10,97,10,7,2,13]
[null,20101008,20,10,98,10,8,7,18]
[null,20101009,20,10,99,10,9,12,1]
[null,20101010,20,10,100,10,10,16,3]
[null,20101101,20,10,101,11,1,7,9]
[null,20101102,20,10,102,11,2,12,5]
[null,20101103,20,10,103,11,3,3,11]
[null,20101104,20,10,104,11,4,20,2]
[null,20101105,20,10,105,11,5,1,14]
[null,20101106,20,10,106,11,6,18,13]
[null,20101107,20,10,107,11,7,6,16]
[null,20101108,20,10,108,11,8,8,4]
[null,20101109,20,10,109,11,9,19,15]
[null,20101110,20,10,110,11,10,10,17]
[null,20101201,20,10,111,12,1,11,17]
[null,20101202,20,10,112,12,2,19,6]
[null,20101203,20,10,113,12,3,1,8]
[null,20101204,20,10,114,12,4,3,13]
[null,20101205,20,10,115,12,5,15,7]
[null,20101206,20,10,116,12,6,16,12]
[null,20101207,20,10,117,12,7,5,18]
[null,20101208,20,10,118,12,8,2,10]
[null,20101209,20,10,119,12,9,14,4]
[null,20101210,20,10,120,12,10,9,20]
[null,20101301,20,10,121,13,1,6,4]
[null,20101302,20,10,122,13,2,17,7]
[null,20101303,20,10,123,13,3,13,9]
[null,20101304,20,10,124,13,4,1,18]
[null,20101305,20,10,125,13,5,19,2]
[null,20101306,20,10,126,13,6,14,20]
[null,20101307,20,10,127,13,7,10,3]
[null,20101308,20,10,128,13,8,15,5]
[null,20101309,20,10,129,13,9,16,8]
[null,20101310,20,10,130,13,10,12,11]
[null,20101401,20,10,131,14,1,5,3]
[null,20101402,20,10,132,14,2,1,9]
[null,20101403,20,10,133,14,3,2,7]
[null,20101404,20,10,134,14,4,11,6]
[null,20101405,20,10,135,14,5,4,12]
[null,20101406,20,10,136,14,6,17,19]
[null,20101407,20,10,137,14,7,20,8]
[null,20101408,20,10,138,14,8,16,14]
[null,20101409,20,10,139,14,9,10,18]
[null,20101410,20,10,140,14,10,13,15]
[null,20101501,20,10,141,15,1,14,10]
[null,20101502,20,10,142,15,2,18,20]
[null,20101503,20,10,143,15,3,16,15]
[null,20101504,20,10,144,15,4,12,19]
[null,20101505,20,10,145,15,5,13,8]
[null,20101506,20,10,146,15,6,2,5]
[null,20101507,20,10,147,15,7,17,4]
[null,20101508,20,10,148,15,8,11,9]
[null,20101509,20,10,149,15,9,3,7]
[null,20101510,20,10,150,15,10,6,1]
[null,20101601,20,10,151,16,1,9,15]
[null,20101602,20,10,152,16,2,5,1]
[null,20101603,20,10,153,16,3,6,2]
[null,20101604,20,10,154,16,4,18,14]
[null,20101605,20,10,155,16,5,7,4]
[null,20101606,20,10,156,16,6,12,17]
[null,20101607,20,10,157,16,7,16,10]
[null,20101608,20,10,158,16,8,20,13]
[null,20101609,20,10,159,16,9,11,19]
[null,20101610,20,10,160,16,10,3,8]
[null,20101701,20,10,161,17,1,19,13]
[null,20101702,20,10,162,17,2,2,3]
[null,20101703,20,10,163,17,3,4,1]
[null,20101704,20,10,164,17,4,5,11]
[null,20101705,20,10,165,17,5,8,15]
[null,20101706,20,10,166,17,6,20,16]
[null,20101707,20,10,167,17,7,18,17]
[null,20101708,20,10,168,17,8,9,12]
[null,20101709,20,10,169,17,9,6,14]
[null,20101710,20,10,170,17,10,7,10]
[null,20101801,20,10,171,18,1,15,20]
[null,20101802,20,10,172,18,2,10,8]
[null,20101803,20,10,173,18,3,19,14]
[null,20101804,20,10,174,18,4,17,16]
[null,20101805,20,10,175,18,5,18,11]
[null,20101806,20,10,176,18,6,1,3]
[null,20101807,20,10,177,18,7,12,7]
[null,20101808,20,10,178,18,8,13,6]
[null,20101809,20,10,179,18,9,9,5]
[null,20101810,20,10,180,18,10,4,2]
[null,20101901,20,10,181,19,1,1,2]
[null,20101902,20,10,182,19,2,3,4]
[null,20101903,20,10,183,19,3,5,6]
[null,20101904,20,10,184,19,4,7,8]
[null,20101905,20,10,185,19,5,9,16]
[null,20101906,20,10,186,19,6,10,15]
[null,20101907,20,10,187,19,7,14,11]
[null,20101908,20,10,188,19,8,12,20]
[null,20101909,20,10,189,19,9,13,17]
[null,20101910,20,10,190,19,10,19,18]
[null,21100101,21,10,1,1,1,15,16]
[null,21100102,21,10,2,1,2,1,21]
[null,21100103,21,10,3,1,3,17,2]
[null,21100104,21,10,4,1,4,11,18]
[null,21100105,21,10,5,1,5,6,20]
[null,21100106,21,10,6,1,6,5,19]
[null,21100107,21,10,7,1,7,9,7]
[null,21100108,21,10,8,1,8,12,4]
[null,21100109,21,10,9,1,9,8,10]
[null,21100110,21,10,10,1,10,14,3]
[null,21100201,21,10,11,2,1,4,20]
[null,21100202,21,10,12,2,2,16,3]
[null,21100203,21,10,13,2,3,21,13]
[null,21100204,21,10,14,2,4,14,2]
[null,21100205,21,10,15,2,5,1,18]
[null,21100206,21,10,16,2,6,11,6]
[null,21100207,21,10,17,2,7,5,15]
[null,21100208,21,10,18,2,8,10,7]
[null,21100209,21,10,19,2,9,19,9]
[null,21100210,21,10,20,2,10,8,12]
[null,21100301,21,10,21,3,1,6,8]
[null,21100302,21,10,22,3,2,9,12]
[null,21100303,21,10,23,3,3,7,15]
[null,21100304,21,10,24,3,4,1,20]
[null,21100305,21,10,25,3,5,10,2]
[null,21100306,21,10,26,3,6,3,17]
[null,21100307,21,10,27,3,7,11,19]
[null,21100308,21,10,28,3,8,14,5]
[null,21100309,21,10,29,3,9,13,18]
[null,21100310,21,10,30,3,10,4,21]
[null,21100401,21,10,31,4,1,11,14]
[null,21100402,21,10,32,4,2,19,6]
[null,21100403,21,10,33,4,3,10,9]
[null,21100404,21,10,34,4,4,7,4]
[null,21100405,21,10,35,4,5,18,8]
[null,21100406,21,10,36,4,6,16,20]
[null,21100407,21,10,37,4,7,12,17]
[null,21100408,21,10,38,4,8,2,13]
[null,21100409,21,10,39,4,9,21,3]
[null,21100410,21,10,40,4,10,15,1]
[null,21100501,21,10,41,5,1,12,10]
[null,21100502,21,10,42,5,2,15,4]
[null,21100503,21,10,43,5,3,1,16]
[null,21100504,21,10,44,5,4,21,17]
[null,21100505,21,10,45,5,5,7,13]
[null,21100506,21,10,46,5,6,18,2]
[null,21100507,21,10,47,5,7,20,3]
[null,21100508,21,10,48,5,8,8,19]
[null,21100509,21,10,49,5,9,5,11]
[null,21100510,21,10,50,5,10,9,14]
[null,21100601,21,10,51,6,1,7,5]
[null,21100602,21,10,52,6,2,20,8]
[null,21100603,21,10,53,6,3,3,12]
[null,21100604,21,10,54,6,4,15,13]
[null,21100605,21,10,55,6,5,11,16]
[null,21100606,21,10,56,6,6,14,1]
[null,21100607,21,10,57,6,7,21,2]
[null,21100608,21,10,58,6,8,9,18]
[null,21100609,21,10,59,6,9,6,17]
[null,21100610,21,10,60,6,10,19,4]
[null,21100701,21,10,61,7,1,18,4]
[null,21100702,21,10,62,7,2,5,16]
[null,21100703,21,10,63,7,3,8,21]
[null,21100704,21,10,64,7,4,2,12]
[null,21100705,21,10,65,7,5,9,3]
[null,21100706,21,10,66,7,6,15,11]
[null,21100707,21,10,67,7,7,7,20]
[null,21100708,21,10,68,7,8,17,10]
[null,21100709,21,10,69,7,9,1,19]
[null,21100710,21,10,70,7,10,6,13]
[null,21100801,21,10,71,8,1,14,17]
[null,21100802,21,10,72,8,2,6,18]
[null,21100803,21,10,73,8,3,9,5]
[null,21100804,21,10,74,8,4,8,7]
[null,21100805,21,10,75,8,5,4,11]
[null,21100806,21,10,76,8,6,20,12]
[null,21100807,21,10,77,8,7,19,10]
[null,21100808,21,10,78,8,8,13,1]
[null,21100809,21,10,79,8,9,3,15]
[null,21100810,21,10,80,8,10,16,2]
[null,21100901,21,10,81,9,1,10,3]
[null,21100902,21,10,82,9,2,4,13]
[null,21100903,21,10,83,9,3,16,14]
[null,21100904,21,10,84,9,4,6,21]
[null,21100905,21,10,85,9,5,5,12]
[null,21100906,21,10,86,9,6,2,9]
[null,21100907,21,10,87,9,7,15,18]
[null,21100908,21,10,88,9,8,19,20]
[null,21100909,21,10,89,9,9,11,7]
[null,21100910,21,10,90,9,10,1,17]
[null,21101001,21,10,91,10,1,5,21]
[null,21101002,21,10,92,10,2,8,2]
[null,21101003,21,10,93,10,3,12,11]
[null,21101004,21,10,94,10,4,19,15]
[null,21101005,21,10,95,10,5,14,7]
[null,21101006,21,10,96,10,6,1,10]
[null,21101007,21,10,97,10,7,6,9]
[null,21101008,21,10,98,10,8,18,16]
[null,21101009,21,10,99,10,9,17,4]
[null,21101010,21,10,100,10,10,13,20]
[null,21101101,21,10,101,11,1,19,13]
[null,21101102,21,10,102,11,2,10,14]
[null,21101103,21,10,103,11,3,4,6]
[null,21101104,21,10,104,11,4,9,16]
[null,21101105,21,10,105,11,5,15,17]
[null,21101106,21,10,106,11,6,21,7]
[null,21101107,21,10,107,11,7,18,12]
[null,21101108,21,10,108,11,8,11,3]
[null,21101109,21,10,109,11,9,2,20]
[null,21101110,21,10,110,11,10,5,8]
[null,21101201,21,10,111,12,1,3,18]
[null,21101202,21,10,112,12,2,13,5]
[null,21101203,21,10,113,12,3,14,8]
[null,21101204,21,10,114,12,4,12,6]
[null,21101205,21,10,115,12,5,21,10]
[null,21101206,21,10,116,12,6,9,15]
[null,21101207,21,10,117,12,7,4,16]
[null,21101208,21,10,118,12,8,20,17]
[null,21101209,21,10,119,12,9,7,1]
[null,21101210,21,10,120,12,10,2,19]
[null,21101301,21,10,121,13,1,21,9]
[null,21101302,21,10,122,13,2,2,7]
[null,21101303,21,10,123,13,3,11,20]
[null,21101304,21,10,124,13,4,3,19]
[null,21101305,21,10,125,13,5,17,5]
[null,21101306,21,10,126,13,6,10,13]
[null,21101307,21,10,127,13,7,8,1]
[null,21101308,21,10,128,13,8,16,6]
[null,21101309,21,10,129,13,9,4,14]
[null,21101310,21,10,130,13,10,12,15]
[null,21101401,21,10,131,14,1,13,12]
[null,21101402,21,10,132,14,2,14,15]
[null,21101403,21,10,133,14,3,6,1]
[null,21101404,21,10,134,14,4,17,9]
[null,21101405,21,10,135,14,5,16,19]
[null,21101406,21,10,136,14,6,7,18]
[null,21101407,21,10,137,14,7,10,4]
[null,21101408,21,10,138,14,8,3,8]
[null,21101409,21,10,139,14,9,20,5]
[null,21101410,21,10,140,14,10,21,11]
[null,21101501,21,10,141,15,1,17,19]
[null,21101502,21,10,142,15,2,18,10]
[null,21101503,21,10,143,15,3,5,4]
[null,21101504,21,10,144,15,4,16,8]
[null,21101505,21,10,145,15,5,20,14]
[null,21101506,21,10,146,15,6,12,21]
[null,21101507,21,10,147,15,7,3,13]
[null,21101508,21,10,148,15,8,1,11]
[null,21101509,21,10,149,15,9,15,2]
[null,21101510,21,10,150,15,10,7,6]
[null,21101601,21,10,151,16,1,9,1]
[null,21101602,21,10,152,16,2,7,17]
[null,21101603,21,10,153,16,3,20,18]
[null,21101604,21,10,154,16,4,5,3]
[null,21101605,21,10,155,16,5,19,21]
[null,21101606,21,10,156,16,6,13,8]
[null,21101607,21,10,157,16,7,2,11]
[null,21101608,21,10,158,16,8,6,15]
[null,21101609,21,10,159,16,9,14,12]
[null,21101610,21,10,160,16,10,10,16]
[null,21101701,21,10,161,17,1,2,6]
[null,21101702,21,10,162,17,2,11,9]
[null,21101703,21,10,163,17,3,19,7]
[null,21101704,21,10,164,17,4,20,10]
[null,21101705,21,10,165,17,5,12,1]
[null,21101706,21,10,166,17,6,4,3]
[null,21101707,21,10,167,17,7,17,8]
[null,21101708,21,10,168,17,8,21,14]
[null,21101709,21,10,169,17,9,16,13]
[null,21101710,21,10,170,17,10,18,5]
[null,21101801,21,10,171,18,1,8,11]
[null,21101802,21,10,172,18,2,12,19]
[null,21101803,21,10,173,18,3,15,10]
[null,21101804,21,10,174,18,4,4,1]
[null,21101805,21,10,175,18,5,3,6]
[null,21101806,21,10,176,18,6,17,16]
[null,21101807,21,10,177,18,7,13,14]
[null,21101808,21,10,178,18,8,5,2]
[null,21101809,21,10,179,18,9,18,21]
[null,21101810,21,10,180,18,10,20,9]
[null,21101901,21,10,181,19,1,16,7]
[null,21101902,21,10,182,19,2,21,20]
[null,21101903,21,10,183,19,3,2,3]
[null,21101904,21,10,184,19,4,13,11]
[null,21101905,21,10,185,19,5,8,15]
[null,21101906,21,10,186,19,6,19,14]
[null,21101907,21,10,187,19,7,1,5]
[null,21101908,21,10,188,19,8,4,9]
[null,21101909,21,10,189,19,9,10,6]
[null,21101910,21,10,190,19,10,17,18]
[null,21102001,21,10,191,20,1,20,15]
[null,21102002,21,10,192,20,2,3,1]
[null,21102003,21,10,193,20,3,13,17]
[null,21102004,21,10,194,20,4,18,14]
[null,21102005,21,10,195,20,5,2,4]
[null,21102006,21,10,196,20,6,6,5]
[null,21102007,21,10,197,20,7,16,21]
[null,21102008,21,10,198,20,8,7,12]
[null,21102009,21,10,199,20,9,9,8]
[null,21102010,21,10,200,20,10,11,10]
[null,21102101,21,10,201,21,1,1,2]
[null,21102102,21,10,202,21,2,17,11]
[null,21102103,21,10,203,21,3,18,19]
[null,21102104,21,10,204,21,4,10,5]
[null,21102105,21,10,205,21,5,13,9]
[null,21102106,21,10,206,21,6,8,4]
[null,21102107,21,10,207,21,7,14,6]
[null,21102108,21,10,208,21,8,15,21]
[null,21102109,21,10,209,21,9,12,16]
[null,21102110,21,10,210,21,10,3,7]
[null,22110101,22,11,1,1,1,13,9]
[null,22110102,22,11,2,1,2,14,6]
[null,22110103,22,11,3,1,3,8,18]
[null,22110104,22,11,4,1,4,1,21]
[null,22110105,22,11,5,1,5,2,19]
[null,22110106,22,11,6,1,6,5,12]
[null,22110107,22,11,7,1,7,15,11]
[null,22110108,22,11,8,1,8,3,22]
[null,22110109,22,11,9,1,9,20,4]
[null,22110110,22,11,10,1,10,10,17]
[null,22110111,22,11,11,1,11,7,16]
[null,22110201,22,11,12,2,1,7,20]
[null,22110202,22,11,13,2,2,19,10]
[null,22110203,22,11,14,2,3,3,15]
[null,22110204,22,11,15,2,4,12,11]
[null,22110205,22,11,16,2,5,6,16]
[null,22110206,22,11,17,2,6,17,1]
[null,22110207,22,11,18,2,7,8,21]
[null,22110208,22,11,19,2,8,4,18]
[null,22110209,22,11,20,2,9,9,22]
[null,22110210,22,11,21,2,10,14,5]
[null,22110211,22,11,22,2,11,2,13]
[null,22110301,22,11,23,3,1,18,6]
[null,22110302,22,11,24,3,2,13,1]
[null,22110303,22,11,25,3,3,9,12]
[null,22110304,22,11,26,3,4,3,14]
[null,22110305,22,11,27,3,5,20,5]
[null,22110306,22,11,28,3,6,8,19]
[null,22110307,22,11,29,3,7,4,17]
[null,22110308,22,11,30,3,8,21,7]
[null,22110309,22,11,31,3,9,15,2]
[null,22110310,22,11,32,3,10,16,11]
[null,22110311,22,11,33,3,11,22,10]
[null,22110401,22,11,34,4,1,22,2]
[null,22110402,22,11,35,4,2,5,16]
[null,22110403,22,11,36,4,3,21,4]
[null,22110404,22,11,37,4,4,17,8]
[null,22110405,22,11,38,4,5,10,13]
[null,22110406,22,11,39,4,6,14,11]
[null,22110407,22,11,40,4,7,12,3]
[null,22110408,22,11,41,4,8,9,15]
[null,22110409,22,11,42,4,9,18,7]
[null,22110410,22,11,43,4,10,19,1]
[null,22110411,22,11,44,4,11,6,20]
[null,22110501,22,11,45,5,1,16,4]
[null,22110502,22,11,46,5,2,17,2]
[null,22110503,22,11,47,5,3,11,22]
[null,22110504,22,11,48,5,4,15,5]
[null,22110505,22,11,49,5,5,7,14]
[null,22110506,22,11,50,5,6,10,21]
[null,22110507,22,11,51,5,7,1,18]
[null,22110508,22,11,52,5,8,20,8]
[null,22110509,22,11,53,5,9,3,13]
[null,22110510,22,11,54,5,10,12,6]
[null,22110511,22,11,55,5,11,19,9]
[null,22110601,22,11,56,6,1,10,15]
[null,22110602,22,11,57,6,2,20,11]
[null,22110603,22,11,58,6,3,17,7]
[null,22110604,22,11,59,6,4,19,4]
[null,22110605,22,11,60,6,5,1,22]
[null,22110606,22,11,61,6,6,16,3]
[null,22110607,22,11,62,6,7,9,14]
[null,22110608,22,11,63,6,8,2,12]
[null,22110609,22,11,64,6,9,21,6]
[null,22110610,22,11,65,6,10,8,13]
[null,22110611,22,11,66,6,11,5,18]
[null,22110701,22,11,67,7,1,8,14]
[null,22110702,22,11,68,7,2,9,21]
[null,22110703,22,11,69,7,3,13,5]
[null,22110704,22,11,70,7,4,22,6]
[null,22110705,22,11,71,7,5,19,12]
[null,22110706,22,11,72,7,6,18,2]
[null,22110707,22,11,73,7,7,10,20]
[null,22110708,22,11,74,7,8,16,1]
[null,22110709,22,11,75,7,9,4,11]
[null,22110710,22,11,76,7,10,15,7]
[null,22110711,22,11,77,7,11,17,3]
[null,22110801,22,11,78,8,1,5,21]
[null,22110802,22,11,79,8,2,8,22]
[null,22110803,22,11,80,8,3,14,2]
[null,22110804,22,11,81,8,4,16,9]
[null,22110805,22,11,82,8,5,18,20]
[null,22110806,22,11,83,8,6,13,4]
[null,22110807,22,11,84,8,7,19,7]
[null,22110808,22,11,85,8,8,6,17]
[null,22110809,22,11,86,8,9,10,12]
[null,22110810,22,11,87,8,10,11,3]
[null,22110811,22,11,88,8,11,1,15]
[null,22110901,22,11,89,9,1,17,11]
[null,22110902,22,11,90,9,2,4,15]
[null,22110903,22,11,91,9,3,10,3]
[null,22110904,22,11,92,9,4,2,20]
[null,22110905,22,11,93,9,5,16,21]
[null,22110906,22,11,94,9,6,7,22]
[null,22110907,22,11,95,9,7,13,6]
[null,22110908,22,11,96,9,8,19,5]
[null,22110909,22,11,97,9,9,14,1]
[null,22110910,22,11,98,9,10,9,18]
[null,22110911,22,11,99,9,11,12,8]
[null,22111001,22,11,100,10,1,1,12]
[null,22111002,22,11,101,10,2,18,3]
[null,22111003,22,11,102,10,3,6,19]
[null,22111004,22,11,103,10,4,8,7]
[null,22111005,22,11,104,10,5,13,15]
[null,22111006,22,11,105,10,6,9,20]
[null,22111007,22,11,106,10,7,2,16]
[null,22111008,22,11,107,10,8,14,10]
[null,22111009,22,11,108,10,9,5,17]
[null,22111010,22,11,109,10,10,4,22]
[null,22111011,22,11,110,10,11,21,11]
[null,22111101,22,11,111,11,1,3,19]
[null,22111102,22,11,112,11,2,7,12]
[null,22111103,22,11,113,11,3,20,1]
[null,22111104,22,11,114,11,4,10,18]
[null,22111105,22,11,115,11,5,14,17]
[null,22111106,22,11,116,11,6,15,6]
[null,22111107,22,11,117,11,7,22,5]
[null,22111108,22,11,118,11,8,11,13]
[null,22111109,22,11,119,11,9,16,8]
[null,22111110,22,11,120,11,10,2,21]
[null,22111111,22,11,121,11,11,9,4]
[null,22111201,22,11,122,12,1,21,18]
[null,22111202,22,11,123,12,2,22,13]
[null,22111203,22,11,124,12,3,2,9]
[null,22111204,22,11,125,12,4,14,16]
[null,22111205,22,11,126,12,5,5,11]
[null,22111206,22,11,127,12,6,4,8]
[null,22111207,22,11,128,12,7,17,19]
[null,22111208,22,11,129,12,8,7,6]
[null,22111209,22,11,130,12,9,12,15]
[null,22111210,22,11,131,12,10,3,20]
[null,22111211,22,11,132,12,11,10,1]
[null,22111301,22,11,133,13,1,20,17]
[null,22111302,22,11,134,13,2,10,4]
[null,22111303,22,11,135,13,3,15,16]
[null,22111304,22,11,136,13,4,11,2]
[null,22111305,22,11,137,13,5,21,3]
[null,22111306,22,11,138,13,6,1,7]
[null,22111307,22,11,139,13,7,6,8]
[null,22111308,22,11,140,13,8,18,19]
[null,22111309,22,11,141,13,9,22,14]
[null,22111310,22,11,142,13,10,5,9]
[null,22111311,22,11,143,13,11,13,12]
[null,22111401,22,11,144,14,1,6,5]
[null,22111402,22,11,145,14,2,1,8]
[null,22111403,22,11,146,14,3,12,14]
[null,22111404,22,11,147,14,4,9,3]
[null,22111405,22,11,148,14,5,11,18]
[null,22111406,22,11,149,14,6,19,13]
[null,22111407,22,11,150,14,7,7,4]
[null,22111408,22,11,151,14,8,17,21]
[null,22111409,22,11,152,14,9,2,10]
[null,22111410,22,11,153,14,10,20,16]
[null,22111411,22,11,154,14,11,15,22]
[null,22111501,22,11,155,15,1,19,16]
[null,22111502,22,11,156,15,2,12,17]
[null,22111503,22,11,157,15,3,1,11]
[null,22111504,22,11,158,15,4,5,10]
[null,22111505,22,11,159,15,5,9,7]
[null,22111506,22,11,160,15,6,21,15]
[null,22111507,22,11,161,15,7,18,22]
[null,22111508,22,11,162,15,8,13,20]
[null,22111509,22,11,163,15,9,8,3]
[null,22111510,22,11,164,15,10,6,2]
[null,22111511,22,11,165,15,11,4,14]
[null,22111601,22,11,166,16,1,11,7]
[null,22111602,22,11,167,16,2,15,19]
[null,22111603,22,11,168,16,3,16,10]
[null,22111604,22,11,169,16,4,20,12]
[null,22111605,22,11,170,16,5,3,6]
[null,22111606,22,11,171,16,6,22,17]
[null,22111607,22,11,172,16,7,21,13]
[null,22111608,22,11,173,16,8,5,4]
[null,22111609,22,11,174,16,9,1,9]
[null,22111610,22,11,175,16,10,18,14]
[null,22111611,22,11,176,16,11,8,2]
[null,22111701,22,11,177,17,1,9,8]
[null,22111702,22,11,178,17,2,21,14]
[null,22111703,22,11,179,17,3,18,13]
[null,22111704,22,11,180,17,4,6,1]
[null,22111705,22,11,181,17,5,12,4]
[null,22111706,22,11,182,17,6,2,5]
[null,22111707,22,11,183,17,7,11,10]
[null,22111708,22,11,184,17,8,22,16]
[null,22111709,22,11,185,17,9,19,20]
[null,22111710,22,11,186,17,10,17,15]
[null,22111711,22,11,187,17,11,3,7]
[null,22111801,22,11,188,18,1,4,3]
[null,22111802,22,11,189,18,2,2,7]
[null,22111803,22,11,190,18,3,22,20]
[null,22111804,22,11,191,18,4,18,15]
[null,22111805,22,11,192,18,5,17,9]
[null,22111806,22,11,193,18,6,6,10]
[null,22111807,22,11,194,18,7,5,1]
[null,22111808,22,11,195,18,8,8,11]
[null,22111809,22,11,196,18,9,13,16]
[null,22111810,22,11,197,18,10,21,12]
[null,22111811,22,11,198,18,11,14,19]
[null,22111901,22,11,199,19,1,12,22]
[null,22111902,22,11,200,19,2,16,18]
[null,22111903,22,11,201,19,3,19,21]
[null,22111904,22,11,202,19,4,13,17]
[null,22111905,22,11,203,19,5,15,8]
[null,22111906,22,11,204,19,6,20,14]
[null,22111907,22,11,205,19,7,3,2]
[null,22111908,22,11,206,19,8,10,9]
[null,22111909,22,11,207,19,9,7,5]
[null,22111910,22,11,208,19,10,1,4]
[null,22111911,22,11,209,19,11,11,6]
[null,22112001,22,11,210,20,1,14,13]
[null,22112002,22,11,211,20,2,6,9]
[null,22112003,22,11,212,20,3,5,8]
[null,22112004,22,11,213,20,4,21,22]
[null,22112005,22,11,214,20,5,4,2]
[null,22112006,22,11,215,20,6,12,18]
[null,22112007,22,11,216,20,7,20,15]
[null,22112008,22,11,217,20,8,1,3]
[null,22112009,22,11,218,20,9,11,19]
[null,22112010,22,11,219,20,10,7,10]
[null,22112011,22,11,220,20,11,16,17]
[null,22112101,22,11,221,21,1,2,1]
[null,22112102,22,11,222,21,2,3,5]
[null,22112103,22,11,223,21,3,4,6]
[null,22112104,22,11,224,21,4,7,13]
[null,22112105,22,11,225,21,5,8,10]
[null,22112106,22,11,226,21,6,11,9]
[null,22112107,22,11,227,21,7,16,12]
[null,22112108,22,11,228,21,8,15,14]
[null,22112109,22,11,229,21,9,17,18]
[null,22112110,22,11,230,21,10,22,19]
[null,22112111,22,11,231,21,11,20,21]
[null,23110101,23,11,1,1,1,11,19]
[null,23110102,23,11,2,1,2,13,6]
[null,23110103,23,11,3,1,3,4,16]
[null,23110104,23,11,4,1,4,7,8]
[null,23110105,23,11,5,1,5,15,20]
[null,23110106,23,11,6,1,6,2,18]
[null,23110107,23,11,7,1,7,3,22]
[null,23110108,23,11,8,1,8,14,17]
[null,23110109,23,11,9,1,9,21,10]
[null,23110110,23,11,10,1,10,5,23]
[null,23110111,23,11,11,1,11,12,1]
[null,23110201,23,11,12,2,1,10,3]
[null,23110202,23,11,13,2,2,20,9]
[null,23110203,23,11,14,2,3,13,22]
[null,23110204,23,11,15,2,4,11,2]
[null,23110205,23,11,16,2,5,12,19]
[null,23110206,23,11,17,2,6,6,5]
[null,23110207,23,11,18,2,7,14,7]
[null,23110208,23,11,19,2,8,21,16]
[null,23110209,23,11,20,2,9,17,1]
[null,23110210,23,11,21,2,10,15,4]
[null,23110211,23,11,22,2,11,23,8]
[null,23110301,23,11,23,3,1,20,1]
[null,23110302,23,11,24,3,2,23,7]
[null,23110303,23,11,25,3,3,14,4]
[null,23110304,23,11,26,3,4,8,21]
[null,23110305,23,11,27,3,5,10,11]
[null,23110306,23,11,28,3,6,9,19]
[null,23110307,23,11,29,3,7,18,16]
[null,23110308,23,11,30,3,8,5,3]
[null,23110309,23,11,31,3,9,15,2]
[null,23110310,23,11,32,3,10,22,12]
[null,23110311,23,11,33,3,11,6,17]
[null,23110401,23,11,34,4,1,5,11]
[null,23110402,23,11,35,4,2,17,3]
[null,23110403,23,11,36,4,3,18,8]
[null,23110404,23,11,37,4,4,10,15]
[null,23110405,23,11,38,4,5,4,23]
[null,23110406,23,11,39,4,6,14,2]
[null,23110407,23,11,40,4,7,6,20]
[null,23110408,23,11,41,4,8,13,12]
[null,23110409,23,11,42,4,9,1,19]
[null,23110410,23,11,43,4,10,7,21]
[null,23110411,23,11,44,4,11,9,22]
[null,23110501,23,11,45,5,1,2,23]
[null,23110502,23,11,46,5,2,7,18]
[null,23110503,23,11,47,5,3,5,15]
[null,23110504,23,11,48,5,4,22,1]
[null,23110505,23,11,49,5,5,20,3]
[null,23110506,23,11,50,5,6,19,6]
[null,23110507,23,11,51,5,7,21,4]
[null,23110508,23,11,52,5,8,17,11]
[null,23110509,23,11,53,5,9,16,8]
[null,23110510,23,11,54,5,10,13,9]
[null,23110511,23,11,55,5,11,10,14]
[null,23110601,23,11,56,6,1,7,13]
[null,23110602,23,11,57,6,2,6,21]
[null,23110603,23,11,58,6,3,1,18]
[null,23110604,23,11,59,6,4,16,9]
[null,23110605,23,11,60,6,5,17,5]
[null,23110606,23,11,61,6,6,20,10]
[null,23110607,23,11,62,6,7,12,8]
[null,23110608,23,11,63,6,8,19,2]
[null,23110609,23,11,64,6,9,14,11]
[null,23110610,23,11,65,6,10,23,3]
[null,23110611,23,11,66,6,11,22,4]
[null,23110701,23,11,67,7,1,21,5]
[null,23110702,23,11,68,7,2,19,15]
[null,23110703,23,11,69,7,3,22,11]
[null,23110704,23,11,70,7,4,14,20]
[null,23110705,23,11,71,7,5,1,9]
[null,23110706,23,11,72,7,6,17,23]
[null,23110707,23,11,73,7,7,10,18]
[null,23110708,23,11,74,7,8,12,6]
[null,23110709,23,11,75,7,9,3,13]
[null,23110710,23,11,76,7,10,4,8]
[null,23110711,23,11,77,7,11,2,16]
[null,23110801,23,11,78,8,1,18,22]
[null,23110802,23,11,79,8,2,8,20]
[null,23110803,23,11,80,8,3,17,7]
[null,23110804,23,11,81,8,4,23,12]
[null,23110805,23,11,82,8,5,21,13]
[null,23110806,23,11,83,8,6,1,15]
[null,23110807,23,11,84,8,7,4,5]
[null,23110808,23,11,85,8,8,2,10]
[null,23110809,23,11,86,8,9,19,16]
[null,23110810,23,11,87,8,10,9,14]
[null,23110811,23,11,88,8,11,11,6]
[null,23110901,23,11,89,9,1,9,4]
[null,23110902,23,11,90,9,2,2,12]
[null,23110903,23,11,91,9,3,10,13]
[null,23110904,23,11,92,9,4,5,22]
[null,23110905,23,11,93,9,5,11,18]
[null,23110906,23,11,94,9,6,3,16]
[null,23110907,23,11,95,9,7,19,17]
[null,23110908,23,11,96,9,8,7,1]
[null,23110909,23,11,97,9,9,23,14]
[null,23110910,23,11,98,9,10,8,6]
[null,23110911,23,11,99,9,11,15,21]
[null,23111001,23,11,100,10,1,22,7]
[null,23111002,23,11,101,10,2,4,19]
[null,23111003,23,11,102,10,3,3,14]
[null,23111004,23,11,103,10,4,17,10]
[null,23111005,23,11,104,10,5,16,12]
[null,23111006,23,11,105,10,6,8,13]
[null,23111007,23,11,106,10,7,11,15]
[null,23111008,23,11,107,10,8,6,23]
[null,23111009,23,11,108,10,9,2,20]
[null,23111010,23,11,109,10,10,21,1]
[null,23111011,23,11,110,10,11,18,9]
[null,23111101,23,11,111,11,1,3,6]
[null,23111102,23,11,112,11,2,12,14]
[null,23111103,23,11,113,11,3,8,17]
[null,23111104,23,11,114,11,4,20,16]
[null,23111105,23,11,115,11,5,5,7]
[null,23111106,23,11,116,11,6,22,21]
[null,23111107,23,11,117,11,7,13,23]
[null,23111108,23,11,118,11,8,15,9]
[null,23111109,23,11,119,11,9,10,4]
[null,23111110,23,11,120,11,10,19,18]
[null,23111111,23,11,121,11,11,1,11]
[null,23111201,23,11,122,12,1,8,9]
[null,23111202,23,11,123,12,2,22,2]
[null,23111203,23,11,124,12,3,16,1]
[null,23111204,23,11,125,12,4,21,3]
[null,23111205,23,11,126,12,5,18,6]
[null,23111206,23,11,127,12,6,23,11]
[null,23111207,23,11,128,12,7,15,14]
[null,23111208,23,11,129,12,8,4,13]
[null,23111209,23,11,130,12,9,7,12]
[null,23111210,23,11,131,12,10,20,5]
[null,23111211,23,11,132,12,11,19,10]
[null,23111301,23,11,133,13,1,6,14]
[null,23111302,23,11,134,13,2,5,10]
[null,23111303,23,11,135,13,3,7,19]
[null,23111304,23,11,136,13,4,12,18]
[null,23111305,23,11,137,13,5,23,1]
[null,23111306,23,11,138,13,6,4,20]
[null,23111307,23,11,139,13,7,16,13]
[null,23111308,23,11,140,13,8,9,21]
[null,23111309,23,11,141,13,9,8,22]
[null,23111310,23,11,142,13,10,17,2]
[null,23111311,23,11,143,13,11,3,15]
[null,23111401,23,11,144,14,1,16,10]
[null,23111402,23,11,145,14,2,15,22]
[null,23111403,23,11,146,14,3,9,6]
[null,23111404,23,11,147,14,4,13,11]
[null,23111405,23,11,148,14,5,8,2]
[null,23111406,23,11,149,14,6,12,3]
[null,23111407,23,11,150,14,7,17,21]
[null,23111408,23,11,151,14,8,23,20]
[null,23111409,23,11,152,14,9,5,18]
[null,23111410,23,11,153,14,10,14,19]
[null,23111411,23,11,154,14,11,4,7]
[null,23111501,23,11,155,15,1,4,12]
[null,23111502,23,11,156,15,2,21,11]
[null,23111503,23,11,157,15,3,19,5]
[null,23111504,23,11,158,15,4,15,23]
[null,23111505,23,11,159,15,5,6,16]
[null,23111506,23,11,160,15,6,7,9]
[null,23111507,23,11,161,15,7,8,1]
[null,23111508,23,11,162,15,8,3,18]
[null,23111509,23,11,163,15,9,20,17]
[null,23111510,23,11,164,15,10,10,22]
[null,23111511,23,11,165,15,11,13,2]
[null,23111601,23,11,166,16,1,13,15]
[null,23111602,23,11,167,16,2,16,5]
[null,23111603,23,11,168,16,3,20,21]
[null,23111604,23,11,169,16,4,1,6]
[null,23111605,23,11,170,16,5,14,22]
[null,23111606,23,11,171,16,6,11,12]
[null,23111607,23,11,172,16,7,23,19]
[null,23111608,23,11,173,16,8,10,8]
[null,23111609,23,11,174,16,9,9,3]
[null,23111610,23,11,175,16,10,2,7]
[null,23111611,23,11,176,16,11,17,18]
[null,23111701,23,11,177,17,1,12,21]
[null,23111702,23,11,178,17,2,18,13]
[null,23111703,23,11,179,17,3,23,9]
[null,23111704,23,11,180,17,4,4,17]
[null,23111705,23,11,181,17,5,19,8]
[null,23111706,23,11,182,17,6,16,22]
[null,23111707,23,11,183,17,7,5,2]
[null,23111708,23,11,184,17,8,1,14]
[null,23111709,23,11,185,17,9,6,15]
[null,23111710,23,11,186,17,10,3,11]
[null,23111711,23,11,187,17,11,7,20]
[null,23111801,23,11,188,18,1,15,17]
[null,23111802,23,11,189,18,2,10,23]
[null,23111803,23,11,190,18,3,11,20]
[null,23111804,23,11,191,18,4,3,19]
[null,23111805,23,11,192,18,5,2,21]
[null,23111806,23,11,193,18,6,18,4]
[null,23111807,23,11,194,18,7,22,6]
[null,23111808,23,11,195,18,8,16,7]
[null,23111809,23,11,196,18,9,12,9]
[null,23111810,23,11,197,18,10,1,13]
[null,23111811,23,11,198,18,11,14,5]
[null,23111901,23,11,199,19,1,23,18]
[null,23111902,23,11,200,19,2,14,16]
[null,23111903,23,11,201,19,3,6,2]
[null,23111904,23,11,202,19,4,9,5]
[null,23111905,23,11,203,19,5,3,4]
[null,23111906,23,11,204,19,6,15,8]
[null,23111907,23,11,205,19,7,1,10]
[null,23111908,23,11,206,19,8,22,19]
[null,23111909,23,11,207,19,9,11,7]
[null,23111910,23,11,208,19,10,12,17]
[null,23111911,23,11,209,19,11,20,13]
[null,23112001,23,11,210,20,1,19,20]
[null,23112002,23,11,211,20,2,1,4]
[null,23112003,23,11,212,20,3,12,10]
[null,23112004,23,11,213,20,4,6,7]
[null,23112005,23,11,214,20,5,22,17]
[null,23112006,23,11,215,20,6,21,14]
[null,23112007,23,11,216,20,7,2,9]
[null,23112008,23,11,217,20,8,18,15]
[null,23112009,23,11,218,20,9,13,5]
[null,23112010,23,11,219,20,10,11,16]
[null,23112011,23,11,220,20,11,8,3]
[null,23112101,23,11,221,21,1,14,8]
[null,23112102,23,11,222,21,2,9,17]
[null,23112103,23,11,223,21,3,2,3]
[null,23112104,23,11,224,21,4,19,13]
[null,23112105,23,11,225,21,5,7,15]
[null,23112106,23,11,226,21,6,5,1]
[null,23112107,23,11,227,21,7,20,12]
[null,23112108,23,11,228,21,8,11,4]
[null,23112109,23,11,229,21,9,18,21]
[null,23112110,23,11,230,21,10,6,10]
[null,23112111,23,11,231,21,11,16,23]
[null,23112201,23,11,232,22,1,17,16]
[null,23112202,23,11,233,22,2,3,1]
[null,23112203,23,11,234,22,3,15,12]
[null,23112204,23,11,235,22,4,2,4]
[null,23112205,23,11,236,22,5,13,14]
[null,23112206,23,11,237,22,6,10,7]
[null,23112207,23,11,238,22,7,9,11]
[null,23112208,23,11,239,22,8,8,5]
[null,23112209,23,11,240,22,9,22,23]
[null,23112210,23,11,241,22,10,18,20]
[null,23112211,23,11,242,22,11,21,19]
[null,23112301,23,11,243,23,1,1,2]
[null,23112302,23,11,244,23,2,11,8]
[null,23112303,23,11,245,23,3,21,23]
[null,23112304,23,11,246,23,4,18,14]
[null,23112305,23,11,247,23,5,9,10]
[null,23112306,23,11,248,23,6,13,17]
[null,23112307,23,11,249,23,7,7,3]
[null,23112308,23,11,250,23,8,20,22]
[null,23112309,23,11,251,23,9,4,6]
[null,23112310,23,11,252,23,10,16,15]
[null,23112311,23,11,253,23,11,5,12]
[null,24120101,24,12,1,1,1,11,14]
[null,24120102,24,12,2,1,2,12,13]
[null,24120103,24,12,3,1,3,16,9]
[null,24120104,24,12,4,1,4,15,10]
[null,24120105,24,12,5,1,5,24,5]
[null,24120106,24,12,6,1,6,6,23]
[null,24120107,24,12,7,1,7,1,20]
[null,24120108,24,12,8,1,8,2,19]
[null,24120109,24,12,9,1,9,7,22]
[null,24120110,24,12,10,1,10,8,21]
[null,24120111,24,12,11,1,11,18,3]
[null,24120112,24,12,12,1,12,4,17]
[null,24120201,24,12,13,2,1,10,16]
[null,24120202,24,12,14,2,2,15,9]
[null,24120203,24,12,15,2,3,14,12]
[null,24120204,24,12,16,2,4,13,11]
[null,24120205,24,12,17,2,5,8,22]
[null,24120206,24,12,18,2,6,7,21]
[null,24120207,24,12,19,2,7,18,4]
[null,24120208,24,12,20,2,8,3,17]
[null,24120209,24,12,21,2,9,6,24]
[null,24120210,24,12,22,2,10,23,5]
[null,24120211,24,12,23,2,11,2,20]
[null,24120212,24,12,24,2,12,19,1]
[null,24120301,24,12,25,3,1,12,15]
[null,24120302,24,12,26,3,2,11,16]
[null,24120303,24,12,27,3,3,13,10]
[null,24120304,24,12,28,3,4,9,14]
[null,24120305,24,12,29,3,5,6,21]
[null,24120306,24,12,30,3,6,22,5]
[null,24120307,24,12,31,3,7,2,17]
[null,24120308,24,12,32,3,8,18,1]
[null,24120309,24,12,33,3,9,8,23]
[null,24120310,24,12,34,3,10,7,24]
[null,24120311,24,12,35,3,11,4,19]
[null,24120312,24,12,36,3,12,20,3]
[null,24120401,24,12,37,4,1,9,13]
[null,24120402,24,12,38,4,2,14,10]
[null,24120403,24,12,39,4,3,11,15]
[null,24120404,24,12,40,4,4,16,12]
[null,24120405,24,12,41,4,5,23,7]
[null,24120406,24,12,42,4,6,8,24]
[null,24120407,24,12,43,4,7,19,3]
[null,24120408,24,12,44,4,8,20,4]
[null,24120409,24,12,45,4,9,5,21]
[null,24120410,24,12,46,4,10,6,22]
[null,24120411,24,12,47,4,11,17,1]
[null,24120412,24,12,48,4,12,2,18]
[null,24120501,24,12,49,5,1,22,11]
[null,24120502,24,12,50,5,2,21,12]
[null,24120503,24,12,51,5,3,9,24]
[null,24120504,24,12,52,5,4,10,23]
[null,24120505,24,12,53,5,5,16,1]
[null,24120506,24,12,54,5,6,2,15]
[null,24120507,24,12,55,5,7,20,5]
[null,24120508,24,12,56,5,8,19,6]
[null,24120509,24,12,57,5,9,3,14]
[null,24120510,24,12,58,5,10,4,13]
[null,24120511,24,12,59,5,11,7,18]
[null,24120512,24,12,60,5,12,17,8]
[null,24120601,24,12,61,6,1,24,10]
[null,24120602,24,12,62,6,2,9,23]
[null,24120603,24,12,63,6,3,12,22]
[null,24120604,24,12,64,6,4,11,21]
[null,24120605,24,12,65,6,5,4,14]
[null,24120606,24,12,66,6,6,3,13]
[null,24120607,24,12,67,6,7,8,18]
[null,24120608,24,12,68,6,8,17,7]
[null,24120609,24,12,69,6,9,2,16]
[null,24120610,24,12,70,6,10,15,1]
[null,24120611,24,12,71,6,11,20,6]
[null,24120612,24,12,72,6,12,5,19]
[null,24120701,24,12,73,7,1,23,12]
[null,24120702,24,12,74,7,2,24,11]
[null,24120703,24,12,75,7,3,10,21]
[null,24120704,24,12,76,7,4,22,9]
[null,24120705,24,12,77,7,5,2,13]
[null,24120706,24,12,78,7,6,14,1]
[null,24120707,24,12,79,7,7,17,6]
[null,24120708,24,12,80,7,8,5,18]
[null,24120709,24,12,81,7,9,4,15]
[null,24120710,24,12,82,7,10,3,16]
[null,24120711,24,12,83,7,11,19,8]
[null,24120712,24,12,84,7,12,7,20]
[null,24120801,24,12,85,8,1,21,9]
[null,24120802,24,12,86,8,2,10,22]
[null,24120803,24,12,87,8,3,23,11]
[null,24120804,24,12,88,8,4,12,24]
[null,24120805,24,12,89,8,5,15,3]
[null,24120806,24,12,90,8,6,4,16]
[null,24120807,24,12,91,8,7,7,19]
[null,24120808,24,12,92,8,8,8,20]
[null,24120809,24,12,93,8,9,1,13]
[null,24120810,24,12,94,8,10,2,14]
[null,24120811,24,12,95,8,11,5,17]
[null,24120812,24,12,96,8,12,18,6]
[null,24120901,24,12,97,9,1,14,19]
[null,24120902,24,12,98,9,2,13,20]
[null,24120903,24,12,99,9,3,17,16]
[null,24120904,24,12,100,9,4,18,15]
[null,24120905,24,12,101,9,5,1,24]
[null,24120906,24,12,102,9,6,23,2]
[null,24120907,24,12,103,9,7,5,12]
[null,24120908,24,12,104,9,8,6,11]
[null,24120909,24,12,105,9,9,22,3]
[null,24120910,24,12,106,9,10,21,4]
[null,24120911,24,12,107,9,11,10,7]
[null,24120912,24,12,108,9,12,8,9]
[null,24121001,24,12,109,10,1,16,18]
[null,24121002,24,12,110,10,2,17,15]
[null,24121003,24,12,111,10,3,20,14]
[null,24121004,24,12,112,10,4,19,13]
[null,24121005,24,12,113,10,5,22,4]
[null,24121006,24,12,114,10,6,21,3]
[null,24121007,24,12,115,10,7,10,8]
[null,24121008,24,12,116,10,8,7,9]
[null,24121009,24,12,117,10,9,24,2]
[null,24121010,24,12,118,10,10,1,23]
[null,24121011,24,12,119,10,11,6,12]
[null,24121012,24,12,120,10,12,11,5]
[null,24121101,24,12,121,11,1,15,20]
[null,24121102,24,12,122,11,2,16,19]
[null,24121103,24,12,123,11,3,18,13]
[null,24121104,24,12,124,11,4,14,17]
[null,24121105,24,12,125,11,5,21,2]
[null,24121106,24,12,126,11,6,1,22]
[null,24121107,24,12,127,11,7,6,9]
[null,24121108,24,12,128,11,8,10,5]
[null,24121109,24,12,129,11,9,23,4]
[null,24121110,24,12,130,11,10,24,3]
[null,24121111,24,12,131,11,11,8,11]
[null,24121112,24,12,132,11,12,12,7]
[null,24121201,24,12,133,12,1,13,17]
[null,24121202,24,12,134,12,2,18,14]
[null,24121203,24,12,135,12,3,15,19]
[null,24121204,24,12,136,12,4,20,16]
[null,24121205,24,12,137,12,5,3,23]
[null,24121206,24,12,138,12,6,24,4]
[null,24121207,24,12,139,12,7,11,7]
[null,24121208,24,12,140,12,8,12,8]
[null,24121209,24,12,141,12,9,21,1]
[null,24121210,24,12,142,12,10,22,2]
[null,24121211,24,12,143,12,11,9,5]
[null,24121212,24,12,144,12,12,6,10]
[null,24121301,24,12,145,13,1,19,22]
[null,24121302,24,12,146,13,2,20,21]
[null,24121303,24,12,147,13,3,24,17]
[null,24121304,24,12,148,13,4,23,18]
[null,24121305,24,12,149,13,5,5,16]
[null,24121306,24,12,150,13,6,15,6]
[null,24121307,24,12,151,13,7,12,1]
[null,24121308,24,12,152,13,8,11,2]
[null,24121309,24,12,153,13,9,14,7]
[null,24121310,24,12,154,13,10,13,8]
[null,24121311,24,12,155,13,11,3,10]
[null,24121312,24,12,156,13,12,9,4]
[null,24121401,24,12,157,14,1,18,24]
[null,24121402,24,12,158,14,2,23,17]
[null,24121403,24,12,159,14,3,22,20]
[null,24121404,24,12,160,14,4,21,19]
[null,24121405,24,12,161,14,5,14,8]
[null,24121406,24,12,162,14,6,13,7]
[null,24121407,24,12,163,14,7,4,10]
[null,24121408,24,12,164,14,8,9,3]
[null,24121409,24,12,165,14,9,16,6]
[null,24121410,24,12,166,14,10,5,15]
[null,24121411,24,12,167,14,11,12,2]
[null,24121412,24,12,168,14,12,1,11]
[null,24121501,24,12,169,15,1,20,23]
[null,24121502,24,12,170,15,2,19,24]
[null,24121503,24,12,171,15,3,21,18]
[null,24121504,24,12,172,15,4,17,22]
[null,24121505,24,12,173,15,5,13,6]
[null,24121506,24,12,174,15,6,5,14]
[null,24121507,24,12,175,15,7,9,2]
[null,24121508,24,12,176,15,8,1,10]
[null,24121509,24,12,177,15,9,15,8]
[null,24121510,24,12,178,15,10,16,7]
[null,24121511,24,12,179,15,11,11,4]
[null,24121512,24,12,180,15,12,3,12]
[null,24121601,24,12,181,16,1,17,21]
[null,24121602,24,12,182,16,2,22,18]
[null,24121603,24,12,183,16,3,19,23]
[null,24121604,24,12,184,16,4,24,20]
[null,24121605,24,12,185,16,5,7,15]
[null,24121606,24,12,186,16,6,16,8]
[null,24121607,24,12,187,16,7,3,11]
[null,24121608,24,12,188,16,8,4,12]
[null,24121609,24,12,189,16,9,13,5]
[null,24121610,24,12,190,16,10,14,6]
[null,24121611,24,12,191,16,11,1,9]
[null,24121612,24,12,192,16,12,10,2]
[null,24121701,24,12,193,17,1,5,4]
[null,24121702,24,12,194,17,2,7,2]
[null,24121703,24,12,195,17,3,8,3]
[null,24121704,24,12,196,17,4,1,6]
[null,24121705,24,12,197,17,5,19,12]
[null,24121706,24,12,198,17,6,17,10]
[null,24121707,24,12,199,17,7,16,23]
[null,24121708,24,12,200,17,8,21,14]
[null,24121709,24,12,201,17,9,20,9]
[null,24121710,24,12,202,17,10,11,18]
[null,24121711,24,12,203,17,11,13,24]
[null,24121712,24,12,204,17,12,15,22]
[null,24121801,24,12,205,18,1,6,3]
[null,24121802,24,12,206,18,2,8,1]
[null,24121803,24,12,207,18,3,5,2]
[null,24121804,24,12,208,18,4,4,7]
[null,24121805,24,12,209,18,5,18,9]
[null,24121806,24,12,210,18,6,20,11]
[null,24121807,24,12,211,18,7,13,22]
[null,24121808,24,12,212,18,8,24,15]
[null,24121809,24,12,213,18,9,19,10]
[null,24121810,24,12,214,18,10,12,17]
[null,24121811,24,12,215,18,11,14,23]
[null,24121812,24,12,216,18,12,16,21]
[null,24121901,24,12,217,19,1,2,8]
[null,24121902,24,12,218,19,2,4,6]
[null,24121903,24,12,219,19,3,1,7]
[null,24121904,24,12,220,19,4,5,3]
[null,24121905,24,12,221,19,5,11,17]
[null,24121906,24,12,222,19,6,9,19]
[null,24121907,24,12,223,19,7,21,15]
[null,24121908,24,12,224,19,8,13,23]
[null,24121909,24,12,225,19,9,12,18]
[null,24121910,24,12,226,19,10,20,10]
[null,24121911,24,12,227,19,11,22,16]
[null,24121912,24,12,228,19,12,24,14]
[null,24122001,24,12,229,20,1,3,7]
[null,24122002,24,12,230,20,2,1,5]
[null,24122003,24,12,231,20,3,4,8]
[null,24122004,24,12,232,20,4,6,2]
[null,24122005,24,12,233,20,5,12,20]
[null,24122006,24,12,234,20,6,10,18]
[null,24122007,24,12,235,20,7,24,16]
[null,24122008,24,12,236,20,8,14,22]
[null,24122009,24,12,237,20,9,11,19]
[null,24122010,24,12,238,20,10,17,9]
[null,24122011,24,12,239,20,11,23,15]
[null,24122012,24,12,240,20,12,21,13]
[null,24122101,24,12,241,21,1,4,1]
[null,24122102,24,12,242,21,2,2,3]
[null,24122103,24,12,243,21,3,7,6]
[null,24122104,24,12,244,21,4,8,5]
[null,24122105,24,12,245,21,5,10,11]
[null,24122106,24,12,246,21,6,12,9]
[null,24122107,24,12,247,21,7,15,14]
[null,24122108,24,12,248,21,8,16,13]
[null,24122109,24,12,249,21,9,17,20]
[null,24122110,24,12,250,21,10,18,19]
[null,24122111,24,12,251,21,11,24,21]
[null,24122112,24,12,252,21,12,22,23]
[null,24122201,24,12,253,22,1,8,6]
[null,24122202,24,12,254,22,2,5,7]
[null,24122203,24,12,255,22,3,2,4]
[null,24122204,24,12,256,22,4,3,1]
[null,24122205,24,12,257,22,5,20,18]
[null,24122206,24,12,258,22,6,19,17]
[null,24122207,24,12,259,22,7,22,24]
[null,24122208,24,12,260,22,8,23,21]
[null,24122209,24,12,261,22,9,10,12]
[null,24122210,24,12,262,22,10,9,11]
[null,24122211,24,12,263,22,11,16,14]
[null,24122212,24,12,264,22,12,13,15]
[null,24122301,24,12,265,23,1,1,2]
[null,24122302,24,12,266,23,2,3,4]
[null,24122303,24,12,267,23,3,6,5]
[null,24122304,24,12,268,23,4,7,8]
[null,24122305,24,12,269,23,5,9,10]
[null,24122306,24,12,270,23,6,11,12]
[null,24122307,24,12,271,23,7,14,13]
[null,24122308,24,12,272,23,8,15,16]
[null,24122309,24,12,273,23,9,18,17]
[null,24122310,24,12,274,23,10,19,20]
[null,24122311,24,12,275,23,11,21,22]
[null,24122312,24,12,276,23,12,23,24]
[null,25120101,25,12,1,1,1,9,16]
[null,25120102,25,12,2,1,2,13,5]
[null,25120103,25,12,3,1,3,4,14]
[null,25120104,25,12,4,1,4,25,17]
[null,25120105,25,12,5,1,5,19,2]
[null,25120106,25,12,6,1,6,11,7]
[null,25120107,25,12,7,1,7,15,21]
[null,25120108,25,12,8,1,8,10,8]
[null,25120109,25,12,9,1,9,1,20]
[null,25120110,25,12,10,1,10,12,22]
[null,25120111,25,12,11,1,11,18,24]
[null,25120112,25,12,12,1,12,3,23]
[null,25120201,25,12,13,2,1,7,12]
[null,25120202,25,12,14,2,2,23,9]
[null,25120203,25,12,15,2,3,24,15]
[null,25120204,25,12,16,2,4,6,19]
[null,25120205,25,12,17,2,5,20,10]
[null,25120206,25,12,18,2,6,21,4]
[null,25120207,25,12,19,2,7,2,25]
[null,25120208,25,12,20,2,8,18,1]
[null,25120209,25,12,21,2,9,16,13]
[null,25120210,25,12,22,2,10,3,11]
[null,25120211,25,12,23,2,11,8,14]
[null,25120212,25,12,24,2,12,22,5]
[null,25120301,25,12,25,3,1,14,9]
[null,25120302,25,12,26,3,2,6,21]
[null,25120303,25,12,27,3,3,23,20]
[null,25120304,25,12,28,3,4,3,16]
[null,25120305,25,12,29,3,5,5,19]
[null,25120306,25,12,30,3,6,17,11]
[null,25120307,25,12,31,3,7,8,15]
[null,25120308,25,12,32,3,8,7,24]
[null,25120309,25,12,33,3,9,22,1]
[null,25120310,25,12,34,3,10,18,2]
[null,25120311,25,12,35,3,11,4,13]
[null,25120312,25,12,36,3,12,25,10]
[null,25120401,25,12,37,4,1,4,24]
[null,25120402,25,12,38,4,2,5,16]
[null,25120403,25,12,39,4,3,14,21]
[null,25120404,25,12,40,4,4,17,2]
[null,25120405,25,12,41,4,5,13,23]
[null,25120406,25,12,42,4,6,25,6]
[null,25120407,25,12,43,4,7,10,18]
[null,25120408,25,12,44,4,8,8,20]
[null,25120409,25,12,45,4,9,12,3]
[null,25120410,25,12,46,4,10,22,7]
[null,25120411,25,12,47,4,11,1,15]
[null,25120412,25,12,48,4,12,9,11]
[null,25120501,25,12,49,5,1,22,19]
[null,25120502,25,12,50,5,2,24,2]
[null,25120503,25,12,51,5,3,18,16]
[null,25120504,25,12,52,5,4,23,7]
[null,25120505,25,12,53,5,5,8,11]
[null,25120506,25,12,54,5,6,14,1]
[null,25120507,25,12,55,5,7,17,9]
[null,25120508,25,12,56,5,8,21,3]
[null,25120509,25,12,57,5,9,5,15]
[null,25120510,25,12,58,5,10,6,20]
[null,25120511,25,12,59,5,11,12,10]
[null,25120512,25,12,60,5,12,4,25]
[null,25120601,25,12,61,6,1,6,17]
[null,25120602,25,12,62,6,2,9,13]
[null,25120603,25,12,63,6,3,15,4]
[null,25120604,25,12,64,6,4,19,25]
[null,25120605,25,12,65,6,5,3,22]
[null,25120606,25,12,66,6,6,18,8]
[null,25120607,25,12,67,6,7,23,5]
[null,25120608,25,12,68,6,8,1,10]
[null,25120609,25,12,69,6,9,24,14]
[null,25120610,25,12,70,6,10,11,12]
[null,25120611,25,12,71,6,11,21,20]
[null,25120612,25,12,72,6,12,16,7]
[null,25120701,25,12,73,7,1,2,13]
[null,25120702,25,12,74,7,2,15,6]
[null,25120703,25,12,75,7,3,1,23]
[null,25120704,25,12,76,7,4,9,3]
[null,25120705,25,12,77,7,5,7,25]
[null,25120706,25,12,78,7,6,20,12]
[null,25120707,25,12,79,7,7,16,4]
[null,25120708,25,12,80,7,8,24,11]
[null,25120709,25,12,81,7,9,21,10]
[null,25120710,25,12,82,7,10,19,18]
[null,25120711,25,12,83,7,11,22,8]
[null,25120712,25,12,84,7,12,17,14]
[null,25120801,25,12,85,8,1,19,7]
[null,25120802,25,12,86,8,2,17,4]
[null,25120803,25,12,87,8,3,5,10]
[null,25120804,25,12,88,8,4,22,13]
[null,25120805,25,12,89,8,5,11,20]
[null,25120806,25,12,90,8,6,1,21]
[null,25120807,25,12,91,8,7,9,2]
[null,25120808,25,12,92,8,8,12,14]
[null,25120809,25,12,93,8,9,15,16]
[null,25120810,25,12,94,8,10,8,25]
[null,25120811,25,12,95,8,11,24,23]
[null,25120812,25,12,96,8,12,18,6]
[null,25120901,25,12,97,9,1,18,5]
[null,25120902,25,12,98,9,2,1,12]
[null,25120903,25,12,99,9,3,25,11]
[null,25120904,25,12,100,9,4,10,15]
[null,25120905,25,12,101,9,5,17,24]
[null,25120906,25,12,102,9,6,23,22]
[null,25120907,25,12,103,9,7,14,3]
[null,25120908,25,12,104,9,8,13,19]
[null,25120909,25,12,105,9,9,8,6]
[null,25120910,25,12,106,9,10,4,9]
[null,25120911,25,12,107,9,11,2,16]
[null,25120912,25,12,108,9,12,7,21]
[null,25121001,25,12,109,10,1,11,21]
[null,25121002,25,12,110,10,2,10,22]
[null,25121003,25,12,111,10,3,17,12]
[null,25121004,25,12,112,10,4,8,4]
[null,25121005,25,12,113,10,5,16,1]
[null,25121006,25,12,114,10,6,15,2]
[null,25121007,25,12,115,10,7,20,19]
[null,25121008,25,12,116,10,8,5,25]
[null,25121009,25,12,117,10,9,7,9]
[null,25121010,25,12,118,10,10,14,13]
[null,25121011,25,12,119,10,11,23,6]
[null,25121012,25,12,120,10,12,24,3]
[null,25121101,25,12,121,11,1,3,8]
[null,25121102,25,12,122,11,2,25,15]
[null,25121103,25,12,123,11,3,13,1]
[null,25121104,25,12,124,11,4,12,9]
[null,25121105,25,12,125,11,5,18,14]
[null,25121106,25,12,126,11,6,24,5]
[null,25121107,25,12,127,11,7,6,22]
[null,25121108,25,12,128,11,8,11,4]
[null,25121109,25,12,129,11,9,23,17]
[null,25121110,25,12,130,11,10,10,19]
[null,25121111,25,12,131,11,11,16,21]
[null,25121112,25,12,132,11,12,2,20]
[null,25121201,25,12,133,12,1,13,6]
[null,25121202,25,12,134,12,2,2,14]
[null,25121203,25,12,135,12,3,16,8]
[null,25121204,25,12,136,12,4,7,5]
[null,25121205,25,12,137,12,5,25,3]
[null,25121206,25,12,138,12,6,12,18]
[null,25121207,25,12,139,12,7,4,23]
[null,25121208,25,12,140,12,8,22,21]
[null,25121209,25,12,141,12,9,10,24]
[null,25121210,25,12,142,12,10,20,17]
[null,25121211,25,12,143,12,11,15,9]
[null,25121212,25,12,144,12,12,19,1]
[null,25121301,25,12,145,13,1,5,11]
[null,25121302,25,12,146,13,2,20,3]
[null,25121303,25,12,147,13,3,6,7]
[null,25121304,25,12,148,13,4,18,21]
[null,25121305,25,12,149,13,5,1,17]
[null,25121306,25,12,150,13,6,22,15]
[null,25121307,25,12,151,13,7,19,14]
[null,25121308,25,12,152,13,8,23,2]
[null,25121309,25,12,153,13,9,9,8]
[null,25121310,25,12,154,13,10,24,16]
[null,25121311,25,12,155,13,11,13,25]
[null,25121312,25,12,156,13,12,12,4]
[null,25121401,25,12,157,14,1,10,3]
[null,25121402,25,12,158,14,2,21,17]
[null,25121403,25,12,159,14,3,20,5]
[null,25121404,25,12,160,14,4,16,22]
[null,25121405,25,12,161,14,5,4,18]
[null,25121406,25,12,162,14,6,13,24]
[null,25121407,25,12,163,14,7,12,6]
[null,25121408,25,12,164,14,8,14,7]
[null,25121409,25,12,165,14,9,25,23]
[null,25121410,25,12,166,14,10,2,8]
[null,25121411,25,12,167,14,11,11,1]
[null,25121412,25,12,168,14,12,15,19]
[null,25121501,25,12,169,15,1,21,25]
[null,25121502,25,12,170,15,2,18,11]
[null,25121503,25,12,171,15,3,19,3]
[null,25121504,25,12,172,15,4,1,24]
[null,25121505,25,12,173,15,5,12,16]
[null,25121506,25,12,174,15,6,2,10]
[null,25121507,25,12,175,15,7,13,20]
[null,25121508,25,12,176,15,8,9,6]
[null,25121509,25,12,177,15,9,4,7]
[null,25121510,25,12,178,15,10,15,23]
[null,25121511,25,12,179,15,11,5,17]
[null,25121512,25,12,180,15,12,14,22]
[null,25121601,25,12,181,16,1,23,14]
[null,25121602,25,12,182,16,2,4,19]
[null,25121603,25,12,183,16,3,10,9]
[null,25121604,25,12,184,16,4,13,11]
[null,25121605,25,12,185,16,5,6,5]
[null,25121606,25,12,186,16,6,3,17]
[null,25121607,25,12,187,16,7,24,8]
[null,25121608,25,12,188,16,8,15,12]
[null,25121609,25,12,189,16,9,18,22]
[null,25121610,25,12,190,16,10,25,1]
[null,25121611,25,12,191,16,11,20,7]
[null,25121612,25,12,192,16,12,21,2]
[null,25121701,25,12,193,17,1,15,20]
[null,25121702,25,12,194,17,2,14,25]
[null,25121703,25,12,195,17,3,8,13]
[null,25121704,25,12,196,17,4,5,12]
[null,25121705,25,12,197,17,5,9,21]
[null,25121706,25,12,198,17,6,19,16]
[null,25121707,25,12,199,17,7,1,7]
[null,25121708,25,12,200,17,8,4,22]
[null,25121709,25,12,201,17,9,11,2]
[null,25121710,25,12,202,17,10,17,10]
[null,25121711,25,12,203,17,11,3,18]
[null,25121712,25,12,204,17,12,6,24]
[null,25121801,25,12,205,18,1,25,18]
[null,25121802,25,12,206,18,2,8,7]
[null,25121803,25,12,207,18,3,2,22]
[null,25121804,25,12,208,18,4,20,14]
[null,25121805,25,12,209,18,5,24,12]
[null,25121806,25,12,210,18,6,10,23]
[null,25121807,25,12,211,18,7,3,13]
[null,25121808,25,12,212,18,8,16,17]
[null,25121809,25,12,213,18,9,6,4]
[null,25121810,25,12,214,18,10,21,5]
[null,25121811,25,12,215,18,11,9,19]
[null,25121812,25,12,216,18,12,11,15]
[null,25121901,25,12,217,19,1,20,4]
[null,25121902,25,12,218,19,2,19,24]
[null,25121903,25,12,219,19,3,9,18]
[null,25121904,25,12,220,19,4,11,23]
[null,25121905,25,12,221,19,5,21,13]
[null,25121906,25,12,222,19,6,16,25]
[null,25121907,25,12,223,19,7,7,10]
[null,25121908,25,12,224,19,8,3,15]
[null,25121909,25,12,225,19,9,2,12]
[null,25121910,25,12,226,19,10,1,6]
[null,25121911,25,12,227,19,11,14,5]
[null,25121912,25,12,228,19,12,8,17]
[null,25122001,25,12,229,20,1,8,1]
[null,25122002,25,12,230,20,2,16,23]
[null,25122003,25,12,231,20,3,21,24]
[null,25122004,25,12,232,20,4,2,6]
[null,25122005,25,12,233,20,5,14,15]
[null,25122006,25,12,234,20,6,5,9]
[null,25122007,25,12,235,20,7,22,11]
[null,25122008,25,12,236,20,8,20,18]
[null,25122009,25,12,237,20,9,17,19]
[null,25122010,25,12,238,20,10,7,3]
[null,25122011,25,12,239,20,11,10,4]
[null,25122012,25,12,240,20,12,13,12]
[null,25122101,25,12,241,21,1,12,23]
[null,25122102,25,12,242,21,2,22,20]
[null,25122103,25,12,243,21,3,7,17]
[null,25122104,25,12,244,21,4,21,8]
[null,25122105,25,12,245,21,5,10,6]
[null,25122106,25,12,246,21,6,4,3]
[null,25122107,25,12,247,21,7,25,24]
[null,25122108,25,12,248,21,8,2,5]
[null,25122109,25,12,249,21,9,13,18]
[null,25122110,25,12,250,21,10,16,14]
[null,25122111,25,12,251,21,11,19,11]
[null,25122112,25,12,252,21,12,1,9]
[null,25122201,25,12,253,22,1,24,22]
[null,25122202,25,12,254,22,2,11,10]
[null,25122203,25,12,255,22,3,12,19]
[null,25122204,25,12,256,22,4,4,1]
[null,25122205,25,12,257,22,5,23,8]
[null,25122206,25,12,258,22,6,6,14]
[null,25122207,25,12,259,22,7,18,17]
[null,25122208,25,12,260,22,8,25,9]
[null,25122209,25,12,261,22,9,3,5]
[null,25122210,25,12,262,22,10,13,15]
[null,25122211,25,12,263,22,11,7,2]
[null,25122212,25,12,264,22,12,20,16]
[null,25122301,25,12,265,23,1,17,15]
[null,25122302,25,12,266,23,2,7,18]
[null,25122303,25,12,267,23,3,3,2]
[null,25122304,25,12,268,23,4,24,20]
[null,25122305,25,12,269,23,5,22,9]
[null,25122306,25,12,270,23,6,8,19]
[null,25122307,25,12,271,23,7,5,1]
[null,25122308,25,12,272,23,8,6,16]
[null,25122309,25,12,273,23,9,14,11]
[null,25122310,25,12,274,23,10,23,21]
[null,25122311,25,12,275,23,11,25,12]
[null,25122312,25,12,276,23,12,10,13]
[null,25122401,25,12,277,24,1,16,10]
[null,25122402,25,12,278,24,2,3,1]
[null,25122403,25,12,279,24,3,11,6]
[null,25122404,25,12,280,24,4,15,18]
[null,25122405,25,12,281,24,5,2,4]
[null,25122406,25,12,282,24,6,7,13]
[null,25122407,25,12,283,24,7,21,12]
[null,25122408,25,12,284,24,8,19,23]
[null,25122409,25,12,285,24,9,20,25]
[null,25122410,25,12,286,24,10,9,24]
[null,25122411,25,12,287,24,11,17,22]
[null,25122412,25,12,288,24,12,5,8]
[null,25122501,25,12,289,25,1,1,2]
[null,25122502,25,12,290,25,2,12,8]
[null,25122503,25,12,291,25,3,22,25]
[null,25122504,25,12,292,25,4,14,10]
[null,25122505,25,12,293,25,5,15,7]
[null,25122506,25,12,294,25,6,9,20]
[null,25122507,25,12,295,25,7,11,16]
[null,25122508,25,12,296,25,8,17,13]
[null,25122509,25,12,297,25,9,19,21]
[null,25122510,25,12,298,25,10,5,4]
[null,25122511,25,12,299,25,11,6,3]
[null,25122512,25,12,300,25,12,23,18]
[null,26130101,26,13,1,1,1,16,4]
[null,26130102,26,13,2,1,2,7,15]
[null,26130103,26,13,3,1,3,13,8]
[null,26130104,26,13,4,1,4,5,24]
[null,26130105,26,13,5,1,5,6,26]
[null,26130106,26,13,6,1,6,9,25]
[null,26130107,26,13,7,1,7,11,22]
[null,26130108,26,13,8,1,8,2,18]
[null,26130109,26,13,9,1,9,21,1]
[null,26130110,26,13,10,1,10,17,3]
[null,26130111,26,13,11,1,11,19,14]
[null,26130112,26,13,12,1,12,12,20]
[null,26130113,26,13,13,1,13,23,10]
[null,26130201,26,13,14,2,1,7,23]
[null,26130202,26,13,15,2,2,4,10]
[null,26130203,26,13,16,2,3,3,12]
[null,26130204,26,13,17,2,4,1,14]
[null,26130205,26,13,18,2,5,2,17]
[null,26130206,26,13,19,2,6,18,5]
[null,26130207,26,13,20,2,7,21,6]
[null,26130208,26,13,21,2,8,9,22]
[null,26130209,26,13,22,2,9,25,11]
[null,26130210,26,13,23,2,10,13,26]
[null,26130211,26,13,24,2,11,24,15]
[null,26130212,26,13,25,2,12,16,8]
[null,26130213,26,13,26,2,13,20,19]
[null,26130301,26,13,27,3,1,14,22]
[null,26130302,26,13,28,3,2,18,12]
[null,26130303,26,13,29,3,3,10,21]
[null,26130304,26,13,30,3,4,8,17]
[null,26130305,26,13,31,3,5,25,7]
[null,26130306,26,13,32,3,6,4,26]
[null,26130307,26,13,33,3,7,24,3]
[null,26130308,26,13,34,3,8,1,23]
[null,26130309,26,13,35,3,9,20,2]
[null,26130310,26,13,36,3,10,19,5]
[null,26130311,26,13,37,3,11,6,16]
[null,26130312,26,13,38,3,12,15,9]
[null,26130313,26,13,39,3,13,13,11]
[null,26130401,26,13,40,4,1,20,8]
[null,26130402,26,13,41,4,2,24,4]
[null,26130403,26,13,42,4,3,26,3]
[null,26130404,26,13,43,4,4,25,1]
[null,26130405,26,13,44,4,5,22,2]
[null,26130406,26,13,45,4,6,5,21]
[null,26130407,26,13,46,4,7,6,18]
[null,26130408,26,13,47,4,8,17,9]
[null,26130409,26,13,48,4,9,11,14]
[null,26130410,26,13,49,4,10,12,13]
[null,26130411,26,13,50,4,11,15,10]
[null,26130412,26,13,51,4,12,23,16]
[null,26130413,26,13,52,4,13,19,7]
[null,26130501,26,13,53,5,1,12,10]
[null,26130502,26,13,54,5,2,8,25]
[null,26130503,26,13,55,5,3,22,7]
[null,26130504,26,13,56,5,4,19,18]
[null,26130505,26,13,57,5,5,16,21]
[null,26130506,26,13,58,5,6,17,1]
[null,26130507,26,13,59,5,7,14,2]
[null,26130508,26,13,60,5,8,26,11]
[null,26130509,26,13,61,5,9,9,24]
[null,26130510,26,13,62,5,10,6,23]
[null,26130511,26,13,63,5,11,20,5]
[null,26130512,26,13,64,5,12,13,4]
[null,26130513,26,13,65,5,13,15,3]
[null,26130601,26,13,66,6,1,2,15]
[null,26130602,26,13,67,6,2,16,11]
[null,26130603,26,13,68,6,3,9,19]
[null,26130604,26,13,69,6,4,6,20]
[null,26130605,26,13,70,6,5,23,5]
[null,26130606,26,13,71,6,6,13,24]
[null,26130607,26,13,72,6,7,1,26]
[null,26130608,26,13,73,6,8,25,3]
[null,26130609,26,13,74,6,9,4,22]
[null,26130610,26,13,75,6,10,7,21]
[null,26130611,26,13,76,6,11,8,18]
[null,26130612,26,13,77,6,12,17,10]
[null,26130613,26,13,78,6,13,14,12]
[null,26130701,26,13,79,7,1,19,16]
[null,26130702,26,13,80,7,2,20,1]
[null,26130703,26,13,81,7,3,2,23]
[null,26130704,26,13,82,7,4,11,10]
[null,26130705,26,13,83,7,5,9,12]
[null,26130706,26,13,84,7,6,6,14]
[null,26130707,26,13,85,7,7,5,17]
[null,26130708,26,13,86,7,8,13,21]
[null,26130709,26,13,87,7,9,18,15]
[null,26130710,26,13,88,7,10,3,22]
[null,26130711,26,13,89,7,11,4,25]
[null,26130712,26,13,90,7,12,26,7]
[null,26130713,26,13,91,7,13,8,24]
[null,26130801,26,13,92,8,1,24,12]
[null,26130802,26,13,93,8,2,23,14]
[null,26130803,26,13,94,8,3,17,20]
[null,26130804,26,13,95,8,4,4,21]
[null,26130805,26,13,96,8,5,3,18]
[null,26130806,26,13,97,8,6,22,15]
[null,26130807,26,13,98,8,7,25,13]
[null,26130808,26,13,99,8,8,5,26]
[null,26130809,26,13,100,8,9,6,10]
[null,26130810,26,13,101,8,10,9,8]
[null,26130811,26,13,102,8,11,7,11]
[null,26130812,26,13,103,8,12,2,19]
[null,26130813,26,13,104,8,13,1,16]
[null,26130901,26,13,105,9,1,3,19]
[null,26130902,26,13,106,9,2,15,20]
[null,26130903,26,13,107,9,3,23,13]
[null,26130904,26,13,108,9,4,24,11]
[null,26130905,26,13,109,9,5,26,9]
[null,26130906,26,13,110,9,6,25,6]
[null,26130907,26,13,111,9,7,22,5]
[null,26130908,26,13,112,9,8,21,2]
[null,26130909,26,13,113,9,9,1,18]
[null,26130910,26,13,114,9,10,16,17]
[null,26130911,26,13,115,9,11,14,4]
[null,26130912,26,13,116,9,12,7,12]
[null,26130913,26,13,117,9,13,10,8]
[null,26131001,26,13,118,10,1,10,26]
[null,26131002,26,13,119,10,2,14,8]
[null,26131003,26,13,120,10,3,7,17]
[null,26131004,26,13,121,10,4,18,4]
[null,26131005,26,13,122,10,5,21,3]
[null,26131006,26,13,123,10,6,1,22]
[null,26131007,26,13,124,10,7,2,25]
[null,26131008,26,13,125,10,8,12,5]
[null,26131009,26,13,126,10,9,24,6]
[null,26131010,26,13,127,10,10,23,9]
[null,26131011,26,13,128,10,11,11,20]
[null,26131012,26,13,129,10,12,19,13]
[null,26131013,26,13,130,10,13,16,15]
[null,26131101,26,13,131,11,1,18,21]
[null,26131102,26,13,132,11,2,17,22]
[null,26131103,26,13,133,11,3,25,14]
[null,26131104,26,13,134,11,4,12,26]
[null,26131105,26,13,135,11,5,10,24]
[null,26131106,26,13,136,11,6,8,23]
[null,26131107,26,13,137,11,7,20,7]
[null,26131108,26,13,138,11,8,4,19]
[null,26131109,26,13,139,11,9,3,16]
[null,26131110,26,13,140,11,10,15,1]
[null,26131111,26,13,141,11,11,13,2]
[null,26131112,26,13,142,11,12,5,11]
[null,26131113,26,13,143,11,13,6,9]
[null,26131201,26,13,144,12,1,11,6]
[null,26131202,26,13,145,12,2,13,9]
[null,26131203,26,13,146,12,3,5,15]
[null,26131204,26,13,147,12,4,16,2]
[null,26131205,26,13,148,12,5,1,19]
[null,26131206,26,13,149,12,6,20,3]
[null,26131207,26,13,150,12,7,4,23]
[null,26131208,26,13,151,12,8,24,7]
[null,26131209,26,13,152,12,9,8,26]
[null,26131210,26,13,153,12,10,25,10]
[null,26131211,26,13,154,12,11,22,12]
[null,26131212,26,13,155,12,12,14,21]
[null,26131213,26,13,156,12,13,17,18]
[null,26131301,26,13,157,13,1,13,1]
[null,26131302,26,13,158,13,2,5,16]
[null,26131303,26,13,159,13,3,19,6]
[null,26131304,26,13,160,13,4,20,9]
[null,26131305,26,13,161,13,5,11,23]
[null,26131306,26,13,162,13,6,24,2]
[null,26131307,26,13,163,13,7,26,15]
[null,26131308,26,13,164,13,8,3,14]
[null,26131309,26,13,165,13,9,17,4]
[null,26131310,26,13,166,13,10,18,7]
[null,26131311,26,13,167,13,11,21,8]
[null,26131312,26,13,168,13,12,10,22]
[null,26131313,26,13,169,13,13,12,25]
[null,26131401,26,13,170,14,1,8,7]
[null,26131402,26,13,171,14,2,10,19]
[null,26131403,26,13,172,14,3,12,16]
[null,26131404,26,13,173,14,4,14,15]
[null,26131405,26,13,174,14,5,17,13]
[null,26131406,26,13,175,14,6,11,18]
[null,26131407,26,13,176,14,7,9,21]
[null,26131408,26,13,177,14,8,22,6]
[null,26131409,26,13,178,14,9,5,25]
[null,26131410,26,13,179,14,10,26,2]
[null,26131411,26,13,180,14,11,1,24]
[null,26131412,26,13,181,14,12,3,23]
[null,26131413,26,13,182,14,13,4,20]
[null,26131501,26,13,183,15,1,15,13]
[null,26131502,26,13,184,15,2,11,3]
[null,26131503,26,13,185,15,3,4,9]
[null,26131504,26,13,186,15,4,7,6]
[null,26131505,26,13,187,15,5,5,8]
[null,26131506,26,13,188,15,6,2,10]
[null,26131507,26,13,189,15,7,12,1]
[null,26131508,26,13,190,15,8,16,25]
[null,26131509,26,13,191,15,9,22,19]
[null,26131510,26,13,192,15,10,21,20]
[null,26131511,26,13,193,15,11,18,23]
[null,26131512,26,13,194,15,12,24,17]
[null,26131513,26,13,195,15,13,26,14]
[null,26131601,26,13,196,16,1,17,14]
[null,26131602,26,13,197,16,2,26,18]
[null,26131603,26,13,198,16,3,21,24]
[null,26131604,26,13,199,16,4,23,22]
[null,26131605,26,13,200,16,5,20,25]
[null,26131606,26,13,201,16,6,12,4]
[null,26131607,26,13,202,16,7,3,10]
[null,26131608,26,13,203,16,8,8,1]
[null,26131609,26,13,204,16,9,2,7]
[null,26131610,26,13,205,16,10,11,19]
[null,26131611,26,13,206,16,11,16,9]
[null,26131612,26,13,207,16,12,6,15]
[null,26131613,26,13,208,16,13,5,13]
[null,26131701,26,13,209,17,1,6,5]
[null,26131702,26,13,210,17,2,9,2]
[null,26131703,26,13,211,17,3,11,1]
[null,26131704,26,13,212,17,4,3,13]
[null,26131705,26,13,213,17,5,15,4]
[null,26131706,26,13,214,17,6,7,16]
[null,26131707,26,13,215,17,7,19,8]
[null,26131708,26,13,216,17,8,10,20]
[null,26131709,26,13,217,17,9,23,12]
[null,26131710,26,13,218,17,10,14,24]
[null,26131711,26,13,219,17,11,17,26]
[null,26131712,26,13,220,17,12,25,18]
[null,26131713,26,13,221,17,13,22,21]
[null,26131801,26,13,222,18,1,25,17]
[null,26131802,26,13,223,18,2,12,21]
[null,26131803,26,13,224,18,3,18,10]
[null,26131804,26,13,225,18,4,22,8]
[null,26131805,26,13,226,18,5,7,14]
[null,26131806,26,13,227,18,6,26,19]
[null,26131807,26,13,228,18,7,16,24]
[null,26131808,26,13,229,18,8,23,15]
[null,26131809,26,13,230,18,9,13,20]
[null,26131810,26,13,231,18,10,5,4]
[null,26131811,26,13,232,18,11,3,6]
[null,26131812,26,13,233,18,12,9,1]
[null,26131813,26,13,234,18,13,11,2]
[null,26131901,26,13,235,19,1,23,20]
[null,26131902,26,13,236,19,2,19,24]
[null,26131903,26,13,237,19,3,16,26]
[null,26131904,26,13,238,19,4,15,25]
[null,26131905,26,13,239,19,5,13,22]
[null,26131906,26,13,240,19,6,21,11]
[null,26131907,26,13,241,19,7,18,9]
[null,26131908,26,13,242,19,8,6,17]
[null,26131909,26,13,243,19,9,14,5]
[null,26131910,26,13,244,19,10,2,12]
[null,26131911,26,13,245,19,11,10,1]
[null,26131912,26,13,246,19,12,8,3]
[null,26131913,26,13,247,19,13,7,4]
[null,26132001,26,13,248,20,1,22,25]
[null,26132002,26,13,249,20,2,21,26]
[null,26132003,26,13,250,20,3,24,18]
[null,26132004,26,13,251,20,4,17,23]
[null,26132005,26,13,252,20,5,14,20]
[null,26132006,26,13,253,20,6,19,12]
[null,26132007,26,13,254,20,7,10,16]
[null,26132008,26,13,255,20,8,15,8]
[null,26132009,26,13,256,20,9,7,13]
[null,26132010,26,13,257,20,10,4,11]
[null,26132011,26,13,258,20,11,9,3]
[null,26132012,26,13,259,20,12,1,6]
[null,26132013,26,13,260,20,13,2,5]
[null,26132101,26,13,261,21,1,9,11]
[null,26132102,26,13,262,21,2,2,6]
[null,26132103,26,13,263,21,3,1,5]
[null,26132104,26,13,264,21,4,13,16]
[null,26132105,26,13,265,21,5,19,15]
[null,26132106,26,13,266,21,6,3,7]
[null,26132107,26,13,267,21,7,8,4]
[null,26132108,26,13,268,21,8,20,24]
[null,26132109,26,13,269,21,9,26,23]
[null,26132110,26,13,270,21,10,10,14]
[null,26132111,26,13,271,21,11,12,17]
[null,26132112,26,13,272,21,12,21,25]
[null,26132113,26,13,273,21,13,18,22]
[null,26132201,26,13,274,22,1,4,3]
[null,26132202,26,13,275,22,2,1,7]
[null,26132203,26,13,276,22,3,8,2]
[null,26132204,26,13,277,22,4,10,5]
[null,26132205,26,13,278,22,5,12,6]
[null,26132206,26,13,279,22,6,14,9]
[null,26132207,26,13,280,22,7,17,11]
[null,26132208,26,13,281,22,8,18,13]
[null,26132209,26,13,282,22,9,15,21]
[null,26132210,26,13,283,22,10,22,16]
[null,26132211,26,13,284,22,11,25,19]
[null,26132212,26,13,285,22,12,20,26]
[null,26132213,26,13,286,22,13,24,23]
[null,26132301,26,13,287,23,1,5,9]
[null,26132302,26,13,288,23,2,6,13]
[null,26132303,26,13,289,23,3,15,11]
[null,26132304,26,13,290,23,4,2,3]
[null,26132305,26,13,291,23,5,4,1]
[null,26132306,26,13,292,23,6,16,20]
[null,26132307,26,13,293,23,7,23,19]
[null,26132308,26,13,294,23,8,7,10]
[null,26132309,26,13,295,23,9,12,8]
[null,26132310,26,13,296,23,10,24,25]
[null,26132311,26,13,297,23,11,26,22]
[null,26132312,26,13,298,23,12,18,14]
[null,26132313,26,13,299,23,13,21,17]
[null,26132401,26,13,300,24,1,26,24]
[null,26132402,26,13,301,24,2,25,23]
[null,26132403,26,13,302,24,3,20,22]
[null,26132404,26,13,303,24,4,21,19]
[null,26132405,26,13,304,24,5,18,16]
[null,26132406,26,13,305,24,6,15,17]
[null,26132407,26,13,306,24,7,13,14]
[null,26132408,26,13,307,24,8,11,12]
[null,26132409,26,13,308,24,9,10,9]
[null,26132410,26,13,309,24,10,8,6]
[null,26132411,26,13,310,24,11,5,7]
[null,26132412,26,13,311,24,12,4,2]
[null,26132413,26,13,312,24,13,3,1]
[null,26132501,26,13,313,25,1,1,2]
[null,26132502,26,13,314,25,2,3,5]
[null,26132503,26,13,315,25,3,6,4]
[null,26132504,26,13,316,25,4,9,7]
[null,26132505,26,13,317,25,5,8,11]
[null,26132506,26,13,318,25,6,10,13]
[null,26132507,26,13,319,25,7,15,12]
[null,26132508,26,13,320,25,8,14,16]
[null,26132509,26,13,321,25,9,19,17]
[null,26132510,26,13,322,25,10,20,18]
[null,26132511,26,13,323,25,11,23,21]
[null,26132512,26,13,324,25,12,22,24]
[null,26132513,26,13,325,25,13,25,26]

{"sheet":"Table Multi-Teams","index":9,"n_rows":26,"n_cols":23,"rows_kept":26,"cut":false,"hidden":false,"merged":[[1,2,1,8],[2,2,2,8]]}
[]
[null,"Source:","Walter Aust"]
[]
[]
["ç","Table of team orders per set depending on the number of teams",null,null,null,null,null,null,null,null,null,null,null,null,"Table of notes depending on the number of teams"]
[]
[null,"ID","Sum Teams","Sum Fields","Game No","Set","Field","Team 1","Team 2","Team 3","Team 4","Team 5","Team 6",null,"ID","Sum Teams","Sum Fields","Text 1","Text 2","Text 3","Text 4","Text 5","Text 6"]
[null,{"$f":"1000000*tbl_MT_Data[[#This Row],[Sum Teams]] + 10000*tbl_MT_Data[[#This Row],[Sum Fields]] + 100*tbl_MT_Data[[#This Row],[Set]] + tbl_MT_Data[[#This Row],[Field]]","v":1010101},1,1,1,1,1,1,null,null,null,null,null,null,3010000,3,1,"txt_2358","txt_2359","txt_2360","txt_2361","txt_2362","txt_2363"]
[null,3010101,3,1,1,1,1,1,2,3,null,null,null,null,4010000,4,1,"txt_2358","txt_2359","txt_2360","txt_2361","txt_2362","txt_2363"]
[null,3010201,3,1,1,2,1,2,3,1,null,null,null,null,5010000,5,1,"txt_2358","txt_2359","txt_2360","txt_2361","txt_2362","txt_2363"]
[null,3010301,3,1,1,3,1,3,1,2,null,null,null,null,6010000,6,1,"txt_2358","txt_2359","txt_2360","txt_2361","txt_2362","txt_2363"]
[null,4010101,4,1,1,1,1,1,2,3,4]
[null,4010201,4,1,1,2,1,2,4,1,3]
[null,4010301,4,1,1,3,1,4,3,2,1]
[null,4010401,4,1,1,4,1,3,1,4,2]
[null,5010101,5,1,1,1,1,1,4,5,2,3]
[null,5010201,5,1,1,2,1,2,5,1,3,4]
[null,5010301,5,1,1,3,1,3,1,2,4,5]
[null,5010401,5,1,1,4,1,4,2,3,5,1]
[null,5010501,5,1,1,5,1,5,3,4,1,2]
[null,6010101,6,1,1,1,1,1,2,3,4,5,6]
[null,6010201,6,1,1,2,1,2,4,1,6,3,5]
[null,6010301,6,1,1,3,1,4,6,2,5,1,3]
[null,6010401,6,1,1,4,1,6,5,4,3,2,1]
[null,6010501,6,1,1,5,1,5,3,6,1,4,2]
[null,6010601,6,1,1,6,1,3,1,5,2,6,4]

{"sheet":"Table KO-Rounds","index":10,"n_rows":1479,"n_cols":17,"rows_kept":1479,"cut":false,"hidden":false,"merged":[]}
[]
[null,"Source:","Walter Aust"]
[]
[]
["ç","Table of team pairings (with predessor game or group rank) for KO-rounds"]
[]
[null,"ID","Name","S2","F","C","D","Type No","Groups Count","Teams Count","T1 Src Group","T1 Src Game","T1 Src Rank","T2 Src Group","T2 Src Game","T2 Src Rank","Aux"]
[null,{"$f":"1000000000 * H8 + 1000000 * I8 + 1000 * J8","v":1000000000},null,null,null,null,null,1,0,0]
[null,1000000001,"K_01_001","1","1",1,0,1,null,null,null,"K_02_A1",1,null,"K_02_A2",1,1]
[null,1000000002,"K_01_003","1",1,1,0,1,null,null,null,"K_02_A1",2,null,"K_02_A2",2,1]
[null,1000000003,"K_01_005",0,1,1,0,1,null,null,null,"K_02_B1",1,null,"K_02_B2",1,1]
[null,1000000004,"K_01_007",0,1,1,0,1,null,null,null,"K_02_B1",2,null,"K_02_B2",2,1]
[null,1000000005,"K_01_009",0,1,1,0,1,null,null,null,"K_02_C1",1,null,"K_02_C2",1,1]
[null,1000000006,"K_01_011",0,1,1,0,1,null,null,null,"K_02_C1",2,null,"K_02_C2",2,1]
[null,1000000007,"K_01_013",0,1,0,0,1,null,null,null,"K_02_D1",1,null,"K_02_D2",1,1]
[null,1000000008,"K_01_015",0,1,0,0,1,null,null,null,"K_02_D1",2,null,"K_02_D2",2,1]
[null,1000000009,"K_01_017",0,1,1,0,1,null,null,null,"K_02_E1",1,null,"K_02_E2",1,1]
[null,1000000010,"K_01_019",0,1,1,0,1,null,null,null,"K_02_E1",2,null,"K_02_E2",2,1]
[null,1000000011,"K_01_021",0,1,0,0,1,null,null,null,"K_02_F1",1,null,"K_02_F2",1,1]
[null,1000000012,"K_01_023",0,1,0,0,1,null,null,null,"K_02_F1",2,null,"K_02_F2",2,1]
[null,1000000013,"K_01_025",0,1,0,0,1,null,null,null,"K_02_G1",1,null,"K_02_G2",1,1]
[null,1000000014,"K_01_027",0,1,0,0,1,null,null,null,"K_02_G1",2,null,"K_02_G2",2,1]
[null,1000000015,"K_01_029",0,1,0,0,1,null,null,null,"K_02_H1",1,null,"K_02_H2",1,1]
[null,1000000016,"K_01_031",0,1,0,0,1,null,null,null,"K_02_H1",2,null,"K_02_H2",2,1]
[null,1000000017,"K_01_033",0,1,1,0,1,null,null,null,"K_02_I1",1,null,"K_02_I2",1,1]
[null,1000000018,"K_01_035",0,1,1,0,1,null,null,null,"K_02_I1",2,null,"K_02_I2",2,1]
[null,1000000019,"K_01_037",0,1,0,0,1,null,null,null,"K_02_J1",1,null,"K_02_J2",1,1]
[null,1000000020,"K_01_039",0,1,0,0,1,null,null,null,"K_02_J1",2,null,"K_02_J2",2,1]
[null,1000000021,"K_01_041",0,1,0,0,1,null,null,null,"K_02_K1",1,null,"K_02_K2",1,1]
[null,1000000022,"K_01_043",0,1,0,0,1,null,null,null,"K_02_K1",2,null,"K_02_K2",2,1]
[null,1000000023,"K_01_045",0,1,0,0,1,null,null,null,"K_02_L1",1,null,"K_02_L2",1,1]
[null,1000000024,"K_01_047",0,1,0,0,1,null,null,null,"K_02_L1",2,null,"K_02_L2",2,1]
[null,1000000025,"K_01_049",0,1,0,0,1,null,null,null,"K_02_M1",1,null,"K_02_M2",1,1]
[null,1000000026,"K_01_051",0,1,0,0,1,null,null,null,"K_02_M1",2,null,"K_02_M2",2,1]
[null,1000000027,"K_01_053",0,1,0,0,1,null,null,null,"K_02_N1",1,null,"K_02_N2",1,1]
[null,1000000028,"K_01_055",0,1,0,0,1,null,null,null,"K_02_N1",2,null,"K_02_N2",2,1]
[null,1000000029,"K_01_057",0,1,0,0,1,null,null,null,"K_02_O1",1,null,"K_02_O2",1,1]
[null,1000000030,"K_01_059",0,1,0,0,1,null,null,null,"K_02_O1",2,null,"K_02_O2",2,1]
[null,1000000031,"K_01_061",0,1,0,0,1,null,null,null,"K_02_P1",1,null,"K_02_P2",1,1]
[null,1000000032,"K_01_063",0,1,0,0,1,null,null,null,"K_02_P1",2,null,"K_02_P2",2,1]
[null,1000000033,"K_01_065",0,1,1,0,1,null,null,null,"K_02_Q1",1,null,"K_02_Q2",1,1]
[null,1000000034,"K_01_067",0,1,1,0,1,null,null,null,"K_02_Q1",2,null,"K_02_Q2",2,1]
[null,1000000035,"K_01_069",0,1,0,0,1,null,null,null,"K_02_R1",1,null,"K_02_R2",1,1]
[null,1000000036,"K_01_071",0,1,0,0,1,null,null,null,"K_02_R1",2,null,"K_02_R2",2,1]
[null,1000000037,"K_01_073",0,1,0,0,1,null,null,null,"K_02_S1",1,null,"K_02_S2",1,1]
[null,1000000038,"K_01_075",0,1,0,0,1,null,null,null,"K_02_S1",2,null,"K_02_S2",2,1]
[null,1000000039,"K_01_077",0,1,0,0,1,null,null,null,"K_02_T1",1,null,"K_02_T2",1,1]
[null,1000000040,"K_01_079",0,1,0,0,1,null,null,null,"K_02_T1",2,null,"K_02_T2",2,1]
[null,1000000041,"K_01_081",0,1,0,0,1,null,null,null,"K_02_U1",1,null,"K_02_U2",1,1]
[null,1000000042,"K_01_083",0,1,0,0,1,null,null,null,"K_02_U1",2,null,"K_02_U2",2,1]
[null,1000000043,"K_01_085",0,1,0,0,1,null,null,null,"K_02_V1",1,null,"K_02_V2",1,1]
[null,1000000044,"K_01_087",0,1,0,0,1,null,null,null,"K_02_V1",2,null,"K_02_V2",2,1]
[null,1000000045,"K_01_089",0,1,0,0,1,null,null,null,"K_02_W1",1,null,"K_02_W2",1,1]
[null,1000000046,"K_01_091",0,1,0,0,1,null,null,null,"K_02_W1",2,null,"K_02_W2",2,1]
[null,1000000047,"K_01_093",0,1,0,0,1,null,null,null,"K_02_X1",1,null,"K_02_X2",1,1]
[null,1000000048,"K_01_095",0,1,0,0,1,null,null,null,"K_02_X1",2,null,"K_02_X2",2,1]
[null,1000000049,"K_01_097",0,1,0,0,1,null,null,null,"K_02_Y1",1,null,"K_02_Y2",1,1]
[null,1000000050,"K_01_099",0,1,0,0,1,null,null,null,"K_02_Y1",2,null,"K_02_Y2",2,1]
[null,1000000051,"K_01_101",0,1,0,0,1,null,null,null,"K_02_Z1",1,null,"K_02_Z2",1,1]
[null,1000000052,"K_01_103",0,1,0,0,1,null,null,null,"K_02_Z1",2,null,"K_02_Z2",2,1]
[null,1000000053,"K_01_105",0,1,0,0,1,null,null,null,"K_02_AA1",1,null,"K_02_AA2",1,1]
[null,1000000054,"K_01_107",0,1,0,0,1,null,null,null,"K_02_AA1",2,null,"K_02_AA2",2,1]
[null,1000000055,"K_01_109",0,1,0,0,1,null,null,null,"K_02_AB1",1,null,"K_02_AB2",1,1]
[null,1000000056,"K_01_111",0,1,0,0,1,null,null,null,"K_02_AB1",2,null,"K_02_AB2",2,1]
[null,1000000057,"K_01_113",0,1,0,0,1,null,null,null,"K_02_AC1",1,null,"K_02_AC2",1,1]
[null,1000000058,"K_01_115",0,1,0,0,1,null,null,null,"K_02_AC1",2,null,"K_02_AC2",2,1]
[null,1000000059,"K_01_117",0,1,0,0,1,null,null,null,"K_02_AD1",1,null,"K_02_AD2",1,1]
[null,1000000060,"K_01_119",0,1,0,0,1,null,null,null,"K_02_AD1",2,null,"K_02_AD2",2,1]
[null,1000000061,"K_01_121",0,1,0,0,1,null,null,null,"K_02_AE1",1,null,"K_02_AE2",1,1]
[null,1000000062,"K_01_123",0,1,0,0,1,null,null,null,"K_02_AE1",2,null,"K_02_AE2",2,1]
[null,1000000063,"K_01_125",0,1,0,0,1,null,null,null,"K_02_AF1",1,null,"K_02_AF2",1,1]
[null,1000000064,"K_01_127",0,1,0,0,1,null,null,null,"K_02_AF1",2,null,"K_02_AF2",2,1]
[null,2000000001,"K_02_A1",1,1,1,1,2,null,null,null,"K_04_A1",1,null,"K_04_A4",1,1]
[null,2000000002,"K_02_A2",1,1,1,1,2,null,null,null,"K_04_A2",1,null,"K_04_A3",1,2]
[null,2000000003,"K_02_B1",0,1,1,1,2,null,null,null,"K_04_A1",2,null,"K_04_A4",2,1]
[null,2000000004,"K_02_B2",0,1,1,1,2,null,null,null,"K_04_A2",2,null,"K_04_A3",2,2]
[null,2000000005,"K_02_C1",0,1,1,0,2,null,null,null,"K_04_B1",1,null,"K_04_B4",1,1]
[null,2000000006,"K_02_C2",0,1,1,0,2,null,null,null,"K_04_B2",1,null,"K_04_B3",1,2]
[null,2000000007,"K_02_D1",0,1,0,0,2,null,null,null,"K_04_B1",2,null,"K_04_B4",2,1]
[null,2000000008,"K_02_D2",0,1,0,0,2,null,null,null,"K_04_B2",2,null,"K_04_B3",2,2]
[null,2000000009,"K_02_E1",0,1,1,0,2,null,null,null,"K_04_C1",1,null,"K_04_C4",1,1]
[null,2000000010,"K_02_E2",0,1,1,0,2,null,null,null,"K_04_C2",1,null,"K_04_C3",1,2]
[null,2000000011,"K_02_F1",0,1,0,0,2,null,null,null,"K_04_C1",2,null,"K_04_C4",2,1]
[null,2000000012,"K_02_F2",0,1,0,0,2,null,null,null,"K_04_C2",2,null,"K_04_C3",2,2]
[null,2000000013,"K_02_G1",0,1,0,0,2,null,null,null,"K_04_D1",1,null,"K_04_D4",1,1]
[null,2000000014,"K_02_G2",0,1,0,0,2,null,null,null,"K_04_D2",1,null,"K_04_D3",1,2]
[null,2000000015,"K_02_H1",0,1,0,0,2,null,null,null,"K_04_D1",2,null,"K_04_D4",2,1]
[null,2000000016,"K_02_H2",0,1,0,0,2,null,null,null,"K_04_D2",2,null,"K_04_D3",2,2]
[null,2000000017,"K_02_I1",0,1,1,0,2,null,null,null,"K_04_E1",1,null,"K_04_E4",1,1]
[null,2000000018,"K_02_I2",0,1,1,0,2,null,null,null,"K_04_E2",1,null,"K_04_E3",1,2]
[null,2000000019,"K_02_J1",0,1,0,0,2,null,null,null,"K_04_E1",2,null,"K_04_E4",2,1]
[null,2000000020,"K_02_J2",0,1,0,0,2,null,null,null,"K_04_E2",2,null,"K_04_E3",2,2]
[null,2000000021,"K_02_K1",0,1,0,0,2,null,null,null,"K_04_F1",1,null,"K_04_F4",1,1]
[null,2000000022,"K_02_K2",0,1,0,0,2,null,null,null,"K_04_F2",1,null,"K_04_F3",1,2]
[null,2000000023,"K_02_L1",0,1,0,0,2,null,null,null,"K_04_F1",2,null,"K_04_F4",2,1]
[null,2000000024,"K_02_L2",0,1,0,0,2,null,null,null,"K_04_F2",2,null,"K_04_F3",2,2]
[null,2000000025,"K_02_M1",0,1,0,0,2,null,null,null,"K_04_G1",1,null,"K_04_G4",1,1]
[null,2000000026,"K_02_M2",0,1,0,0,2,null,null,null,"K_04_G2",1,null,"K_04_G3",1,2]
[null,2000000027,"K_02_N1",0,1,0,0,2,null,null,null,"K_04_G1",2,null,"K_04_G4",2,1]
[null,2000000028,"K_02_N2",0,1,0,0,2,null,null,null,"K_04_G2",2,null,"K_04_G3",2,2]
[null,2000000029,"K_02_O1",0,1,0,0,2,null,null,null,"K_04_H1",1,null,"K_04_H4",1,1]
[null,2000000030,"K_02_O2",0,1,0,0,2,null,null,null,"K_04_H2",1,null,"K_04_H3",1,2]
[null,2000000031,"K_02_P1",0,1,0,0,2,null,null,null,"K_04_H1",2,null,"K_04_H4",2,1]
[null,2000000032,"K_02_P2",0,1,0,0,2,null,null,null,"K_04_H2",2,null,"K_04_H3",2,2]
[null,2000000033,"K_02_Q1",0,1,1,0,2,null,null,null,"K_04_I1",1,null,"K_04_I4",1,1]
[null,2000000034,"K_02_Q2",0,1,1,0,2,null,null,null,"K_04_I2",1,null,"K_04_I3",1,2]
[null,2000000035,"K_02_R1",0,1,0,0,2,null,null,null,"K_04_I1",2,null,"K_04_I4",2,1]
[null,2000000036,"K_02_R2",0,1,0,0,2,null,null,null,"K_04_I2",2,null,"K_04_I3",2,2]
[null,2000000037,"K_02_S1",0,1,0,0,2,null,null,null,"K_04_J1",1,null,"K_04_J4",1,1]
[null,2000000038,"K_02_S2",0,1,0,0,2,null,null,null,"K_04_J2",1,null,"K_04_J3",1,2]
[null,2000000039,"K_02_T1",0,1,0,0,2,null,null,null,"K_04_J1",2,null,"K_04_J4",2,1]
[null,2000000040,"K_02_T2",0,1,0,0,2,null,null,null,"K_04_J2",2,null,"K_04_J3",2,2]
[null,2000000041,"K_02_U1",0,1,0,0,2,null,null,null,"K_04_F",1,null,"K_04_K4",1,1]
[null,2000000042,"K_02_U2",0,1,0,0,2,null,null,null,"K_04_K2",1,null,"K_04_K3",1,2]
[null,2000000043,"K_02_V1",0,1,0,0,2,null,null,null,"K_04_F",2,null,"K_04_K4",2,1]
[null,2000000044,"K_02_V2",0,1,0,0,2,null,null,null,"K_04_K2",2,null,"K_04_K3",2,2]
[null,2000000045,"K_02_W1",0,1,0,0,2,null,null,null,"K_04_L1",1,null,"K_04_L4",1,1]
[null,2000000046,"K_02_W2",0,1,0,0,2,null,null,null,"K_04_L2",1,null,"K_04_L3",1,2]
[null,2000000047,"K_02_X1",0,1,0,0,2,null,null,null,"K_04_L1",2,null,"K_04_L4",2,1]
[null,2000000048,"K_02_X2",0,1,0,0,2,null,null,null,"K_04_L2",2,null,"K_04_L3",2,2]
[null,2000000049,"K_02_Y1",0,1,0,0,2,null,null,null,"K_04_M1",1,null,"K_04_M4",1,1]
[null,2000000050,"K_02_Y2",0,1,0,0,2,null,null,null,"K_04_M2",1,null,"K_04_M3",1,2]
[null,2000000051,"K_02_Z1",0,1,0,0,2,null,null,null,"K_04_M1",2,null,"K_04_M4",2,1]
[null,2000000052,"K_02_Z2",0,1,0,0,2,null,null,null,"K_04_M2",2,null,"K_04_M3",2,2]
[null,2000000053,"K_02_AA1",0,1,0,0,2,null,null,null,"K_04_N1",1,null,"K_04_N4",1,1]
[null,2000000054,"K_02_AA2",0,1,0,0,2,null,null,null,"K_04_N2",1,null,"K_04_N3",1,2]
[null,2000000055,"K_02_AB1",0,1,0,0,2,null,null,null,"K_04_N1",2,null,"K_04_N4",2,1]
[null,2000000056,"K_02_AB2",0,1,0,0,2,null,null,null,"K_04_N2",2,null,"K_04_N3",2,2]
[null,2000000057,"K_02_AC1",0,1,0,0,2,null,null,null,"K_04_O1",1,null,"K_04_O4",1,1]
[null,2000000058,"K_02_AC2",0,1,0,0,2,null,null,null,"K_04_O2",1,null,"K_04_O3",1,2]
[null,2000000059,"K_02_AD1",0,1,0,0,2,null,null,null,"K_04_O1",2,null,"K_04_O4",2,1]
[null,2000000060,"K_02_AD2",0,1,0,0,2,null,null,null,"K_04_O2",2,null,"K_04_O3",2,2]
[null,2000000061,"K_02_AE1",0,1,0,0,2,null,null,null,"K_04_P1",1,null,"K_04_P4",1,1]
[null,2000000062,"K_02_AE2",0,1,0,0,2,null,null,null,"K_04_P2",1,null,"K_04_P3",1,2]
[null,2000000063,"K_02_AF1",0,1,0,0,2,null,null,null,"K_04_P1",2,null,"K_04_P4",2,1]
[null,2000000064,"K_02_AF2",0,1,0,0,2,null,null,null,"K_04_P2",2,null,"K_04_P3",2,2]
[null,2001004001,"K_02_A1",1,1,0,0,2,1,4,"A",null,1,"A",null,4,1]
[null,2001004002,"K_02_A2",1,1,0,0,2,1,4,"A",null,2,"A",null,3,2]
[null,2002002001,"K_02_A1",1,1,0,0,2,2,2,"A",null,1,"B",null,2,1]
[null,2002002002,"K_02_A2",1,1,0,0,2,2,2,"B",null,1,"A",null,2,2]
[null,2004001001,"K_02_A1",1,1,0,0,2,4,1,"A",null,1,"C",null,1,1]
[null,2004001002,"K_02_A2",1,1,0,0,2,4,1,"B",null,1,"D",null,1,2]
[null,4000000001,"K_04_A1",1,1,1,1,4,null,null,null,"K_08_A1",1,null,"K_08_A8",1,1]
[null,4000000002,"K_04_A2",1,1,1,1,4,null,null,null,"K_08_A2",1,null,"K_08_A7",1,3]
[null,4000000003,"K_04_A3",1,1,1,1,4,null,null,null,"K_08_A3",1,null,"K_08_A6",1,4]
[null,4000000004,"K_04_A4",1,1,1,1,4,null,null,null,"K_08_A4",1,null,"K_08_A5",1,2]
[null,4000000005,"K_04_B1",0,1,1,1,4,null,null,null,"K_08_A1",2,null,"K_08_A8",2,1]
[null,4000000006,"K_04_B2",0,1,1,1,4,null,null,null,"K_08_A2",2,null,"K_08_A7",2,3]
[null,4000000007,"K_04_B3",0,1,1,1,4,null,null,null,"K_08_A3",2,null,"K_08_A6",2,4]
[null,4000000008,"K_04_B4",0,1,1,1,4,null,null,null,"K_08_A4",2,null,"K_08_A5",2,2]
[null,4000000009,"K_04_C1",0,1,1,0,4,null,null,null,"K_08_B1",1,null,"K_08_B8",1,1]
[null,4000000010,"K_04_C2",0,1,1,0,4,null,null,null,"K_08_B2",1,null,"K_08_B7",1,3]
[null,4000000011,"K_04_C3",0,1,1,0,4,null,null,null,"K_08_B3",1,null,"K_08_B6",1,4]
[null,4000000012,"K_04_C4",0,1,1,0,4,null,null,null,"K_08_B4",1,null,"K_08_B5",1,2]
[null,4000000013,"K_04_D1",0,1,0,0,4,null,null,null,"K_08_B1",2,null,"K_08_B8",2,1]
[null,4000000014,"K_04_D2",0,1,0,0,4,null,null,null,"K_08_B2",2,null,"K_08_B7",2,3]
[null,4000000015,"K_04_D3",0,1,0,0,4,null,null,null,"K_08_B3",2,null,"K_08_B6",2,4]
[null,4000000016,"K_04_D4",0,1,0,0,4,null,null,null,"K_08_B4",2,null,"K_08_B5",2,2]
[null,4000000017,"K_04_E1",0,1,1,0,4,null,null,null,"K_08_C1",1,null,"K_08_C8",1,1]
[null,4000000018,"K_04_E2",0,1,1,0,4,null,null,null,"K_08_C2",1,null,"K_08_C7",1,3]
[null,4000000019,"K_04_E3",0,1,1,0,4,null,null,null,"K_08_C3",1,null,"K_08_C6",1,4]
[null,4000000020,"K_04_E4",0,1,1,0,4,null,null,null,"K_08_C4",1,null,"K_08_C5",1,2]
[null,4000000021,"K_04_F1",0,1,0,0,4,null,null,null,"K_08_C1",2,null,"K_08_C8",2,1]
[null,4000000022,"K_04_F2",0,1,0,0,4,null,null,null,"K_08_C2",2,null,"K_08_C7",2,3]
[null,4000000023,"K_04_F3",0,1,0,0,4,null,null,null,"K_08_C3",2,null,"K_08_C6",2,4]
[null,4000000024,"K_04_F4",0,1,0,0,4,null,null,null,"K_08_C4",2,null,"K_08_C5",2,2]
[null,4000000025,"K_04_G1",0,1,0,0,4,null,null,null,"K_08_D1",1,null,"K_08_D8",1,1]
[null,4000000026,"K_04_G2",0,1,0,0,4,null,null,null,"K_08_D2",1,null,"K_08_D7",1,3]
[null,4000000027,"K_04_G3",0,1,0,0,4,null,null,null,"K_08_D3",1,null,"K_08_D6",1,4]
[null,4000000028,"K_04_G4",0,1,0,0,4,null,null,null,"K_08_D4",1,null,"K_08_D5",1,2]
[null,4000000029,"K_04_H1",0,1,0,0,4,null,null,null,"K_08_D1",2,null,"K_08_D8",2,1]
[null,4000000030,"K_04_H2",0,1,0,0,4,null,null,null,"K_08_D2",2,null,"K_08_D7",2,3]
[null,4000000031,"K_04_H3",0,1,0,0,4,null,null,null,"K_08_D3",2,null,"K_08_D6",2,4]
[null,4000000032,"K_04_H4",0,1,0,0,4,null,null,null,"K_08_D4",2,null,"K_08_D5",2,2]
[null,4000000033,"K_04_I1",0,1,1,0,4,null,null,null,"K_08_E1",1,null,"K_08_E8",1,1]
[null,4000000034,"K_04_I2",0,1,1,0,4,null,null,null,"K_08_E2",1,null,"K_08_E7",1,3]
[null,4000000035,"K_04_I3",0,1,1,0,4,null,null,null,"K_08_E3",1,null,"K_08_E6",1,4]
[null,4000000036,"K_04_I4",0,1,1,0,4,null,null,null,"K_08_E4",1,null,"K_08_E5",1,2]
[null,4000000037,"K_04_J1",0,1,0,0,4,null,null,null,"K_08_E1",2,null,"K_08_E8",2,1]
[null,4000000038,"K_04_J2",0,1,0,0,4,null,null,null,"K_08_E2",2,null,"K_08_E7",2,3]
[null,4000000039,"K_04_J3",0,1,0,0,4,null,null,null,"K_08_E3",2,null,"K_08_E6",2,4]
[null,4000000040,"K_04_J4",0,1,0,0,4,null,null,null,"K_08_E4",2,null,"K_08_E5",2,2]
[null,4000000041,"K_04_K1",0,1,0,0,4,null,null,null,"K_08_F1",1,null,"K_08_F8",1,1]
[null,4000000042,"K_04_K2",0,1,0,0,4,null,null,null,"K_08_F2",1,null,"K_08_F7",1,3]
[null,4000000043,"K_04_K3",0,1,0,0,4,null,null,null,"K_08_F3",1,null,"K_08_F6",1,4]
[null,4000000044,"K_04_K4",0,1,0,0,4,null,null,null,"K_08_F4",1,null,"K_08_F5",1,2]
[null,4000000045,"K_04_L1",0,1,0,0,4,null,null,null,"K_08_F1",2,null,"K_08_F8",2,1]
[null,4000000046,"K_04_L2",0,1,0,0,4,null,null,null,"K_08_F2",2,null,"K_08_F7",2,3]
[null,4000000047,"K_04_L3",0,1,0,0,4,null,null,null,"K_08_F3",2,null,"K_08_F6",2,4]
[null,4000000048,"K_04_L4",0,1,0,0,4,null,null,null,"K_08_F4",2,null,"K_08_F5",2,2]
[null,4000000049,"K_04_M1",0,1,0,0,4,null,null,null,"K_08_G1",1,null,"K_08_G8",1,1]
[null,4000000050,"K_04_M2",0,1,0,0,4,null,null,null,"K_08_G2",1,null,"K_08_G7",1,3]
[null,4000000051,"K_04_M3",0,1,0,0,4,null,null,null,"K_08_G3",1,null,"K_08_G6",1,4]
[null,4000000052,"K_04_M4",0,1,0,0,4,null,null,null,"K_08_G4",1,null,"K_08_G5",1,2]
[null,4000000053,"K_04_N1",0,1,0,0,4,null,null,null,"K_08_G1",2,null,"K_08_G8",2,1]
[null,4000000054,"K_04_N2",0,1,0,0,4,null,null,null,"K_08_G2",2,null,"K_08_G7",2,3]
[null,4000000055,"K_04_N3",0,1,0,0,4,null,null,null,"K_08_G3",2,null,"K_08_G6",2,4]
[null,4000000056,"K_04_N4",0,1,0,0,4,null,null,null,"K_08_G4",2,null,"K_08_G5",2,2]
[null,4000000057,"K_04_O1",0,1,0,0,4,null,null,null,"K_08_H1",1,null,"K_08_H8",1,1]
[null,4000000058,"K_04_O2",0,1,0,0,4,null,null,null,"K_08_H2",1,null,"K_08_H7",1,3]
[null,4000000059,"K_04_O3",0,1,0,0,4,null,null,null,"K_08_H3",1,null,"K_08_H6",1,4]
[null,4000000060,"K_04_O4",0,1,0,0,4,null,null,null,"K_08_H4",1,null,"K_08_H5",1,2]
[null,4000000061,"K_04_P1",0,1,0,0,4,null,null,null,"K_08_H1",2,null,"K_08_H8",2,1]
[null,4000000062,"K_04_P2",0,1,0,0,4,null,null,null,"K_08_H2",2,null,"K_08_H7",2,3]
[null,4000000063,"K_04_P3",0,1,0,0,4,null,null,null,"K_08_H3",2,null,"K_08_H6",2,4]
[null,4000000064,"K_04_P4",0,1,0,0,4,null,null,null,"K_08_H4",2,null,"K_08_H5",2,2]
[null,4001008001,"K_04_A1",1,1,1,1,4,1,8,"A",null,1,"A",null,8,1]
[null,4001008002,"K_04_A2",1,1,1,1,4,1,8,"A",null,2,"A",null,7,3]
[null,4001008003,"K_04_A3",1,1,1,1,4,1,8,"A",null,3,"A",null,6,4]
[null,4001008004,"K_04_A4",1,1,1,1,4,1,8,"A",null,4,"A",null,5,2]
[null,4002004001,"K_04_A1",1,1,1,1,4,2,4,"A",null,1,"B",null,4,1]
[null,4002004002,"K_04_A2",1,1,1,1,4,2,4,"B",null,1,"A",null,4,3]
[null,4002004003,"K_04_A3",1,1,1,1,4,2,4,"A",null,2,"B",null,3,4]
[null,4002004004,"K_04_A4",1,1,1,1,4,2,4,"B",null,2,"A",null,3,2]
[null,4004002001,"K_04_A1",1,1,1,1,4,4,2,"A",null,1,"B",null,2,1]
[null,4004002002,"K_04_A2",1,1,1,1,4,4,2,"B",null,1,"C",null,2,3]
[null,4004002003,"K_04_A3",1,1,1,1,4,4,2,"D",null,1,"A",null,2,4]
[null,4004002004,"K_04_A4",1,1,1,1,4,4,2,"C",null,1,"D",null,2,2]
[null,4008001001,"K_04_A1",1,1,1,1,4,8,1,"A",null,1,"E",null,1,1]
[null,4008001002,"K_04_A2",1,1,1,1,4,8,1,"B",null,1,"F",null,1,3]
[null,4008001003,"K_04_A3",1,1,1,1,4,8,1,"H",null,1,"D",null,1,4]
[null,4008001004,"K_04_A4",1,1,1,1,4,8,1,"C",null,1,"G",null,1,2]
[null,8000000001,"K_08_A1",1,1,1,1,8,null,null,null,"K_16_A01",1,null,"K_16_A16",1,1]
[null,8000000002,"K_08_A2",1,1,1,1,8,null,null,null,"K_16_A02",1,null,"K_16_A15",1,5]
[null,8000000003,"K_08_A3",1,1,1,1,8,null,null,null,"K_16_A03",1,null,"K_16_A14",1,7]
[null,8000000004,"K_08_A4",1,1,1,1,8,null,null,null,"K_16_A04",1,null,"K_16_A13",1,3]
[null,8000000005,"K_08_A5",1,1,1,1,8,null,null,null,"K_16_A05",1,null,"K_16_A12",1,4]
[null,8000000006,"K_08_A6",1,1,1,1,8,null,null,null,"K_16_A06",1,null,"K_16_A11",1,8]
[null,8000000007,"K_08_A7",1,1,1,1,8,null,null,null,"K_16_A07",1,null,"K_16_A10",1,6]
[null,8000000008,"K_08_A8",1,1,1,1,8,null,null,null,"K_16_A08",1,null,"K_16_A09",1,2]
[null,8000000009,"K_08_B1",0,1,1,1,8,null,null,null,"K_16_A01",2,null,"K_16_A16",2,1]
[null,8000000010,"K_08_B2",0,1,1,1,8,null,null,null,"K_16_A02",2,null,"K_16_A15",2,5]
[null,8000000011,"K_08_B3",0,1,1,1,8,null,null,null,"K_16_A03",2,null,"K_16_A14",2,7]
[null,8000000012,"K_08_B4",0,1,1,1,8,null,null,null,"K_16_A04",2,null,"K_16_A13",2,3]
[null,8000000013,"K_08_B5",0,1,1,1,8,null,null,null,"K_16_A05",2,null,"K_16_A12",2,4]
[null,8000000014,"K_08_B6",0,1,1,1,8,null,null,null,"K_16_A06",2,null,"K_16_A11",2,8]
[null,8000000015,"K_08_B7",0,1,1,1,8,null,null,null,"K_16_A07",2,null,"K_16_A10",2,6]
[null,8000000016,"K_08_B8",0,1,1,1,8,null,null,null,"K_16_A08",2,null,"K_16_A09",2,2]
[null,8000000017,"K_08_C1",0,1,1,0,8,null,null,null,"K_16_B01",1,null,"K_16_B16",1,1]
[null,8000000018,"K_08_C2",0,1,1,0,8,null,null,null,"K_16_B02",1,null,"K_16_B15",1,5]
[null,8000000019,"K_08_C3",0,1,1,0,8,null,null,null,"K_16_B03",1,null,"K_16_B14",1,7]
[null,8000000020,"K_08_C4",0,1,1,0,8,null,null,null,"K_16_B04",1,null,"K_16_B13",1,3]
[null,8000000021,"K_08_C5",0,1,1,0,8,null,null,null,"K_16_B05",1,null,"K_16_B12",1,4]
[null,8000000022,"K_08_C6",0,1,1,0,8,null,null,null,"K_16_B06",1,null,"K_16_B11",1,8]
[null,8000000023,"K_08_C7",0,1,1,0,8,null,null,null,"K_16_B07",1,null,"K_16_B10",1,6]
[null,8000000024,"K_08_C8",0,1,1,0,8,null,null,null,"K_16_B08",1,null,"K_16_B09",1,2]
[null,8000000025,"K_08_D1",0,1,0,null,8,null,null,null,"K_16_B01",2,null,"K_16_B16",2,1]
[null,8000000026,"K_08_D2",0,1,0,null,8,null,null,null,"K_16_B02",2,null,"K_16_B15",2,5]
[null,8000000027,"K_08_D3",0,1,0,null,8,null,null,null,"K_16_B03",2,null,"K_16_B14",2,7]
[null,8000000028,"K_08_D4",0,1,0,null,8,null,null,null,"K_16_B04",2,null,"K_16_B13",2,3]
[null,8000000029,"K_08_D5",0,1,0,null,8,null,null,null,"K_16_B05",2,null,"K_16_B12",2,4]
[null,8000000030,"K_08_D6",0,1,0,null,8,null,null,null,"K_16_B06",2,null,"K_16_B11",2,8]
[null,8000000031,"K_08_D7",0,1,0,null,8,null,null,null,"K_16_B07",2,null,"K_16_B10",2,6]
[null,8000000032,"K_08_D8",0,1,0,null,8,null,null,null,"K_16_B08",2,null,"K_16_B09",2,2]
[null,8000000033,"K_08_E1",0,1,1,null,8,null,null,null,"K_16_C01",1,null,"K_16_C16",1,1]
[null,8000000034,"K_08_E2",0,1,1,null,8,null,null,null,"K_16_C02",1,null,"K_16_C15",1,5]
[null,8000000035,"K_08_E3",0,1,1,null,8,null,null,null,"K_16_C03",1,null,"K_16_C14",1,7]
[null,8000000036,"K_08_E4",0,1,1,null,8,null,null,null,"K_16_C04",1,null,"K_16_C13",1,3]
[null,8000000037,"K_08_E5",0,1,1,null,8,null,null,null,"K_16_C05",1,null,"K_16_C12",1,4]
[null,8000000038,"K_08_E6",0,1,1,null,8,null,null,null,"K_16_C06",1,null,"K_16_C11",1,8]
[null,8000000039,"K_08_E7",0,1,1,null,8,null,null,null,"K_16_C07",1,null,"K_16_C10",1,6]
[null,8000000040,"K_08_E8",0,1,1,null,8,null,null,null,"K_16_C08",1,null,"K_16_C09",1,2]
[null,8000000041,"K_08_F1",0,1,0,null,8,null,null,null,"K_16_C01",2,null,"K_16_C16",2,1]
[null,8000000042,"K_08_F2",0,1,0,null,8,null,null,null,"K_16_C02",2,null,"K_16_C15",2,5]
[null,8000000043,"K_08_F3",0,1,0,null,8,null,null,null,"K_16_C03",2,null,"K_16_C14",2,7]
[null,8000000044,"K_08_F4",0,1,0,null,8,null,null,null,"K_16_C04",2,null,"K_16_C13",2,3]
[null,8000000045,"K_08_F5",0,1,0,null,8,null,null,null,"K_16_C05",2,null,"K_16_C12",2,4]
[null,8000000046,"K_08_F6",0,1,0,null,8,null,null,null,"K_16_C06",2,null,"K_16_C11",2,8]
[null,8000000047,"K_08_F7",0,1,0,null,8,null,null,null,"K_16_C07",2,null,"K_16_C10",2,6]
[null,8000000048,"K_08_F8",0,1,0,null,8,null,null,null,"K_16_C08",2,null,"K_16_C09",2,2]
[null,8000000049,"K_08_G1",0,1,0,null,8,null,null,null,"K_16_D01",1,null,"K_16_D16",1,1]
[null,8000000050,"K_08_G2",0,1,0,null,8,null,null,null,"K_16_D02",1,null,"K_16_D15",1,5]
[null,8000000051,"K_08_G3",0,1,0,null,8,null,null,null,"K_16_D03",1,null,"K_16_D14",1,7]
[null,8000000052,"K_08_G4",0,1,0,null,8,null,null,null,"K_16_D04",1,null,"K_16_D13",1,3]
[null,8000000053,"K_08_G5",0,1,0,null,8,null,null,null,"K_16_D05",1,null,"K_16_D12",1,4]
[null,8000000054,"K_08_G6",0,1,0,null,8,null,null,null,"K_16_D06",1,null,"K_16_D11",1,8]
[null,8000000055,"K_08_G7",0,1,0,null,8,null,null,null,"K_16_D07",1,null,"K_16_D10",1,6]
[null,8000000056,"K_08_G8",0,1,0,null,8,null,null,null,"K_16_D08",1,null,"K_16_D09",1,2]
[null,8000000057,"K_08_H1",0,1,0,null,8,null,null,null,"K_16_D01",2,null,"K_16_D16",2,1]
[null,8000000058,"K_08_H2",0,1,0,null,8,null,null,null,"K_16_D02",2,null,"K_16_D15",2,5]
[null,8000000059,"K_08_H3",0,1,0,null,8,null,null,null,"K_16_D03",2,null,"K_16_D14",2,7]
[null,8000000060,"K_08_H4",0,1,0,null,8,null,null,null,"K_16_D04",2,null,"K_16_D13",2,3]
[null,8000000061,"K_08_H5",0,1,0,null,8,null,null,null,"K_16_D05",2,null,"K_16_D12",2,4]
[null,8000000062,"K_08_H6",0,1,0,null,8,null,null,null,"K_16_D06",2,null,"K_16_D11",2,8]
[null,8000000063,"K_08_H7",0,1,0,null,8,null,null,null,"K_16_D07",2,null,"K_16_D10",2,6]
[null,8000000064,"K_08_H8",0,1,0,null,8,null,null,null,"K_16_D08",2,null,"K_16_D09",2,2]
[null,8001016001,"K_08_A1",1,1,1,1,8,1,16,"A",null,1,"A",null,16,1]
[null,8001016002,"K_08_A2",1,1,1,1,8,1,16,"A",null,2,"A",null,15,5]
[null,8001016003,"K_08_A3",1,1,1,1,8,1,16,"A",null,3,"A",null,14,7]
[null,8001016004,"K_08_A4",1,1,1,1,8,1,16,"A",null,4,"A",null,13,3]
[null,8001016005,"K_08_A5",1,1,1,1,8,1,16,"A",null,5,"A",null,12,4]
[null,8001016006,"K_08_A6",1,1,1,1,8,1,16,"A",null,6,"A",null,11,8]
[null,8001016007,"K_08_A7",1,1,1,1,8,1,16,"A",null,7,"A",null,10,6]
[null,8001016008,"K_08_A8",1,1,1,1,8,1,16,"A",null,8,"A",null,9,2]
[null,8002008001,"K_08_A1",1,1,1,1,8,2,8,"A",null,1,"B",null,8,1]
[null,8002008002,"K_08_A2",1,1,1,1,8,2,8,"B",null,1,"A",null,8,5]
[null,8002008003,"K_08_A3",1,1,1,1,8,2,8,"A",null,2,"B",null,7,7]
[null,8002008004,"K_08_A4",1,1,1,1,8,2,8,"B",null,2,"A",null,7,3]
[null,8002008005,"K_08_A5",1,1,1,1,8,2,8,"A",null,3,"B",null,6,4]
[null,8002008006,"K_08_A6",1,1,1,1,8,2,8,"B",null,3,"A",null,6,8]
[null,8002008007,"K_08_A7",1,1,1,1,8,2,8,"A",null,4,"B",null,5,6]
[null,8002008008,"K_08_A8",1,1,1,1,8,2,8,"B",null,4,"A",null,5,2]
[null,8004004001,"K_08_A1",1,1,1,1,8,4,4,"A",null,1,"B",null,4,1]
[null,8004004002,"K_08_A2",1,1,1,1,8,4,4,"B",null,1,"C",null,4,5]
[null,8004004003,"K_08_A3",1,1,1,1,8,4,4,"D",null,1,"A",null,4,7]
[null,8004004004,"K_08_A4",1,1,1,1,8,4,4,"C",null,1,"D",null,4,3]
[null,8004004005,"K_08_A5",1,1,1,1,8,4,4,"B",null,2,"A",null,3,4]
[null,8004004006,"K_08_A6",1,1,1,1,8,4,4,"C",null,2,"B",null,3,8]
[null,8004004007,"K_08_A7",1,1,1,1,8,4,4,"A",null,2,"D",null,3,6]
[null,8004004008,"K_08_A8",1,1,1,1,8,4,4,"D",null,2,"C",null,3,2]
[null,8008002001,"K_08_A1",1,1,1,1,8,8,2,"A",null,1,"B",null,2,1]
[null,8008002002,"K_08_A2",1,1,1,1,8,8,2,"B",null,1,"C",null,2,5]
[null,8008002003,"K_08_A3",1,1,1,1,8,8,2,"D",null,1,"E",null,2,7]
[null,8008002004,"K_08_A4",1,1,1,1,8,8,2,"C",null,1,"D",null,2,3]
[null,8008002005,"K_08_A5",1,1,1,1,8,8,2,"G",null,1,"H",null,2,4]
[null,8008002006,"K_08_A6",1,1,1,1,8,8,2,"H",null,1,"A",null,2,8]
[null,8008002007,"K_08_A7",1,1,1,1,8,8,2,"F",null,1,"G",null,2,6]
[null,8008002008,"K_08_A8",1,1,1,1,8,8,2,"E",null,1,"F",null,2,2]
[null,8016001001,"K_08_A1",1,1,1,1,8,16,1,"A",null,1,"I",null,1,1]
[null,8016001002,"K_08_A2",1,1,1,1,8,16,1,"B",null,1,"J",null,1,5]
[null,8016001003,"K_08_A3",1,1,1,1,8,16,1,"D",null,1,"L",null,1,7]
[null,8016001004,"K_08_A4",1,1,1,1,8,16,1,"C",null,1,"K",null,1,3]
[null,8016001005,"K_08_A5",1,1,1,1,8,16,1,"G",null,1,"O",null,1,4]
[null,8016001006,"K_08_A6",1,1,1,1,8,16,1,"H",null,1,"P",null,1,8]
[null,8016001007,"K_08_A7",1,1,1,1,8,16,1,"F",null,1,"N",null,1,6]
[null,8016001008,"K_08_A8",1,1,1,1,8,16,1,"E",null,1,"M",null,1,2]
[null,16000000001,"K_16_A01",1,1,1,1,16,null,null,null,"K_32_A01",1,null,"K_32_A32",1,1]
[null,16000000002,"K_16_A02",1,1,1,1,16,null,null,null,"K_32_A02",1,null,"K_32_A31",1,9]
[null,16000000003,"K_16_A03",1,1,1,1,16,null,null,null,"K_32_A03",1,null,"K_32_A30",1,13]
[null,16000000004,"K_16_A04",1,1,1,1,16,null,null,null,"K_32_A04",1,null,"K_32_A29",1,5]
[null,16000000005,"K_16_A05",1,1,1,1,16,null,null,null,"K_32_A05",1,null,"K_32_A28",1,7]
[null,16000000006,"K_16_A06",1,1,1,1,16,null,null,null,"K_32_A06",1,null,"K_32_A27",1,15]
[null,16000000007,"K_16_A07",1,1,1,1,16,null,null,null,"K_32_A07",1,null,"K_32_A26",1,11]
[null,16000000008,"K_16_A08",1,1,1,1,16,null,null,null,"K_32_A08",1,null,"K_32_A25",1,3]
[null,16000000009,"K_16_A09",1,1,1,1,16,null,null,null,"K_32_A09",1,null,"K_32_A24",1,4]
[null,16000000010,"K_16_A10",1,1,1,1,16,null,null,null,"K_32_A10",1,null,"K_32_A23",1,12]
[null,16000000011,"K_16_A11",1,1,1,1,16,null,null,null,"K_32_A11",1,null,"K_32_A22",1,16]
[null,16000000012,"K_16_A12",1,1,1,1,16,null,null,null,"K_32_A12",1,null,"K_32_A21",1,8]
[null,16000000013,"K_16_A13",1,1,1,1,16,null,null,null,"K_32_A13",1,null,"K_32_A20",1,6]
[null,16000000014,"K_16_A14",1,1,1,1,16,null,null,null,"K_32_A14",1,null,"K_32_A19",1,14]
[null,16000000015,"K_16_A15",1,1,1,1,16,null,null,null,"K_32_A15",1,null,"K_32_A18",1,10]
[null,16000000016,"K_16_A16",1,1,1,1,16,null,null,null,"K_32_A16",1,null,"K_32_A17",1,2]
[null,16000000017,"K_16_B01",0,1,1,1,16,null,null,null,"K_32_A01",2,null,"K_32_A32",2,1]
[null,16000000018,"K_16_B02",0,1,1,1,16,null,null,null,"K_32_A02",2,null,"K_32_A31",2,9]
[null,16000000019,"K_16_B03",0,1,1,1,16,null,null,null,"K_32_A03",2,null,"K_32_A30",2,13]
[null,16000000020,"K_16_B04",0,1,1,1,16,null,null,null,"K_32_A04",2,null,"K_32_A29",2,5]
[null,16000000021,"K_16_B05",0,1,1,1,16,null,null,null,"K_32_A05",2,null,"K_32_A28",2,7]
[null,16000000022,"K_16_B06",0,1,1,1,16,null,null,null,"K_32_A06",2,null,"K_32_A27",2,15]
[null,16000000023,"K_16_B07",0,1,1,1,16,null,null,null,"K_32_A07",2,null,"K_32_A26",2,11]
[null,16000000024,"K_16_B08",0,1,1,1,16,null,null,null,"K_32_A08",2,null,"K_32_A25",2,3]
[null,16000000025,"K_16_B09",0,1,1,1,16,null,null,null,"K_32_A09",2,null,"K_32_A24",2,4]
[null,16000000026,"K_16_B10",0,1,1,1,16,null,null,null,"K_32_A10",2,null,"K_32_A23",2,12]
[null,16000000027,"K_16_B11",0,1,1,1,16,null,null,null,"K_32_A11",2,null,"K_32_A22",2,16]
[null,16000000028,"K_16_B12",0,1,1,1,16,null,null,null,"K_32_A12",2,null,"K_32_A21",2,8]
[null,16000000029,"K_16_B13",0,1,1,1,16,null,null,null,"K_32_A13",2,null,"K_32_A20",2,6]
[null,16000000030,"K_16_B14",0,1,1,1,16,null,null,null,"K_32_A14",2,null,"K_32_A19",2,14]
[null,16000000031,"K_16_B15",0,1,1,1,16,null,null,null,"K_32_A15",2,null,"K_32_A18",2,10]
[null,16000000032,"K_16_B16",0,1,1,1,16,null,null,null,"K_32_A16",2,null,"K_32_A17",2,2]
[null,16000000033,"K_16_C01",0,1,1,0,16,null,null,null,"K_32_B01",1,null,"K_32_B32",1,1]
[null,16000000034,"K_16_C02",0,1,1,0,16,null,null,null,"K_32_B02",1,null,"K_32_B31",1,9]
[null,16000000035,"K_16_C03",0,1,1,0,16,null,null,null,"K_32_B03",1,null,"K_32_B30",1,13]
[null,16000000036,"K_16_C04",0,1,1,0,16,null,null,null,"K_32_B04",1,null,"K_32_B29",1,5]
[null,16000000037,"K_16_C05",0,1,1,0,16,null,null,null,"K_32_B05",1,null,"K_32_B28",1,7]
[null,16000000038,"K_16_C06",0,1,1,0,16,null,null,null,"K_32_B06",1,null,"K_32_B27",1,15]
[null,16000000039,"K_16_C07",0,1,1,0,16,null,null,null,"K_32_B07",1,null,"K_32_B26",1,11]
[null,16000000040,"K_16_C08",0,1,1,0,16,null,null,null,"K_32_B08",1,null,"K_32_B25",1,3]
[null,16000000041,"K_16_C09",0,1,1,0,16,null,null,null,"K_32_B09",1,null,"K_32_B24",1,4]
[null,16000000042,"K_16_C10",0,1,1,0,16,null,null,null,"K_32_B10",1,null,"K_32_B23",1,12]
[null,16000000043,"K_16_C11",0,1,1,0,16,null,null,null,"K_32_B11",1,null,"K_32_B22",1,16]
[null,16000000044,"K_16_C12",0,1,1,0,16,null,null,null,"K_32_B12",1,null,"K_32_B21",1,8]
[null,16000000045,"K_16_C13",0,1,1,0,16,null,null,null,"K_32_B13",1,null,"K_32_B20",1,6]
[null,16000000046,"K_16_C14",0,1,1,0,16,null,null,null,"K_32_B14",1,null,"K_32_B19",1,14]
[null,16000000047,"K_16_C15",0,1,1,0,16,null,null,null,"K_32_B15",1,null,"K_32_B18",1,10]
[null,16000000048,"K_16_C16",0,1,1,0,16,null,null,null,"K_32_B16",1,null,"K_32_B17",1,2]
[null,16000000049,"K_16_D01",0,1,0,0,16,null,null,null,"K_32_B01",2,null,"K_32_B32",2,1]
[null,16000000050,"K_16_D02",0,1,0,0,16,null,null,null,"K_32_B02",2,null,"K_32_B31",2,9]
[null,16000000051,"K_16_D03",0,1,0,0,16,null,null,null,"K_32_B03",2,null,"K_32_B30",2,13]
[null,16000000052,"K_16_D04",0,1,0,0,16,null,null,null,"K_32_B04",2,null,"K_32_B29",2,5]
[null,16000000053,"K_16_D05",0,1,0,0,16,null,null,null,"K_32_B05",2,null,"K_32_B28",2,7]
[null,16000000054,"K_16_D06",0,1,0,0,16,null,null,null,"K_32_B06",2,null,"K_32_B27",2,15]
[null,16000000055,"K_16_D07",0,1,0,0,16,null,null,null,"K_32_B07",2,null,"K_32_B26",2,11]
[null,16000000056,"K_16_D08",0,1,0,0,16,null,null,null,"K_32_B08",2,null,"K_32_B25",2,3]
[null,16000000057,"K_16_D09",0,1,0,0,16,null,null,null,"K_32_B09",2,null,"K_32_B24",2,4]
[null,16000000058,"K_16_D10",0,1,0,0,16,null,null,null,"K_32_B10",2,null,"K_32_B23",2,12]
[null,16000000059,"K_16_D11",0,1,0,0,16,null,null,null,"K_32_B11",2,null,"K_32_B22",2,16]
[null,16000000060,"K_16_D12",0,1,0,0,16,null,null,null,"K_32_B12",2,null,"K_32_B21",2,8]
[null,16000000061,"K_16_D13",0,1,0,0,16,null,null,null,"K_32_B13",2,null,"K_32_B20",2,6]
[null,16000000062,"K_16_D14",0,1,0,0,16,null,null,null,"K_32_B14",2,null,"K_32_B19",2,14]
[null,16000000063,"K_16_D15",0,1,0,0,16,null,null,null,"K_32_B15",2,null,"K_32_B18",2,10]
[null,16000000064,"K_16_D16",0,1,0,0,16,null,null,null,"K_32_B16",2,null,"K_32_B17",2,2]
[null,16001032001,"K_16_A01",1,1,1,1,16,1,32,"A",null,1,"A",null,32,1]
[null,16001032002,"K_16_A02",1,1,1,1,16,1,32,"A",null,2,"A",null,31,9]
[null,16001032003,"K_16_A03",1,1,1,1,16,1,32,"A",null,3,"A",null,30,13]
[null,16001032004,"K_16_A04",1,1,1,1,16,1,32,"A",null,4,"A",null,29,5]
[null,16001032005,"K_16_A05",1,1,1,1,16,1,32,"A",null,5,"A",null,28,7]
[null,16001032006,"K_16_A06",1,1,1,1,16,1,32,"A",null,6,"A",null,27,15]
[null,16001032007,"K_16_A07",1,1,1,1,16,1,32,"A",null,7,"A",null,26,11]
[null,16001032008,"K_16_A08",1,1,1,1,16,1,32,"A",null,8,"A",null,25,3]
[null,16001032009,"K_16_A09",1,1,1,1,16,1,32,"A",null,9,"A",null,24,4]
[null,16001032010,"K_16_A10",1,1,1,1,16,1,32,"A",null,10,"A",null,23,12]
[null,16001032011,"K_16_A11",1,1,1,1,16,1,32,"A",null,11,"A",null,22,16]
[null,16001032012,"K_16_A12",1,1,1,1,16,1,32,"A",null,12,"A",null,21,8]
[null,16001032013,"K_16_A13",1,1,1,1,16,1,32,"A",null,13,"A",null,20,6]
[null,16001032014,"K_16_A14",1,1,1,1,16,1,32,"A",null,14,"A",null,19,14]
[null,16001032015,"K_16_A15",1,1,1,1,16,1,32,"A",null,15,"A",null,18,10]
[null,16001032016,"K_16_A16",1,1,1,1,16,1,32,"A",null,16,"A",null,17,2]
[null,16002016001,"K_16_A01",1,1,1,1,16,2,16,"A",null,1,"B",null,16,1]
[null,16002016002,"K_16_A02",1,1,1,1,16,2,16,"B",null,1,"A",null,16,9]
[null,16002016003,"K_16_A03",1,1,1,1,16,2,16,"A",null,2,"B",null,15,13]
[null,16002016004,"K_16_A04",1,1,1,1,16,2,16,"B",null,2,"A",null,15,5]
[null,16002016005,"K_16_A05",1,1,1,1,16,2,16,"A",null,3,"B",null,14,7]
[null,16002016006,"K_16_A06",1,1,1,1,16,2,16,"B",null,3,"A",null,14,15]
[null,16002016007,"K_16_A07",1,1,1,1,16,2,16,"A",null,4,"B",null,13,11]
[null,16002016008,"K_16_A08",1,1,1,1,16,2,16,"B",null,4,"A",null,13,3]
[null,16002016009,"K_16_A09",1,1,1,1,16,2,16,"A",null,5,"B",null,12,4]
[null,16002016010,"K_16_A10",1,1,1,1,16,2,16,"B",null,5,"A",null,12,12]
[null,16002016011,"K_16_A11",1,1,1,1,16,2,16,"A",null,6,"B",null,11,16]
[null,16002016012,"K_16_A12",1,1,1,1,16,2,16,"B",null,6,"A",null,11,8]
[null,16002016013,"K_16_A13",1,1,1,1,16,2,16,"A",null,7,"B",null,10,6]
[null,16002016014,"K_16_A14",1,1,1,1,16,2,16,"B",null,7,"A",null,10,14]
[null,16002016015,"K_16_A15",1,1,1,1,16,2,16,"A",null,8,"B",null,9,10]
[null,16002016016,"K_16_A16",1,1,1,1,16,2,16,"B",null,8,"A",null,9,2]
[null,16004008001,"K_16_A01",1,1,1,1,16,4,8,"A",null,1,"B",null,8,1]
[null,16004008002,"K_16_A02",1,1,1,1,16,4,8,"B",null,1,"C",null,8,9]
[null,16004008003,"K_16_A03",1,1,1,1,16,4,8,"D",null,1,"A",null,8,13]
[null,16004008004,"K_16_A04",1,1,1,1,16,4,8,"C",null,1,"D",null,8,5]
[null,16004008005,"K_16_A05",1,1,1,1,16,4,8,"A",null,2,"C",null,7,7]
[null,16004008006,"K_16_A06",1,1,1,1,16,4,8,"B",null,2,"D",null,7,15]
[null,16004008007,"K_16_A07",1,1,1,1,16,4,8,"D",null,2,"B",null,7,11]
[null,16004008008,"K_16_A08",1,1,1,1,16,4,8,"C",null,2,"A",null,7,3]
[null,16004008009,"K_16_A09",1,1,1,1,16,4,8,"B",null,3,"D",null,6,4]
[null,16004008010,"K_16_A10",1,1,1,1,16,4,8,"C",null,3,"A",null,6,12]
[null,16004008011,"K_16_A11",1,1,1,1,16,4,8,"A",null,3,"C",null,6,16]
[null,16004008012,"K_16_A12",1,1,1,1,16,4,8,"D",null,3,"B",null,6,8]
[null,16004008013,"K_16_A13",1,1,1,1,16,4,8,"B",null,4,"A",null,5,6]
[null,16004008014,"K_16_A14",1,1,1,1,16,4,8,"C",null,4,"B",null,5,14]
[null,16004008015,"K_16_A15",1,1,1,1,16,4,8,"A",null,4,"D",null,5,10]
[null,16004008016,"K_16_A16",1,1,1,1,16,4,8,"D",null,4,"C",null,5,2]
[null,16008004001,"K_16_A01",1,1,1,1,16,8,4,"A",null,1,"B",null,4,1]
[null,16008004002,"K_16_A02",1,1,1,1,16,8,4,"B",null,1,"C",null,4,9]
[null,16008004003,"K_16_A03",1,1,1,1,16,8,4,"D",null,1,"E",null,4,13]
[null,16008004004,"K_16_A04",1,1,1,1,16,8,4,"C",null,1,"D",null,4,5]
[null,16008004005,"K_16_A05",1,1,1,1,16,8,4,"G",null,1,"H",null,4,7]
[null,16008004006,"K_16_A06",1,1,1,1,16,8,4,"H",null,1,"A",null,4,15]
[null,16008004007,"K_16_A07",1,1,1,1,16,8,4,"F",null,1,"G",null,4,11]
[null,16008004008,"K_16_A08",1,1,1,1,16,8,4,"E",null,1,"F",null,4,3]
[null,16008004009,"K_16_A09",1,1,1,1,16,8,4,"D",null,2,"G",null,3,4]
[null,16008004010,"K_16_A10",1,1,1,1,16,8,4,"A",null,2,"D",null,3,12]
[null,16008004011,"K_16_A11",1,1,1,1,16,8,4,"C",null,2,"F",null,3,16]
[null,16008004012,"K_16_A12",1,1,1,1,16,8,4,"B",null,2,"E",null,3,8]
[null,16008004013,"K_16_A13",1,1,1,1,16,8,4,"F",null,2,"A",null,3,6]
[null,16008004014,"K_16_A14",1,1,1,1,16,8,4,"G",null,2,"B",null,3,14]
[null,16008004015,"K_16_A15",1,1,1,1,16,8,4,"E",null,2,"H",null,3,10]
[null,16008004016,"K_16_A16",1,1,1,1,16,8,4,"H",null,2,"C",null,3,2]
[null,16016002001,"K_16_A01",1,1,1,1,16,16,2,"A",null,1,"B",null,2,1]
[null,16016002002,"K_16_A02",1,1,1,1,16,16,2,"B",null,1,"C",null,2,9]
[null,16016002003,"K_16_A03",1,1,1,1,16,16,2,"D",null,1,"E",null,2,13]
[null,16016002004,"K_16_A04",1,1,1,1,16,16,2,"C",null,1,"D",null,2,5]
[null,16016002005,"K_16_A05",1,1,1,1,16,16,2,"G",null,1,"H",null,2,7]
[null,16016002006,"K_16_A06",1,1,1,1,16,16,2,"H",null,1,"I",null,2,15]
[null,16016002007,"K_16_A07",1,1,1,1,16,16,2,"F",null,1,"G",null,2,11]
[null,16016002008,"K_16_A08",1,1,1,1,16,16,2,"E",null,1,"F",null,2,3]
[null,16016002009,"K_16_A09",1,1,1,1,16,16,2,"M",null,1,"N",null,2,4]
[null,16016002010,"K_16_A10",1,1,1,1,16,16,2,"J",null,1,"K",null,2,12]
[null,16016002011,"K_16_A11",1,1,1,1,16,16,2,"L",null,1,"M",null,2,16]
[null,16016002012,"K_16_A12",1,1,1,1,16,16,2,"K",null,1,"L",null,2,8]
[null,16016002013,"K_16_A13",1,1,1,1,16,16,2,"O",null,1,"P",null,2,6]
[null,16016002014,"K_16_A14",1,1,1,1,16,16,2,"P",null,1,"A",null,2,14]
[null,16016002015,"K_16_A15",1,1,1,1,16,16,2,"N",null,1,"O",null,2,10]
[null,16016002016,"K_16_A16",1,1,1,1,16,16,2,"I",null,1,"J",null,2,2]
[null,16032001001,"K_16_A01",1,1,1,1,16,32,1,"AA",null,1,"AH",null,1,1]
[null,16032001002,"K_16_A02",1,1,1,1,16,32,1,"AQ",null,1,"AX",null,1,9]
[null,16032001003,"K_16_A03",1,1,1,1,16,32,1,"AI",null,1,"AP",null,1,13]
[null,16032001004,"K_16_A04",1,1,1,1,16,32,1,"AS",null,1,"AV",null,1,5]
[null,16032001005,"K_16_A05",1,1,1,1,16,32,1,"AY",null,1,"BF",null,1,7]
[null,16032001006,"K_16_A06",1,1,1,1,16,32,1,"BA",null,1,"BD",null,1,15]
[null,16032001007,"K_16_A07",1,1,1,1,16,32,1,"AC",null,1,"AF",null,1,11]
[null,16032001008,"K_16_A08",1,1,1,1,16,32,1,"AK",null,1,"AN",null,1,3]
[null,16032001009,"K_16_A09",1,1,1,1,16,32,1,"AL",null,1,"AM",null,1,4]
[null,16032001010,"K_16_A10",1,1,1,1,16,32,1,"AD",null,1,"AE",null,1,12]
[null,16032001011,"K_16_A11",1,1,1,1,16,32,1,"BB",null,1,"BC",null,1,16]
[null,16032001012,"K_16_A12",1,1,1,1,16,32,1,"AZ",null,1,"BE",null,1,8]
[null,16032001013,"K_16_A13",1,1,1,1,16,32,1,"AT",null,1,"AU",null,1,6]
[null,16032001014,"K_16_A14",1,1,1,1,16,32,1,"AJ",null,1,"AO",null,1,14]
[null,16032001015,"K_16_A15",1,1,1,1,16,32,1,"AR",null,1,"AW",null,1,10]
[null,16032001016,"K_16_A16",1,1,1,1,16,32,1,"AB",null,1,"AG",null,1,2]
[null,32000000001,"K_32_A01",1,1,1,1,32,null,null,null,"K_64_A01",1,null,"K_64_A64",1,1]
[null,32000000002,"K_32_A02",1,1,1,1,32,null,null,null,"K_64_A02",1,null,"K_64_A63",1,17]
[null,32000000003,"K_32_A03",1,1,1,1,32,null,null,null,"K_64_A03",1,null,"K_64_A62",1,25]
[null,32000000004,"K_32_A04",1,1,1,1,32,null,null,null,"K_64_A04",1,null,"K_64_A61",1,9]
[null,32000000005,"K_32_A05",1,1,1,1,32,null,null,null,"K_64_A05",1,null,"K_64_A60",1,13]
[null,32000000006,"K_32_A06",1,1,1,1,32,null,null,null,"K_64_A06",1,null,"K_64_A59",1,29]
[null,32000000007,"K_32_A07",1,1,1,1,32,null,null,null,"K_64_A07",1,null,"K_64_A58",1,21]
[null,32000000008,"K_32_A08",1,1,1,1,32,null,null,null,"K_64_A08",1,null,"K_64_A57",1,5]
[null,32000000009,"K_32_A09",1,1,1,1,32,null,null,null,"K_64_A09",1,null,"K_64_A56",1,7]
[null,32000000010,"K_32_A10",1,1,1,1,32,null,null,null,"K_64_A10",1,null,"K_64_A55",1,23]
[null,32000000011,"K_32_A11",1,1,1,1,32,null,null,null,"K_64_A11",1,null,"K_64_A54",1,31]
[null,32000000012,"K_32_A12",1,1,1,1,32,null,null,null,"K_64_A12",1,null,"K_64_A53",1,15]
[null,32000000013,"K_32_A13",1,1,1,1,32,null,null,null,"K_64_A13",1,null,"K_64_A52",1,11]
[null,32000000014,"K_32_A14",1,1,1,1,32,null,null,null,"K_64_A14",1,null,"K_64_A51",1,27]
[null,32000000015,"K_32_A15",1,1,1,1,32,null,null,null,"K_64_A15",1,null,"K_64_A50",1,19]
[null,32000000016,"K_32_A16",1,1,1,1,32,null,null,null,"K_64_A16",1,null,"K_64_A49",1,3]
[null,32000000017,"K_32_A17",1,1,1,1,32,null,null,null,"K_64_A17",1,null,"K_64_A48",1,4]
[null,32000000018,"K_32_A18",1,1,1,1,32,null,null,null,"K_64_A18",1,null,"K_64_A47",1,20]
[null,32000000019,"K_32_A19",1,1,1,1,32,null,null,null,"K_64_A19",1,null,"K_64_A46",1,28]
[null,32000000020,"K_32_A20",1,1,1,1,32,null,null,null,"K_64_A20",1,null,"K_64_A45",1,12]
[null,32000000021,"K_32_A21",1,1,1,1,32,null,null,null,"K_64_A21",1,null,"K_64_A44",1,16]
[null,32000000022,"K_32_A22",1,1,1,1,32,null,null,null,"K_64_A22",1,null,"K_64_A43",1,32]
[null,32000000023,"K_32_A23",1,1,1,1,32,null,null,null,"K_64_A23",1,null,"K_64_A42",1,24]
[null,32000000024,"K_32_A24",1,1,1,1,32,null,null,null,"K_64_A24",1,null,"K_64_A41",1,8]
[null,32000000025,"K_32_A25",1,1,1,1,32,null,null,null,"K_64_A25",1,null,"K_64_A40",1,6]
[null,32000000026,"K_32_A26",1,1,1,1,32,null,null,null,"K_64_A26",1,null,"K_64_A39",1,22]
[null,32000000027,"K_32_A27",1,1,1,1,32,null,null,null,"K_64_A27",1,null,"K_64_A38",1,30]
[null,32000000028,"K_32_A28",1,1,1,1,32,null,null,null,"K_64_A28",1,null,"K_64_A37",1,14]
[null,32000000029,"K_32_A29",1,1,1,1,32,null,null,null,"K_64_A29",1,null,"K_64_A36",1,10]
[null,32000000030,"K_32_A30",1,1,1,1,32,null,null,null,"K_64_A30",1,null,"K_64_A35",1,26]
[null,32000000031,"K_32_A31",1,1,1,1,32,null,null,null,"K_64_A31",1,null,"K_64_A34",1,18]
[null,32000000032,"K_32_A32",1,1,1,1,32,null,null,null,"K_64_A32",1,null,"K_64_A33",1,2]
[null,32000000033,"K_32_B01",0,1,1,1,32,null,null,null,"K_64_A01",2,null,"K_64_A64",2,1]
[null,32000000034,"K_32_B02",0,1,1,1,32,null,null,null,"K_64_A02",2,null,"K_64_A63",2,17]
[null,32000000035,"K_32_B03",0,1,1,1,32,null,null,null,"K_64_A03",2,null,"K_64_A62",2,25]
[null,32000000036,"K_32_B04",0,1,1,1,32,null,null,null,"K_64_A04",2,null,"K_64_A61",2,9]
[null,32000000037,"K_32_B05",0,1,1,1,32,null,null,null,"K_64_A05",2,null,"K_64_A60",2,13]
[null,32000000038,"K_32_B06",0,1,1,1,32,null,null,null,"K_64_A06",2,null,"K_64_A59",2,29]
[null,32000000039,"K_32_B07",0,1,1,1,32,null,null,null,"K_64_A07",2,null,"K_64_A58",2,21]
[null,32000000040,"K_32_B08",0,1,1,1,32,null,null,null,"K_64_A08",2,null,"K_64_A57",2,5]
[null,32000000041,"K_32_B09",0,1,1,1,32,null,null,null,"K_64_A09",2,null,"K_64_A56",2,7]
[null,32000000042,"K_32_B10",0,1,1,1,32,null,null,null,"K_64_A10",2,null,"K_64_A55",2,23]
[null,32000000043,"K_32_B11",0,1,1,1,32,null,null,null,"K_64_A11",2,null,"K_64_A54",2,31]
[null,32000000044,"K_32_B12",0,1,1,1,32,null,null,null,"K_64_A12",2,null,"K_64_A53",2,15]
[null,32000000045,"K_32_B13",0,1,1,1,32,null,null,null,"K_64_A13",2,null,"K_64_A52",2,11]
[null,32000000046,"K_32_B14",0,1,1,1,32,null,null,null,"K_64_A14",2,null,"K_64_A51",2,27]
[null,32000000047,"K_32_B15",0,1,1,1,32,null,null,null,"K_64_A15",2,null,"K_64_A50",2,19]
[null,32000000048,"K_32_B16",0,1,1,1,32,null,null,null,"K_64_A16",2,null,"K_64_A49",2,3]
[null,32000000049,"K_32_B17",0,1,1,1,32,null,null,null,"K_64_A17",2,null,"K_64_A48",2,4]
[null,32000000050,"K_32_B18",0,1,1,1,32,null,null,null,"K_64_A18",2,null,"K_64_A47",2,20]
[null,32000000051,"K_32_B19",0,1,1,1,32,null,null,null,"K_64_A19",2,null,"K_64_A46",2,28]
[null,32000000052,"K_32_B20",0,1,1,1,32,null,null,null,"K_64_A20",2,null,"K_64_A45",2,12]
[null,32000000053,"K_32_B21",0,1,1,1,32,null,null,null,"K_64_A21",2,null,"K_64_A44",2,16]
[null,32000000054,"K_32_B22",0,1,1,1,32,null,null,null,"K_64_A22",2,null,"K_64_A43",2,32]
[null,32000000055,"K_32_B23",0,1,1,1,32,null,null,null,"K_64_A23",2,null,"K_64_A42",2,24]
[null,32000000056,"K_32_B24",0,1,1,1,32,null,null,null,"K_64_A24",2,null,"K_64_A41",2,8]
[null,32000000057,"K_32_B25",0,1,1,1,32,null,null,null,"K_64_A25",2,null,"K_64_A40",2,6]
[null,32000000058,"K_32_B26",0,1,1,1,32,null,null,null,"K_64_A26",2,null,"K_64_A39",2,22]
[null,32000000059,"K_32_B27",0,1,1,1,32,null,null,null,"K_64_A27",2,null,"K_64_A38",2,30]
[null,32000000060,"K_32_B28",0,1,1,1,32,null,null,null,"K_64_A28",2,null,"K_64_A37",2,14]
[null,32000000061,"K_32_B29",0,1,1,1,32,null,null,null,"K_64_A29",2,null,"K_64_A36",2,10]
[null,32000000062,"K_32_B30",0,1,1,1,32,null,null,null,"K_64_A30",2,null,"K_64_A35",2,26]
[null,32000000063,"K_32_B31",0,1,1,1,32,null,null,null,"K_64_A31",2,null,"K_64_A34",2,18]
[null,32000000064,"K_32_B32",0,1,1,1,32,null,null,null,"K_64_A32",2,null,"K_64_A33",2,2]
[null,32001064001,"K_32_A01",1,1,1,1,32,1,64,"A",null,1,"A",null,64,1]
[null,32001064002,"K_32_A02",1,1,1,1,32,1,64,"A",null,2,"A",null,63,17]
[null,32001064003,"K_32_A03",1,1,1,1,32,1,64,"A",null,3,"A",null,62,25]
[null,32001064004,"K_32_A04",1,1,1,1,32,1,64,"A",null,4,"A",null,61,9]
[null,32001064005,"K_32_A05",1,1,1,1,32,1,64,"A",null,5,"A",null,60,13]
[null,32001064006,"K_32_A06",1,1,1,1,32,1,64,"A",null,6,"A",null,59,29]
[null,32001064007,"K_32_A07",1,1,1,1,32,1,64,"A",null,7,"A",null,58,21]
[null,32001064008,"K_32_A08",1,1,1,1,32,1,64,"A",null,8,"A",null,57,5]
[null,32001064009,"K_32_A09",1,1,1,1,32,1,64,"A",null,9,"A",null,56,7]
[null,32001064010,"K_32_A10",1,1,1,1,32,1,64,"A",null,10,"A",null,55,23]
[null,32001064011,"K_32_A11",1,1,1,1,32,1,64,"A",null,11,"A",null,54,31]
[null,32001064012,"K_32_A12",1,1,1,1,32,1,64,"A",null,12,"A",null,53,15]
[null,32001064013,"K_32_A13",1,1,1,1,32,1,64,"A",null,13,"A",null,52,11]
[null,32001064014,"K_32_A14",1,1,1,1,32,1,64,"A",null,14,"A",null,51,27]
[null,32001064015,"K_32_A15",1,1,1,1,32,1,64,"A",null,15,"A",null,50,19]
[null,32001064016,"K_32_A16",1,1,1,1,32,1,64,"A",null,16,"A",null,49,3]
[null,32001064017,"K_32_A17",1,1,1,1,32,1,64,"A",null,17,"A",null,48,4]
[null,32001064018,"K_32_A18",1,1,1,1,32,1,64,"A",null,18,"A",null,47,20]
[null,32001064019,"K_32_A19",1,1,1,1,32,1,64,"A",null,19,"A",null,46,28]
[null,32001064020,"K_32_A20",1,1,1,1,32,1,64,"A",null,20,"A",null,45,12]
[null,32001064021,"K_32_A21",1,1,1,1,32,1,64,"A",null,21,"A",null,44,16]
[null,32001064022,"K_32_A22",1,1,1,1,32,1,64,"A",null,22,"A",null,43,32]
[null,32001064023,"K_32_A23",1,1,1,1,32,1,64,"A",null,23,"A",null,42,24]
[null,32001064024,"K_32_A24",1,1,1,1,32,1,64,"A",null,24,"A",null,41,8]
[null,32001064025,"K_32_A25",1,1,1,1,32,1,64,"A",null,25,"A",null,40,6]
[null,32001064026,"K_32_A26",1,1,1,1,32,1,64,"A",null,26,"A",null,39,22]
[null,32001064027,"K_32_A27",1,1,1,1,32,1,64,"A",null,27,"A",null,38,30]
[null,32001064028,"K_32_A28",1,1,1,1,32,1,64,"A",null,28,"A",null,37,14]
[null,32001064029,"K_32_A29",1,1,1,1,32,1,64,"A",null,29,"A",null,36,10]
[null,32001064030,"K_32_A30",1,1,1,1,32,1,64,"A",null,30,"A",null,35,26]
[null,32001064031,"K_32_A31",1,1,1,1,32,1,64,"A",null,31,"A",null,34,18]
[null,32001064032,"K_32_A32",1,1,1,1,32,1,64,"A",null,32,"A",null,33,2]
[null,32002032001,"K_32_A01",1,1,1,1,32,2,32,"A",null,1,"B",null,32,1]
[null,32002032002,"K_32_A02",1,1,1,1,32,2,32,"B",null,1,"A",null,32,17]
[null,32002032003,"K_32_A03",1,1,1,1,32,2,32,"A",null,2,"B",null,31,25]
[null,32002032004,"K_32_A04",1,1,1,1,32,2,32,"B",null,2,"A",null,31,9]
[null,32002032005,"K_32_A05",1,1,1,1,32,2,32,"A",null,3,"B",null,30,13]
[null,32002032006,"K_32_A06",1,1,1,1,32,2,32,"B",null,3,"A",null,30,29]
[null,32002032007,"K_32_A07",1,1,1,1,32,2,32,"A",null,4,"B",null,29,21]
[null,32002032008,"K_32_A08",1,1,1,1,32,2,32,"B",null,4,"A",null,29,5]
[null,32002032009,"K_32_A09",1,1,1,1,32,2,32,"A",null,5,"B",null,28,7]
[null,32002032010,"K_32_A10",1,1,1,1,32,2,32,"B",null,5,"A",null,28,23]
[null,32002032011,"K_32_A11",1,1,1,1,32,2,32,"A",null,6,"B",null,27,31]
[null,32002032012,"K_32_A12",1,1,1,1,32,2,32,"B",null,6,"A",null,27,15]
[null,32002032013,"K_32_A13",1,1,1,1,32,2,32,"A",null,7,"B",null,26,11]
[null,32002032014,"K_32_A14",1,1,1,1,32,2,32,"B",null,7,"A",null,26,27]
[null,32002032015,"K_32_A15",1,1,1,1,32,2,32,"A",null,8,"B",null,25,19]
[null,32002032016,"K_32_A16",1,1,1,1,32,2,32,"B",null,8,"A",null,25,3]
[null,32002032017,"K_32_A17",1,1,1,1,32,2,32,"A",null,9,"B",null,24,4]
[null,32002032018,"K_32_A18",1,1,1,1,32,2,32,"B",null,9,"A",null,24,20]
[null,32002032019,"K_32_A19",1,1,1,1,32,2,32,"A",null,10,"B",null,23,28]
[null,32002032020,"K_32_A20",1,1,1,1,32,2,32,"B",null,10,"A",null,23,12]
[null,32002032021,"K_32_A21",1,1,1,1,32,2,32,"A",null,11,"B",null,22,16]
[null,32002032022,"K_32_A22",1,1,1,1,32,2,32,"B",null,11,"A",null,22,32]
[null,32002032023,"K_32_A23",1,1,1,1,32,2,32,"A",null,12,"B",null,21,24]
[null,32002032024,"K_32_A24",1,1,1,1,32,2,32,"B",null,12,"A",null,21,8]
[null,32002032025,"K_32_A25",1,1,1,1,32,2,32,"A",null,13,"B",null,20,6]
[null,32002032026,"K_32_A26",1,1,1,1,32,2,32,"B",null,13,"A",null,20,22]
[null,32002032027,"K_32_A27",1,1,1,1,32,2,32,"A",null,14,"B",null,19,30]
[null,32002032028,"K_32_A28",1,1,1,1,32,2,32,"B",null,14,"A",null,19,14]
[null,32002032029,"K_32_A29",1,1,1,1,32,2,32,"A",null,15,"B",null,18,10]
[null,32002032030,"K_32_A30",1,1,1,1,32,2,32,"B",null,15,"A",null,18,26]
[null,32002032031,"K_32_A31",1,1,1,1,32,2,32,"A",null,16,"B",null,17,18]
[null,32002032032,"K_32_A32",1,1,1,1,32,2,32,"B",null,16,"A",null,17,2]
[null,32004016001,"K_32_A01",1,1,1,1,32,4,16,"A",null,1,"B",null,16,1]
[null,32004016002,"K_32_A02",1,1,1,1,32,4,16,"B",null,1,"C",null,16,17]
[null,32004016003,"K_32_A03",1,1,1,1,32,4,16,"D",null,1,"A",null,16,25]
[null,32004016004,"K_32_A04",1,1,1,1,32,4,16,"C",null,1,"D",null,16,9]
[null,32004016005,"K_32_A05",1,1,1,1,32,4,16,"A",null,2,"C",null,15,13]
[null,32004016006,"K_32_A06",1,1,1,1,32,4,16,"B",null,2,"D",null,15,29]
[null,32004016007,"K_32_A07",1,1,1,1,32,4,16,"D",null,2,"B",null,15,21]
[null,32004016008,"K_32_A08",1,1,1,1,32,4,16,"C",null,2,"A",null,15,5]
[null,32004016009,"K_32_A09",1,1,1,1,32,4,16,"A",null,3,"B",null,14,7]
[null,32004016010,"K_32_A10",1,1,1,1,32,4,16,"B",null,3,"C",null,14,23]
[null,32004016011,"K_32_A11",1,1,1,1,32,4,16,"D",null,3,"A",null,14,31]
[null,32004016012,"K_32_A12",1,1,1,1,32,4,16,"C",null,3,"D",null,14,15]
[null,32004016013,"K_32_A13",1,1,1,1,32,4,16,"A",null,4,"C",null,13,11]
[null,32004016014,"K_32_A14",1,1,1,1,32,4,16,"B",null,4,"D",null,13,27]
[null,32004016015,"K_32_A15",1,1,1,1,32,4,16,"D",null,4,"B",null,13,19]
[null,32004016016,"K_32_A16",1,1,1,1,32,4,16,"C",null,4,"A",null,13,3]
[null,32004016017,"K_32_A17",1,1,1,1,32,4,16,"B",null,5,"D",null,12,4]
[null,32004016018,"K_32_A18",1,1,1,1,32,4,16,"C",null,5,"A",null,12,20]
[null,32004016019,"K_32_A19",1,1,1,1,32,4,16,"A",null,5,"C",null,12,28]
[null,32004016020,"K_32_A20",1,1,1,1,32,4,16,"D",null,5,"B",null,12,12]
[null,32004016021,"K_32_A21",1,1,1,1,32,4,16,"B",null,6,"A",null,11,16]
[null,32004016022,"K_32_A22",1,1,1,1,32,4,16,"C",null,6,"B",null,11,32]
[null,32004016023,"K_32_A23",1,1,1,1,32,4,16,"A",null,6,"D",null,11,24]
[null,32004016024,"K_32_A24",1,1,1,1,32,4,16,"D",null,6,"C",null,11,8]
[null,32004016025,"K_32_A25",1,1,1,1,32,4,16,"B",null,7,"D",null,10,6]
[null,32004016026,"K_32_A26",1,1,1,1,32,4,16,"C",null,7,"A",null,10,22]
[null,32004016027,"K_32_A27",1,1,1,1,32,4,16,"A",null,7,"C",null,10,30]
[null,32004016028,"K_32_A28",1,1,1,1,32,4,16,"D",null,7,"B",null,10,14]
[null,32004016029,"K_32_A29",1,1,1,1,32,4,16,"B",null,8,"A",null,9,10]
[null,32004016030,"K_32_A30",1,1,1,1,32,4,16,"C",null,8,"B",null,9,26]
[null,32004016031,"K_32_A31",1,1,1,1,32,4,16,"A",null,9,"D",null,10,18]
[null,32004016032,"K_32_A32",1,1,1,1,32,4,16,"D",null,8,"C",null,9,2]
[null,32008008001,"K_32_A01",1,1,1,1,32,8,8,"A",null,1,"B",null,8,1]
[null,32008008002,"K_32_A02",1,1,1,1,32,8,8,"B",null,1,"C",null,8,17]
[null,32008008003,"K_32_A03",1,1,1,1,32,8,8,"D",null,1,"E",null,8,25]
[null,32008008004,"K_32_A04",1,1,1,1,32,8,8,"C",null,1,"D",null,8,9]
[null,32008008005,"K_32_A05",1,1,1,1,32,8,8,"G",null,1,"H",null,8,13]
[null,32008008006,"K_32_A06",1,1,1,1,32,8,8,"H",null,1,"A",null,8,29]
[null,32008008007,"K_32_A07",1,1,1,1,32,8,8,"F",null,1,"G",null,8,21]
[null,32008008008,"K_32_A08",1,1,1,1,32,8,8,"E",null,1,"F",null,8,5]
[null,32008008009,"K_32_A09",1,1,1,1,32,8,8,"D",null,2,"G",null,7,7]
[null,32008008010,"K_32_A10",1,1,1,1,32,8,8,"A",null,2,"D",null,7,23]
[null,32008008011,"K_32_A11",1,1,1,1,32,8,8,"C",null,2,"F",null,7,31]
[null,32008008012,"K_32_A12",1,1,1,1,32,8,8,"B",null,2,"E",null,7,15]
[null,32008008013,"K_32_A13",1,1,1,1,32,8,8,"F",null,2,"A",null,7,11]
[null,32008008014,"K_32_A14",1,1,1,1,32,8,8,"G",null,2,"B",null,7,27]
[null,32008008015,"K_32_A15",1,1,1,1,32,8,8,"E",null,2,"H",null,7,19]
[null,32008008016,"K_32_A16",1,1,1,1,32,8,8,"H",null,2,"C",null,7,3]
[null,32008008017,"K_32_A17",1,1,1,1,32,8,8,"F",null,3,"E",null,6,4]
[null,32008008018,"K_32_A18",1,1,1,1,32,8,8,"G",null,3,"F",null,6,20]
[null,32008008019,"K_32_A19",1,1,1,1,32,8,8,"A",null,3,"H",null,6,28]
[null,32008008020,"K_32_A20",1,1,1,1,32,8,8,"H",null,3,"G",null,6,12]
[null,32008008021,"K_32_A21",1,1,1,1,32,8,8,"D",null,3,"C",null,6,16]
[null,32008008022,"K_32_A22",1,1,1,1,32,8,8,"E",null,3,"D",null,6,32]
[null,32008008023,"K_32_A23",1,1,1,1,32,8,8,"C",null,3,"B",null,6,24]
[null,32008008024,"K_32_A24",1,1,1,1,32,8,8,"B",null,3,"A",null,6,8]
[null,32008008025,"K_32_A25",1,1,1,1,32,8,8,"C",null,4,"H",null,5,6]
[null,32008008026,"K_32_A26",1,1,1,1,32,8,8,"H",null,4,"E",null,5,22]
[null,32008008027,"K_32_A27",1,1,1,1,32,8,8,"B",null,4,"G",null,5,30]
[null,32008008028,"K_32_A28",1,1,1,1,32,8,8,"A",null,4,"F",null,5,14]
[null,32008008029,"K_32_A29",1,1,1,1,32,8,8,"E",null,4,"B",null,5,10]
[null,32008008030,"K_32_A30",1,1,1,1,32,8,8,"F",null,4,"C",null,5,26]
[null,32008008031,"K_32_A31",1,1,1,1,32,8,8,"D",null,4,"A",null,5,18]
[null,32008008032,"K_32_A32",1,1,1,1,32,8,8,"G",null,4,"D",null,5,2]
[null,32016004001,"K_32_A01",1,1,1,1,32,16,4,"A",null,1,"B",null,4,1]
[null,32016004002,"K_32_A02",1,1,1,1,32,16,4,"B",null,1,"C",null,4,17]
[null,32016004003,"K_32_A03",1,1,1,1,32,16,4,"D",null,1,"E",null,4,25]
[null,32016004004,"K_32_A04",1,1,1,1,32,16,4,"C",null,1,"D",null,4,9]
[null,32016004005,"K_32_A05",1,1,1,1,32,16,4,"G",null,1,"H",null,4,13]
[null,32016004006,"K_32_A06",1,1,1,1,32,16,4,"H",null,1,"I",null,4,29]
[null,32016004007,"K_32_A07",1,1,1,1,32,16,4,"F",null,1,"G",null,4,21]
[null,32016004008,"K_32_A08",1,1,1,1,32,16,4,"E",null,1,"F",null,4,5]
[null,32016004009,"K_32_A09",1,1,1,1,32,16,4,"M",null,1,"N",null,4,7]
[null,32016004010,"K_32_A10",1,1,1,1,32,16,4,"J",null,1,"K",null,4,23]
[null,32016004011,"K_32_A11",1,1,1,1,32,16,4,"L",null,1,"M",null,4,31]
[null,32016004012,"K_32_A12",1,1,1,1,32,16,4,"K",null,1,"L",null,4,15]
[null,32016004013,"K_32_A13",1,1,1,1,32,16,4,"O",null,1,"P",null,4,11]
[null,32016004014,"K_32_A14",1,1,1,1,32,16,4,"P",null,1,"A",null,4,27]
[null,32016004015,"K_32_A15",1,1,1,1,32,16,4,"N",null,1,"O",null,4,19]
[null,32016004016,"K_32_A16",1,1,1,1,32,16,4,"I",null,1,"J",null,4,3]
[null,32016004017,"K_32_A17",1,1,1,1,32,16,4,"L",null,2,"C",null,3,4]
[null,32016004018,"K_32_A18",1,1,1,1,32,16,4,"E",null,2,"L",null,3,20]
[null,32016004019,"K_32_A19",1,1,1,1,32,16,4,"G",null,2,"N",null,3,28]
[null,32016004020,"K_32_A20",1,1,1,1,32,16,4,"F",null,2,"M",null,3,12]
[null,32016004021,"K_32_A21",1,1,1,1,32,16,4,"B",null,2,"I",null,3,16]
[null,32016004022,"K_32_A22",1,1,1,1,32,16,4,"C",null,2,"J",null,3,32]
[null,32016004023,"K_32_A23",1,1,1,1,32,16,4,"A",null,2,"H",null,3,24]
[null,32016004024,"K_32_A24",1,1,1,1,32,16,4,"D",null,2,"K",null,3,8]
[null,32016004025,"K_32_A25",1,1,1,1,32,16,4,"P",null,2,"G",null,3,6]
[null,32016004026,"K_32_A26",1,1,1,1,32,16,4,"M",null,2,"D",null,3,22]
[null,32016004027,"K_32_A27",1,1,1,1,32,16,4,"O",null,2,"F",null,3,30]
[null,32016004028,"K_32_A28",1,1,1,1,32,16,4,"N",null,2,"E",null,3,14]
[null,32016004029,"K_32_A29",1,1,1,1,32,16,4,"J",null,2,"A",null,3,10]
[null,32016004030,"K_32_A30",1,1,1,1,32,16,4,"K",null,2,"B",null,3,26]
[null,32016004031,"K_32_A31",1,1,1,1,32,16,4,"I",null,2,"P",null,3,18]
[null,32016004032,"K_32_A32",1,1,1,1,32,16,4,"H",null,2,"O",null,3,2]
[null,32032002001,"K_32_A01",1,1,1,1,32,32,2,"AA",null,1,"AQ",null,2,1]
[null,32032002002,"K_32_A02",1,1,1,1,32,32,2,"AQ",null,1,"AY",null,2,17]
[null,32032002003,"K_32_A03",1,1,1,1,32,32,2,"AI",null,1,"AA",null,2,25]
[null,32032002004,"K_32_A04",1,1,1,1,32,32,2,"AS",null,1,"BA",null,2,9]
[null,32032002005,"K_32_A05",1,1,1,1,32,32,2,"AY",null,1,"AI",null,2,13]
[null,32032002006,"K_32_A06",1,1,1,1,32,32,2,"BA",null,1,"AK",null,2,29]
[null,32032002007,"K_32_A07",1,1,1,1,32,32,2,"AC",null,1,"AS",null,2,21]
[null,32032002008,"K_32_A08",1,1,1,1,32,32,2,"AK",null,1,"AC",null,2,5]
[null,32032002009,"K_32_A09",1,1,1,1,32,32,2,"AL",null,1,"AD",null,2,7]
[null,32032002010,"K_32_A10",1,1,1,1,32,32,2,"AD",null,1,"AT",null,2,23]
[null,32032002011,"K_32_A11",1,1,1,1,32,32,2,"BB",null,1,"AL",null,2,31]
[null,32032002012,"K_32_A12",1,1,1,1,32,32,2,"AZ",null,1,"AJ",null,2,15]
[null,32032002013,"K_32_A13",1,1,1,1,32,32,2,"AT",null,1,"BB",null,2,11]
[null,32032002014,"K_32_A14",1,1,1,1,32,32,2,"AJ",null,1,"AB",null,2,27]
[null,32032002015,"K_32_A15",1,1,1,1,32,32,2,"AR",null,1,"AZ",null,2,19]
[null,32032002016,"K_32_A16",1,1,1,1,32,32,2,"AB",null,1,"AR",null,2,3]
[null,32032002017,"K_32_A17",1,1,1,1,32,32,2,"AG",null,1,"AW",null,2,4]
[null,32032002018,"K_32_A18",1,1,1,1,32,32,2,"AW",null,1,"BE",null,2,20]
[null,32032002019,"K_32_A19",1,1,1,1,32,32,2,"AO",null,1,"AG",null,2,28]
[null,32032002020,"K_32_A20",1,1,1,1,32,32,2,"AU",null,1,"BC",null,2,12]
[null,32032002021,"K_32_A21",1,1,1,1,32,32,2,"BE",null,1,"AO",null,2,16]
[null,32032002022,"K_32_A22",1,1,1,1,32,32,2,"BC",null,1,"AM",null,2,32]
[null,32032002023,"K_32_A23",1,1,1,1,32,32,2,"AE",null,1,"AU",null,2,24]
[null,32032002024,"K_32_A24",1,1,1,1,32,32,2,"AM",null,1,"AE",null,2,8]
[null,32032002025,"K_32_A25",1,1,1,1,32,32,2,"AN",null,1,"AF",null,2,6]
[null,32032002026,"K_32_A26",1,1,1,1,32,32,2,"AF",null,1,"AV",null,2,22]
[null,32032002027,"K_32_A27",1,1,1,1,32,32,2,"BD",null,1,"AN",null,2,30]
[null,32032002028,"K_32_A28",1,1,1,1,32,32,2,"BF",null,1,"AP",null,2,14]
[null,32032002029,"K_32_A29",1,1,1,1,32,32,2,"AV",null,1,"BD",null,2,10]
[null,32032002030,"K_32_A30",1,1,1,1,32,32,2,"AP",null,1,"AH",null,2,26]
[null,32032002031,"K_32_A31",1,1,1,1,32,32,2,"AX",null,1,"BF",null,2,18]
[null,32032002032,"K_32_A32",1,1,1,1,32,32,2,"AH",null,1,"AX",null,2,2]
[null,32064001001,"K_32_A01",1,1,1,1,32,64,1,"AA",null,1,"CL",null,1,1]
[null,32064001002,"K_32_A02",1,1,1,1,32,64,1,"AB",null,1,"CK",null,1,17]
[null,32064001003,"K_32_A03",1,1,1,1,32,64,1,"AC",null,1,"CJ",null,1,25]
[null,32064001004,"K_32_A04",1,1,1,1,32,64,1,"AD",null,1,"CI",null,1,9]
[null,32064001005,"K_32_A05",1,1,1,1,32,64,1,"AE",null,1,"CH",null,1,13]
[null,32064001006,"K_32_A06",1,1,1,1,32,64,1,"AF",null,1,"CG",null,1,29]
[null,32064001007,"K_32_A07",1,1,1,1,32,64,1,"AG",null,1,"CF",null,1,21]
[null,32064001008,"K_32_A08",1,1,1,1,32,64,1,"AH",null,1,"CE",null,1,5]
[null,32064001009,"K_32_A09",1,1,1,1,32,64,1,"AI",null,1,"CD",null,1,7]
[null,32064001010,"K_32_A10",1,1,1,1,32,64,1,"AJ",null,1,"CC",null,1,23]
[null,32064001011,"K_32_A11",1,1,1,1,32,64,1,"AK",null,1,"CB",null,1,31]
[null,32064001012,"K_32_A12",1,1,1,1,32,64,1,"AL",null,1,"CA",null,1,15]
[null,32064001013,"K_32_A13",1,1,1,1,32,64,1,"AM",null,1,"BZ",null,1,11]
[null,32064001014,"K_32_A14",1,1,1,1,32,64,1,"AN",null,1,"BY",null,1,27]
[null,32064001015,"K_32_A15",1,1,1,1,32,64,1,"AO",null,1,"BX",null,1,19]
[null,32064001016,"K_32_A16",1,1,1,1,32,64,1,"AP",null,1,"BW",null,1,3]
[null,32064001017,"K_32_A17",1,1,1,1,32,64,1,"AQ",null,1,"BV",null,1,4]
[null,32064001018,"K_32_A18",1,1,1,1,32,64,1,"AR",null,1,"BU",null,1,20]
[null,32064001019,"K_32_A19",1,1,1,1,32,64,1,"AS",null,1,"BT",null,1,28]
[null,32064001020,"K_32_A20",1,1,1,1,32,64,1,"AT",null,1,"BS",null,1,12]
[null,32064001021,"K_32_A21",1,1,1,1,32,64,1,"AU",null,1,"BR",null,1,16]
[null,32064001022,"K_32_A22",1,1,1,1,32,64,1,"AV",null,1,"BQ",null,1,32]
[null,32064001023,"K_32_A23",1,1,1,1,32,64,1,"AW",null,1,"BP",null,1,24]
[null,32064001024,"K_32_A24",1,1,1,1,32,64,1,"AX",null,1,"BO",null,1,8]
[null,32064001025,"K_32_A25",1,1,1,1,32,64,1,"AY",null,1,"BN",null,1,6]
[null,32064001026,"K_32_A26",1,1,1,1,32,64,1,"AZ",null,1,"BM",null,1,22]
[null,32064001027,"K_32_A27",1,1,1,1,32,64,1,"BA",null,1,"BL",null,1,30]
[null,32064001028,"K_32_A28",1,1,1,1,32,64,1,"BB",null,1,"BK",null,1,14]
[null,32064001029,"K_32_A29",1,1,1,1,32,64,1,"BC",null,1,"BJ",null,1,10]
[null,32064001030,"K_32_A30",1,1,1,1,32,64,1,"BD",null,1,"BI",null,1,26]
[null,32064001031,"K_32_A31",1,1,1,1,32,64,1,"BE",null,1,"BH",null,1,18]
[null,32064001032,"K_32_A32",1,1,1,1,32,64,1,"BF",null,1,"BG",null,1,2]
[null,64000000001,"K_64_A01",0,0,0,0,64,null,null,null,"K_128_A001",1,null,"K_128_A128",1,1]
[null,64000000002,"K_64_A02",0,0,0,0,64,null,null,null,"K_128_A002",1,null,"K_128_A127",1,33]
[null,64000000003,"K_64_A03",0,0,0,0,64,null,null,null,"K_128_A003",1,null,"K_128_A126",1,49]
[null,64000000004,"K_64_A04",0,0,0,0,64,null,null,null,"K_128_A004",1,null,"K_128_A125",1,17]
[null,64000000005,"K_64_A05",0,0,0,0,64,null,null,null,"K_128_A005",1,null,"K_128_A124",1,25]
[null,64000000006,"K_64_A06",0,0,0,0,64,null,null,null,"K_128_A006",1,null,"K_128_A123",1,57]
[null,64000000007,"K_64_A07",0,0,0,0,64,null,null,null,"K_128_A007",1,null,"K_128_A122",1,41]
[null,64000000008,"K_64_A08",0,0,0,0,64,null,null,null,"K_128_A008",1,null,"K_128_A121",1,9]
[null,64000000009,"K_64_A09",0,0,0,0,64,null,null,null,"K_128_A009",1,null,"K_128_A120",1,13]
[null,64000000010,"K_64_A10",0,0,0,0,64,null,null,null,"K_128_A010",1,null,"K_128_A119",1,45]
[null,64000000011,"K_64_A11",0,0,0,0,64,null,null,null,"K_128_A011",1,null,"K_128_A118",1,61]
[null,64000000012,"K_64_A12",0,0,0,0,64,null,null,null,"K_128_A012",1,null,"K_128_A117",1,29]
[null,64000000013,"K_64_A13",0,0,0,0,64,null,null,null,"K_128_A013",1,null,"K_128_A116",1,21]
[null,64000000014,"K_64_A14",0,0,0,0,64,null,null,null,"K_128_A014",1,null,"K_128_A115",1,53]
[null,64000000015,"K_64_A15",0,0,0,0,64,null,null,null,"K_128_A015",1,null,"K_128_A114",1,37]
[null,64000000016,"K_64_A16",0,0,0,0,64,null,null,null,"K_128_A016",1,null,"K_128_A113",1,5]
[null,64000000017,"K_64_A17",0,0,0,0,64,null,null,null,"K_128_A017",1,null,"K_128_A112",1,7]
[null,64000000018,"K_64_A18",0,0,0,0,64,null,null,null,"K_128_A018",1,null,"K_128_A111",1,39]
[null,64000000019,"K_64_A19",0,0,0,0,64,null,null,null,"K_128_A019",1,null,"K_128_A110",1,55]
[null,64000000020,"K_64_A20",0,0,0,0,64,null,null,null,"K_128_A020",1,null,"K_128_A109",1,23]
[null,64000000021,"K_64_A21",0,0,0,0,64,null,null,null,"K_128_A021",1,null,"K_128_A108",1,31]
[null,64000000022,"K_64_A22",0,0,0,0,64,null,null,null,"K_128_A022",1,null,"K_128_A107",1,63]
[null,64000000023,"K_64_A23",0,0,0,0,64,null,null,null,"K_128_A023",1,null,"K_128_A106",1,47]
[null,64000000024,"K_64_A24",0,0,0,0,64,null,null,null,"K_128_A024",1,null,"K_128_A105",1,15]
[null,64000000025,"K_64_A25",0,0,0,0,64,null,null,null,"K_128_A025",1,null,"K_128_A104",1,11]
[null,64000000026,"K_64_A26",0,0,0,0,64,null,null,null,"K_128_A026",1,null,"K_128_A103",1,43]
[null,64000000027,"K_64_A27",0,0,0,0,64,null,null,null,"K_128_A027",1,null,"K_128_A102",1,59]
[null,64000000028,"K_64_A28",0,0,0,0,64,null,null,null,"K_128_A028",1,null,"K_128_A101",1,27]
[null,64000000029,"K_64_A29",0,0,0,0,64,null,null,null,"K_128_A029",1,null,"K_128_A100",1,19]
[null,64000000030,"K_64_A30",0,0,0,0,64,null,null,null,"K_128_A030",1,null,"K_128_A099",1,51]
[null,64000000031,"K_64_A31",0,0,0,0,64,null,null,null,"K_128_A031",1,null,"K_128_A098",1,35]
[null,64000000032,"K_64_A32",0,0,0,0,64,null,null,null,"K_128_A032",1,null,"K_128_A097",1,3]
[null,64000000033,"K_64_A33",0,0,0,0,64,null,null,null,"K_128_A033",1,null,"K_128_A096",1,4]
[null,64000000034,"K_64_A34",0,0,0,0,64,null,null,null,"K_128_A034",1,null,"K_128_A095",1,36]
[null,64000000035,"K_64_A35",0,0,0,0,64,null,null,null,"K_128_A035",1,null,"K_128_A094",1,52]
[null,64000000036,"K_64_A36",0,0,0,0,64,null,null,null,"K_128_A036",1,null,"K_128_A093",1,20]
[null,64000000037,"K_64_A37",0,0,0,0,64,null,null,null,"K_128_A037",1,null,"K_128_A092",1,28]
[null,64000000038,"K_64_A38",0,0,0,0,64,null,null,null,"K_128_A038",1,null,"K_128_A091",1,60]
[null,64000000039,"K_64_A39",0,0,0,0,64,null,null,null,"K_128_A039",1,null,"K_128_A090",1,44]
[null,64000000040,"K_64_A40",0,0,0,0,64,null,null,null,"K_128_A040",1,null,"K_128_A089",1,12]
[null,64000000041,"K_64_A41",0,0,0,0,64,null,null,null,"K_128_A041",1,null,"K_128_A088",1,16]
[null,64000000042,"K_64_A42",0,0,0,0,64,null,null,null,"K_128_A042",1,null,"K_128_A087",1,48]
[null,64000000043,"K_64_A43",0,0,0,0,64,null,null,null,"K_128_A043",1,null,"K_128_A086",1,64]
[null,64000000044,"K_64_A44",0,0,0,0,64,null,null,null,"K_128_A044",1,null,"K_128_A085",1,32]
[null,64000000045,"K_64_A45",0,0,0,0,64,null,null,null,"K_128_A045",1,null,"K_128_A084",1,24]
[null,64000000046,"K_64_A46",0,0,0,0,64,null,null,null,"K_128_A046",1,null,"K_128_A083",1,56]
[null,64000000047,"K_64_A47",0,0,0,0,64,null,null,null,"K_128_A047",1,null,"K_128_A082",1,40]
[null,64000000048,"K_64_A48",0,0,0,0,64,null,null,null,"K_128_A048",1,null,"K_128_A081",1,8]
[null,64000000049,"K_64_A49",0,0,0,0,64,null,null,null,"K_128_A049",1,null,"K_128_A080",1,6]
[null,64000000050,"K_64_A50",0,0,0,0,64,null,null,null,"K_128_A050",1,null,"K_128_A079",1,38]
[null,64000000051,"K_64_A51",0,0,0,0,64,null,null,null,"K_128_A051",1,null,"K_128_A078",1,54]
[null,64000000052,"K_64_A52",0,0,0,0,64,null,null,null,"K_128_A052",1,null,"K_128_A077",1,22]
[null,64000000053,"K_64_A53",0,0,0,0,64,null,null,null,"K_128_A053",1,null,"K_128_A076",1,30]
[null,64000000054,"K_64_A54",0,0,0,0,64,null,null,null,"K_128_A054",1,null,"K_128_A075",1,62]
[null,64000000055,"K_64_A55",0,0,0,0,64,null,null,null,"K_128_A055",1,null,"K_128_A074",1,46]
[null,64000000056,"K_64_A56",0,0,0,0,64,null,null,null,"K_128_A056",1,null,"K_128_A073",1,14]
[null,64000000057,"K_64_A57",0,0,0,0,64,null,null,null,"K_128_A057",1,null,"K_128_A072",1,10]
[null,64000000058,"K_64_A58",0,0,0,0,64,null,null,null,"K_128_A058",1,null,"K_128_A071",1,42]
[null,64000000059,"K_64_A59",0,0,0,0,64,null,null,null,"K_128_A059",1,null,"K_128_A070",1,58]
[null,64000000060,"K_64_A60",0,0,0,0,64,null,null,null,"K_128_A060",1,null,"K_128_A069",1,26]
[null,64000000061,"K_64_A61",0,0,0,0,64,null,null,null,"K_128_A061",1,null,"K_128_A068",1,18]
[null,64000000062,"K_64_A62",0,0,0,0,64,null,null,null,"K_128_A062",1,null,"K_128_A067",1,50]
[null,64000000063,"K_64_A63",0,0,0,0,64,null,null,null,"K_128_A063",1,null,"K_128_A066",1,34]
[null,64000000064,"K_64_A64",0,0,0,0,64,null,null,null,"K_128_A064",1,null,"K_128_A065",1,2]
[null,64001128001,"K_64_A01",1,1,1,null,64,1,128,"A",null,1,"A",null,128,1]
[null,64001128002,"K_64_A02",1,1,1,null,64,1,128,"A",null,2,"A",null,127,33]
[null,64001128003,"K_64_A03",1,1,1,null,64,1,128,"A",null,3,"A",null,126,49]
[null,64001128004,"K_64_A04",1,1,1,null,64,1,128,"A",null,4,"A",null,125,17]
[null,64001128005,"K_64_A05",1,1,1,null,64,1,128,"A",null,5,"A",null,124,25]
[null,64001128006,"K_64_A06",1,1,1,null,64,1,128,"A",null,6,"A",null,123,57]
[null,64001128007,"K_64_A07",1,1,1,null,64,1,128,"A",null,7,"A",null,122,41]
[null,64001128008,"K_64_A08",1,1,1,null,64,1,128,"A",null,8,"A",null,121,9]
[null,64001128009,"K_64_A09",1,1,1,null,64,1,128,"A",null,9,"A",null,120,13]
[null,64001128010,"K_64_A10",1,1,1,null,64,1,128,"A",null,10,"A",null,119,45]
[null,64001128011,"K_64_A11",1,1,1,null,64,1,128,"A",null,11,"A",null,118,61]
[null,64001128012,"K_64_A12",1,1,1,null,64,1,128,"A",null,12,"A",null,117,29]
[null,64001128013,"K_64_A13",1,1,1,null,64,1,128,"A",null,13,"A",null,116,21]
[null,64001128014,"K_64_A14",1,1,1,null,64,1,128,"A",null,14,"A",null,115,53]
[null,64001128015,"K_64_A15",1,1,1,null,64,1,128,"A",null,15,"A",null,114,37]
[null,64001128016,"K_64_A16",1,1,1,null,64,1,128,"A",null,16,"A",null,113,5]
[null,64001128017,"K_64_A17",1,1,1,null,64,1,128,"A",null,17,"A",null,112,7]
[null,64001128018,"K_64_A18",1,1,1,null,64,1,128,"A",null,18,"A",null,111,39]
[null,64001128019,"K_64_A19",1,1,1,null,64,1,128,"A",null,19,"A",null,110,55]
[null,64001128020,"K_64_A20",1,1,1,null,64,1,128,"A",null,20,"A",null,109,23]
[null,64001128021,"K_64_A21",1,1,1,null,64,1,128,"A",null,21,"A",null,108,31]
[null,64001128022,"K_64_A22",1,1,1,null,64,1,128,"A",null,22,"A",null,107,63]
[null,64001128023,"K_64_A23",1,1,1,null,64,1,128,"A",null,23,"A",null,106,47]
[null,64001128024,"K_64_A24",1,1,1,null,64,1,128,"A",null,24,"A",null,105,15]
[null,64001128025,"K_64_A25",1,1,1,null,64,1,128,"A",null,25,"A",null,104,11]
[null,64001128026,"K_64_A26",1,1,1,null,64,1,128,"A",null,26,"A",null,103,43]
[null,64001128027,"K_64_A27",1,1,1,null,64,1,128,"A",null,27,"A",null,102,59]
[null,64001128028,"K_64_A28",1,1,1,null,64,1,128,"A",null,28,"A",null,101,27]
[null,64001128029,"K_64_A29",1,1,1,null,64,1,128,"A",null,29,"A",null,100,19]
[null,64001128030,"K_64_A30",1,1,1,null,64,1,128,"A",null,30,"A",null,99,51]
[null,64001128031,"K_64_A31",1,1,1,null,64,1,128,"A",null,31,"A",null,98,35]
[null,64001128032,"K_64_A32",1,1,1,null,64,1,128,"A",null,32,"A",null,97,3]
[null,64001128033,"K_64_A33",1,1,1,null,64,1,128,"A",null,33,"A",null,96,4]
[null,64001128034,"K_64_A34",1,1,1,null,64,1,128,"A",null,34,"A",null,95,36]
[null,64001128035,"K_64_A35",1,1,1,null,64,1,128,"A",null,35,"A",null,94,52]
[null,64001128036,"K_64_A36",1,1,1,null,64,1,128,"A",null,36,"A",null,93,20]
[null,64001128037,"K_64_A37",1,1,1,null,64,1,128,"A",null,37,"A",null,92,28]
[null,64001128038,"K_64_A38",1,1,1,null,64,1,128,"A",null,38,"A",null,91,60]
[null,64001128039,"K_64_A39",1,1,1,null,64,1,128,"A",null,39,"A",null,90,44]
[null,64001128040,"K_64_A40",1,1,1,null,64,1,128,"A",null,40,"A",null,89,12]
[null,64001128041,"K_64_A41",1,1,1,null,64,1,128,"A",null,41,"A",null,88,16]
[null,64001128042,"K_64_A42",1,1,1,null,64,1,128,"A",null,42,"A",null,87,48]
[null,64001128043,"K_64_A43",1,1,1,null,64,1,128,"A",null,43,"A",null,86,64]
[null,64001128044,"K_64_A44",1,1,1,null,64,1,128,"A",null,44,"A",null,85,32]
[null,64001128045,"K_64_A45",1,1,1,null,64,1,128,"A",null,45,"A",null,84,24]
[null,64001128046,"K_64_A46",1,1,1,null,64,1,128,"A",null,46,"A",null,83,56]
[null,64001128047,"K_64_A47",1,1,1,null,64,1,128,"A",null,47,"A",null,82,40]
[null,64001128048,"K_64_A48",1,1,1,null,64,1,128,"A",null,48,"A",null,81,8]
[null,64001128049,"K_64_A49",1,1,1,null,64,1,128,"A",null,49,"A",null,80,6]
[null,64001128050,"K_64_A50",1,1,1,null,64,1,128,"A",null,50,"A",null,79,38]
[null,64001128051,"K_64_A51",1,1,1,null,64,1,128,"A",null,51,"A",null,78,54]
[null,64001128052,"K_64_A52",1,1,1,null,64,1,128,"A",null,52,"A",null,77,22]
[null,64001128053,"K_64_A53",1,1,1,null,64,1,128,"A",null,53,"A",null,76,30]
[null,64001128054,"K_64_A54",1,1,1,null,64,1,128,"A",null,54,"A",null,75,62]
[null,64001128055,"K_64_A55",1,1,1,null,64,1,128,"A",null,55,"A",null,74,46]
[null,64001128056,"K_64_A56",1,1,1,null,64,1,128,"A",null,56,"A",null,73,14]
[null,64001128057,"K_64_A57",1,1,1,null,64,1,128,"A",null,57,"A",null,72,10]
[null,64001128058,"K_64_A58",1,1,1,null,64,1,128,"A",null,58,"A",null,71,42]
[null,64001128059,"K_64_A59",1,1,1,null,64,1,128,"A",null,59,"A",null,70,58]
[null,64001128060,"K_64_A60",1,1,1,null,64,1,128,"A",null,60,"A",null,69,26]
[null,64001128061,"K_64_A61",1,1,1,null,64,1,128,"A",null,61,"A",null,68,18]
[null,64001128062,"K_64_A62",1,1,1,null,64,1,128,"A",null,62,"A",null,67,50]
[null,64001128063,"K_64_A63",1,1,1,null,64,1,128,"A",null,63,"A",null,66,34]
[null,64001128064,"K_64_A64",1,1,1,null,64,1,128,"A",null,64,"A",null,65,2]
[null,64002064001,"K_64_A01",1,1,1,null,64,2,64,"A",null,1,"B",null,64,1]
[null,64002064002,"K_64_A02",1,1,1,null,64,2,64,"B",null,1,"A",null,64,33]
[null,64002064003,"K_64_A03",1,1,1,null,64,2,64,"A",null,2,"B",null,63,49]
[null,64002064004,"K_64_A04",1,1,1,null,64,2,64,"B",null,2,"A",null,63,17]
[null,64002064005,"K_64_A05",1,1,1,null,64,2,64,"A",null,3,"B",null,62,25]
[null,64002064006,"K_64_A06",1,1,1,null,64,2,64,"B",null,3,"A",null,62,57]
[null,64002064007,"K_64_A07",1,1,1,null,64,2,64,"A",null,4,"B",null,61,41]
[null,64002064008,"K_64_A08",1,1,1,null,64,2,64,"B",null,4,"A",null,61,9]
[null,64002064009,"K_64_A09",1,1,1,null,64,2,64,"A",null,5,"B",null,60,13]
[null,64002064010,"K_64_A10",1,1,1,null,64,2,64,"B",null,5,"A",null,60,45]
[null,64002064011,"K_64_A11",1,1,1,null,64,2,64,"A",null,6,"B",null,59,61]
[null,64002064012,"K_64_A12",1,1,1,null,64,2,64,"B",null,6,"A",null,59,29]
[null,64002064013,"K_64_A13",1,1,1,null,64,2,64,"A",null,7,"B",null,58,21]
[null,64002064014,"K_64_A14",1,1,1,null,64,2,64,"B",null,7,"A",null,58,53]
[null,64002064015,"K_64_A15",1,1,1,null,64,2,64,"A",null,8,"B",null,57,37]
[null,64002064016,"K_64_A16",1,1,1,null,64,2,64,"B",null,8,"A",null,57,5]
[null,64002064017,"K_64_A17",1,1,1,null,64,2,64,"A",null,9,"B",null,56,7]
[null,64002064018,"K_64_A18",1,1,1,null,64,2,64,"B",null,9,"A",null,56,39]
[null,64002064019,"K_64_A19",1,1,1,null,64,2,64,"A",null,10,"B",null,55,55]
[null,64002064020,"K_64_A20",1,1,1,null,64,2,64,"B",null,10,"A",null,55,23]
[null,64002064021,"K_64_A21",1,1,1,null,64,2,64,"A",null,11,"B",null,54,31]
[null,64002064022,"K_64_A22",1,1,1,null,64,2,64,"B",null,11,"A",null,54,63]
[null,64002064023,"K_64_A23",1,1,1,null,64,2,64,"A",null,12,"B",null,53,47]
[null,64002064024,"K_64_A24",1,1,1,null,64,2,64,"B",null,12,"A",null,53,15]
[null,64002064025,"K_64_A25",1,1,1,null,64,2,64,"A",null,13,"B",null,52,11]
[null,64002064026,"K_64_A26",1,1,1,null,64,2,64,"B",null,13,"A",null,52,43]
[null,64002064027,"K_64_A27",1,1,1,null,64,2,64,"A",null,14,"B",null,51,59]
[null,64002064028,"K_64_A28",1,1,1,null,64,2,64,"B",null,14,"A",null,51,27]
[null,64002064029,"K_64_A29",1,1,1,null,64,2,64,"A",null,15,"B",null,50,19]
[null,64002064030,"K_64_A30",1,1,1,null,64,2,64,"B",null,15,"A",null,50,51]
[null,64002064031,"K_64_A31",1,1,1,null,64,2,64,"A",null,16,"B",null,49,35]
[null,64002064032,"K_64_A32",1,1,1,null,64,2,64,"B",null,16,"A",null,49,3]
[null,64002064033,"K_64_A33",1,1,1,null,64,2,64,"A",null,17,"B",null,48,4]
[null,64002064034,"K_64_A34",1,1,1,null,64,2,64,"B",null,17,"A",null,48,36]
[null,64002064035,"K_64_A35",1,1,1,null,64,2,64,"A",null,18,"B",null,47,52]
[null,64002064036,"K_64_A36",1,1,1,null,64,2,64,"B",null,18,"A",null,47,20]
[null,64002064037,"K_64_A37",1,1,1,null,64,2,64,"A",null,19,"B",null,46,28]
[null,64002064038,"K_64_A38",1,1,1,null,64,2,64,"B",null,19,"A",null,46,60]
[null,64002064039,"K_64_A39",1,1,1,null,64,2,64,"A",null,20,"B",null,45,44]
[null,64002064040,"K_64_A40",1,1,1,null,64,2,64,"B",null,20,"A",null,45,12]
[null,64002064041,"K_64_A41",1,1,1,null,64,2,64,"A",null,21,"B",null,44,16]
[null,64002064042,"K_64_A42",1,1,1,null,64,2,64,"B",null,21,"A",null,44,48]
[null,64002064043,"K_64_A43",1,1,1,null,64,2,64,"A",null,22,"B",null,43,64]
[null,64002064044,"K_64_A44",1,1,1,null,64,2,64,"B",null,22,"A",null,43,32]
[null,64002064045,"K_64_A45",1,1,1,null,64,2,64,"A",null,23,"B",null,42,24]
[null,64002064046,"K_64_A46",1,1,1,null,64,2,64,"B",null,23,"A",null,42,56]
[null,64002064047,"K_64_A47",1,1,1,null,64,2,64,"A",null,24,"B",null,41,40]
[null,64002064048,"K_64_A48",1,1,1,null,64,2,64,"B",null,24,"A",null,41,8]
[null,64002064049,"K_64_A49",1,1,1,null,64,2,64,"A",null,25,"B",null,40,6]
[null,64002064050,"K_64_A50",1,1,1,null,64,2,64,"B",null,25,"A",null,40,38]
[null,64002064051,"K_64_A51",1,1,1,null,64,2,64,"A",null,26,"B",null,39,54]
[null,64002064052,"K_64_A52",1,1,1,null,64,2,64,"B",null,26,"A",null,39,22]
[null,64002064053,"K_64_A53",1,1,1,null,64,2,64,"A",null,27,"B",null,38,30]
[null,64002064054,"K_64_A54",1,1,1,null,64,2,64,"B",null,27,"A",null,38,62]
[null,64002064055,"K_64_A55",1,1,1,null,64,2,64,"A",null,28,"B",null,37,46]
[null,64002064056,"K_64_A56",1,1,1,null,64,2,64,"B",null,28,"A",null,37,14]
[null,64002064057,"K_64_A57",1,1,1,null,64,2,64,"A",null,29,"B",null,36,10]
[null,64002064058,"K_64_A58",1,1,1,null,64,2,64,"B",null,29,"A",null,36,42]
[null,64002064059,"K_64_A59",1,1,1,null,64,2,64,"A",null,30,"B",null,35,58]
[null,64002064060,"K_64_A60",1,1,1,null,64,2,64,"B",null,30,"A",null,35,26]
[null,64002064061,"K_64_A61",1,1,1,null,64,2,64,"A",null,31,"B",null,34,18]
[null,64002064062,"K_64_A62",1,1,1,null,64,2,64,"B",null,31,"A",null,34,50]
[null,64002064063,"K_64_A63",1,1,1,null,64,2,64,"A",null,32,"B",null,33,34]
[null,64002064064,"K_64_A64",1,1,1,null,64,2,64,"B",null,32,"A",null,33,2]
[null,64004032001,"K_64_A01",1,1,1,null,64,4,32,"A",null,1,"B",null,32,1]
[null,64004032002,"K_64_A02",1,1,1,null,64,4,32,"B",null,1,"C",null,32,33]
[null,64004032003,"K_64_A03",1,1,1,null,64,4,32,"D",null,1,"A",null,32,49]
[null,64004032004,"K_64_A04",1,1,1,null,64,4,32,"C",null,1,"D",null,32,17]
[null,64004032005,"K_64_A05",1,1,1,null,64,4,32,"A",null,2,"C",null,31,25]
[null,64004032006,"K_64_A06",1,1,1,null,64,4,32,"B",null,2,"D",null,31,57]
[null,64004032007,"K_64_A07",1,1,1,null,64,4,32,"D",null,2,"B",null,31,41]
[null,64004032008,"K_64_A08",1,1,1,null,64,4,32,"C",null,2,"A",null,31,9]
[null,64004032009,"K_64_A09",1,1,1,null,64,4,32,"A",null,3,"B",null,30,13]
[null,64004032010,"K_64_A10",1,1,1,null,64,4,32,"B",null,3,"C",null,30,45]
[null,64004032011,"K_64_A11",1,1,1,null,64,4,32,"D",null,3,"A",null,30,61]
[null,64004032012,"K_64_A12",1,1,1,null,64,4,32,"C",null,3,"D",null,30,29]
[null,64004032013,"K_64_A13",1,1,1,null,64,4,32,"A",null,4,"C",null,29,21]
[null,64004032014,"K_64_A14",1,1,1,null,64,4,32,"B",null,4,"D",null,29,53]
[null,64004032015,"K_64_A15",1,1,1,null,64,4,32,"D",null,4,"B",null,29,37]
[null,64004032016,"K_64_A16",1,1,1,null,64,4,32,"C",null,4,"A",null,29,5]
[null,64004032017,"K_64_A17",1,1,1,null,64,4,32,"A",null,5,"B",null,28,7]
[null,64004032018,"K_64_A18",1,1,1,null,64,4,32,"B",null,5,"C",null,28,39]
[null,64004032019,"K_64_A19",1,1,1,null,64,4,32,"D",null,5,"A",null,28,55]
[null,64004032020,"K_64_A20",1,1,1,null,64,4,32,"C",null,5,"D",null,28,23]
[null,64004032021,"K_64_A21",1,1,1,null,64,4,32,"A",null,6,"C",null,27,31]
[null,64004032022,"K_64_A22",1,1,1,null,64,4,32,"B",null,6,"D",null,27,63]
[null,64004032023,"K_64_A23",1,1,1,null,64,4,32,"D",null,6,"B",null,27,47]
[null,64004032024,"K_64_A24",1,1,1,null,64,4,32,"C",null,6,"A",null,27,15]
[null,64004032025,"K_64_A25",1,1,1,null,64,4,32,"A",null,7,"B",null,26,11]
[null,64004032026,"K_64_A26",1,1,1,null,64,4,32,"B",null,7,"C",null,26,43]
[null,64004032027,"K_64_A27",1,1,1,null,64,4,32,"D",null,7,"A",null,26,59]
[null,64004032028,"K_64_A28",1,1,1,null,64,4,32,"C",null,7,"D",null,26,27]
[null,64004032029,"K_64_A29",1,1,1,null,64,4,32,"A",null,8,"C",null,25,19]
[null,64004032030,"K_64_A30",1,1,1,null,64,4,32,"B",null,8,"D",null,25,51]
[null,64004032031,"K_64_A31",1,1,1,null,64,4,32,"D",null,8,"B",null,25,35]
[null,64004032032,"K_64_A32",1,1,1,null,64,4,32,"C",null,8,"A",null,25,3]
[null,64004032033,"K_64_A33",1,1,1,null,64,4,32,"B",null,9,"D",null,24,4]
[null,64004032034,"K_64_A34",1,1,1,null,64,4,32,"C",null,9,"A",null,24,36]
[null,64004032035,"K_64_A35",1,1,1,null,64,4,32,"A",null,9,"C",null,24,52]
[null,64004032036,"K_64_A36",1,1,1,null,64,4,32,"D",null,9,"B",null,24,20]
[null,64004032037,"K_64_A37",1,1,1,null,64,4,32,"B",null,10,"A",null,23,28]
[null,64004032038,"K_64_A38",1,1,1,null,64,4,32,"C",null,10,"B",null,23,60]
[null,64004032039,"K_64_A39",1,1,1,null,64,4,32,"A",null,10,"D",null,23,44]
[null,64004032040,"K_64_A40",1,1,1,null,64,4,32,"D",null,10,"C",null,23,12]
[null,64004032041,"K_64_A41",1,1,1,null,64,4,32,"B",null,11,"D",null,22,16]
[null,64004032042,"K_64_A42",1,1,1,null,64,4,32,"C",null,11,"A",null,22,48]
[null,64004032043,"K_64_A43",1,1,1,null,64,4,32,"A",null,11,"C",null,22,64]
[null,64004032044,"K_64_A44",1,1,1,null,64,4,32,"D",null,11,"B",null,22,32]
[null,64004032045,"K_64_A45",1,1,1,null,64,4,32,"B",null,12,"A",null,21,24]
[null,64004032046,"K_64_A46",1,1,1,null,64,4,32,"C",null,12,"B",null,21,56]
[null,64004032047,"K_64_A47",1,1,1,null,64,4,32,"A",null,12,"D",null,21,40]
[null,64004032048,"K_64_A48",1,1,1,null,64,4,32,"D",null,12,"C",null,21,8]
[null,64004032049,"K_64_A49",1,1,1,null,64,4,32,"B",null,13,"D",null,20,6]
[null,64004032050,"K_64_A50",1,1,1,null,64,4,32,"C",null,13,"A",null,20,38]
[null,64004032051,"K_64_A51",1,1,1,null,64,4,32,"A",null,13,"C",null,20,54]
[null,64004032052,"K_64_A52",1,1,1,null,64,4,32,"D",null,13,"B",null,20,22]
[null,64004032053,"K_64_A53",1,1,1,null,64,4,32,"B",null,14,"A",null,19,30]
[null,64004032054,"K_64_A54",1,1,1,null,64,4,32,"C",null,14,"B",null,19,62]
[null,64004032055,"K_64_A55",1,1,1,null,64,4,32,"A",null,14,"D",null,19,46]
[null,64004032056,"K_64_A56",1,1,1,null,64,4,32,"D",null,14,"C",null,19,14]
[null,64004032057,"K_64_A57",1,1,1,null,64,4,32,"B",null,15,"D",null,18,10]
[null,64004032058,"K_64_A58",1,1,1,null,64,4,32,"C",null,15,"A",null,18,42]
[null,64004032059,"K_64_A59",1,1,1,null,64,4,32,"A",null,15,"C",null,18,58]
[null,64004032060,"K_64_A60",1,1,1,null,64,4,32,"D",null,15,"B",null,18,26]
[null,64004032061,"K_64_A61",1,1,1,null,64,4,32,"B",null,16,"A",null,17,18]
[null,64004032062,"K_64_A62",1,1,1,null,64,4,32,"C",null,16,"B",null,17,50]
[null,64004032063,"K_64_A63",1,1,1,null,64,4,32,"A",null,16,"D",null,17,34]
[null,64004032064,"K_64_A64",1,1,1,null,64,4,32,"D",null,16,"C",null,17,2]
[null,64008016001,"K_64_A01",1,1,1,null,64,8,16,"A",null,1,"B",null,16,1]
[null,64008016002,"K_64_A02",1,1,1,null,64,8,16,"B",null,1,"C",null,16,33]
[null,64008016003,"K_64_A03",1,1,1,null,64,8,16,"D",null,1,"E",null,16,49]
[null,64008016004,"K_64_A04",1,1,1,null,64,8,16,"C",null,1,"D",null,16,17]
[null,64008016005,"K_64_A05",1,1,1,null,64,8,16,"G",null,1,"H",null,16,25]
[null,64008016006,"K_64_A06",1,1,1,null,64,8,16,"H",null,1,"A",null,16,57]
[null,64008016007,"K_64_A07",1,1,1,null,64,8,16,"F",null,1,"G",null,16,41]
[null,64008016008,"K_64_A08",1,1,1,null,64,8,16,"E",null,1,"F",null,16,9]
[null,64008016009,"K_64_A09",1,1,1,null,64,8,16,"D",null,2,"G",null,15,13]
[null,64008016010,"K_64_A10",1,1,1,null,64,8,16,"A",null,2,"D",null,15,45]
[null,64008016011,"K_64_A11",1,1,1,null,64,8,16,"C",null,2,"F",null,15,61]
[null,64008016012,"K_64_A12",1,1,1,null,64,8,16,"B",null,2,"E",null,15,29]
[null,64008016013,"K_64_A13",1,1,1,null,64,8,16,"F",null,2,"A",null,15,21]
[null,64008016014,"K_64_A14",1,1,1,null,64,8,16,"G",null,2,"B",null,15,53]
[null,64008016015,"K_64_A15",1,1,1,null,64,8,16,"E",null,2,"H",null,15,37]
[null,64008016016,"K_64_A16",1,1,1,null,64,8,16,"H",null,2,"C",null,15,5]
[null,64008016017,"K_64_A17",1,1,1,null,64,8,16,"F",null,1,"E",null,16,7]
[null,64008016018,"K_64_A18",1,1,1,null,64,8,16,"G",null,1,"F",null,16,39]
[null,64008016019,"K_64_A19",1,1,1,null,64,8,16,"A",null,1,"H",null,16,55]
[null,64008016020,"K_64_A20",1,1,1,null,64,8,16,"H",null,1,"G",null,16,23]
[null,64008016021,"K_64_A21",1,1,1,null,64,8,16,"D",null,1,"C",null,16,31]
[null,64008016022,"K_64_A22",1,1,1,null,64,8,16,"E",null,1,"D",null,16,63]
[null,64008016023,"K_64_A23",1,1,1,null,64,8,16,"C",null,1,"B",null,16,47]
[null,64008016024,"K_64_A24",1,1,1,null,64,8,16,"B",null,1,"A",null,16,15]
[null,64008016025,"K_64_A25",1,1,1,null,64,8,16,"C",null,2,"H",null,15,11]
[null,64008016026,"K_64_A26",1,1,1,null,64,8,16,"H",null,2,"E",null,15,43]
[null,64008016027,"K_64_A27",1,1,1,null,64,8,16,"B",null,2,"G",null,15,59]
[null,64008016028,"K_64_A28",1,1,1,null,64,8,16,"A",null,2,"F",null,15,27]
[null,64008016029,"K_64_A29",1,1,1,null,64,8,16,"E",null,2,"B",null,15,19]
[null,64008016030,"K_64_A30",1,1,1,null,64,8,16,"F",null,2,"C",null,15,51]
[null,64008016031,"K_64_A31",1,1,1,null,64,8,16,"D",null,2,"A",null,15,35]
[null,64008016032,"K_64_A32",1,1,1,null,64,8,16,"G",null,2,"D",null,15,3]
[null,64008016033,"K_64_A33",1,1,1,null,64,8,16,"E",null,7,"F",null,10,4]
[null,64008016034,"K_64_A34",1,1,1,null,64,8,16,"F",null,7,"G",null,10,36]
[null,64008016035,"K_64_A35",1,1,1,null,64,8,16,"H",null,7,"A",null,10,52]
[null,64008016036,"K_64_A36",1,1,1,null,64,8,16,"G",null,7,"H",null,10,20]
[null,64008016037,"K_64_A37",1,1,1,null,64,8,16,"C",null,7,"D",null,10,28]
[null,64008016038,"K_64_A38",1,1,1,null,64,8,16,"D",null,7,"E",null,10,60]
[null,64008016039,"K_64_A39",1,1,1,null,64,8,16,"B",null,7,"C",null,10,44]
[null,64008016040,"K_64_A40",1,1,1,null,64,8,16,"A",null,7,"B",null,10,12]
[null,64008016041,"K_64_A41",1,1,1,null,64,8,16,"H",null,8,"C",null,9,16]
[null,64008016042,"K_64_A42",1,1,1,null,64,8,16,"E",null,8,"H",null,9,48]
[null,64008016043,"K_64_A43",1,1,1,null,64,8,16,"G",null,8,"B",null,9,64]
[null,64008016044,"K_64_A44",1,1,1,null,64,8,16,"F",null,8,"A",null,9,32]
[null,64008016045,"K_64_A45",1,1,1,null,64,8,16,"B",null,8,"E",null,9,24]
[null,64008016046,"K_64_A46",1,1,1,null,64,8,16,"C",null,8,"F",null,9,56]
[null,64008016047,"K_64_A47",1,1,1,null,64,8,16,"A",null,8,"D",null,9,40]
[null,64008016048,"K_64_A48",1,1,1,null,64,8,16,"D",null,8,"G",null,9,8]
[null,64008016049,"K_64_A49",1,1,1,null,64,8,16,"B",null,7,"A",null,10,6]
[null,64008016050,"K_64_A50",1,1,1,null,64,8,16,"C",null,7,"B",null,10,38]
[null,64008016051,"K_64_A51",1,1,1,null,64,8,16,"E",null,7,"D",null,10,54]
[null,64008016052,"K_64_A52",1,1,1,null,64,8,16,"D",null,7,"C",null,10,22]
[null,64008016053,"K_64_A53",1,1,1,null,64,8,16,"H",null,7,"G",null,10,30]
[null,64008016054,"K_64_A54",1,1,1,null,64,8,16,"A",null,7,"H",null,10,62]
[null,64008016055,"K_64_A55",1,1,1,null,64,8,16,"G",null,7,"F",null,10,46]
[null,64008016056,"K_64_A56",1,1,1,null,64,8,16,"F",null,7,"E",null,10,14]
[null,64008016057,"K_64_A57",1,1,1,null,64,8,16,"G",null,8,"D",null,9,10]
[null,64008016058,"K_64_A58",1,1,1,null,64,8,16,"D",null,8,"A",null,9,42]
[null,64008016059,"K_64_A59",1,1,1,null,64,8,16,"F",null,8,"C",null,9,58]
[null,64008016060,"K_64_A60",1,1,1,null,64,8,16,"E",null,8,"B",null,9,26]
[null,64008016061,"K_64_A61",1,1,1,null,64,8,16,"A",null,8,"F",null,9,18]
[null,64008016062,"K_64_A62",1,1,1,null,64,8,16,"B",null,8,"G",null,9,50]
[null,64008016063,"K_64_A63",1,1,1,null,64,8,16,"H",null,8,"E",null,9,34]
[null,64008016064,"K_64_A64",1,1,1,null,64,8,16,"C",null,8,"H",null,9,2]
[null,64016008001,"K_64_A01",1,1,1,null,64,16,8,"A",null,1,"B",null,8,1]
[null,64016008002,"K_64_A02",1,1,1,null,64,16,8,"B",null,1,"C",null,8,33]
[null,64016008003,"K_64_A03",1,1,1,null,64,16,8,"D",null,1,"E",null,8,49]
[null,64016008004,"K_64_A04",1,1,1,null,64,16,8,"C",null,1,"D",null,8,17]
[null,64016008005,"K_64_A05",1,1,1,null,64,16,8,"G",null,1,"H",null,8,25]
[null,64016008006,"K_64_A06",1,1,1,null,64,16,8,"H",null,1,"I",null,8,57]
[null,64016008007,"K_64_A07",1,1,1,null,64,16,8,"F",null,1,"G",null,8,41]
[null,64016008008,"K_64_A08",1,1,1,null,64,16,8,"E",null,1,"F",null,8,9]
[null,64016008009,"K_64_A09",1,1,1,null,64,16,8,"M",null,1,"N",null,8,13]
[null,64016008010,"K_64_A10",1,1,1,null,64,16,8,"J",null,1,"K",null,8,45]
[null,64016008011,"K_64_A11",1,1,1,null,64,16,8,"L",null,1,"M",null,8,61]
[null,64016008012,"K_64_A12",1,1,1,null,64,16,8,"K",null,1,"L",null,8,29]
[null,64016008013,"K_64_A13",1,1,1,null,64,16,8,"O",null,1,"P",null,8,21]
[null,64016008014,"K_64_A14",1,1,1,null,64,16,8,"P",null,1,"A",null,8,53]
[null,64016008015,"K_64_A15",1,1,1,null,64,16,8,"N",null,1,"O",null,8,37]
[null,64016008016,"K_64_A16",1,1,1,null,64,16,8,"I",null,1,"J",null,8,5]
[null,64016008017,"K_64_A17",1,1,1,null,64,16,8,"P",null,2,"G",null,7,7]
[null,64016008018,"K_64_A18",1,1,1,null,64,16,8,"E",null,2,"L",null,7,39]
[null,64016008019,"K_64_A19",1,1,1,null,64,16,8,"G",null,2,"N",null,7,55]
[null,64016008020,"K_64_A20",1,1,1,null,64,16,8,"F",null,2,"M",null,7,23]
[null,64016008021,"K_64_A21",1,1,1,null,64,16,8,"B",null,2,"I",null,7,31]
[null,64016008022,"K_64_A22",1,1,1,null,64,16,8,"C",null,2,"J",null,7,63]
[null,64016008023,"K_64_A23",1,1,1,null,64,16,8,"A",null,2,"H",null,7,47]
[null,64016008024,"K_64_A24",1,1,1,null,64,16,8,"D",null,2,"K",null,7,15]
[null,64016008025,"K_64_A25",1,1,1,null,64,16,8,"L",null,2,"C",null,7,11]
[null,64016008026,"K_64_A26",1,1,1,null,64,16,8,"M",null,2,"D",null,7,43]
[null,64016008027,"K_64_A27",1,1,1,null,64,16,8,"O",null,2,"F",null,7,59]
[null,64016008028,"K_64_A28",1,1,1,null,64,16,8,"N",null,2,"E",null,7,27]
[null,64016008029,"K_64_A29",1,1,1,null,64,16,8,"J",null,2,"A",null,7,19]
[null,64016008030,"K_64_A30",1,1,1,null,64,16,8,"K",null,2,"B",null,7,51]
[null,64016008031,"K_64_A31",1,1,1,null,64,16,8,"I",null,2,"P",null,7,35]
[null,64016008032,"K_64_A32",1,1,1,null,64,16,8,"H",null,2,"O",null,7,3]
[null,64016008033,"K_64_A33",1,1,1,null,64,16,8,"N",null,3,"D",null,6,4]
[null,64016008034,"K_64_A34",1,1,1,null,64,16,8,"G",null,3,"M",null,6,36]
[null,64016008035,"K_64_A35",1,1,1,null,64,16,8,"M",null,3,"C",null,6,52]
[null,64016008036,"K_64_A36",1,1,1,null,64,16,8,"L",null,3,"B",null,6,20]
[null,64016008037,"K_64_A37",1,1,1,null,64,16,8,"D",null,3,"J",null,6,28]
[null,64016008038,"K_64_A38",1,1,1,null,64,16,8,"A",null,3,"G",null,6,60]
[null,64016008039,"K_64_A39",1,1,1,null,64,16,8,"C",null,3,"I",null,6,44]
[null,64016008040,"K_64_A40",1,1,1,null,64,16,8,"B",null,3,"H",null,6,12]
[null,64016008041,"K_64_A41",1,1,1,null,64,16,8,"J",null,3,"P",null,6,16]
[null,64016008042,"K_64_A42",1,1,1,null,64,16,8,"O",null,3,"E",null,6,48]
[null,64016008043,"K_64_A43",1,1,1,null,64,16,8,"E",null,3,"K",null,6,64]
[null,64016008044,"K_64_A44",1,1,1,null,64,16,8,"P",null,3,"F",null,6,32]
[null,64016008045,"K_64_A45",1,1,1,null,64,16,8,"H",null,3,"N",null,6,24]
[null,64016008046,"K_64_A46",1,1,1,null,64,16,8,"I",null,3,"O",null,6,56]
[null,64016008047,"K_64_A47",1,1,1,null,64,16,8,"K",null,3,"A",null,6,40]
[null,64016008048,"K_64_A48",1,1,1,null,64,16,8,"F",null,3,"L",null,6,8]
[null,64016008049,"K_64_A49",1,1,1,null,64,16,8,"C",null,4,"E",null,5,6]
[null,64016008050,"K_64_A50",1,1,1,null,64,16,8,"D",null,4,"F",null,5,38]
[null,64016008051,"K_64_A51",1,1,1,null,64,16,8,"F",null,4,"H",null,5,54]
[null,64016008052,"K_64_A52",1,1,1,null,64,16,8,"E",null,4,"G",null,5,22]
[null,64016008053,"K_64_A53",1,1,1,null,64,16,8,"M",null,4,"O",null,5,30]
[null,64016008054,"K_64_A54",1,1,1,null,64,16,8,"N",null,4,"P",null,5,62]
[null,64016008055,"K_64_A55",1,1,1,null,64,16,8,"L",null,4,"N",null,5,46]
[null,64016008056,"K_64_A56",1,1,1,null,64,16,8,"G",null,4,"I",null,5,14]
[null,64016008057,"K_64_A57",1,1,1,null,64,16,8,"O",null,4,"A",null,5,10]
[null,64016008058,"K_64_A58",1,1,1,null,64,16,8,"P",null,4,"B",null,5,42]
[null,64016008059,"K_64_A59",1,1,1,null,64,16,8,"B",null,4,"D",null,5,58]
[null,64016008060,"K_64_A60",1,1,1,null,64,16,8,"A",null,4,"C",null,5,26]
[null,64016008061,"K_64_A61",1,1,1,null,64,16,8,"I",null,4,"K",null,5,18]
[null,64016008062,"K_64_A62",1,1,1,null,64,16,8,"J",null,4,"L",null,5,50]
[null,64016008063,"K_64_A63",1,1,1,null,64,16,8,"H",null,4,"J",null,5,34]
[null,64016008064,"K_64_A64",1,1,1,null,64,16,8,"K",null,4,"M",null,5,2]
[null,64032004001,"K_64_A01",1,1,1,null,64,32,4,"AA",null,1,"AQ",null,4,1]
[null,64032004002,"K_64_A02",1,1,1,null,64,32,4,"AQ",null,1,"AY",null,4,33]
[null,64032004003,"K_64_A03",1,1,1,null,64,32,4,"AI",null,1,"AA",null,4,49]
[null,64032004004,"K_64_A04",1,1,1,null,64,32,4,"AS",null,1,"BA",null,4,17]
[null,64032004005,"K_64_A05",1,1,1,null,64,32,4,"AY",null,1,"AI",null,4,25]
[null,64032004006,"K_64_A06",1,1,1,null,64,32,4,"BA",null,1,"AK",null,4,57]
[null,64032004007,"K_64_A07",1,1,1,null,64,32,4,"AC",null,1,"AS",null,4,41]
[null,64032004008,"K_64_A08",1,1,1,null,64,32,4,"AK",null,1,"AC",null,4,9]
[null,64032004009,"K_64_A09",1,1,1,null,64,32,4,"AL",null,1,"AD",null,4,13]
[null,64032004010,"K_64_A10",1,1,1,null,64,32,4,"AD",null,1,"AT",null,4,45]
[null,64032004011,"K_64_A11",1,1,1,null,64,32,4,"BB",null,1,"AL",null,4,61]
[null,64032004012,"K_64_A12",1,1,1,null,64,32,4,"AZ",null,1,"AJ",null,4,29]
[null,64032004013,"K_64_A13",1,1,1,null,64,32,4,"AT",null,1,"BB",null,4,21]
[null,64032004014,"K_64_A14",1,1,1,null,64,32,4,"AJ",null,1,"AB",null,4,53]
[null,64032004015,"K_64_A15",1,1,1,null,64,32,4,"AR",null,1,"AZ",null,4,37]
[null,64032004016,"K_64_A16",1,1,1,null,64,32,4,"AB",null,1,"AR",null,4,5]
[null,64032004017,"K_64_A17",1,1,1,null,64,32,4,"AG",null,1,"AW",null,4,7]
[null,64032004018,"K_64_A18",1,1,1,null,64,32,4,"AW",null,1,"BE",null,4,39]
[null,64032004019,"K_64_A19",1,1,1,null,64,32,4,"AO",null,1,"AG",null,4,55]
[null,64032004020,"K_64_A20",1,1,1,null,64,32,4,"AU",null,1,"BC",null,4,23]
[null,64032004021,"K_64_A21",1,1,1,null,64,32,4,"BE",null,1,"AO",null,4,31]
[null,64032004022,"K_64_A22",1,1,1,null,64,32,4,"BC",null,1,"AM",null,4,63]
[null,64032004023,"K_64_A23",1,1,1,null,64,32,4,"AE",null,1,"AU",null,4,47]
[null,64032004024,"K_64_A24",1,1,1,null,64,32,4,"AM",null,1,"AE",null,4,15]
[null,64032004025,"K_64_A25",1,1,1,null,64,32,4,"AN",null,1,"AF",null,4,11]
[null,64032004026,"K_64_A26",1,1,1,null,64,32,4,"AF",null,1,"AV",null,4,43]
[null,64032004027,"K_64_A27",1,1,1,null,64,32,4,"BD",null,1,"AN",null,4,59]
[null,64032004028,"K_64_A28",1,1,1,null,64,32,4,"BF",null,1,"AP",null,4,27]
[null,64032004029,"K_64_A29",1,1,1,null,64,32,4,"AV",null,1,"BD",null,4,19]
[null,64032004030,"K_64_A30",1,1,1,null,64,32,4,"AP",null,1,"AH",null,4,51]
[null,64032004031,"K_64_A31",1,1,1,null,64,32,4,"AX",null,1,"BF",null,4,35]
[null,64032004032,"K_64_A32",1,1,1,null,64,32,4,"AH",null,1,"AX",null,4,3]
[null,64032004033,"K_64_A33",1,1,1,null,64,32,4,"AP",null,2,"BF",null,3,4]
[null,64032004034,"K_64_A34",1,1,1,null,64,32,4,"AH",null,2,"AP",null,3,36]
[null,64032004035,"K_64_A35",1,1,1,null,64,32,4,"BF",null,2,"AX",null,3,52]
[null,64032004036,"K_64_A36",1,1,1,null,64,32,4,"AF",null,2,"AN",null,3,20]
[null,64032004037,"K_64_A37",1,1,1,null,64,32,4,"AX",null,2,"AH",null,3,28]
[null,64032004038,"K_64_A38",1,1,1,null,64,32,4,"AV",null,2,"AF",null,3,60]
[null,64032004039,"K_64_A39",1,1,1,null,64,32,4,"AN",null,2,"BD",null,3,44]
[null,64032004040,"K_64_A40",1,1,1,null,64,32,4,"BD",null,2,"AV",null,3,12]
[null,64032004041,"K_64_A41",1,1,1,null,64,32,4,"BC",null,2,"AU",null,3,16]
[null,64032004042,"K_64_A42",1,1,1,null,64,32,4,"AM",null,2,"BC",null,3,48]
[null,64032004043,"K_64_A43",1,1,1,null,64,32,4,"AU",null,2,"AE",null,3,64]
[null,64032004044,"K_64_A44",1,1,1,null,64,32,4,"AW",null,2,"AG",null,3,32]
[null,64032004045,"K_64_A45",1,1,1,null,64,32,4,"AE",null,2,"AM",null,3,24]
[null,64032004046,"K_64_A46",1,1,1,null,64,32,4,"BE",null,2,"AW",null,3,56]
[null,64032004047,"K_64_A47",1,1,1,null,64,32,4,"AG",null,2,"AO",null,3,40]
[null,64032004048,"K_64_A48",1,1,1,null,64,32,4,"AO",null,2,"BE",null,3,8]
[null,64032004049,"K_64_A49",1,1,1,null,64,32,4,"AJ",null,2,"AZ",null,3,6]
[null,64032004050,"K_64_A50",1,1,1,null,64,32,4,"AB",null,2,"AJ",null,3,38]
[null,64032004051,"K_64_A51",1,1,1,null,64,32,4,"AZ",null,2,"AR",null,3,54]
[null,64032004052,"K_64_A52",1,1,1,null,64,32,4,"AD",null,2,"AL",null,3,22]
[null,64032004053,"K_64_A53",1,1,1,null,64,32,4,"AR",null,2,"AB",null,3,30]
[null,64032004054,"K_64_A54",1,1,1,null,64,32,4,"AT",null,2,"AD",null,3,62]
[null,64032004055,"K_64_A55",1,1,1,null,64,32,4,"AL",null,2,"BB",null,3,46]
[null,64032004056,"K_64_A56",1,1,1,null,64,32,4,"BB",null,2,"AT",null,3,14]
[null,64032004057,"K_64_A57",1,1,1,null,64,32,4,"BA",null,2,"AS",null,3,10]
[null,64032004058,"K_64_A58",1,1,1,null,64,32,4,"AK",null,2,"BA",null,3,42]
[null,64032004059,"K_64_A59",1,1,1,null,64,32,4,"AS",null,2,"AC",null,3,58]
[null,64032004060,"K_64_A60",1,1,1,null,64,32,4,"AQ",null,2,"AA",null,3,26]
[null,64032004061,"K_64_A61",1,1,1,null,64,32,4,"AC",null,2,"AK",null,3,18]
[null,64032004062,"K_64_A62",1,1,1,null,64,32,4,"AY",null,2,"AQ",null,3,50]
[null,64032004063,"K_64_A63",1,1,1,null,64,32,4,"AA",null,2,"AI",null,3,34]
[null,64032004064,"K_64_A64",1,1,1,null,64,32,4,"AI",null,2,"AY",null,3,2]
[null,64064002001,"K_64_A01",1,1,1,null,64,64,2,"AA",null,1,"CK",null,2,1]
[null,64064002002,"K_64_A02",1,1,1,null,64,64,2,"AB",null,1,"CI",null,2,33]
[null,64064002003,"K_64_A03",1,1,1,null,64,64,2,"AC",null,1,"CL",null,2,49]
[null,64064002004,"K_64_A04",1,1,1,null,64,64,2,"AD",null,1,"CJ",null,2,17]
[null,64064002005,"K_64_A05",1,1,1,null,64,64,2,"AE",null,1,"CG",null,2,25]
[null,64064002006,"K_64_A06",1,1,1,null,64,64,2,"AF",null,1,"CE",null,2,57]
[null,64064002007,"K_64_A07",1,1,1,null,64,64,2,"AG",null,1,"CH",null,2,41]
[null,64064002008,"K_64_A08",1,1,1,null,64,64,2,"AH",null,1,"CF",null,2,9]
[null,64064002009,"K_64_A09",1,1,1,null,64,64,2,"AI",null,1,"CC",null,2,13]
[null,64064002010,"K_64_A10",1,1,1,null,64,64,2,"AJ",null,1,"CA",null,2,45]
[null,64064002011,"K_64_A11",1,1,1,null,64,64,2,"AK",null,1,"CD",null,2,61]
[null,64064002012,"K_64_A12",1,1,1,null,64,64,2,"AL",null,1,"CB",null,2,29]
[null,64064002013,"K_64_A13",1,1,1,null,64,64,2,"AM",null,1,"BY",null,2,21]
[null,64064002014,"K_64_A14",1,1,1,null,64,64,2,"AN",null,1,"BW",null,2,53]
[null,64064002015,"K_64_A15",1,1,1,null,64,64,2,"AO",null,1,"BZ",null,2,37]
[null,64064002016,"K_64_A16",1,1,1,null,64,64,2,"AP",null,1,"BX",null,2,5]
[null,64064002017,"K_64_A17",1,1,1,null,64,64,2,"AQ",null,1,"BU",null,2,7]
[null,64064002018,"K_64_A18",1,1,1,null,64,64,2,"AR",null,1,"BS",null,2,39]
[null,64064002019,"K_64_A19",1,1,1,null,64,64,2,"AS",null,1,"BV",null,2,55]
[null,64064002020,"K_64_A20",1,1,1,null,64,64,2,"AT",null,1,"BT",null,2,23]
[null,64064002021,"K_64_A21",1,1,1,null,64,64,2,"AU",null,1,"BQ",null,2,31]
[null,64064002022,"K_64_A22",1,1,1,null,64,64,2,"AV",null,1,"BO",null,2,63]
[null,64064002023,"K_64_A23",1,1,1,null,64,64,2,"AW",null,1,"BR",null,2,47]
[null,64064002024,"K_64_A24",1,1,1,null,64,64,2,"AX",null,1,"BP",null,2,15]
[null,64064002025,"K_64_A25",1,1,1,null,64,64,2,"AY",null,1,"BM",null,2,11]
[null,64064002026,"K_64_A26",1,1,1,null,64,64,2,"AZ",null,1,"BK",null,2,43]
[null,64064002027,"K_64_A27",1,1,1,null,64,64,2,"BA",null,1,"BN",null,2,59]
[null,64064002028,"K_64_A28",1,1,1,null,64,64,2,"BB",null,1,"BL",null,2,27]
[null,64064002029,"K_64_A29",1,1,1,null,64,64,2,"BC",null,1,"BI",null,2,19]
[null,64064002030,"K_64_A30",1,1,1,null,64,64,2,"BD",null,1,"BG",null,2,51]
[null,64064002031,"K_64_A31",1,1,1,null,64,64,2,"BE",null,1,"BJ",null,2,35]
[null,64064002032,"K_64_A32",1,1,1,null,64,64,2,"BF",null,1,"BH",null,2,3]
[null,64064002033,"K_64_A33",1,1,1,null,64,64,2,"BG",null,1,"BE",null,2,4]
[null,64064002034,"K_64_A34",1,1,1,null,64,64,2,"BH",null,1,"BC",null,2,36]
[null,64064002035,"K_64_A35",1,1,1,null,64,64,2,"BI",null,1,"BF",null,2,52]
[null,64064002036,"K_64_A36",1,1,1,null,64,64,2,"BJ",null,1,"BD",null,2,20]
[null,64064002037,"K_64_A37",1,1,1,null,64,64,2,"BK",null,1,"BA",null,2,28]
[null,64064002038,"K_64_A38",1,1,1,null,64,64,2,"BL",null,1,"AY",null,2,60]
[null,64064002039,"K_64_A39",1,1,1,null,64,64,2,"BM",null,1,"BB",null,2,44]
[null,64064002040,"K_64_A40",1,1,1,null,64,64,2,"BN",null,1,"AZ",null,2,12]
[null,64064002041,"K_64_A41",1,1,1,null,64,64,2,"BO",null,1,"AW",null,2,16]
[null,64064002042,"K_64_A42",1,1,1,null,64,64,2,"BP",null,1,"AU",null,2,48]
[null,64064002043,"K_64_A43",1,1,1,null,64,64,2,"BQ",null,1,"AX",null,2,64]
[null,64064002044,"K_64_A44",1,1,1,null,64,64,2,"BR",null,1,"AV",null,2,32]
[null,64064002045,"K_64_A45",1,1,1,null,64,64,2,"BS",null,1,"AS",null,2,24]
[null,64064002046,"K_64_A46",1,1,1,null,64,64,2,"BT",null,1,"AQ",null,2,56]
[null,64064002047,"K_64_A47",1,1,1,null,64,64,2,"BU",null,1,"AT",null,2,40]
[null,64064002048,"K_64_A48",1,1,1,null,64,64,2,"BV",null,1,"AR",null,2,8]
[null,64064002049,"K_64_A49",1,1,1,null,64,64,2,"BW",null,1,"AO",null,2,6]
[null,64064002050,"K_64_A50",1,1,1,null,64,64,2,"BX",null,1,"AM",null,2,38]
[null,64064002051,"K_64_A51",1,1,1,null,64,64,2,"BY",null,1,"AP",null,2,54]
[null,64064002052,"K_64_A52",1,1,1,null,64,64,2,"BZ",null,1,"AN",null,2,22]
[null,64064002053,"K_64_A53",1,1,1,null,64,64,2,"CA",null,1,"AK",null,2,30]
[null,64064002054,"K_64_A54",1,1,1,null,64,64,2,"CB",null,1,"AI",null,2,62]
[null,64064002055,"K_64_A55",1,1,1,null,64,64,2,"CC",null,1,"AL",null,2,46]
[null,64064002056,"K_64_A56",1,1,1,null,64,64,2,"CD",null,1,"AJ",null,2,14]
[null,64064002057,"K_64_A57",1,1,1,null,64,64,2,"CE",null,1,"AG",null,2,10]
[null,64064002058,"K_64_A58",1,1,1,null,64,64,2,"CF",null,1,"AE",null,2,42]
[null,64064002059,"K_64_A59",1,1,1,null,64,64,2,"CG",null,1,"AH",null,2,58]
[null,64064002060,"K_64_A60",1,1,1,null,64,64,2,"CH",null,1,"AF",null,2,26]
[null,64064002061,"K_64_A61",1,1,1,null,64,64,2,"CI",null,1,"AC",null,2,18]
[null,64064002062,"K_64_A62",1,1,1,null,64,64,2,"CJ",null,1,"AA",null,2,50]
[null,64064002063,"K_64_A63",1,1,1,null,64,64,2,"CK",null,1,"AD",null,2,34]
[null,64064002064,"K_64_A64",1,1,1,null,64,64,2,"CL",null,1,"AB",null,2,2]
[null,64128001001,"K_64_A01",1,1,1,null,64,128,1,"AA",null,1,"EX",null,1,1]
[null,64128001002,"K_64_A02",1,1,1,null,64,128,1,"AB",null,1,"EW",null,1,33]
[null,64128001003,"K_64_A03",1,1,1,null,64,128,1,"AC",null,1,"EV",null,1,49]
[null,64128001004,"K_64_A04",1,1,1,null,64,128,1,"AD",null,1,"EU",null,1,17]
[null,64128001005,"K_64_A05",1,1,1,null,64,128,1,"AE",null,1,"ET",null,1,25]
[null,64128001006,"K_64_A06",1,1,1,null,64,128,1,"AF",null,1,"ES",null,1,57]
[null,64128001007,"K_64_A07",1,1,1,null,64,128,1,"AG",null,1,"ER",null,1,41]
[null,64128001008,"K_64_A08",1,1,1,null,64,128,1,"AH",null,1,"EQ",null,1,9]
[null,64128001009,"K_64_A09",1,1,1,null,64,128,1,"AI",null,1,"EP",null,1,13]
[null,64128001010,"K_64_A10",1,1,1,null,64,128,1,"AJ",null,1,"EO",null,1,45]
[null,64128001011,"K_64_A11",1,1,1,null,64,128,1,"AK",null,1,"EN",null,1,61]
[null,64128001012,"K_64_A12",1,1,1,null,64,128,1,"AL",null,1,"EM",null,1,29]
[null,64128001013,"K_64_A13",1,1,1,null,64,128,1,"AM",null,1,"EL",null,1,21]
[null,64128001014,"K_64_A14",1,1,1,null,64,128,1,"AN",null,1,"EK",null,1,53]
[null,64128001015,"K_64_A15",1,1,1,null,64,128,1,"AO",null,1,"EJ",null,1,37]
[null,64128001016,"K_64_A16",1,1,1,null,64,128,1,"AP",null,1,"EI",null,1,5]
[null,64128001017,"K_64_A17",1,1,1,null,64,128,1,"AQ",null,1,"EH",null,1,7]
[null,64128001018,"K_64_A18",1,1,1,null,64,128,1,"AR",null,1,"EG",null,1,39]
[null,64128001019,"K_64_A19",1,1,1,null,64,128,1,"AS",null,1,"EF",null,1,55]
[null,64128001020,"K_64_A20",1,1,1,null,64,128,1,"AT",null,1,"EE",null,1,23]
[null,64128001021,"K_64_A21",1,1,1,null,64,128,1,"AU",null,1,"ED",null,1,31]
[null,64128001022,"K_64_A22",1,1,1,null,64,128,1,"AV",null,1,"EC",null,1,63]
[null,64128001023,"K_64_A23",1,1,1,null,64,128,1,"AW",null,1,"EB",null,1,47]
[null,64128001024,"K_64_A24",1,1,1,null,64,128,1,"AX",null,1,"EA",null,1,15]
[null,64128001025,"K_64_A25",1,1,1,null,64,128,1,"AY",null,1,"DZ",null,1,11]
[null,64128001026,"K_64_A26",1,1,1,null,64,128,1,"AZ",null,1,"DY",null,1,43]
[null,64128001027,"K_64_A27",1,1,1,null,64,128,1,"BA",null,1,"DX",null,1,59]
[null,64128001028,"K_64_A28",1,1,1,null,64,128,1,"BB",null,1,"DW",null,1,27]
[null,64128001029,"K_64_A29",1,1,1,null,64,128,1,"BC",null,1,"DV",null,1,19]
[null,64128001030,"K_64_A30",1,1,1,null,64,128,1,"BD",null,1,"DU",null,1,51]
[null,64128001031,"K_64_A31",1,1,1,null,64,128,1,"BE",null,1,"DT",null,1,35]
[null,64128001032,"K_64_A32",1,1,1,null,64,128,1,"BF",null,1,"DS",null,1,3]
[null,64128001033,"K_64_A33",1,1,1,null,64,128,1,"BG",null,1,"DR",null,1,4]
[null,64128001034,"K_64_A34",1,1,1,null,64,128,1,"BH",null,1,"DQ",null,1,36]
[null,64128001035,"K_64_A35",1,1,1,null,64,128,1,"BI",null,1,"DP",null,1,52]
[null,64128001036,"K_64_A36",1,1,1,null,64,128,1,"BJ",null,1,"DO",null,1,20]
[null,64128001037,"K_64_A37",1,1,1,null,64,128,1,"BK",null,1,"DN",null,1,28]
[null,64128001038,"K_64_A38",1,1,1,null,64,128,1,"BL",null,1,"DM",null,1,60]
[null,64128001039,"K_64_A39",1,1,1,null,64,128,1,"BM",null,1,"DL",null,1,44]
[null,64128001040,"K_64_A40",1,1,1,null,64,128,1,"BN",null,1,"DK",null,1,12]
[null,64128001041,"K_64_A41",1,1,1,null,64,128,1,"BO",null,1,"DJ",null,1,16]
[null,64128001042,"K_64_A42",1,1,1,null,64,128,1,"BP",null,1,"DI",null,1,48]
[null,64128001043,"K_64_A43",1,1,1,null,64,128,1,"BQ",null,1,"DH",null,1,64]
[null,64128001044,"K_64_A44",1,1,1,null,64,128,1,"BR",null,1,"DG",null,1,32]
[null,64128001045,"K_64_A45",1,1,1,null,64,128,1,"BS",null,1,"DF",null,1,24]
[null,64128001046,"K_64_A46",1,1,1,null,64,128,1,"BT",null,1,"DE",null,1,56]
[null,64128001047,"K_64_A47",1,1,1,null,64,128,1,"BU",null,1,"DD",null,1,40]
[null,64128001048,"K_64_A48",1,1,1,null,64,128,1,"BV",null,1,"DC",null,1,8]
[null,64128001049,"K_64_A49",1,1,1,null,64,128,1,"BW",null,1,"DB",null,1,6]
[null,64128001050,"K_64_A50",1,1,1,null,64,128,1,"BX",null,1,"DA",null,1,38]
[null,64128001051,"K_64_A51",1,1,1,null,64,128,1,"BY",null,1,"CZ",null,1,54]
[null,64128001052,"K_64_A52",1,1,1,null,64,128,1,"BZ",null,1,"CY",null,1,22]
[null,64128001053,"K_64_A53",1,1,1,null,64,128,1,"CA",null,1,"CX",null,1,30]
[null,64128001054,"K_64_A54",1,1,1,null,64,128,1,"CB",null,1,"CW",null,1,62]
[null,64128001055,"K_64_A55",1,1,1,null,64,128,1,"CC",null,1,"CV",null,1,46]
[null,64128001056,"K_64_A56",1,1,1,null,64,128,1,"CD",null,1,"CU",null,1,14]
[null,64128001057,"K_64_A57",1,1,1,null,64,128,1,"CE",null,1,"CT",null,1,10]
[null,64128001058,"K_64_A58",1,1,1,null,64,128,1,"CF",null,1,"CS",null,1,42]
[null,64128001059,"K_64_A59",1,1,1,null,64,128,1,"CG",null,1,"CR",null,1,58]
[null,64128001060,"K_64_A60",1,1,1,null,64,128,1,"CH",null,1,"CQ",null,1,26]
[null,64128001061,"K_64_A61",1,1,1,null,64,128,1,"CI",null,1,"CP",null,1,18]
[null,64128001062,"K_64_A62",1,1,1,null,64,128,1,"CJ",null,1,"CO",null,1,50]
[null,64128001063,"K_64_A63",1,1,1,null,64,128,1,"CK",null,1,"CN",null,1,34]
[null,64128001064,"K_64_A64",1,1,1,null,64,128,1,"CL",null,1,"CM",null,1,2]
[null,null,"K_01_001a",0,0,0,1,1,null,null,null,"K_01_A1",1,null,"K_01_C1",1,1]
[null,null,"K_01_001b",0,0,0,1,1,null,null,null,"K_01_001a",1,null,"K_01_001a",2,1]
[null,null,"K_01_A1",0,0,0,1,1,null,null,null,"K_02_A1",1,null,"K_02_A2",1,1]
[null,null,"K_01_B1",0,0,0,1,1,null,null,null,"K_02_C1",1,null,"K_02_C2",1,1]
[null,null,"K_01_C1",0,0,0,1,1,null,null,null,"K_01_A1",2,null,"K_01_B1",1,1]
[null,null,"K_02_B1",0,0,0,1,3,null,null,null,"K_04_C1",1,null,"K_04_C4",1,1]
[null,null,"K_02_B2",0,0,0,1,3,null,null,null,"K_04_C2",1,null,"K_04_C3",1,2]
[null,null,"K_02_C1",0,0,0,1,3,null,null,null,"K_02_A1",2,null,"K_02_B1",1]
[null,null,"K_02_C2",0,0,0,1,3,null,null,null,"K_02_A2",2,null,"K_02_B2",1]
[null,null,"K_04_B1",0,0,0,1,5,null,null,null,"K_08_C1",1,null,"K_08_C8",1,1]
[null,null,"K_04_B2",0,0,0,1,5,null,null,null,"K_08_C2",1,null,"K_08_C7",1,3]
[null,null,"K_04_B3",0,0,0,1,5,null,null,null,"K_08_C3",1,null,"K_08_C6",1,4]
[null,null,"K_04_B4",0,0,0,1,5,null,null,null,"K_08_C4",1,null,"K_08_C5",1,2]
[null,null,"K_04_C1",0,0,0,1,5,null,null,null,"K_04_A1",2,null,"K_08_B1",1,1]
[null,null,"K_04_C2",0,0,0,1,5,null,null,null,"K_04_A2",2,null,"K_08_B2",1,3]
[null,null,"K_04_C3",0,0,0,1,5,null,null,null,"K_04_A3",2,null,"K_08_B3",1,4]
[null,null,"K_04_C4",0,0,0,1,5,null,null,null,"K_04_A4",2,null,"K_08_B4",1,2]
[null,null,"K_08_B1",0,0,0,1,9,null,null,null,"K_16_C01",1,null,"K_16_C16",1,1]
[null,null,"K_08_B2",0,0,0,1,9,null,null,null,"K_16_C02",1,null,"K_16_C15",1,5]
[null,null,"K_08_B3",0,0,0,1,9,null,null,null,"K_16_C03",1,null,"K_16_C14",1,7]
[null,null,"K_08_B4",0,0,0,1,9,null,null,null,"K_16_C04",1,null,"K_16_C13",1,3]
[null,null,"K_08_B5",0,0,0,1,9,null,null,null,"K_16_C05",1,null,"K_16_C12",1,4]
[null,null,"K_08_B6",0,0,0,1,9,null,null,null,"K_16_C06",1,null,"K_16_C11",1,8]
[null,null,"K_08_B7",0,0,0,1,9,null,null,null,"K_16_C07",1,null,"K_16_C10",1,6]
[null,null,"K_08_B8",0,0,0,1,9,null,null,null,"K_16_C08",1,null,"K_16_C09",1,2]
[null,null,"K_08_C1",0,0,0,1,9,null,null,null,"K_08_A1",2,null,"K_08_B1",1,1]
[null,null,"K_08_C2",0,0,0,1,9,null,null,null,"K_08_A2",2,null,"K_08_B2",1,5]
[null,null,"K_08_C3",0,0,0,1,9,null,null,null,"K_08_A3",2,null,"K_08_B3",1,7]
[null,null,"K_08_C4",0,0,0,1,9,null,null,null,"K_08_A4",2,null,"K_08_B4",1,3]
[null,null,"K_08_C5",0,0,0,1,9,null,null,null,"K_08_A5",2,null,"K_08_B5",1,4]
[null,null,"K_08_C6",0,0,0,1,9,null,null,null,"K_08_A6",2,null,"K_08_B6",1,8]
[null,null,"K_08_C7",0,0,0,1,9,null,null,null,"K_08_A7",2,null,"K_08_B7",1,6]
[null,null,"K_08_C8",0,0,0,1,9,null,null,null,"K_08_A8",2,null,"K_08_B8",1,2]
[null,null,"K_16_B01",0,0,0,1,17,null,null,null,"K_32_C01",1,null,"K_32_C32",1,1]
[null,null,"K_16_B02",0,0,0,1,17,null,null,null,"K_32_C02",1,null,"K_32_C31",1,9]
[null,null,"K_16_B03",0,0,0,1,17,null,null,null,"K_32_C03",1,null,"K_32_C30",1,13]
[null,null,"K_16_B04",0,0,0,1,17,null,null,null,"K_32_C04",1,null,"K_32_C29",1,5]
[null,null,"K_16_B05",0,0,0,1,17,null,null,null,"K_32_C05",1,null,"K_32_C28",1,7]
[null,null,"K_16_B06",0,0,0,1,17,null,null,null,"K_32_C06",1,null,"K_32_C27",1,15]
[null,null,"K_16_B07",0,0,0,1,17,null,null,null,"K_32_C07",1,null,"K_32_C26",1,11]
[null,null,"K_16_B08",0,0,0,1,17,null,null,null,"K_32_C08",1,null,"K_32_C25",1,3]
[null,null,"K_16_B09",0,0,0,1,17,null,null,null,"K_32_C09",1,null,"K_32_C24",1,4]
[null,null,"K_16_B10",0,0,0,1,17,null,null,null,"K_32_C10",1,null,"K_32_C23",1,12]
[null,null,"K_16_B11",0,0,0,1,17,null,null,null,"K_32_C11",1,null,"K_32_C22",1,16]
[null,null,"K_16_B12",0,0,0,1,17,null,null,null,"K_32_C12",1,null,"K_32_C21",1,8]
[null,null,"K_16_B13",0,0,0,1,17,null,null,null,"K_32_C13",1,null,"K_32_C20",1,6]
[null,null,"K_16_B14",0,0,0,1,17,null,null,null,"K_32_C14",1,null,"K_32_C19",1,14]
[null,null,"K_16_B15",0,0,0,1,17,null,null,null,"K_32_C15",1,null,"K_32_C18",1,10]
[null,null,"K_16_B16",0,0,0,1,17,null,null,null,"K_32_C16",1,null,"K_32_C17",1,2]
[null,null,"K_16_C01",0,0,0,1,17,null,null,null,"K_16_A01",2,null,"K_16_B01",1,1]
[null,null,"K_16_C02",0,0,0,1,17,null,null,null,"K_16_A02",2,null,"K_16_B02",1,9]
[null,null,"K_16_C03",0,0,0,1,17,null,null,null,"K_16_A03",2,null,"K_16_B03",1,13]
[null,null,"K_16_C04",0,0,0,1,17,null,null,null,"K_16_A04",2,null,"K_16_B04",1,5]
[null,null,"K_16_C05",0,0,0,1,17,null,null,null,"K_16_A05",2,null,"K_16_B05",1,7]
[null,null,"K_16_C06",0,0,0,1,17,null,null,null,"K_16_A06",2,null,"K_16_B06",1,15]
[null,null,"K_16_C07",0,0,0,1,17,null,null,null,"K_16_A07",2,null,"K_16_B07",1,11]
[null,null,"K_16_C08",0,0,0,1,17,null,null,null,"K_16_A08",2,null,"K_16_B08",1,3]
[null,null,"K_16_C09",0,0,0,1,17,null,null,null,"K_16_A09",2,null,"K_16_B09",1,4]
[null,null,"K_16_C10",0,0,0,1,17,null,null,null,"K_16_A10",2,null,"K_16_B10",1,12]
[null,null,"K_16_C11",0,0,0,1,17,null,null,null,"K_16_A11",2,null,"K_16_B11",1,16]
[null,null,"K_16_C12",0,0,0,1,17,null,null,null,"K_16_A12",2,null,"K_16_B12",1,8]
[null,null,"K_16_C13",0,0,0,1,17,null,null,null,"K_16_A13",2,null,"K_16_B13",1,6]
[null,null,"K_16_C14",0,0,0,1,17,null,null,null,"K_16_A14",2,null,"K_16_B14",1,14]
[null,null,"K_16_C15",0,0,0,1,17,null,null,null,"K_16_A15",2,null,"K_16_B15",1,10]
[null,null,"K_16_C16",0,0,0,1,17,null,null,null,"K_16_A16",2,null,"K_16_B16",1,2]
[null,null,"K_32_B01",0,0,0,0,33,null,null,null,"K_64_C01",1,null,"K_64_C64",1,1]
[null,null,"K_32_B02",0,0,0,0,33,null,null,null,"K_64_C02",1,null,"K_64_C63",1,17]
[null,null,"K_32_B03",0,0,0,0,33,null,null,null,"K_64_C03",1,null,"K_64_C62",1,25]
[null,null,"K_32_B04",0,0,0,0,33,null,null,null,"K_64_C04",1,null,"K_64_C61",1,9]
[null,null,"K_32_B05",0,0,0,0,33,null,null,null,"K_64_C05",1,null,"K_64_C60",1,13]
[null,null,"K_32_B06",0,0,0,0,33,null,null,null,"K_64_C06",1,null,"K_64_C59",1,29]
[null,null,"K_32_B07",0,0,0,0,33,null,null,null,"K_64_C07",1,null,"K_64_C58",1,21]
[null,null,"K_32_B08",0,0,0,0,33,null,null,null,"K_64_C08",1,null,"K_64_C57",1,5]
[null,null,"K_32_B09",0,0,0,0,33,null,null,null,"K_64_C09",1,null,"K_64_C56",1,7]
[null,null,"K_32_B10",0,0,0,0,33,null,null,null,"K_64_C10",1,null,"K_64_C55",1,23]
[null,null,"K_32_B11",0,0,0,0,33,null,null,null,"K_64_C11",1,null,"K_64_C54",1,31]
[null,null,"K_32_B12",0,0,0,0,33,null,null,null,"K_64_C12",1,null,"K_64_C53",1,15]
[null,null,"K_32_B13",0,0,0,0,33,null,null,null,"K_64_C13",1,null,"K_64_C52",1,11]
[null,null,"K_32_B14",0,0,0,0,33,null,null,null,"K_64_C14",1,null,"K_64_C51",1,27]
[null,null,"K_32_B15",0,0,0,0,33,null,null,null,"K_64_C15",1,null,"K_64_C50",1,19]
[null,null,"K_32_B16",0,0,0,0,33,null,null,null,"K_64_C16",1,null,"K_64_C49",1,3]
[null,null,"K_32_B17",0,0,0,0,33,null,null,null,"K_64_C17",1,null,"K_64_C48",1,4]
[null,null,"K_32_B18",0,0,0,0,33,null,null,null,"K_64_C18",1,null,"K_64_C47",1,20]
[null,null,"K_32_B19",0,0,0,0,33,null,null,null,"K_64_C19",1,null,"K_64_C46",1,28]
[null,null,"K_32_B20",0,0,0,0,33,null,null,null,"K_64_C20",1,null,"K_64_C45",1,12]
[null,null,"K_32_B21",0,0,0,0,33,null,null,null,"K_64_C21",1,null,"K_64_C44",1,16]
[null,null,"K_32_B22",0,0,0,0,33,null,null,null,"K_64_C22",1,null,"K_64_C43",1,32]
[null,null,"K_32_B23",0,0,0,0,33,null,null,null,"K_64_C23",1,null,"K_64_C42",1,24]
[null,null,"K_32_B24",0,0,0,0,33,null,null,null,"K_64_C24",1,null,"K_64_C41",1,8]
[null,null,"K_32_B25",0,0,0,0,33,null,null,null,"K_64_C25",1,null,"K_64_C40",1,6]
[null,null,"K_32_B26",0,0,0,0,33,null,null,null,"K_64_C26",1,null,"K_64_C39",1,22]
[null,null,"K_32_B27",0,0,0,0,33,null,null,null,"K_64_C27",1,null,"K_64_C38",1,30]
[null,null,"K_32_B28",0,0,0,0,33,null,null,null,"K_64_C28",1,null,"K_64_C37",1,14]
[null,null,"K_32_B29",0,0,0,0,33,null,null,null,"K_64_C29",1,null,"K_64_C36",1,10]
[null,null,"K_32_B30",0,0,0,0,33,null,null,null,"K_64_C30",1,null,"K_64_C35",1,26]
[null,null,"K_32_B31",0,0,0,0,33,null,null,null,"K_64_C31",1,null,"K_64_C34",1,18]
[null,null,"K_32_B32",0,0,0,0,33,null,null,null,"K_64_C32",1,null,"K_64_C33",1,2]
[null,null,"K_32_C01",0,0,0,1,33,null,null,null,"K_32_A01",2,null,"K_32_B01",1,1]
[null,null,"K_32_C02",0,0,0,1,33,null,null,null,"K_32_A02",2,null,"K_32_B02",1,17]
[null,null,"K_32_C03",0,0,0,1,33,null,null,null,"K_32_A03",2,null,"K_32_B03",1,25]
[null,null,"K_32_C04",0,0,0,1,33,null,null,null,"K_32_A04",2,null,"K_32_B04",1,9]
[null,null,"K_32_C05",0,0,0,1,33,null,null,null,"K_32_A05",2,null,"K_32_B05",1,13]
[null,null,"K_32_C06",0,0,0,1,33,null,null,null,"K_32_A06",2,null,"K_32_B06",1,29]
[null,null,"K_32_C07",0,0,0,1,33,null,null,null,"K_32_A07",2,null,"K_32_B07",1,21]
[null,null,"K_32_C08",0,0,0,1,33,null,null,null,"K_32_A08",2,null,"K_32_B08",1,5]
[null,null,"K_32_C09",0,0,0,1,33,null,null,null,"K_32_A09",2,null,"K_32_B09",1,7]
[null,null,"K_32_C10",0,0,0,1,33,null,null,null,"K_32_A10",2,null,"K_32_B10",1,23]
[null,null,"K_32_C11",0,0,0,1,33,null,null,null,"K_32_A11",2,null,"K_32_B11",1,31]
[null,null,"K_32_C12",0,0,0,1,33,null,null,null,"K_32_A12",2,null,"K_32_B12",1,15]
[null,null,"K_32_C13",0,0,0,1,33,null,null,null,"K_32_A13",2,null,"K_32_B13",1,11]
[null,null,"K_32_C14",0,0,0,1,33,null,null,null,"K_32_A14",2,null,"K_32_B14",1,27]
[null,null,"K_32_C15",0,0,0,1,33,null,null,null,"K_32_A15",2,null,"K_32_B15",1,19]
[null,null,"K_32_C16",0,0,0,1,33,null,null,null,"K_32_A16",2,null,"K_32_B16",1,3]
[null,null,"K_32_C17",0,0,0,1,33,null,null,null,"K_32_A17",2,null,"K_32_B17",1,4]
[null,null,"K_32_C18",0,0,0,1,33,null,null,null,"K_32_A18",2,null,"K_32_B18",1,20]
[null,null,"K_32_C19",0,0,0,1,33,null,null,null,"K_32_A19",2,null,"K_32_B19",1,28]
[null,null,"K_32_C20",0,0,0,1,33,null,null,null,"K_32_A20",2,null,"K_32_B20",1,12]
[null,null,"K_32_C21",0,0,0,1,33,null,null,null,"K_32_A21",2,null,"K_32_B21",1,16]
[null,null,"K_32_C22",0,0,0,1,33,null,null,null,"K_32_A22",2,null,"K_32_B22",1,32]
[null,null,"K_32_C23",0,0,0,1,33,null,null,null,"K_32_A23",2,null,"K_32_B23",1,24]
[null,null,"K_32_C24",0,0,0,1,33,null,null,null,"K_32_A24",2,null,"K_32_B24",1,8]
[null,null,"K_32_C25",0,0,0,1,33,null,null,null,"K_32_A25",2,null,"K_32_B25",1,6]
[null,null,"K_32_C26",0,0,0,1,33,null,null,null,"K_32_A26",2,null,"K_32_B26",1,22]
[null,null,"K_32_C27",0,0,0,1,33,null,null,null,"K_32_A27",2,null,"K_32_B27",1,30]
[null,null,"K_32_C28",0,0,0,1,33,null,null,null,"K_32_A28",2,null,"K_32_B28",1,14]
[null,null,"K_32_C29",0,0,0,1,33,null,null,null,"K_32_A29",2,null,"K_32_B29",1,10]
[null,null,"K_32_C30",0,0,0,1,33,null,null,null,"K_32_A30",2,null,"K_32_B30",1,26]
[null,null,"K_32_C31",0,0,0,1,33,null,null,null,"K_32_A31",2,null,"K_32_B31",1,18]
[null,null,"K_32_C32",0,0,0,1,33,null,null,null,"K_32_A32",2,null,"K_32_B32",1,2]

{"sheet":"Localisation","index":11,"n_rows":384,"n_cols":3,"rows_kept":384,"cut":false,"hidden":false,"merged":[]}
["ID","English","Deutsch"]
["txt_0000","Game Systems for Tournaments","Spielsysteme für Turniere"]
["txt_0001","Language","Sprache"]
["txt_0011","Legend","Legende"]
["txt_0012","manual input","manuelle Eingabe"]
["txt_0013","dropdown selection","Dropdown Auswahl"]
["txt_0014","calculated value","berechneter Wert"]
["txt_0100","Basic information","Grundsätzliche Informationen"]
["txt_0901","Important for all users who are too lazy to read (like me):","Wichtig für alle Nutzer, die zu faul zum Lesen sind (wie ich):"]
["txt_0902",{"$f":"\"Especially in case of problems, I strongly advise to read the chapters “1.3 \" & B32 & \"“ and “1.4 \" & B40 & \"“ first.\"","v":"Especially in case of problems, I strongly advise to read the chapters “1.3 Compatibility“ and “1.4 Macros (VBA) and security alerts“ first."},{"$f":"\"Insbesondere bei Problemen rate ich dringend, erst einmal die Kapitel „1.3 \" & C32 & \"“ und „1.4 \" & C40 & \"“ zu lesen.\"","v":"Insbesondere bei Problemen rate ich dringend, erst einmal die Kapitel „1.3 Kompatibilität“ und „1.4 Makros (VBA) und Sicherheitsabfragen“ zu lesen."}]
["txt_1000","Introduction","Einleitung"]
["txt_1100","Prologue","Vorwort"]
["txt_1101","This file reflects my knowledge and experience gained during many years of organising DMMs and many visits to other tournaments.","Diese Datei spiegelt mein Wissen und meine Erfahrungen wider, die ich während der langjährigen Organisation der DMMs und vielen Besuchen bei anderen Turnieren gesammelt habe."]
["txt_1102","The aim of this file is to support others who want to organise fixtures or tournaments.","Das Ziel dieser Datei ist es, Menschen zu unterstützen, die Spiele oder Turniere organisieren möchten."]
["txt_1103","The emphasis is clearly on the game schedule (fixture list).","Der Schwerpunkt liegt dabei klar auf dem Spielplan."]
["txt_1104","This file is not a tournament planner, it only represents the optimal team pairings for group and knockout rounds.","Diese Datei ist kein Turnierplaner, sie stellt nur die optimale Team-Paarungen für Gruppen- und K.O.-Runden dar."]
["txt_1105","A tournament planning (especially for Mölkky) is mainly based on 3 criteria:","Eine Turnierplanung (speziell für Mölkky) basiert im Wesentlichen auf 3 Kriterien:"]
["txt_1106a","number of teams","Anzahl der Teams"]
["txt_1106b","number of available fields","Anzahl der zur Verfügung stehenden Spielfelder"]
["txt_1106c","the available time frame","der zur Verfügung stehende Zeitrahmen"]
["txt_1107","This then gives the options for possible group sizes (and number of rounds) and/or number of elimination rounds.","Hieraus ergeben sich dann die Möglichkeiten für mögliche Gruppengrößen (und die Anzahl der Runden) und/oder Anzahl der K.O.-Runden."]
["txt_1108","If you notice any errors or if you think of any improvements or enhancements, please let me know by e-mail:","Falls Euch Fehler auffallen oder Verbesserungen und Erweiterungen einfallen, teilt mir diese bitte einfach per E-Mail mit:"]
["txt_1109","The same applies if you have problems inserting another language.","Das gilt auch, wenn Ihr Probleme beim Einfügen einer weiteren Sprache habt."]
["txt_1200","Usage","Benutzung"]
["txt_1201","All worksheets are protected without a password to avoid unintentional changes.","Alle Arbeitsblätter sind ohne Passwort geschützt, um ein unabsichtliches Ändern zu vermeiden."]
["txt_1202",{"$f":"\"In principle, all dropdown and checkbox controls (combo boxes and checkboxes) should be functional (see also chapter “1.3 \" & B32 & \"“).\"","v":"In principle, all dropdown and checkbox controls (combo boxes and checkboxes) should be functional (see also chapter “1.3 Compatibility“)."},{"$f":"\"Im Prinzip sollten alle Dropdown- und Checkbox-Steuerelemente (Kombinationsfelder und Kontrollkästchen) funktionsfähig sein (siehe auch Kapitel „1.3 \" & C32 & \"“).\"","v":"Im Prinzip sollten alle Dropdown- und Checkbox-Steuerelemente (Kombinationsfelder und Kontrollkästchen) funktionsfähig sein (siehe auch Kapitel „1.3 Kompatibilität“)."}]
["txt_1203","In addition, the following formatted cells can be changed either by manual input or by partially existing spin buttons.","Darüber hinaus können die folgenden formatierten Zellen entweder durch manuelle Eingaben oder durch teilweise vorhandene Spinbuttons (Drehfelder) verändert werden."]
["txt_1204a","Number of teams (round robin)  OR  game results in the KO rounds","Anzahl der Teams (Round-Robin)  ODER  Spielergebnisse in den KO-Runden"]
["txt_1204b","Highlighting a team (Round-Robin, Multi-Teams)","Hervorheben eines Teams (Round-Robin, Multi-Teams)"]
["txt_1204c","Highlighting a second team (Round-Robin, Multi-Teams)","Hervorheben eines zweiten Teams (Round-Robin, Multi-Teams)"]
["txt_1205","All other cells are fixed values or are calculated.","Alle anderen Zellen sind Festwerte oder werden berechnet."]
["txt_1300","Compatibility","Kompatibilität"]
["txt_1301","This file was created using Microsoft® Excel® 2016 with Microsoft® Windows 10 as operating system.","Diese Datei wurde mit Microsoft® Excel® 2016 mit Microsoft® Windows 10 als Betriebssystem erstellt."]
["txt_1302","Theoretically, the file should also be compatible with the “macOS“ operating system.","Theoretisch sollte die Datei auch mit dem Betriebssystem „macOS“ kompatibel sein."]
["txt_1303","Unfortunately, there is only limited compatibility between the different providers of Office packages.","Leider ist eine Kompatibilität zwischen den unterschiedlichen Anbietern von Office-Paketen nur eingeschränkt vorhanden."]
["txt_1304","With macros (VBA), however, compatibility is de facto non-existent.","Bei Makros (VBA) ist aber eine Kompatibilität de facto nicht vorhanden."]
["txt_1305","With the sheets for “Round-Robin“ and “Multi-Teams“ macros could still be avoided by some tricks.","Bei den Blättern für „Round-Robin“ und „Multi-Teams“ konnten Makros noch durch einige Tricks vermieden werden."]
["txt_1306","In the KO rounds and when creating external tables, they are unfortunately unavoidable.","Bei den KO-Runden und beim Erzeugen externe Tabellen sind sie leider unumgänglich."]
["txt_1307","Furthermore, ActiveX controls have been omitted for compatibility reasons, even though they would sometimes be more convenient.","Weiterhin wurde aus Kompatibilitätsgründen auf ActiveX-Steuerelemente verzichtet, auch wenn sie manchmal komfortabler wären."]
["txt_1400","Macros (VBA) and security alerts","Makros (VBA) und Sicherheitsabfragen"]
["txt_1401","With the security settings generally recommended for macros, a warning message (see below) should appear.","Bei den für Makros generell empfohlenen Sicherheitseinstellungen sollte eine Warnmeldung (siehe unten) erscheinen."]
["txt_1402","I do not know what this message looks like for non-Microsoft products.","Wie diese Meldung bei Nicht-Microsoft-Produkten aussieht, ist mir nicht bekannt."]
["txt_1404","When you open a file that has macros, the yellow message bar appears with a shield icon and the Enable Content button. If you know the macro, or macros, are from a reliable source, use the following instructions:","Wenn Sie eine Datei öffnen, die Makros enthält, wird die gelbe Statusleiste mit einem Schildsymbol und der Schaltfläche Inhalt aktivieren angezeigt. Wenn Sie wissen, dass die Makros aus einer zuverlässigen Quelle stammen, befolgen Sie die nachstehenden Anweisungen:"]
["txt_1405","On the Message Bar, click “Enable Content“.","Klicken Sie auf der Statusleiste auf „Inhalt aktivieren“."]
["txt_1406","SECURITY WARNING   Macros have been disabled.","SICHERHEITSWARNUNG   Makros wurde deaktiviert."]
["txt_1407","Enable Content","Inhalt aktivieren"]
["txt_2000","Sheets in this workbook","Blätter in dieser Arbeitsmappe"]
["txt_2100","Info"]
["txt_2101","this sheet","dieses Blatt"]
["txt_2200","Info Round-Robin"]
["txt_2201","Group stage: Representation of the round-robin system","Gruppenphase: Darstellung des Round-Robin-Systems"]
["txt_2202","The table shows a straight round-robin-system (everyone against everyone).","Die Tabelle zeigt ein reines Round-Robin-System (jeder gegen jeden)."]
["txt_2204","A perfect game schedule would have the following characteristics:","Ein perfekter Spielplan hätte folgende Eigenschaften:"]
["txt_2205","In reality, this is not always possible, please see also the “properties“ beside the game schedule.","In der Realität ist dies nicht immer möglich, siehe auch „Eigenschaften“ neben dem Spielplan."]
["txt_2206","To check team pairings, it is possible to select following criteria:","Um die Teampaarungen zu überprüfen, können folgende Kriterien ausgewählt werden:"]
["txt_2207a","number of teams (between 2 and 26)","Anzahl der Teams (zwischen 2 und 26)"]
["txt_2207b","number of fields (until now only possible for 10 teams)","Anzahl der Spielfelder (bis jetzt nur bei 10 Teams möglich)"]
["txt_2207c","two teams highlighted in different colours","zwei unterschiedlich farbig markierte Teams"]
["txt_2251","Number of teams:","Anzahl der Teams:"]
["txt_2252","Number of fields:","Anzahl der Spielfelder:"]
["txt_2253","Highlight team:","Hervorheben von Team:"]
["txt_2254","Number of rounds:","Anzahl der Runden:"]
["txt_2255","Round","Runde"]
["txt_2256","Field","Spielfeld"]
["txt_2257","bye\n(break)","Pause"]
["txt_2258","Properties of this tournament design:","Eigenschaften dieses Turnierdesigns:"]
["txt_2259","Each team plays each of the others exactly once.","Jedes Team spielt genau einmal gegen ein anderes."]
["txt_2260","Each team plays each of the others exactly once, and each team has one bye.","Jedes Team spielt genau einmal gegen ein anderes, und jedes Team hat eine Spielpause."]
["txt_2261","Each team plays each of the others exactly once, and each team has three byes. Teams 1 to 4 and 6 to 9 have their last breaks (byes) in the last round.","Jedes Team spielt genau einmal gegen ein anderes, und jedes Team hat drei Spielpausen. Die Teams 1 bis 4 und 6 bis 9 haben ihre letzte Pause in der letzten Runde."]
["txt_2262","No team plays two consecutive games on playing field 1. All teams except team 4 play twice consecutively on playing field 2.","Kein Team spielt zwei Spiele hintereinander auf Spielfeld 1. Alle Teams außer Team 4 spielen zweimal hintereinander auf Spielfeld 2."]
["txt_2263","No team plays two consecutive games on the same playing field.","Kein Team spielt zwei Spiele hintereinander auf demselben Spielfeld."]
["txt_2264","Most teams do not play two consecutive games on the same playing field the exceptions being team 1 and 2, each of which plays on the same playing field after their respective breaks (byes).","Die meisten Teams spielen keine zwei Spiele hintereinander auf demselben Spielfeld, mit Ausnahme von Team 1 und 2, die jeweils nach ihrer Pause auf demselben Spielfeld spielen."]
["txt_2265","There are no two consecutive games for a team on any of the playing fields except for playing field 1. All teams except team 1 have two consecutive games on playing field 1.","Auf keinem der Spielfelder außer Spielfeld 1 gibt es zwei aufeinanderfolgende Spiele für ein Team. Alle Teams außer Team 1 haben zwei aufeinanderfolgende Spiele auf Spielfeld 1."]
["txt_2266","Each team begins exactly once the first set on each playing field.","Jedes Team beginnt genau einmal den ersten Satz auf jedem Spielfeld."]
["txt_2267","Teams 1 and 3 begin the first set twice, while teams 2 and 4 begin the first set once.","Die Teams 1 und 3 beginnen den ersten Satz zweimal, während die Teams 2 und 4 den ersten Satz einmal beginnen."]
["txt_2268","All teams begin at least twice, but not more than three times the first set.","Alles Teams beginnen mindestens zweimal, aber höchstens dreimal den ersten Satz."]
["txt_2269","Each team begins at most once the first set on any playing field.","Jedes Team beginnt höchstens einmal den ersten Satz auf einem Spielfeld."]
["txt_2270","All teams begin at least once, but not more than twice on each playing field the first set.","Alle Teams beginnen mindestens einmal, jedoch nicht mehr als zweimal auf jedem Spielfeld den ersten Satz."]
["txt_2271","Each team plays twice on each playing field.","Jedes Team zweimal auf jedem Spielfeld."]
["txt_2272","All except team 1 play once on playing field 1 and on playing field 2. Team 1 plays thrice on playing field 1, and never on playing field 2.","Alle außer Team 1 spielen einmal auf Spielfeld 1 und auf Spielfeld 2. Team 1 spielt dreimal auf Spielfeld 1 und niemals auf Spielfeld 2."]
["txt_2273","All except team 1 play twice on two playing fields and once on one playing field; team 1 plays three times on playing field 1 and never on 3.","Alle außer Team 1 spielen zweimal auf zwei Spielfelder und einmal auf einem Spielfeld. Team 1 spielt dreimal auf Spielfeld 1 und nie auf Spielfeld 3."]
["txt_2274","All except team 1 and 2 play twice on each playing field; team 1 playing three times on playing field 3 and only once on playing field 1, and team 2 three times on playing field 2 and once on playing field 3.","Alle außer Team 1 und 2 spielen zweimal auf jedem Spielfeld. Team 1 spielt dreimal auf Spielfeld 3 und nur einmal auf Spielfeld 1 und Mannschaft 2 dreimal auf Spielfeld 2 und einmal auf Spielfeld 3."]
["txt_2275","Hence each team plays twice on ##1 playing fields and once on one playing field, and each team begins ##1 or ##2 the first set.","Daher spielt jedes Team je zweimal auf ##1 Spielfeldern und einmal auf einem Spielfeld, und jedes Team beginnt ##1- oder ##2 den ersten Satz."]
["txt_2276","Hence each team plays twice on each playing field, and each team begins ##2 the first set.","Daher spielt jedes Team zweimal auf jedem Spielfeld und jedes Team beginnt ##2 den ersten Satz."]
["txt_2277","The games are arranged so that important games take place as late as possible in the tournament, when Team 1 is the best, Team 2 is the second best and so on.","Die Spiele sind so arrangiert, dass wichtige Spiele möglichst spät im Turnier stattfinden, wenn Team 1 am besten ist, Team 2 am zweitbesten, usw."]
["txt_2300","Info Multi-Teams"]
["txt_2301","Group stage: Representation of the multi-team-game system (sequence of the teams)","Gruppenphase: Darstellung des Multi-Team-Spielsystems (Reihenfolge der Teams)"]
["txt_2302","The table shows 4 games with 3 to 6 teams each in one game and how the throw order changes.","Die Tabelle zeigt 4 Spiele mit je 3 bis 6 Teams in einem Spiel und wie sich die Wurfreihenfolge ändert."]
["txt_2304","A perfect game schedule would have the following characteristics:","Ein perfekter Spielplan hätte folgende Eigenschaften:"]
["txt_2305","In reality, this is not always possible, please see also the “properties“ beside the game schedule.","In der Realität ist dies nicht immer möglich, siehe auch „Eigenschaften“ neben dem Spielplan."]
["txt_2306","To check consecutive teams, it is possible to select following criteria:","Um aufeinanderfolgende Teams zu überprüfen, können folgende Kriterien ausgewählt werden:"]
["txt_2307c","two teams highlighted in different colours","zwei unterschiedlich farbig markierte Teams"]
["txt_2351","Highlight team:","Hervorheben von Team:"]
["txt_2352","Set","Satz"]
["txt_2353","3 teams in one game","3 Teams in einem Spiel"]
["txt_2354","4 teams in one game","4 Teams in einem Spiel"]
["txt_2355","5 teams in one game","5 Teams in einem Spiel"]
["txt_2356","6 teams in one game","6 Teams in einem Spiel"]
["txt_2357","Properties of these tournament designs:","Eigenschaften dieser Turnierdesigns:"]
["txt_2358","There are as many sets as there are teams in one game.","Es gibt so viele Sätze wie es Teams in einem Spiel gibt."]
["txt_2359","Each team begins one set exactly once.","Jedes Team beginnt genau einmal einen Satz."]
["txt_2360","Even number of teams:","Gerade Anzahl von Teams:"]
["txt_2361","Two teams following each other in the throwing order play exactly once in a row.","Zwei Teams, die in der Wurfreihenfolge aufeinander folgen, spielen genau einmal hintereinander."]
["txt_2362","Odd number of teams:","Ungerade Anzahl von Teams:"]
["txt_2363","Two teams following each other in the throwing order play no more than twice in a row.","Zwei Teams, die in der Wurfreihenfolge aufeinander folgen, spielen höchstens zweimal hintereinander."]
["txt_2364","show system of team sequences","System zur Reihenfolge der Teams anzeigen"]
["txt_2400","Info KO-Single"]
["txt_2401","Final rounds: Representation of a single elimination system (knockout rounds)","Finalrunden: Darstellung eines einfachen K.O-Systems (Ausscheidungsrunden)"]
["txt_2402","Classical knock-out, where the looser of a game is eliminated from the tournament.","Klassische Turnierform, bei der der Verlierer eines Spiels aus dem Turnier ausscheidet."]
["txt_2403","The chosen system of the game numbers and who plays against whom is widespread and relatively simple.","Die gewählte Systematik der Spielnummern und wer gegen wen spielt ist weit verbreitet und relativ einfach."]
["txt_2404","However, a deviation was made here in the seeding of the preliminary groups in order to comply with the following conditions:","Allerdings wurde hier beim Setzen der Vorrundengruppen abgewichen, um folgende Bedingungen einzuhalten:"]
["txt_2405","(order = descending priority)","(Reihenfolge = absteigende Priorität)"]
["txt_2406a","If the best teams in each preliminary group win every game, they should play each other as late as possible.","Wenn die besten Teams jeder Vorrundengruppe jedes Spiel gewinnen, sollten sie so spät wie möglich gegeneinander spielen."]
["txt_2406b","If two teams of a preliminary group win every game, they should play each other as late as possible.","Wenn zwei Teams einer Vorrundengruppe jedes Spiel gewinnen, sollten sie so spät wie möglich gegeneinander spielen."]
["txt_2406c","When drawing the preliminary round groups, the group combinations in the first knockout round should be mixed as much as possible. Example: 4 groups of 4 teams, group A does not play only one group.","Bei Auslosung der Vorrundengruppen sollten die Gruppenkombinationen in der ersten K.O.-Runde möglichst gemischt werden. Beispiel: 4 Gruppen á 4 Teams, Gruppe A spielt nicht nur gegen eine Gruppe."]
["txt_2500","Info KO-Full"]
["txt_2501","Final rounds: Representation of a full elimination system (with games for all ranking positions)","Finalrunden: Darstellung eines vollständiges KO-Systems (mit Ausspielung aller Plätze)"]
["txt_2502","The basic principle and requirements correspond to the single elimination system.","Das Grundprinzip und die Anforderungen entsprechen dem einfachen K.O.-System."]
["txt_2503","All teams have the same number of games.","Alle Teams spielen die gleiche Anzahl von Spielen."]
["txt_2504","The winner of a game plays with the other winners for the upper half of the positions, the losers play for the lower half.","Der Gewinner eines Spiels spielt mit den anderen Gewinnern der gleichen Runde um die obere Hälfte der Plätze, die Verlierer spielen die unteren Plätze aus."]
["txt_2505","It does not require more playing fields and time than the single elimination system.","Es werden nicht mehr Spielfelder und Zeit als bei dem einfachen K.O.-System benötigt."]
["txt_2600","Info KO-Consolation"]
["txt_2601","Final rounds: Representation of a single elimination system (knockout rounds) with a consolation round","Finalrunden: Darstellung eines einfachen K.O-Systems (Ausscheidungsrunden) mit einer Trostrunde"]
["txt_2602","The basic principle and requirements correspond to the single elimination system.","Das Grundprinzip und die Anforderungen entsprechen dem einfachen K.O.-System."]
["txt_2603","With one exception: the losers of the first round continue to play in a single elimination system for the middle ranks.","Mit einer Ausnahme: die Verlierer der ersten Runde spielen in einem einfachen K.O.-System weiter um die mittleren Plätze."]
["txt_2611","Example: 64 teams, middle rank = 33, ","Beispiel: 64 Teams, mittlerer Platz = 33"]
["txt_2612","The losers of the first round (Round-of-64) will continue with a single elimination system for places 33 to 36 (corresponds to 1st to 4th place in the consolation round).","Die Verlierer der ersten Runde (1/32-Finale) spielen weiter mit einem einfachen K.O.-System um die Plätze 33 bis 36 (entspricht 1. bis 4 Platz der Trostrunde)."]
["txt_2620","Note on the spreadsheet:","Hinweis zum Tabellenblatt:"]
["txt_2621","Above this line, the games for the first place take place.","Oberhalb dieser Linie finden die Spiele um den ersten Platz statt."]
["txt_2622","Below this line the games of the consolation round take place.","Unterhalb dieser Linie finden die Spiele der Trostrunde statt."]
["txt_2700","Info KO-Double"]
["txt_2701","Final rounds: Representation of a double-elimination system","Finalrunden: Darstellung eines Doppel-KO-Systems"]
["txt_2702","A double elimination system is a form of tournament in which a participant becomes ineligible to win the tournament championship only after losing two games.","Ein Doppel-KO-System ist eine Turnierform, bei dem ein Teilnehmer erst nach zwei verlorenen Spielen nicht mehr für den Gewinn der Turniermeisterschaft in Frage kommt."]
["txt_2703","It requires the same number of fields as the single or full elimination system, but has minimum twice as many rounds.","Es erfordert die gleiche Anzahl von Feldern wie das einfache oder vollständige K.O.-System; hat aber mindestens doppelt so viele Runden."]
["txt_2711","x depends on the course of the game of the loser of the final game (game for the first place)","x ist abhängig vom Spielverlauf des Verlierers des Finalspiels (Spiel um den ersten Platz)"]
["txt_2712","x = 0;  if the loser had already lost a match in the knockout round before the final match (double knockout)","x = 0;  wenn der Verlierer vor dem Finalspiel in der KO-Runde schon ein Spiel verloren hatte (Doppel-KO)"]
["txt_2713","x = 1;  if the loser had not lost a game in the knockout round before the final game, \n           there will a second final game","x = 1;  wenn der Verlierer vor dem Finalspiel in der KO-Runde kein Spiel verloren hatte \n           gibt es ein zweites Finalspiel"]
["txt_2720","Note on the spreadsheet:","Hinweis zum Tabellenblatt:"]
["txt_2721","Above this line, the games for the first place take place.","Oberhalb dieser Linie finden die Spiele um den ersten Platz statt."]
["txt_2722","Any team that falls below this line (because it lost a game) can still \nparticipate in the final game if it wins all the following games.","Jedes Team, dass unter dieser Linie fällt (weil es ein Spiel verloren hat), kann \nnoch am Finalspiel teilnehmen, wenn es alle folgenden Spiele gewinnt."]
["txt_2729","In contrast to the usual representation (see graphic below), I have chosen a different representation of the double KO system here, which in my view better illustrates the systematics.","Im Gegensatz zur üblichen Darstellung (siehe untere Grafik) habe ich hier eine andere Darstellung des Doppel-KO-Systems gewählt, die meines Erachtens die Systematik besser verdeutlicht."]
["txt_2791","Intermediate round","Zwischenrunde"]
["txt_2792","Games for rank 1 to 4","Spiele um Platz 1 bis 4"]
["txt_2793","Game for rank 1 to 3","Spiel um Platz 1 bis 3"]
["txt_2800","Info Swiss"]
["txt_2801","Representation of the Swiss system","Darstellung des Schweizer System"]
["txt_2802","The Swiss system is best described as a special form of round robin tournament.","Das Schweizer System lässt sich am besten als Sonderform des Rundenturniers (Round-Robin-Systems) beschreiben. "]
["txt_2803","The first round is seeded or drawn; after each round the intermediate score is determined, and in the following rounds the leader always plays against the second, the third against the fourth, and so on.","Die erste Runde wird gesetzt oder gelost; nach jeder Runde wird der Zwischenstand bestimmt, und in den folgenden Runden spielt stets der Führende gegen den Zweitplatzierten, der dritte gegen den vierten und so weiter."]
["txt_2899","Due to the systematics and complexity of this tournament form, it is not yet implemented here.","Aufgrund der Systematik und Komplexität dieser Turnierform ist diese hier noch nicht implementiert."]
["txt_2a00","for all KO systems"]
["txt_2a51","Entry round:","Einstiegsrunde:"]
["txt_2a52","required teams:","erforderliche Teams:"]
["txt_2a53","Number of preliminary groups:","Anzahl der Vorrundengruppen:"]
["txt_2a54","Teams per group:","Teams pro Gruppe:"]
["txt_2a55","KO-Table","KO-Tabelle"]
["txt_2a56","for test","zum testen"]
["txt_2a57","Ranking position","Rang"]
["txt_2a58","delete game results","Spielergebnisse löschen"]
["txt_2a59","pre-set game results","Spielergebnisse vorbesetzen"]
["txt_2a70","Note: ","Hinweis: "]
["txt_2a71"]
["txt_2a71a"," In the last final round (games for rank #)"," In der letzten Finalrunde (Spiele um Rang #)"]
["txt_2a71b"," From the half-final rounds (inclusive)"," Ab den Halbfinalrunden (inklusive)"]
["txt_2a71c"," From the quarter-final rounds (inclusive)"," Ab den 1/4-Finalrunden (inklusive)"]
["txt_2a71d"," From the “rounds of 16“ (inclusive)"," Ab den 1/8-Finalrunden (inklusive)"]
["txt_2a71e"," From the “rounds of 32“ (inclusive)"," Ab den 1/16-Finalrunden (inklusive)"]
["txt_2a71f"," From the “rounds of 64“ (inclusive)"," Ab den 1/32-Finalrunden (inklusive)"]
["txt_2a71g"," From the “rounds of 128“ (inclusive)"," Ab den 1/64-Finalrunden (inklusive)"]
["txt_2a72",", teams with the same group placement can meet."," können Teams mit der gleichen Gruppenplatzierung aufeinandertreffen."]
["txt_3000","Base tables","Basistabellen"]
["txt_3100","Table Round-Robin"]
["txt_3101","The sheet contains 2 tables, which are only available in English for technical reasons.","Das Blatt enthält 2 Tabellen, die aus technischen Gründen nur in englischer Sprache verfügbar sind."]
["txt_3102","Both tables are used for the following sheet:","Beide Tabellen werden für folgendes Blatt verwendet:"]
["txt_3200","Table Multi-Teams"]
["txt_3201","The sheet contains 1 table, which is only available in English for technical reasons.","Das Blatt enthält 1 Tabelle, die aus technischen Gründen nur in englischer Sprache verfügbar ist."]
["txt_3202","This is used for following sheets:","Diese wird für folgendes Blatt verwendet:"]
["txt_3300","Table KO-Rounds"]
["txt_3301","The sheet contains 1 table, which is only available in English for technical reasons.","Das Blatt enthält 1 Tabelle, die aus technischen Gründen nur in englischer Sprache verfügbar ist."]
["txt_3302","This is used for all \"Info KO-...\" sheets.","Diese wird für alle \"Info KO-…\" Blätter verwendet."]
["txt_3900","Localisation"]
["txt_3901","The sheet contains all language-dependent texts.","Das Blatt enthält alle sprachabhängigen Texte."]
["txt_3902","For a new language, simply enter the name of the language in the top row in the next available column. That's all (except the missing translations).","Für eine neue Sprache muss einfach in der obersten Zeile der Name der Sprache in die nächste freie Spalte eingetragen werden. Das ist alles (außer den fehlenden Übersetzungen)."]
["txt_3903","It is a good idea to copy the complete column of a fully filled language for the new language so that there are no gaps in missing translations.","Es empfiehlt sich, die komplette Spalte einer vollständig ausgefüllten Sprache für die neue Sprache zu kopieren, so dass bei fehlenden Übersetzungen keine Lücken entstehen."]
["txt_4000","Revisions","Überarbeitungen"]
[]
["txt_5000","About the author","Über den Autor"]
["txt_5001","I've been using Excel since 1988 (back then on a Macintosh) and the program definitely became a hobby of mine a long time ago. I've also been using the associated programming language VBA extensively since the beginning.","Ich nutze Excel seit 1988 (damals auf einem Macintosh) und das Programm ist definitiv schon vor langer Zeit zu einem Hobby von mir geworden. Außerdem nutze ich die zugehörige Programmiersprache VBA seit Anbeginn ausgiebig."]
["txt_5002","Contact:","Kontakt:"]
[null,"Numerals"]
["Num_1x","once","einmal"]
["Num_2x","twice","zweimal"]
["Num_3x","three times","dreimal"]
["Num_4x","four times","viermal"]
["Num_5x","five times","fünfmal"]
["Num_6x","six times","sechsmal"]
["Num_7x","seven times","siebenmal"]
["Num_8x","eight times","achtmal"]
["Num_9x","nine times","neunmal"]
["Num_10x","ten times","zehnmal"]
["Num_11x","eleven times","elfmal"]
["Num_12x","twelve times","zwölfmal"]
["Num_13x","thirteen times","dreizehnmal"]
["Num_1","one","ein"]
["Num_2","two","zwei"]
["Num_3","three","drei"]
["Num_4","four","vier"]
["Num_5","five","fünf"]
["Num_6","six","sechs"]
["Num_7","seven","sieben"]
["Num_8","eight","acht"]
["Num_9","nine","neun"]
["Num_10","ten","zehn"]
["Num_11","eleven","elf"]
["Num_12","twelve","zwölf"]
["Num_13","thirteen","dreizehn"]
[null,"Designations of Games"]
["K_01_001","Final","Finale"]
["K_01_003","Game for rank 3","Spiel um Rang 3"]
["K_01_#","Game for rank #","Spiel um Rang #"]
["K_02_A","Semi-final","Halbfinale"]
["K_02_B","Games for rank 5 to 8","Spiele um Rang 5 bis 8"]
["K_02_C","Games for rank 9 to 12","Spiele um Rang 9 bis 12"]
["K_02_D","Games for rank 13 to 16","Spiele um Rang 13 bis 16"]
["K_02_E","Games for rank 17 to 20","Spiele um Rang 17 bis 20"]
["K_02_F","Games for rank 21 to 24","Spiele um Rang 21 bis 24"]
["K_02_G","Games for rank 25 to 28","Spiele um Rang 25 bis 28"]
["K_02_H","Games for rank 29 to 32","Spiele um Rang 29 bis 32"]
["K_02_I","Games for rank 33 to 36","Spiele um Rang 33 bis 36"]
["K_02_J","Games for rank 37 to 40","Spiele um Rang 37 bis 40"]
["K_02_K","Games for rank 41 to 44","Spiele um Rang 41 bis 44"]
["K_02_L","Games for rank 45 to 48","Spiele um Rang 45 bis 48"]
["K_02_M","Games for rank 49 to 52","Spiele um Rang 49 bis 52"]
["K_02_N","Games for rank 53 to 56","Spiele um Rang 53 bis 56"]
["K_02_O","Games for rank 57 to 60","Spiele um Rang 57 bis 60"]
["K_02_P","Games for rank 61 to 64","Spiele um Rang 61 bis 64"]
["K_02_Q","Games for rank 65 to 68","Spiele um Rang 65 bis 68"]
["K_02_R","Games for rank 69 to 72","Spiele um Rang 69 bis 72"]
["K_02_S","Games for rank 73 to 76","Spiele um Rang 73 bis 76"]
["K_02_T","Games for rank 77 to 80","Spiele um Rang 77 bis 80"]
["K_02_U","Games for rank 81 to 84","Spiele um Rang 81 bis 84"]
["K_02_V","Games for rank 85 to 88","Spiele um Rang 85 bis 88"]
["K_02_W","Games for rank 89 to 92","Spiele um Rang 89 bis 92"]
["K_02_X","Games for rank 93 to 96","Spiele um Rang 93 bis 96"]
["K_02_Y","Games for rank 97 to 100","Spiele um Rang 97 bis 100"]
["K_02_Z","Games for rank 101 to 104","Spiele um Rang 101 bis 104"]
["K_02_AA","Games for rank 105 to 108","Spiele um Rang 105 bis 108"]
["K_02_AB","Games for rank 109 to 112","Spiele um Rang 109 bis 112"]
["K_02_AC","Games for rank 113 to 116","Spiele um Rang 113 bis 116"]
["K_02_AD","Games for rank 117 to 120","Spiele um Rang 117 bis 120"]
["K_02_AE","Games for rank 121 to 124","Spiele um Rang 121 bis 124"]
["K_02_AF","Games for rank 125 to 128","Spiele um Rang 125 bis 128"]
["K_02_AG","Games for rank 129 to 132","Spiele um Rang 129 bis 132"]
["K_02_AH","Games for rank 133 to 136","Spiele um Rang 133 bis 136"]
["K_02_AI","Games for rank 137 to 140","Spiele um Rang 137 bis 140"]
["K_02_AJ","Games for rank 141 to 144","Spiele um Rang 141 bis 144"]
["K_02_AK","Games for rank 145 to 148","Spiele um Rang 145 bis 148"]
["K_02_AL","Games for rank 149 to 152","Spiele um Rang 149 bis 152"]
["K_02_AM","Games for rank 153 to 156","Spiele um Rang 153 bis 156"]
["K_02_AN","Games for rank 157 to 160","Spiele um Rang 157 bis 160"]
["K_02_AO","Games for rank 161 to 164","Spiele um Rang 161 bis 164"]
["K_02_AP","Games for rank 165 to 168","Spiele um Rang 165 bis 168"]
["K_02_AQ","Games for rank 169 to 172","Spiele um Rang 169 bis 172"]
["K_02_AR","Games for rank 173 to 176","Spiele um Rang 173 bis 176"]
["K_02_AS","Games for rank 177 to 180","Spiele um Rang 177 bis 180"]
["K_02_AT","Games for rank 181 to 184","Spiele um Rang 181 bis 184"]
["K_02_AU","Games for rank 185 to 188","Spiele um Rang 185 bis 188"]
["K_02_AV","Games for rank 189 to 192","Spiele um Rang 189 bis 192"]
["K_02_AW","Games for rank 193 to 196","Spiele um Rang 193 bis 196"]
["K_02_AX","Games for rank 197 to 200","Spiele um Rang 197 bis 200"]
["K_02_AY","Games for rank 201 to 204","Spiele um Rang 201 bis 204"]
["K_02_AZ","Games for rank 205 to 208","Spiele um Rang 205 bis 208"]
["K_02_BA","Games for rank 209 to 212","Spiele um Rang 209 bis 212"]
["K_02_BB","Games for rank 213 to 216","Spiele um Rang 213 bis 216"]
["K_02_BC","Games for rank 217 to 220","Spiele um Rang 217 bis 220"]
["K_02_BD","Games for rank 221 to 224","Spiele um Rang 221 bis 224"]
["K_02_BE","Games for rank 225 to 228","Spiele um Rang 225 bis 228"]
["K_02_BF","Games for rank 229 to 232","Spiele um Rang 229 bis 232"]
["K_02_BG","Games for rank 233 to 236","Spiele um Rang 233 bis 236"]
["K_02_BH","Games for rank 237 to 240","Spiele um Rang 237 bis 240"]
["K_02_BI","Games for rank 241 to 244","Spiele um Rang 241 bis 244"]
["K_02_BJ","Games for rank 245 to 248","Spiele um Rang 245 bis 248"]
["K_02_BK","Games for rank 249 to 252","Spiele um Rang 249 bis 252"]
["K_02_BL","Games for rank 253 to 256","Spiele um Rang 253 bis 256"]
["K_04_A","Quarter-final","1/4-Finale"]
["K_04_B","Games for rank 9 to 16","Spiele um Rang 9 bis 16"]
["K_04_C","Games for rank 17 to 24","Spiele um Rang 17 bis 24"]
["K_04_D","Games for rank 25 to 32","Spiele um Rang 25 bis 32"]
["K_04_E","Games for rank 33 to 40","Spiele um Rang 33 bis 40"]
["K_04_F","Games for rank 41 to 48","Spiele um Rang 41 bis 48"]
["K_04_G","Games for rank 49 to 56","Spiele um Rang 49 bis 56"]
["K_04_H","Games for rank 57 to 64","Spiele um Rang 57 bis 64"]
["K_04_I","Games for rank 65 to 72","Spiele um Rang 65 bis 72"]
["K_04_J","Games for rank 73 to 80","Spiele um Rang 73 bis 80"]
["K_04_K","Games for rank 81 to 88","Spiele um Rang 81 bis 88"]
["K_04_L","Games for rank 89 to 96","Spiele um Rang 89 bis 96"]
["K_04_M","Games for rank 97 to 104","Spiele um Rang 97 bis 104"]
["K_04_N","Games for rank 105 to 112","Spiele um Rang 105 bis 112"]
["K_04_O","Games for rank 113 to 120","Spiele um Rang 113 bis 120"]
["K_04_P","Games for rank 121 to 128","Spiele um Rang 121 bis 128"]
["K_04_Q","Games for rank 129 to 136","Spiele um Rang 129 bis 136"]
["K_04_R","Games for rank 137 to 144","Spiele um Rang 137 bis 144"]
["K_04_S","Games for rank 145 to 152","Spiele um Rang 145 bis 152"]
["K_04_T","Games for rank 153 to 160","Spiele um Rang 153 bis 160"]
["K_04_U","Games for rank 161 to 168","Spiele um Rang 161 bis 168"]
["K_04_V","Games for rank 169 to 176","Spiele um Rang 169 bis 176"]
["K_04_W","Games for rank 177 to 184","Spiele um Rang 177 bis 184"]
["K_04_X","Games for rank 185 to 192","Spiele um Rang 185 bis 192"]
["K_04_Y","Games for rank 193 to 200","Spiele um Rang 193 bis 200"]
["K_04_Z","Games for rank 201 to 208","Spiele um Rang 201 bis 208"]
["K_04_AA","Games for rank 209 to 216","Spiele um Rang 209 bis 216"]
["K_04_AB","Games for rank 217 to 224","Spiele um Rang 217 bis 224"]
["K_04_AC","Games for rank 225 to 232","Spiele um Rang 225 bis 232"]
["K_04_AD","Games for rank 233 to 240","Spiele um Rang 233 bis 240"]
["K_04_AE","Games for rank 241 to 248","Spiele um Rang 241 bis 248"]
["K_04_AF","Games for rank 249 to 256","Spiele um Rang 249 bis 256"]
["K_08_A","Round of 16","1/8-Finale"]
["K_08_B","Games for rank 17 to 32","Spiele um Rang 17 bis 32"]
["K_08_C","Games for rank 33 to 48","Spiele um Rang 33 bis 48"]
["K_08_D","Games for rank 49 to 64","Spiele um Rang 49 bis 64"]
["K_08_E","Games for rank 65 to 80","Spiele um Rang 65 bis 80"]
["K_08_F","Games for rank 81 to 96","Spiele um Rang 81 bis 96"]
["K_08_G","Games for rank 97 to 112","Spiele um Rang 97 bis 112"]
["K_08_H","Games for rank 113 to 128","Spiele um Rang 113 bis 128"]
["K_08_I","Games for rank 129 to 144","Spiele um Rang 129 bis 144"]
["K_08_J","Games for rank 145 to 160","Spiele um Rang 145 bis 160"]
["K_08_K","Games for rank 161 to 176","Spiele um Rang 161 bis 176"]
["K_08_L","Games for rank 177 to 192","Spiele um Rang 177 bis 192"]
["K_08_M","Games for rank 193 to 208","Spiele um Rang 193 bis 208"]
["K_08_N","Games for rank 209 to 224","Spiele um Rang 209 bis 224"]
["K_08_O","Games for rank 225 to 240","Spiele um Rang 225 bis 240"]
["K_08_P","Games for rank 241 to 256","Spiele um Rang 241 bis 256"]
["K_16_A","Round of 32","1/16-Finale"]
["K_16_B","Games for rank 33 to 64","Spiele um Rang 33 bis 64"]
["K_16_C","Games for rank 65 to 96","Spiele um Rang 65 bis 96"]
["K_16_D","Games for rank 97 to 128","Spiele um Rang 97 bis 128"]
["K_16_E","Games for rank 129 to 160","Spiele um Rang 129 bis 160"]
["K_16_F","Games for rank 161 to 192","Spiele um Rang 161 bis 192"]
["K_16_G","Games for rank 193 to 224","Spiele um Rang 193 bis 224"]
["K_16_H","Games for rank 225 to 256","Spiele um Rang 225 bis 256"]
["K_32_A","Round of 64","1/32-Finale"]
["K_32_B","Games for rank 65 to 128","Spiele um Rang 65 bis 128"]
["K_32_C","Games for rank 129 to 192","Spiele um Rang 129 bis 192"]
["K_32_D","Games for rank 193 to 256","Spiele um Rang 193 bis 256"]
["K_64_A","Round of 128","1/64-Finale"]
["K_64_B","Games for rank 129 to 256","Spiele um Rang 129 bis 256"]
["K_128_A","Round of 256","1/128-Finale"]
[null,"Calculations"]
["calc_1000","Calculation of the required playing fields, rounds, games and sets","Berechnung der benötigten Spielfelder, Runden, Spiele und Sätze"]
["calc_1001","(if all equivalent rounds take place simultaneously)","(wenn alle gleichwertigen Runden gleichzeitig stattfinden)"]
["calc_1011","n = number of teams","n = Anzahl der Teams"]
["calc_1011a","n = number of teams per group","n = Anzahl der Teams je Gruppe"]
["calc_1012","r  = number of rounds","r  = Anzahl der Runden"]
["calc_1013","f  = number of fields","f  = Anzahl der Felder"]
["calc_1014","g = number of games","g = Anzahl der Spiele"]
["calc_1015","s = number of sets","s = Anzahl der Sätze"]
["calc_1222a","= n       (if n is odd)      ","= n       (wenn n ungerade)"]
["calc_1222b","= n-1    (if n is even)","= n-1    (wenn n gerade)"]
["calc_1223","= round-up ( n / 2 )","= aufrunden ( n / 2 )"]
["calc_1224","= ( n / 2 ) × ( n -1 )","= ( n / 2 ) × ( n -1 )"]
["calc_1225","= determination by the organizer","= Festlegung durch den Veranstalter"]
["calc_1232","= 1    (always)","= 1    (immer)"]
["calc_1233","= 1    (always)","= 1    (immer)"]
["calc_1234","= determination by the organizer","= Festlegung durch den Veranstalter"]
["calc_1235","= n","= n"]
["calc_1242","= log₂ ( n )","= log₂ ( n )"]
["calc_1243","= n / 2","= n / 2"]
["calc_1244","= n    (with game for the third place)","= n    (mit Spiel um den dritten Platz)"]
["calc_1245","= determination by the organizer","= Festlegung durch den Veranstalter"]
["calc_1252","= log₂ ( n )","= log₂ ( n )"]
["calc_1253","= n / 2","= n / 2"]
["calc_1254","= (n / 2 ) × log₂ ( n )    = r × f","= (n / 2 ) × log₂ ( n )    = r × f"]
["calc_1255","= determination by the organizer","= Festlegung durch den Veranstalter"]
["calc_1262","= log₂ ( n )","= log₂ ( n )"]
["calc_1263","= n / 2","= n / 2"]
["calc_1264","= 1.5 × n","= 1,5 × n"]
["calc_1265","= determination by the organizer","= Festlegung durch den Veranstalter"]
["calc_1272","= 2 × log₂ ( n ) + x","= 2 × log₂ ( n ) + x"]
["calc_1273","= n / 2","= n / 2"]
["calc_1274","= 2n - 2 + x","= 2 × ( n - 1 )"]
["calc_1275","= determination by the organizer","= Festlegung durch den Veranstalter"]
["calc_1282"]
["calc_1283"]
["calc_1284"]
["calc_1285","= determination by the organizer","= Festlegung durch den Veranstalter"]

{"sheet":"Loc_Aux","index":12,"n_rows":101,"n_cols":3,"rows_kept":101,"cut":false,"hidden":true,"merged":[]}
["Lang_Mtrans",null,"Lang_Sel"]
[{"$f":"TRANSPOSE(Localisation!1:1)","v":"ID"},null,2]
["English"]
["Deutsch"]
[0]
[0]
[0]
[0]
[0]
[0]
[0]
[0]
[0]
[0]
[0]
[0]
[0]
[0]
[0]
[0]
[0]
[0]
[0]
[0]
[0]
[0]
[0]
[0]
[0]
[0]
[0]
[0]
[0]
[0]
[0]
[0]
[0]
[0]
[0]
[0]
[0]
[0]
[0]
[0]
[0]
[0]
[0]
[0]
[0]
[0]
[0]
[0]
[0]
[0]
[0]
[0]
[0]
[0]
[0]
[0]
[0]
[0]
[0]
[0]
[0]
[0]
[0]
[0]
[0]
[0]
[0]
[0]
[0]
[0]
[0]
[0]
[0]
[0]
[0]
[0]
[0]
[0]
[0]
[0]
[0]
[0]
[0]
[0]
[0]
[0]
[0]
[0]
[0]
[0]
[0]
[0]
[0]
[0]
[0]
[0]
[0]